Workbook
Name A_impresión_IM: #REF!
Name A_impresión_IM: #REF!
Name CONSORCIO_LA_LINEATUBOS: '[1]UNITARIOS (2)'!$B$102
Name d_percápita: '[2]Sanitario (2)'!$AC$9:$AD$9
Name DEM_PISO: #REF!
Name DEM_PISO: #REF!
Name DEM_TABLETA: #REF!
Name DEM_TABLETA: #REF!
Name Dp: '[2]Sanitario (2)'!$AC$8:$AD$8
Name Dv: '[2]Sanitario (2)'!$AC$7:$AD$7
Name ENCHAPE_TABLETA: #REF!
Name ENCHAPE_TABLETA: #REF!
Name ER: #REF!
Name ER: #REF!
Name h: '[2]perfil (2)'!$AG$10:$AG$27
Name hab___viv: '[2]Sanitario (2)'!$AC$6:$AD$6
Name inf: #REF!
Name inf: #REF!
Name INSUMOS: #REF!
Name personal: [3]Personal!$A$4:$D$9
Name QE: #REF!
Name QE: #REF!
Name si: #REF!
Name si: #REF!
Name XXXXXXXXXXXXXXXXXXX: #REF!
Name XXXXXXXXXXXXXXXXXXX: #REF!
Name YHJ: #REF!
Name YHJ: #REF!

Sheet PG
D1: GESTIÓN JURÍDICO ADMINISTRATIVA | F1: CÓDIGO: FGA01-03
D2: GESTIÓN JURÍDICA | F2: VERSIÓN: 02
D3: PRESUPUESTO/ACTIVIDAD | F3: PAGINA: 1 DE 1
B4: PROYECTO: | C4: REPOSICION, ARREGLO DE TAPAS, REJILLAS Y OPTIMIZACION DE FUENTES HIDRICAS Y DRENAJES NO NATURALES PARA MITIGAR RIESGOS DURANTE OLA INVERNAL EN EL MUNICIPIO DE VILLA DEL ROSARIO -NORTE DE SANATANDER
B6: ÍTEM | C6: Código UNSPSC | D6: DESCRIPCIÓN | E6: UND | F6: CANT | G6: V. UNITARIO | H6: SUB TOTAL
B7: 1 | C7: LIMPIEZA DE CANAL Y SUMIDEROS CALLE 7 CON CARRERA 11 BARRIO LA PARADA
B8: 1.1 | C8: 72141003 | D8: EXTRACCION Y CARGUE DE MATERIAL MANUAL | E8: M3 | F8: ='MEMORIAS C.'!G5 -> 210 | G8: =APU!H50 -> 51383 | H8: =F8*G8 -> 10790430
B9: 1.2 | C9: 72141003 | D9: CARGUE MECANICO DE MATERIAL DE ARRASTRE DE LAS VIAS | E9: M3 | F9: 183.99992 | G9: =APU!H97 -> 26537 | H9: =ROUND(F9*G9,2) -> 4882805.8
B10: 2 | C10: SUMIDEROS
B11: 2.1 | C11: 30103205 | D11: REJILLA METALICA PARA SUMIDEROS EN ANGULO 2"X 5/16" Y PLATINAS 2"X 5/16" | E11: M2 | F11: 40 | G11: =APU!H144 -> 2130596 | H11: =G11*F11 -> 85223840
B12: 2.2 | C12: 30103205 | D12: CONSTRUCCION REJILLAS DE SUMIDEROS EN CONCRETO ( REJILLA VEHICULAR R50 DE 50X50 X10) DOBLE REFUERZO | E12: M2 | F12: 44.932492 | G12: =APU!H190 -> 1007217 | H12: =G12*F12 -> 45256770
B13: SUB TOTAL COSTO DIRECTO | H13: =ROUND(SUM(H8:H12),0) -> 146153846
B14: ADMINISTRACIÓN | G14: 0.24 | H14: =(H13*G14) -> 35076923
B15: IMPREVISTOS | G15: 0.01 | H15: =(H13*G15) -> 1461538.5
B16: UTILIDAD | G16: 0.05 | H16: =(H13*G16) -> 7307692.3
B17: COSTO TOTAL OBRA | H17: =SUM(H13:H16) -> 1.9e+08
B19: Elaboro:
D20: Subsecretario de Vias e Infraestructuras
D21: Alcaldía de Villa del Rosario

Sheet APU
B1: ANÁLISIS DE PRECIOS UNITARIOS
B2: SECRETARIA DE PLANEACIÓN | C2: DEPARTAMENTO NORTE DE SANTANDER | F2: FORMATO ÚNICO
B3: =+PG!C4 -> REPOSICION, ARREGLO DE TAPAS, REJILLAS Y OPTIMIZACION DE FUENTES HIDRICAS Y DRENAJES NO NATURALES PARA MITIGAR RIESGOS DURANTE OLA INVERNAL EN EL MUNICIPIO DE VILLA DEL ROSARIO -NORTE DE SANATANDER
B4: DEPENDENCIA: | C4: MUNICIPIO DE VILLA DEL ROSARIO
B5: FECHA: | C5: 44335 | F5: PRESTACIONES | H5: 1.13
B6: PROPONENTE: | C6: SECRETARÍA DE PLANEACIÓN MUNICIPAL
B7: REPRESENTANTE LEGAL:
B8: =$C$2 -> DEPARTAMENTO NORTE DE SANTANDER | E8: =$B$1 -> ANÁLISIS DE PRECIOS UNITARIOS
B9: =$C$4 -> MUNICIPIO DE VILLA DEL ROSARIO
B10: =$B$2 -> SECRETARIA DE PLANEACIÓN
B11: =$F$2 -> FORMATO ÚNICO
A13: 2 | B13: PROPONENTE: | C13: =$C$6 -> SECRETARÍA DE PLANEACIÓN MUNICIPAL
B14: OBJETO: | E14: ÍTEM: | F14: =PG!B8 -> 1.1 | G14: UNIDAD: | H14: =+PG!E8 -> M3
B15: =+$B$3 -> REPOSICION, ARREGLO DE TAPAS, REJILLAS Y OPTIMIZACION DE FUENTES HIDRICAS Y DRENAJES NO NATURALES PARA MITIGAR RIESGOS DURANTE OLA INVERNAL EN EL MUNICIPIO DE VILLA DEL ROSARIO -NORTE DE SANATANDER | E15: DESCRIPCIÓN: | F15: =PG!D8 -> EXTRACCION Y CARGUE DE MATERIAL MANUAL
B17: I. EQUIPO
B18: Descripción | D18: Unidad | E18: Tarifa | F18: Rendimiento | G18: Valor
A19: 1001 | G19: =IF(F19>0,E19/F19,0) -> 0
B20: =IF($A20>0,VLOOKUP($A20,[4]Insumos!$A$4:$D$3002,2),"-") -> - | D20: =IF($A20>0,VLOOKUP($A20,[4]Insumos!$A$4:$D$3002,3),"-") -> - | E20: =IF($A20>0,VLOOKUP($A20,[4]Insumos!$A$4:$D$3002,4),0) -> 0 | G20: =IF(F20>0,E20/F20,0) -> 0
B21: =IF($A21>0,VLOOKUP($A21,[4]Insumos!$A$4:$D$3002,2),"-") -> - | D21: =IF($A21>0,VLOOKUP($A21,[4]Insumos!$A$4:$D$3002,3),"-") -> - | E21: =IF($A21>0,VLOOKUP($A21,[4]Insumos!$A$4:$D$3002,4),0) -> 0 | G21: =IF(F21>0,E21/F21,0) -> 0
B22: =IF($A22>0,VLOOKUP($A22,[4]Insumos!$A$4:$D$3002,2),"-") -> - | D22: =IF($A22>0,VLOOKUP($A22,[4]Insumos!$A$4:$D$3002,3),"-") -> - | E22: =IF($A22>0,VLOOKUP($A22,[4]Insumos!$A$4:$D$3002,4),0) -> 0 | G22: =IF(F22>0,E22/F22,0) -> 0
B23: =IF($A23>0,VLOOKUP($A23,[4]Insumos!$A$4:$D$3002,2),"-") -> - | D23: =IF($A23>0,VLOOKUP($A23,[4]Insumos!$A$4:$D$3002,3),"-") -> - | E23: =IF($A23>0,VLOOKUP($A23,[4]Insumos!$A$4:$D$3002,4),0) -> 0 | G23: =IF(F23>0,E23/F23,0) -> 0
B24: =IF($A24>0,VLOOKUP($A24,[4]Insumos!$A$4:$D$3002,2),"-") -> - | D24: =IF($A24>0,VLOOKUP($A24,[4]Insumos!$A$4:$D$3002,3),"-") -> - | E24: =IF($A24>0,VLOOKUP($A24,[4]Insumos!$A$4:$D$3002,4),0) -> 0 | G24: =IF(F24>0,E24/F24,0) -> 0
B25: HERRAMIENTA MENOR (% S./M.O.) | C25: 0.1 | D25: % | G25: =C25*H49 -> 4671.2
G26: Sub-Total | H26: =ROUND(SUM(G19:G25),0) -> 4671
B27: II. MATERIALES EN OBRA
B28: Descripción | D28: Unidad | E28: Precio | F28: Cantidad | G28: Valor
B29: =IF($A29>0,VLOOKUP($A29,[4]Insumos!$A$4:$D$3002,2,),"-") -> - | D29: =IF($A29>0,VLOOKUP($A29,[4]Insumos!$A$4:$D$3002,3),"-") -> - | E29: =IF($A29>0,VLOOKUP($A29,[4]Insumos!$A$4:$D$3002,4),0) -> 0 | G29: =F29*E29 -> 0
B30: =IF($A30>0,VLOOKUP($A30,[4]Insumos!$A$4:$D$3002,2,),"-") -> - | D30: =IF($A30>0,VLOOKUP($A30,[4]Insumos!$A$4:$D$3002,3),"-") -> - | E30: =IF($A30>0,VLOOKUP($A30,[4]Insumos!$A$4:$D$3002,4),0) -> 0 | G30: =F30*E30 -> 0
B31: =IF($A31>0,VLOOKUP($A31,[4]Insumos!$A$4:$D$3002,2,),"-") -> - | D31: =IF($A31>0,VLOOKUP($A31,[4]Insumos!$A$4:$D$3002,3),"-") -> - | E31: =IF($A31>0,VLOOKUP($A31,[4]Insumos!$A$4:$D$3002,4),0) -> 0 | G31: =F31*E31 -> 0
B32: =IF($A32>0,VLOOKUP($A32,[4]Insumos!$A$4:$D$3002,2,),"-") -> - | D32: =IF($A32>0,VLOOKUP($A32,[4]Insumos!$A$4:$D$3002,3),"-") -> - | E32: =IF($A32>0,VLOOKUP($A32,[4]Insumos!$A$4:$D$3002,4),0) -> 0 | G32: =F32*E32 -> 0
B33: =IF($A33>0,VLOOKUP($A33,[4]Insumos!$A$4:$D$3002,2,),"-") -> - | D33: =IF($A33>0,VLOOKUP($A33,[4]Insumos!$A$4:$D$3002,3),"-") -> - | E33: =IF($A33>0,VLOOKUP($A33,[4]Insumos!$A$4:$D$3002,4),0) -> 0 | G33: =F33*E33 -> 0
B34: =IF($A34>0,VLOOKUP($A34,[4]Insumos!$A$4:$D$3002,2,),"-") -> - | D34: =IF($A34>0,VLOOKUP($A34,[4]Insumos!$A$4:$D$3002,3),"-") -> - | E34: =IF($A34>0,VLOOKUP($A34,[4]Insumos!$A$4:$D$3002,4),0) -> 0 | G34: =F34*E34 -> 0
B35: =IF($A35>0,VLOOKUP($A35,[4]Insumos!$A$4:$D$3002,2,),"-") -> - | D35: =IF($A35>0,VLOOKUP($A35,[4]Insumos!$A$4:$D$3002,3),"-") -> - | E35: =IF($A35>0,VLOOKUP($A35,[4]Insumos!$A$4:$D$3002,4),0) -> 0 | G35: =F35*E35 -> 0
B36: =IF($A36>0,VLOOKUP($A36,[4]Insumos!$A$4:$D$3002,2,),"-") -> - | D36: =IF($A36>0,VLOOKUP($A36,[4]Insumos!$A$4:$D$3002,3),"-") -> - | E36: =IF($A36>0,VLOOKUP($A36,[4]Insumos!$A$4:$D$3002,4),0) -> 0 | G36: =F36*E36 -> 0
G37: Sub-Total | H37: =ROUND(SUM(G29:G36),0) -> 0
B38: III. TRANSPORTES
B39: Material | C39: Cantidad | D39: Distancia | E39: M3-Km | F39: Tarifa | G39: Valor
B40: =IF($A40>0,VLOOKUP($A40,[4]Insumos!$A$4:$D$3002,2),"-") -> -
B41: =IF($A41>0,VLOOKUP($A41,[4]Insumos!$A$4:$D$3002,2),"-") -> -
G42: Sub-Total | H42: =SUM(G40:G41) -> 0
...

Sheet MEMORIAS C.
B2: MEMORIAS DE CALCULO
B3: ACTIVIDAD | D3: LARGO | E3: ANCHO | F3: ALTO | G3: TOTAL
B5: LIMPIEZA CANAL CALLE 7 CON CARRERA 11 BARRIO LA PARADA | D5: 700 | E5: 0.5 | F5: 0.6 | G5: =D5*E5*F5 -> 210
B6: REJILLAS METALICAS VIA PRINCIPAL LA PARADA CALLE 7
A7: 1 | B7: MARGEN IZQUIERDO MONTALLANTAS | D7: 1.15 | E7: 1.15 | G7: =E7*D7 -> 1.3225
A8: 2 | B8: MARGEN IZQUIERDO MONTALLANTAS | D8: 0.94 | E8: 0.85 | G8: =E8*D8 -> 0.799
A9: 3 | B9: MARGEN DERECHO MONTALLANTAS | D9: 0.94 | E9: 0.85 | G9: =E9*D9 -> 0.799
A10: 4 | B10: MARGEN IZQUIERDO MONTALLANTAS | D10: 0.94 | E10: 0.85 | G10: =E10*D10 -> 0.799
A11: 5 | B11: MARGEN DERECHO MONTALLANTAS | D11: 6 | E11: 0.6 | G11: =E11*D11 -> 3.6
A12: 6 | B12: MARGEN IZQUIERDO DUBAY | D12: 1 | E12: 1 | G12: =E12*D12 -> 1
A13: 7 | B13: MARGEN DERECHO DUBAY | D13: 0.95 | E13: 0.95 | G13: =E13*D13 -> 0.9025
A14: 8 | B14: MARGEN CALLE 7 | D14: 1.1 | E14: 1.3 | G14: =E14*D14 -> 1.43
A15: 9 | B15: MARGEN CALLE 7 | D15: 0.95 | E15: 0.85 | G15: =E15*D15 -> 0.8075
A16: 10 | B16: MARGEN CALLE 7 | D16: 0.95 | E16: 0.85 | G16: =E16*D16 -> 0.8075
A17: 11 | B17: MARGEN CALLE 7 | D17: 1.1 | E17: 0.85 | G17: =E17*D17 -> 0.935
A18: 12 | B18: MARGEN CALLE 7 | D18: 3 | E18: 0.55 | G18: =E18*D18 -> 1.65
... A22: 16 | B22: MARGEN CALLE 7 | D22: 0.95 | E22: 0.85 | G22: =E22*D22 -> 0.8075
G23: =SUM(G7:G22) -> 18.082
B24: REJILLAS EN CONCRETO DE 3000
A25: 17 | B25: MARGEN CALLE 7 | D25: 0.95 | E25: 0.75 | G25: =E25*D25 -> 0.7125
A26: 18 | B26: MARGEN CALLE 7 | D26: 0.95 | E26: 0.85 | G26: =E26*D26 -> 0.8075
A27: 19 | B27: MARGEN CALLE 7 | D27: 0.95 | E27: 0.75 | G27: =E27*D27 -> 0.7125
A28: 20 | B28: MARGEN CALLE 7 | D28: 0.95 | E28: 0.75 | G28: =E28*D28 -> 0.7125
A29: 21 | B29: MARGEN CALLE 7 | D29: 0.95 | E29: 0.75 | G29: =E29*D29 -> 0.7125
A30: 22 | B30: MARGEN CALLE 7 | D30: 6.05 | E30: 0.6 | G30: =E30*D30 -> 3.63
A31: 23 | B31: MARGEN CALLE 7 | D31: 1 | E31: 1 | G31: =E31*D31 -> 1
A32: 24 | B32: MARGEN CALLE 7 | D32: 1 | E32: 1 | G32: =E32*D32 -> 1
A33: 25 | B33: MARGEN CALLE 7 | D33: 1 | E33: 1 | G33: =E33*D33 -> 1
A34: 26 | B34: MARGEN CALLE 7 | D34: 0.9 | E34: 0.8 | G34: =E34*D34 -> 0.72
A35: 27 | B35: MARGEN CALLE 7 | D35: 1.4 | E35: 0.75 | G35: =E35*D35 -> 1.05
A36: 28 | B36: MARGEN CALLE 7 | D36: 0.85 | E36: 0.9 | G36: =E36*D36 -> 0.765
... A39: 31 | B39: MARGEN CALLE 7 | D39: 6 | E39: 1.2 | G39: =E39*D39 -> 7.2
G40: =SUM(G25:G39) -> 21.4925
B41: BELLO MONTE
A42: 32 | B42: CALLE 18 CON AV 4 SENDEREOS DE PAZ | D42: 16.5 | E42: 0.6 | G42: =E42*D42 -> 9.9
B43: FATIMA
A44: 33 | B44: CALLE 18 CON AV 4 SENDEREOS DE PAZ | D44: 1 | E44: 0.58 | G44: =E44*D44 -> 0.58
B46: BAGATELA
A47: 33 | B47: CALLE 8 CON CARRERA 1 Y 2 VILLA ANTIGUA | D47: 1 | E47: 0.58 | G47: =E47*D47 -> 0.58

Sheet Básicos
B3: =APU!$C$2 -> DEPARTAMENTO NORTE DE SANTANDER | D3: =APU!$B$1 -> ANÁLISIS DE PRECIOS UNITARIOS
B4: =APU!$C$4 -> MUNICIPIO DE VILLA DEL ROSARIO
B6: =APU!$B$2 -> SECRETARIA DE PLANEACIÓN
B7: =APU!$F$2 -> FORMATO ÚNICO
B9: PROPONENTE: | C9: =APU!$C$4 -> MUNICIPIO DE VILLA DEL ROSARIO
B10: OBJETO: | E10: ÍTEM: | F10: =IF($A9>0,VLOOKUP($A9,PG!$A$8:$E$305,2),"-") -> - | G10: UNIDAD: | H10: =IF($A9>0,VLOOKUP($A9,PG!$A$8:$E$305,4),"-") -> -
B11: =APU!$B$3 -> REPOSICION, ARREGLO DE TAPAS, REJILLAS Y OPTIMIZACION DE FUENTES HIDRICAS Y DRENAJES NO NATURALES PARA MITIGAR RIESGOS DURANTE OLA INVERNAL EN EL MUNICIPIO DE VILLA DEL ROSARIO -NORTE DE SANATANDER | E11: DESCRIPCIÓN: | F11: CONCRETO 3000 PSI (21 MPA)
B13: I. EQUIPO
B14: Descripción | D14: Unidad | E14: Tarifa | F14: Rendimiento | G14: Valor
A15: 1010 | B15: MEZCLADORA DE 1 BULTO | D15: d M | E15: 80000 | F15: =1/0.35 -> 2.8571429 | G15: =IF(F15>0,E15/F15,0) -> 28000
B16: =IF($A16>0,VLOOKUP($A16,#REF!,2),"-") -> - | D16: =IF($A16>0,VLOOKUP($A16,#REF!,3),"-") -> - | E16: =IF($A16>0,VLOOKUP($A16,#REF!,4),0) -> 0 | G16: =IF(F16>0,E16/F16,0) -> 0
B17: =IF($A17>0,VLOOKUP($A17,#REF!,2),"-") -> - | D17: =IF($A17>0,VLOOKUP($A17,#REF!,3),"-") -> - | E17: =IF($A17>0,VLOOKUP($A17,#REF!,4),0) -> 0 | G17: =IF(F17>0,E17/F17,0) -> 0
B18: =IF($A18>0,VLOOKUP($A18,#REF!,2),"-") -> - | D18: =IF($A18>0,VLOOKUP($A18,#REF!,3),"-") -> - | E18: =IF($A18>0,VLOOKUP($A18,#REF!,4),0) -> 0 | G18: =IF(F18>0,E18/F18,0) -> 0
B19: =IF($A19>0,VLOOKUP($A19,#REF!,2),"-") -> - | D19: =IF($A19>0,VLOOKUP($A19,#REF!,3),"-") -> - | E19: =IF($A19>0,VLOOKUP($A19,#REF!,4),0) -> 0 | G19: =IF(F19>0,E19/F19,0) -> 0
B20: =IF($A20>0,VLOOKUP($A20,#REF!,2),"-") -> - | D20: =IF($A20>0,VLOOKUP($A20,#REF!,3),"-") -> - | E20: =IF($A20>0,VLOOKUP($A20,#REF!,4),0) -> 0 | G20: =IF(F20>0,E20/F20,0) -> 0
B21: =IF($A21>0,VLOOKUP($A21,#REF!,2),"-") -> - | D21: =IF($A21>0,VLOOKUP($A21,#REF!,3),"-") -> - | E21: =IF($A21>0,VLOOKUP($A21,#REF!,4),0) -> 0 | G21: =IF(F21>0,E21/F21,0) -> 0
D22: %
G23: Sub-Total | H23: =SUM(G15:G22) -> 28000
B24: II. MATERIALES EN OBRA
B25: Descripción | D25: Unidad | E25: Precio | F25: Cantidad | G25: Valor
A26: 1 | B26: CEMENTO GRIS | D26: KG | E26: 650 | F26: 375 | G26: =F26*E26 -> 243750
A27: 2 | B27: ARENA LAVADA DE RIO | D27: M3 | E27: 47220 | F27: 0.56 | G27: =F27*E27 -> 26443.2
A28: 3 | B28: TRITURADO 3/4" | D28: M3 | E28: 45000 | F28: 0.85 | G28: =F28*E28 -> 38250
A29: 4 | B29: AGUA | D29: Lt | E29: 80 | F29: 160 | G29: =F29*E29 -> 12800
B30: =IF($A30>0,VLOOKUP($A30,#REF!,2,),"-") -> - | D30: =IF($A30>0,VLOOKUP($A30,#REF!,3),"-") -> - | E30: =IF($A30>0,VLOOKUP($A30,#REF!,4),0) -> 0 | G30: =F30*E30 -> 0
B31: =IF($A31>0,VLOOKUP($A31,#REF!,2,),"-") -> - | D31: =IF($A31>0,VLOOKUP($A31,#REF!,3),"-") -> - | E31: =IF($A31>0,VLOOKUP($A31,#REF!,4),0) -> 0 | G31: =F31*E31 -> 0
B32: =IF($A32>0,VLOOKUP($A32,#REF!,2,),"-") -> - | D32: =IF($A32>0,VLOOKUP($A32,#REF!,3),"-") -> - | E32: =IF($A32>0,VLOOKUP($A32,#REF!,4),0) -> 0 | G32: =F32*E32 -> 0
G33: Sub-Total | H33: =SUM(G26:G32) -> 321243.2
B34: III. TRANSPORTES
B35: Material | C35: Cantidad | D35: Distancia | E35: M3-Km | F35: Tarifa | G35: Valor
A36: 2 | B36: =B27 -> ARENA LAVADA DE RIO | C36: =F27 -> 0.56 | D36: 10 | E36: M3-Km | F36: 1400 | G36: =C36*D36*F36 -> 7840
A37: 3 | B37: =B28 -> TRITURADO 3/4" | C37: =F28 -> 0.85 | D37: 10 | E37: M3-Km | F37: 1400 | G37: =C37*D37*F37 -> 11900
A38: 1010 | B38: CEMENTO GRIS | C38: 375 | D38: 10 | E38: M3-Km | F38: 20 | G38: =C38*D38*F38 -> 75000
G39: Sub-Total | H39: =SUM(G36:G38) -> 94740
B40: ELABORÓ: | E40: Sub-Total | H40: =SUM(H39+H33+H23) -> 443983.2
E42: Total Costo Directo | H42: =H40+H39+H33+H23 -> 887966.4
E44: Precio unitario total aproximado al peso | H44: =ROUND(H42,0) -> 887966
B46: =APU!$C$7 | F46: FECHA: | G46: 45067
