Workbook
Name _: #REF!
Name _: #REF!
Name _: #REF!
Name ___AFC1: [1]INV!$A$25:$D$28
Name ___AFC3: [1]INV!$F$25:$I$28
Name ___AFC5: [1]INV!$K$25:$N$28
Name ___BGC1: [1]INV!$A$5:$D$8
Name ___BGC3: [1]INV!$F$5:$I$8
Name ___BGC5: [1]INV!$K$5:$N$8
Name ___CAC1: [1]INV!$A$19:$D$22
Name ___CAC3: [1]INV!$F$19:$I$22
Name ___CAC5: [1]INV!$K$19:$N$22
Name ___EST1: #REF!
Name ___EST1: #REF!
Name ___EST1: #REF!
Name ___EST10: #REF!
Name ___EST10: #REF!
Name ___EST10: #REF!
Name ___EST11: #REF!
Name ___EST11: #REF!
Name ___EST11: #REF!
Name ___EST12: #REF!
Name ___EST12: #REF!
Name ___EST12: #REF!
Name ___EST13: #REF!
Name ___EST13: #REF!
Name ___EST13: #REF!
Name ___EST14: #REF!
Name ___EST14: #REF!
Name ___EST14: #REF!
Name ___EST15: #REF!
Name ___EST15: #REF!
Name ___EST15: #REF!
Name ___EST16: #REF!
Name ___EST16: #REF!
Name ___EST16: #REF!
Name ___EST17: #REF!
Name ___EST17: #REF!
Name ___EST17: #REF!
Name ___EST18: #REF!
Name ___EST18: #REF!
Name ___EST18: #REF!
Name ___EST19: #REF!
Name ___EST19: #REF!
Name ___EST19: #REF!
Name ___EST2: #REF!
Name ___EST2: #REF!
Name ___EST2: #REF!
Name ___EST3: #REF!
Name ___EST3: #REF!
Name ___EST3: #REF!
Name ___EST4: #REF!
Name ___EST4: #REF!
Name ___EST4: #REF!
Name ___EST5: #REF!
Name ___EST5: #REF!
Name ___EST5: #REF!
Name ___EST6: #REF!
Name ___EST6: #REF!
Name ___EST6: #REF!

Sheet Conformación
A1: UNIDAD DE SERVICIOS PENITENCIARIOS Y CARCELARIOS - USPEC OBJETO: “REHABILITACIÓN ESTRUCTURAL DE LA BOCATOMA UBICADA EN LOS LÍMITES DE LA JURISDICCIÓN DE LOS MUNICIPIOS DE CÓMBITA, TUTA Y SOTAQUIRÁ” INVITACION PUBLICA N° USPEC- IP-MC-60-2019
A4: No. | B4: NOMBRE DEL OFERENTE | C4: REPRESENTANTE LEGAL | D4: INTEGRANTES | E4: Integrante 1 | F4: % Int. 1 | G4: Integrante 2 | H4: % Int. 2 | I4: INTEGRANTE 3 | J4: % Int. 3 | K4: INTEGRANTE 4 | L4: % Int. 4 | M4: INTEGRANTE 5 | N4: % Int. 5 | O4: Telefono | P4: FAX | Q4: Direccion | R4: Email | S4: Ciudad | T4: ANTICIPO
A5: 1 | B5: CONSTRUNAL DE AGUAS SAS | C5: MARIO ARTURO ROJAS RODRIGUEZ | D5: (CONSTRUNAL DE AGUAS SAS 100% - 0% - 0%- 0%- 0%) | E5: CONSTRUNAL DE AGUAS SAS | F5: 1 | S5: BOGOTA
A6: 2 | D6: ( 0% - 0% - 0%- 0%- 0%)
A7: 3 | D7: ( 0% - 0% - 0%- 0%- 0%)
A8: 4 | D8: ( 0% - 0% - 0%- 0%- 0%)
A9: 5 | D9: ( 0% - 0% - 0%- 0%- 0%)

Sheet Exp. oferente
A1: UNIDAD DE SERVICIOS PENITENCIARIOS Y CARCELARIOS - USPEC OBJETO: “REHABILITACIÓN ESTRUCTURAL DE LA BOCATOMA UBICADA EN LOS LÍMITES DE LA JURISDICCIÓN DE LOS MUNICIPIOS DE CÓMBITA, TUTA Y SOTAQUIRÁ” INVITACION PUBLICA N° USPEC- IP-MC-60-2019
A3: EXPERIENCIA TÉCNICA DEL OFERENTE
A5: El oferente debe acreditar en su oferta, que cuenta con experiencia específica en:
A6: OPERACIÓN Y/O MANTENIMIENTO Y/O REMODELACIÓN Y/O ADECUACIÓN Y/O AMPLIACIÓN Y/O CONSTRUCCIÓN Y/O MANTENIMIENTO DE PLANTAS DE TRATAMIENTO DE AGUA POTABLE PTAP Y/O PLANTAS DE TRATAMIENTO DE AGUA RESIDUAL,mediante la presentación de MÁXIMO CUATRO (4) certificaciones de contratos iniciados y terminados con entidades públicas o privadas, terminados y liquidados a la fecha del cierre del presente proceso, los cuales deberán sumar en conjunto, un VALOR IGUAL O SUPERIOR A 1.0 VEZ EL P.O.E.
G15: Fecha maxima certificación | H15: 36784 | I15: presup.of | J15: 59871856
G16: Mínimo uno de los contratos aportados debe ser de valor igual o superior al POE expresado en SMMLV a la fecha de terminación | H16: 72.298876 | I16: SMMLV 2019 | J16: 828116
B19: Oferente | E19: 1 | F19: CONSTRUNAL DE AGUAS SAS
F20: (CONSTRUNAL DE AGUAS SAS 100% - 0% - 0%- 0%- 0%)
A23: No | B23: PROPIETARIO O ENTIDAD CONTRATANTE | C23: No. CTO | D23: CODIGO CIIU | E23: APORTADA POR | F23: % en Cto | G23: OBJETO | H23: Fecha de Terminación | I23: Folio | J23: VALOR | K23: SMMLV | M23: OBSERVACIONES
A24: 1 | B24: MUNICIPIO DE PUERTO GAITAN | C24: 496/2018 | E24: CONSTRUNAL DE AGUAS SAS | F24: 0.99 | G24: ADECUACION DE LA INFRAESTRUCTURA Y MANTENIMIENTO PREVENTIVO Y CORRECTIVO A LOS EQUIPOS DE LA PLANTA DE BENEFICIO ANIMAL DEL MUNICIPIO DE PUERTO GAITAN | I24: SIN | K24: 0 | M24: EL PROPONENTE DEBE PRESENTAR LA CERTIFICACION EXPEDIDA POR LA ENTIDAD CONTRATANTE, POR CUANTO SOLO APORTA EL CONTRATO SUSCRITO CON EL MUNICIPIO DE PUERTO GAITAN Y NO SE PUEDE EVIDENCIAR LA FECHA DE INICIO Y TERMINACION Y EL VALOR TOTAL EJECUTA EN MARCO DE DICHO CONTRATO, DE CONFORMIDAD CON LO ESTABLECIDO EN EL NUMERAL 3,2 DE LA INVITACION PUBLICA | N24: 0
A25: 2 | I25: SIN | K25: 0 | N25: 0
A26: 3 | I26: SIN | K26: 0 | N26: 0
A27: 4 | I27: SIN | K27: 0 | N27: 0
A28: 5 | E28: 0 | I28: SIN | K28: 0 | L28: CUMPLE | N28: 0
A29: 6 | I29: SIN | K29: 0 | L29: #VALUE! | N29: 0
J30: TOTAL | K30: 0 | N30: 0
K31: NO CUMPLE | M31: 0
H32: CONSTRUNAL DE AGUAS SAS | I32: 1 | J32: 0 | K32: V.Bo.
H33: 0 | I33: 0 | J33: 0 | K33: V.Bo.
H34: 0 | I34: 0 | J34: 0 | K34: V.Bo.
H35: 0 | I35: 0 | J35: 0 | K35: V.Bo.
H36: 0 | I36: 0 | J36: 0 | K36: V.Bo.
K37: 0
B39: Oferente | E39: 2 | F39: 0
F40: ( 0% - 0% - 0%- 0%- 0%)
A43: No | B43: PROPIETARIO O ENTIDAD CONTRATANTE | C43: No. CTO | D43: CODIGO CIIU | E43: APORTADA POR | F43: % en Cto | G43: OBJETO | H43: Fecha de Terminación | I43: Folio | J43: VALOR | K43: SMMLV | L43: 0 | M43: OBSERVACIONES
A44: 1 | B44: GIMNASIO CAMPESTRE CRISTIANO | C44: 2 | D44: 78111800 | E44: ORGANIZACIÓN DE TRANSPORTES ORT SAS | F44: 1 | G44: PRESTACION DE SERVICIO DE TRANSPORTE ESCOLAR | H44: 43069 | I44: SIN | J44: 5856791309 | K44: 8160.08 | N44: 1
A45: 2 | B45: SENA | C45: 35 | D45: 78111800 | E45: ORGANIZACIÓN DE TRANSPORTES ORT SAS | F45: 0.5 | G45: CONTRATAR EL SERVICIO DE TRANSPORTE ESPECIAL PARA ATENDER LAS RUTAS Y LOS DIFERENTES EVENTOS DE LOS APRENDICES DEL CENTRO DE BIOTECNOLOGIA AGROPECUARIA MOSQUERA | H45: 43100 | I45: SIN | J45: 264345852 | K45: 184.15231
A46: 3 | C46: 4 | D46: 78111800 | E46: LINEAS ESPECIALES PREMIUM SAS | F46: 0.5 | H46: 43100 | I46: SIN | J46: 264345852 | K46: 184.15231
A47: 4 | B47: LICEO MANANTIAL DE VIDA ETERNA | C47: 36 | D47: 78111800 | E47: ORGANIZACIÓN DE TRANSPORTES ORT SAS | F47: 1 | G47: PRESTACION DE SERVICIO DE TRANSPORTE ESCOLAR | H47: 42338 | I47: SIN | J47: 1143736690 | K47: 1775.024 | N47: 1
A48: 5 | I48: SIN | K48: 0 | L48: CUMPLE
A49: 6 | I49: SIN | K49: 0 | L49: #VALUE! | N49: 1
J50: TOTAL | K50: 10303.409
K51: CUMPLE | M51: CUMPLE SUMATORIA DE TODOS 1,0 DEL POE
H52: 0 | I52: 0 | J52: 0
H53: 0 | I53: 0 | J53: 0 | K53: V.Bo.
H54: 0 | I54: 0 | J54: 0 | K54: V.Bo.
H55: 0 | I55: 0 | J55: 0 | K55: V.Bo.
H56: 0 | I56: 0 | J56: 0 | K56: V.Bo.
K57: 0
...

Sheet Exp. Adicional
A1: =+Conformación!A1 -> UNIDAD DE SERVICIOS PENITENCIARIOS Y CARCELARIOS - USPEC OBJETO: “REHABILITACIÓN ESTRUCTURAL DE LA BOCATOMA UBICADA EN LOS LÍMITES DE LA JURISDICCIÓN DE LOS MUNICIPIOS DE CÓMBITA, TUTA Y SOTAQUIRÁ” INVITACION PUBLICA N° USPEC- IP-MC-60-2019
U2: AÑO | V2: SMMLV
A3: EXPERIENCIA TÉCNICA DEL OFERENTE | U3: 1984 | V3: 11298
U4: 1985 | V4: 13557.6
A5: El oferente debe acreditar en su oferta, que cuenta con experiencia específica en: | U5: 1986 | V5: 16811.4
A6: INTERVENTORIA A LA CONSTRUCCIÓN Y/O MANTENIMIENTO Y/O REHABILITACIÓN DE INTERVENCIONES INTEGRALES DE INFRAESTRUCTURA VIAL. La experiencia debe ser acreditada con la ejecución de MÍNIMO UNO (01) Y MÁXIMO CINCO (05) contratos. • En uno de los contratos aportados debe corresponder a la ejecución de actividades relacionadas con interventoría a proyectos de infraestructura víal urbana, que incluya redes de servicios públicos. • Se deberá relacionar mínimo Un (1) Contrato celebrado con entidades públicas en el Territorio Nacional • En uno de los contratos aportados debe corresponder a interventoría a la aplicación de Mezclas Asfálticas con Grano de Caucho Y/O MEZCLA MDC2 en una cantidad mayor o igual a 500m3. • Los contratos aportados deben sumar, en su conjunto, un valor igual o superior a 2.0 veces el valor del POE, expresado en SMMLV a la fecha de su terminación. | U6: 1987 | V6: 20509.8
U7: 1987 | V7: 20509.8
U10: 1987 | V10: 20509.8
U11: 1987 | V11: 20509.8
U12: 1988 | V12: 25637.4
I13: SMMLV | U13: 1989 | V13: 32559.6
E14: Mínimo uno de los contratos aportados deberá ser igual o superior al valor del POE, expresado en SMMLV | F14: 0 | I14: =H15/H16 -> 0 | U14: 1990 | V14: 41025
E15: Fecha maxima certificación | F15: 36784 | G15: presup.of | I15: SMMLV | U15: 1991 | V15: 51716.1
G16: SMMLV 2016 | H16: 737717 | I16: =H15/H16*2 -> 0 | U16: 1992 | V16: 65190
U17: 1993 | V17: 81510
U18: 1994 | V18: 98700
B19: Oferente | C19: 1 | D19: =VLOOKUP(C19,Conformación!$A$5:$N$129,2,FALSE) -> CONSTRUNAL DE AGUAS SAS | U19: 1995 | V19: 118933.5
D20: =VLOOKUP(C19,Conformación!$A$5:$N$129,4,FALSE) -> (CONSTRUNAL DE AGUAS SAS 100% - 0% - 0%- 0%- 0%) | U20: 1996 | V20: 142125
O21: INTEGRANTES | U21: 1997 | V21: 172005
O22: =+F41 -> CONSTRUNAL DE AGUAS SAS | P22: =+F42 -> 0 | Q22: =+F43 -> 0 | R22: =+F44 -> 0 | S22: =+F45 -> 0 | U22: 1998 | V22: 203826
A23: No | B23: PROPIETARIO O ENTIDAD CONTRATANTE | C23: APORTADA POR | D23: % en Cto | E23: OBJETO | F23: Fecha de Terminación | G23: Folio | H23: VALOR | I23: =+I$13 -> SMMLV | K23: OBSERVACIONES | O23: =+IF(C24=O22,I24,0) -> 0 | P23: =+IF(C24=P22,I24,0) -> 0 | Q23: =+IF(C24=Q22,I24,0) -> 0 | R23: =+IF(C24=R22,I24,0) -> 0 | S23: =+IF(C24=S22,I24,0) -> 0 | U23: 1999 | V23: 236460
A24: 1 | C24: 0 | I24: =IF(F24=0,0,IF(F24<$F$13,"FUERA DE TIEMPO",H24*D24/VLOOKUP(YEAR(F24),$U$3:$V$45,2,0))) -> 0 | L24: =+IF(I24>=$I$14,1,0) -> 1 | O24: =+IF(C25=O22,I25,0) -> 0 | P24: =+IF(C25=P22,I25,0) -> 0 | Q24: =+IF(C25=Q22,I25,0) -> 0 | R24: =+IF(C25=R22,I25,0) -> 0 | S24: =+IF(C25=S22,I25,0) -> 0 | U24: 2000 | V24: 260100
A25: 2 | C25: 0 | I25: =IF(F25=0,0,IF(F25<$F$13,"FUERA DE TIEMPO",H25*D25/VLOOKUP(YEAR(F25),$U$3:$V$45,2,0))) -> 0 | L25: =+IF(I25>=$I$14,1,0) -> 1 | O25: =+IF(C26=O22,I26,0) -> 0 | P25: =+IF(C26=P22,I26,0) -> 0 | Q25: =+IF(C26=Q22,I26,0) -> 0 | R25: =+IF(C26=R22,I26,0) -> 0 | S25: =+IF(C26=S22,I26,0) -> 0 | U25: 2001 | V25: 286000
A26: 3 | L26: =+IF(I26>=$I$14,1,0) -> 1 | O26: =+IF(C27=O22,I27,0) -> 0 | P26: =+IF(C27=P22,I27,0) -> 0 | Q26: =+IF(C27=Q22,I27,0) -> 0 | R26: =+IF(C27=R22,I27,0) -> 0 | S26: =+IF(C27=S22,I27,0) -> 0 | U26: 2002 | V26: 309000
A27: 4 | J27: CUMPLE | L27: =+IF(I27>=$I$14,1,0) -> 1 | O27: =+IF(C28=O22,I28,0) -> 0 | P27: =+IF(C28=P22,I28,0) -> 0 | Q27: =+IF(C28=Q22,I28,0) -> 0 | R27: =+IF(C28=R22,I28,0) -> 0 | S27: =+IF(C28=S22,I28,0) -> 0 | U27: 2003 | V27: 332000
A28: 5 | L28: =+IF(I28>=$I$14,1,0) -> 1 | O28: =+IF(C30=O22,I30,0) -> 0 | P28: =+IF(C30=P22,I30,0) -> 0 | Q28: =+IF(C30=Q22,I30,0) -> 0 | R28: =+IF(C30=R22,I30,0) -> 0 | S28: =+IF(C30=S22,I30,0) -> 0 | U28: 2004 | V28: 358000
A29: 5 | C29: 0 | I29: =IF(F29=0,0,IF(F29<$F$13,"FUERA DE TIEMPO",H29*D29/VLOOKUP(YEAR(F29),$U$3:$V$41,2,0))) -> 0 | J29: =IF(SEARCH("ptar",E29,1)<>0,"CUMPLE ESTRUCTURACIÓN DE PROYECTOS PARA PLANTAS DE TRATAMIENTO DE AGUA RESIDUAL PTAR","-") -> #VALUE! | L29: =+IF(I29>=$I$14,1,0) -> 1 | O29: =+IF(C31=O22,I31,0) -> 0 | P29: =+IF(C31=P22,I31,0) -> 0 | Q29: =+IF(C31=Q22,I31,0) -> 0 | R29: =+IF(C31=R22,I31,0) -> 0 | S29: =+IF(C31=S22,I31,0) -> 0 | U29: 2005 | V29: 381500
A30: 6 | C30: ARCA ARQUITECTURA E INGENIERIA SA | I30: =IF(F30=0,0,IF(F30<$F$13,"FUERA DE TIEMPO",H30*D30/VLOOKUP(YEAR(F30),$U$3:$V$51,2,0))) -> 0 | J30: =IF(SEARCH("ptar",E30,1)<>0,"CUMPLE ESTRUCTURACIÓN DE PROYECTOS PARA PLANTAS DE TRATAMIENTO DE AGUA RESIDUAL PTAR","-") -> #VALUE! | L30: =+IF(I30>=$I$14,1,0) -> 1 | O30: =+IF(C32=O22,I32,0) -> 0 | P30: =+IF(C32=P22,I32,0) -> 0 | Q30: =+IF(C32=Q22,I32,0) -> 0 | R30: =+IF(C32=R22,I32,0) -> 0 | S30: =+IF(C32=S22,I32,0) -> 0 | U30: 2006 | V30: 408000
A31: 7 | C31: ORBE CONSULTORIA EN ARQUITECTURA E INGENIERIA SA | I31: =IF(F31=0,0,IF(F31<$F$13,"FUERA DE TIEMPO",H31*D31/VLOOKUP(YEAR(F31),$U$3:$V$51,2,0))) -> 0 | J31: =IF(SEARCH("ptar",E31,1)<>0,"CUMPLE ESTRUCTURACIÓN DE PROYECTOS PARA PLANTAS DE TRATAMIENTO DE AGUA RESIDUAL PTAR","-") -> #VALUE! | L31: =+IF(I31>=$I$14,1,0) -> 1 | O31: =+IF(C38=O22,I38,0) -> 0 | P31: =+IF(C38=P22,I38,0) -> 0 | Q31: =+IF(C38=Q22,I38,0) -> 0 | R31: =+IF(C38=R22,I38,0) -> 0 | S31: =+IF(C38=S22,I38,0) -> 0 | U31: 2007 | V31: 433700
C32: ARCA ARQUITECTURA E INGENIERIA SA | I32: =IF(F31=0,0,IF(F31<$F$13,"FUERA DE TIEMPO",H31*D32/VLOOKUP(YEAR(F31),$U$3:$V$51,2,0))) -> 0 | J32: =IF(SEARCH("ptar",E32,1)<>0,"CUMPLE ESTRUCTURACIÓN DE PROYECTOS PARA PLANTAS DE TRATAMIENTO DE AGUA RESIDUAL PTAR","-") -> #VALUE! | L32: =+IF(I32>=$I$14,1,0) -> 1 | O32: =SUM(O23:O31) -> 0 | P32: =SUM(P23:P31) -> 0 | Q32: =SUM(Q23:Q31) -> 0 | R32: =SUM(R23:R31) -> 0 | S32: =SUM(S23:S31) -> 0 | U32: 2008 | V32: 461500
A33: 8 | C33: ORBE CONSULTORIA EN ARQUITECTURA E INGENIERIA SA | I33: =IF(F33=0,0,IF(F33<$F$13,"FUERA DE TIEMPO",H33*D33/VLOOKUP(YEAR(F33),$U$3:$V$51,2,0))) -> 0
C34: ARCA ARQUITECTURA E INGENIERIA SA | I34: =IF(F33=0,0,IF(F33<$F$13,"FUERA DE TIEMPO",H33*D34/VLOOKUP(YEAR(F33),$U$3:$V$51,2,0))) -> 0
A35: 9 | C35: ARCA ARQUITECTURA E INGENIERIA SA | I35: =IF(F35=0,0,IF(F35<$F$13,"FUERA DE TIEMPO",H35*D35/VLOOKUP(YEAR(F35),$U$3:$V$51,2,0))) -> 0
C36: ORBE CONSULTORIA EN ARQUITECTURA E INGENIERIA SA | I36: =IF(F35=0,0,IF(F35<$F$13,"FUERA DE TIEMPO",H35*D36/VLOOKUP(YEAR(F35),$U$3:$V$51,2,0))) -> 0
A37: 10 | C37: ARCA ARQUITECTURA E INGENIERIA SA | I37: =IF(F37=0,0,IF(F37<$F$13,"FUERA DE TIEMPO",H37*D37/VLOOKUP(YEAR(F37),$U$3:$V$51,2,0))) -> 0
I38: =IF(F38=0,0,IF(F38<$F$13,"FUERA DE TIEMPO",H38*D38/VLOOKUP(YEAR(F38),$U$3:$V$41,2,0))) -> 0 | J38: =IF(SEARCH("ptar",E38,1)<>0,"CUMPLE ESTRUCTURACIÓN DE PROYECTOS PARA PLANTAS DE TRATAMIENTO DE AGUA RESIDUAL PTAR","-") -> #VALUE! | L38: =+IF(I38>=$I$14,1,0) -> 1 | U38: 2009 | V38: 496900
H39: TOTAL | I39: =SUM(I24:I38) -> 0 | U39: 2010 | V39: 515000
I40: =+IF(OR(L39=0,I46>=1),"NO CUMPLE","CUMPLE") -> NO CUMPLE | K40: =IF(I40="NO CUMPLE","0",IF(I39>=$I$16,"CUMPLE SUMATORIA DE TODOS 2,0 DEL POE",IF(I39<$I$16,"NO CUMPLE SUMATORIA DE TODOS 2,0 DEL POE"))) -> 0 | U40: 2011 | V40: 535600
F41: =VLOOKUP(C19,Conformación!$A$5:$N$129,5,FALSE) -> CONSTRUNAL DE AGUAS SAS | G41: =VLOOKUP(C19,Conformación!$A$5:$N$129,6,FALSE) -> 1 | H41: =+O32 -> 0 | I41: =+IF(H41<MAX(H41:H45),"",IF(H41=MAX(H41:H45)*AND(SUM(H41:H45)>MAX(H41:H45))*AND((G41>=0.51)),"V.Bo.",IF(H41=MAX(H41:H45)*AND(H41=SUM(H41:H45))*AND(G41>=0.6),"V.Bo.","NO CUMPLE"))) -> V.Bo. | U41: 2012 | V41: 566700
F42: =VLOOKUP(C19,Conformación!$A$5:$N$129,7,FALSE) -> 0 | G42: =VLOOKUP(C19,Conformación!$A$5:$N$129,8,FALSE) -> 0 | H42: =+P32 -> 0 | I42: =+IF(H42<MAX(H41:H45),"",IF(H42=MAX(H41:H45)*AND(SUM(H41:H45)>MAX(H41:H45))*AND((G42>0.51)),"V.Bo.",IF(H42=MAX(H41:H45)*AND(H42=SUM(H41:H45))*AND(G42>=0.6),"V.Bo.","NO CUMPLE"))) -> V.Bo. | U42: 2013 | V42: 589500
...

Sheet Personal adicional
A1: =+Conformación!A1 -> UNIDAD DE SERVICIOS PENITENCIARIOS Y CARCELARIOS - USPEC OBJETO: “REHABILITACIÓN ESTRUCTURAL DE LA BOCATOMA UBICADA EN LOS LÍMITES DE LA JURISDICCIÓN DE LOS MUNICIPIOS DE CÓMBITA, TUTA Y SOTAQUIRÁ” INVITACION PUBLICA N° USPEC- IP-MC-60-2019 | Q1: 1957 | R1: 155.4
Q2: 1958 | R2: 155.4
Q3: 1959 | R3: 155.4
A4: PERSONAL PRINCIPAL REQUERIDO - REQUISITOS HABILITANTES | Q4: 1960 | R4: 198
Q5: 1961
A6: CARGO A DESEMPEÑAR | B6: FORMACIÓN ACADÉMICA | C6: TIEMPO MÍNIMO REQUERIDO DE HABER TERMINADO Y APROBADO ESTUDIOS (EN AÑOS) | E6: NUMERO DE PROYECTOS A ACREDITAR | F6: EXPERIENCIA ESPECÍFICA | I6: REQUERIMIENTO PARTICULAR | K6: REQUISITO MINIMO EN SMMLV | Q6: 1962 | R6: 300
A7: Director de Interventoría | B7: Ingeniero Civil o Vías y Transporte, con Posgrado en: Alguna rama de la ingeniería | C7: 12 | D7: 38477 | E7: 6 | F7: Director o Coordinador de Interventoría en Proyectos de interventoría de: construcción o rehabilitación o pavimentación o ampliación o mejoramiento de infraestructura vial Urbana. | I7: La sumatoria de mínimo dos (2) de los proyectos acreditados debe ser igual o superior a una (1) vez el valor del POE, expresado en SMMLV. | K7: 1296 | Q7: 1963 | R7: 420
A8: Especialista en Geotecnia y Vías | B8: Ingeniero Civil, Especialista en Vías | C8: 6 | D8: 38477 | E8: 3 | F8: Especialista en Geotecnia en proyectos de interventoría de: construcción y/o mantenimiento de vías. | I8: La sumatoria de mínimo dos (2) de los proyectos acreditados debe ser igual o superior a una (1) vez el valor del POE, Página 53 de 81 expresado en SMMLV. | K8: 663.93
Q12: 1965 | R12: 420
Q13: 1966 | R13: 420
Q14: 1975 | R14: 1200
Q15: 1976 | R15: 1560
A16: =+[14]RUP!A11 -> OFERENTE | B16: 1 | C16: =VLOOKUP(B16,Conformación!$A$5:$N$129,2,FALSE) -> CONSTRUNAL DE AGUAS SAS | Q16: 1977 | R16: 1770
C17: =VLOOKUP(B16,Conformación!$A$5:$N$129,4,FALSE) -> (CONSTRUNAL DE AGUAS SAS 100% - 0% - 0%- 0%- 0%) | Q17: 1978 | R17: 2580
Q18: 1979 | R18: 3450
Q19: 1980 | R19: 4500
A20: CARGO | B20: NOMBRE | C20: TARJETA PROFESIONAL | D20: FECHA EXPEDICIÓN | F20: PROFESION | G20: POSTGRADO | H20: OBJETO | I20: FECHA TERMINACIÓN CONTRATO | J20: VALOR | K20: SMMLV | L20: REQUERIMIENTO PARTICULAR QUE ACREDITA | M20: =+L6 -> 0 | N20: OBSERVACIONES | Q20: 1981 | R20: 5700
A21: =A7 -> Director de Interventoría | B21: BEATRIZ ELENA BLANCO AREVALO | C21: 54202-81728 NTS | D21: 36734 | E21: =IF(D21=0,0,IF(D21<D$7,"CUMPLE EL TIEMPO MÍNIMO REQUERIDO DE HABER TERMINADO Y APROBADO ESTUDIOS","NO CUMPLE EL TIEMPO MÍNIMO REQUERIDO DE HABER TERMINADO Y APROBADO ESTUDIOS")) -> CUMPLE EL TIEMPO MÍNIMO REQUERIDO DE HABER TERMINADO Y APROBADO ESTUDIOS | F21: INGENIERO CIVIL | G21: ESPECIALISTA EN INFRAESTRUCTURA VIAL Y DE TRANSPORTE | H21: INTERVENTORIA TECNICA ADMINISTRATIVA FINANCIERA Y LEGAL A LA CONSTRUCCION PARA LA FASE II DE LA SEGUNDA ETAPA DEL PROYECTO DE PAVIMENTACION EN EL CASCO URBANO DEL MUNICIPIO DE OROCUE DEPARTAMENTO DEL CASANARE | I21: 41736 | J21: 869657354 | K21: =IF(J21=0,0,IF(I21<D$21,"EXPERIENCIA ADQUIRIDA ANTES DEL GRADO",J21/VLOOKUP(YEAR(I21),$Q$19:$R$104,2,0))) -> 1411.7814 | N21: 40 PUNTOS | Q21: 1982 | R21: 7410
K22: =IF(J22=0,0,IF(I22<D$21,"EXPERIENCIA ADQUIRIDA ANTES DEL GRADO",J22/VLOOKUP(YEAR(I22),$Q$19:$R$104,2,0))) -> 0 | Q22: 1983 | R22: 9261
K23: =IF(J23=0,0,IF(I23<D$21,"EXPERIENCIA ADQUIRIDA ANTES DEL GRADO",J23/VLOOKUP(YEAR(I23),$Q$19:$R$104,2,0))) -> 0 | L23: =IF(K23>=K$7,"Mínimo uno de los contratos debe ser ≥ a una (1) vez el POE, a la fecha de su terminación, expresado en SMMLV.",0) -> 0 | Q23: 1984 | R23: 11298
K24: =IF(J24=0,0,IF(I24<D$21,"EXPERIENCIA ADQUIRIDA ANTES DEL GRADO",J24/VLOOKUP(YEAR(I24),$Q$19:$R$104,2,0))) -> 0
K25: =IF(J25=0,0,IF(I25<D$21,"EXPERIENCIA ADQUIRIDA ANTES DEL GRADO",J25/VLOOKUP(YEAR(I25),$Q$19:$R$104,2,0))) -> 0 | L25: =IF(K25>=K$7,"Mínimo uno de los contratos debe ser ≥ a una (1) vez el POE, a la fecha de su terminación, expresado en SMMLV.",0) -> 0 | Q25: 1980 | R25: 4500
K26: =IF(J26=0,0,IF(I26<D$21,"EXPERIENCIA ADQUIRIDA ANTES DEL GRADO",J26/VLOOKUP(YEAR(I26),$Q$19:$R$104,2,0))) -> 0
K27: =IF(J27=0,0,IF(I27<D$21,"EXPERIENCIA ADQUIRIDA ANTES DEL GRADO",J27/VLOOKUP(YEAR(I27),$Q$19:$R$104,2,0))) -> 0 | L27: =IF(K27>=K$7,"Mínimo uno de los contratos debe ser ≥ a una (1) vez el POE, a la fecha de su terminación, expresado en SMMLV.",0) -> 0 | Q27: 1981 | R27: 5700
K28: =SUM(K21:K27) -> 1411.7814 | M28: =SUM(M21:M27) -> 0 | Q28: 1987 | R28: 20510
A30: CARGO | B30: NOMBRE | C30: TARJETA PROFESIONAL | D30: FECHA EXPEDICIÓN | F30: PROFESION | G30: POSTGRADO | H30: OBJETO | I30: FECHA TERMINACIÓN CONTRATO | J30: VALOR | K30: SMMLV | L30: REQUERIMIENTO PARTICULAR QUE ACREDITA | M30: =+L16 -> 0 | N30: OBSERVACIONES
A31: =A8 -> Especialista en Geotecnia y Vías | B31: WILLIAM ANSELMO ACEVEDO VARGAS | C31: 25202-36252 CND | D31: 33073 | E31: =IF(D31=0,0,IF(D31<D$7,"CUMPLE EL TIEMPO MÍNIMO REQUERIDO DE HABER TERMINADO Y APROBADO ESTUDIOS","NO CUMPLE EL TIEMPO MÍNIMO REQUERIDO DE HABER TERMINADO Y APROBADO ESTUDIOS")) -> CUMPLE EL TIEMPO MÍNIMO REQUERIDO DE HABER TERMINADO Y APROBADO ESTUDIOS | F31: INGENIERO CIVIL | G31: ESPECIALISTA EN INFRAESTRUCTURA VIAL | H31: INTERVENTORIA TECNICA AMINISTRATIVA Y FINANCIERA Y DE CONTROL PRESUPUESTAL A LA CONSTRUCCION DE OBRAS DE PAVIMENTACION EN CONCRETO HIDRAULICO MUNICPIO DE MANI DEPARTAMENTO DE CASANARE | I31: 41901 | J31: 559047558 | K31: =IF(J31=0,0,IF(I31<D$21,"EXPERIENCIA ADQUIRIDA ANTES DEL GRADO",J31/VLOOKUP(YEAR(I31),$Q$19:$R$104,2,0))) -> 907.54474 | N31: 20 PUNTOS
L33: =IF(K33>=K$7,"Mínimo uno de los contratos debe ser ≥ a una (1) vez el POE, a la fecha de su terminación, expresado en SMMLV.",0) -> 0
K34: =IF(J34=0,0,IF(I34<D$21,"EXPERIENCIA ADQUIRIDA ANTES DEL GRADO",J34/VLOOKUP(YEAR(I34),$Q$19:$R$104,2,0))) -> 0
K35: =IF(J35=0,0,IF(I35<D$21,"EXPERIENCIA ADQUIRIDA ANTES DEL GRADO",J35/VLOOKUP(YEAR(I35),$Q$19:$R$104,2,0))) -> 0 | L35: =IF(K35>=K$7,"Mínimo uno de los contratos debe ser ≥ a una (1) vez el POE, a la fecha de su terminación, expresado en SMMLV.",0) -> 0
K36: =IF(J36=0,0,IF(I36<D$21,"EXPERIENCIA ADQUIRIDA ANTES DEL GRADO",J36/VLOOKUP(YEAR(I36),$Q$19:$R$104,2,0))) -> 0
K37: =IF(J37=0,0,IF(I37<D$21,"EXPERIENCIA ADQUIRIDA ANTES DEL GRADO",J37/VLOOKUP(YEAR(I37),$Q$19:$R$104,2,0))) -> 0 | L37: =IF(K37>=K$7,"Mínimo uno de los contratos debe ser ≥ a una (1) vez el POE, a la fecha de su terminación, expresado en SMMLV.",0) -> 0
K38: =SUM(K31:K37) -> 907.54474 | M38: =SUM(M31:M37) -> 0
K39: =SUM(K31:K33) -> 907.54474
A40: CARGO | B40: NOMBRE | C40: TARJETA PROFESIONAL | D40: FECHA EXPEDICIÓN | F40: PROFESION | G40: POSTGRADO | H40: OBJETO | I40: FECHA TERMINACIÓN CONTRATO | J40: VALOR | K40: SMMLV | L40: REQUERIMIENTO PARTICULAR QUE ACREDITA | M40: =+L26 -> 0 | N40: OBSERVACIONES
A41: =A9 -> 0 | E41: =IF(D41=0,0,IF(D41<D$7,"CUMPLE EL TIEMPO MÍNIMO REQUERIDO DE HABER TERMINADO Y APROBADO ESTUDIOS","NO CUMPLE EL TIEMPO MÍNIMO REQUERIDO DE HABER TERMINADO Y APROBADO ESTUDIOS")) -> 0 | K41: =IF(J41=0,0,IF(I41<D$21,"EXPERIENCIA ADQUIRIDA ANTES DEL GRADO",J41/VLOOKUP(YEAR(I41),$Q$19:$R$104,2,0))) -> 0
K42: =IF(J42=0,0,IF(I42<D$21,"EXPERIENCIA ADQUIRIDA ANTES DEL GRADO",J42/VLOOKUP(YEAR(I42),$Q$19:$R$104,2,0))) -> 0
K43: =IF(J43=0,0,IF(I43<D$21,"EXPERIENCIA ADQUIRIDA ANTES DEL GRADO",J43/VLOOKUP(YEAR(I43),$Q$19:$R$104,2,0))) -> 0 | L43: =IF(K43>=K$7,"Mínimo uno de los contratos debe ser ≥ a una (1) vez el POE, a la fecha de su terminación, expresado en SMMLV.",0) -> 0
K44: =IF(J44=0,0,IF(I44<D$21,"EXPERIENCIA ADQUIRIDA ANTES DEL GRADO",J44/VLOOKUP(YEAR(I44),$Q$19:$R$104,2,0))) -> 0
K45: =IF(J45=0,0,IF(I45<D$21,"EXPERIENCIA ADQUIRIDA ANTES DEL GRADO",J45/VLOOKUP(YEAR(I45),$Q$19:$R$104,2,0))) -> 0 | L45: =IF(K45>=K$7,"Mínimo uno de los contratos debe ser ≥ a una (1) vez el POE, a la fecha de su terminación, expresado en SMMLV.",0) -> 0
...

Sheet PERSONAL PONDERABLE
A1: =+Conformación!A1 -> UNIDAD DE SERVICIOS PENITENCIARIOS Y CARCELARIOS - USPEC OBJETO: “REHABILITACIÓN ESTRUCTURAL DE LA BOCATOMA UBICADA EN LOS LÍMITES DE LA JURISDICCIÓN DE LOS MUNICIPIOS DE CÓMBITA, TUTA Y SOTAQUIRÁ” INVITACION PUBLICA N° USPEC- IP-MC-60-2019 | R1: 1957 | S1: 155.4
R2: 1958 | S2: 155.4
R3: 1959 | S3: 155.4
A4: PERSONAL - FACTORES DE PONDERACIÓN | R4: 1960 | S4: 198
R5: 1961
A6: CARGO A DESEMPEÑAR | B6: FORMACIÓN ACADÉMICA | C6: TIEMPO MÍNIMO REQUERIDO DE HABER TERMINADO Y APROBADO ESTUDIOS (EN AÑOS) | E6: NUMERO DE PROYECTOS A ACREDITAR | F6: EXPERIENCIA ESPECÍFICA | I6: REQUERIMIENTO PARTICULAR | L6: REQUISITO MINIMO EN SMMLV | R6: 1962 | S6: 300
A7: Arquitecto | B7: ingeniero civily/o ambiental y/o sanitario con postgrado en hidraulica,ingenieria sanitaria y/o manerjo de recursos hidricos | C7: 8 | D7: 39679 | E7: 4 | F7: Responsable de diseños hidraulicos y/o hidrosanitarios en proyectos para sistemas de agua potable y/o acueductos y/o alcantarillados sanitarios | I7: Mínimo uno de los contratos debe ser ≥ a una (1) vez el POE, a la fecha de su terminación, expresado en SMMLV. | L7: =+'Exp. oferente'!K14 -> 0 | R7: 1964 | S7: 420
R8: 1965 | S8: 420
R9: 1976 | S9: 1560
A10: =+[14]RUP!A11 -> OFERENTE | B10: 1 | C10: =VLOOKUP(B10,Conformación!$A$5:$N$129,2,FALSE) -> CONSTRUNAL DE AGUAS SAS | R10: 1977 | S10: 1770
C11: =VLOOKUP(B10,Conformación!$A$5:$N$129,4,FALSE) -> (CONSTRUNAL DE AGUAS SAS 100% - 0% - 0%- 0%- 0%) | R11: 1978 | S11: 2580
R12: 1979 | S12: 3450
R13: 1980 | S13: 4500
A14: CARGO | B14: NOMBRE | C14: TARJETA PROFESIONAL | D14: FECHA EXPEDICIÓN | F14: PROFESION | G14: POSTGRADO | H14: OBJETO | I14: FECHA INICIO CONTRATO | J14: FECHA TERMINACIÓN CONTRATO | K14: VALOR | L14: SMMLV | M14: PUNTAJE ADICIONAL POR # DE CONTRATOS | N14: PUNTAJE ADICIONAL ESTUDIOS | O14: OBSERVACIONES | R14: 1981 | S14: 5700
A15: =+A7 -> Arquitecto | E15: =IF(D15=0,0,IF(D15<D$7,"CUMPLE EL TIEMPO MÍNIMO REQUERIDO DE HABER TERMINADO Y APROBADO ESTUDIOS","NO CUMPLE EL TIEMPO MÍNIMO REQUERIDO DE HABER TERMINADO Y APROBADO ESTUDIOS")) -> 0 | L15: =IF(K15=0,0,IF(I15<#REF!,"EXPERIENCIA ADQUIRIDA ANTES DEL GRADO",K15/VLOOKUP(YEAR(I15),$R$13:$S$39,2,0))) -> 0 | R15: 1988 | S15: 25637.4
L16: =IF(K16=0,0,IF(I16<#REF!,"EXPERIENCIA ADQUIRIDA ANTES DEL GRADO",K16/VLOOKUP(YEAR(I16),$R$13:$S$39,2,0))) -> 0
L17: =IF(K17=0,0,IF(I17<#REF!,"EXPERIENCIA ADQUIRIDA ANTES DEL GRADO",K17/VLOOKUP(YEAR(I17),$R$13:$S$39,2,0))) -> 0
L18: =IF(K18=0,0,IF(I18<#REF!,"EXPERIENCIA ADQUIRIDA ANTES DEL GRADO",K18/VLOOKUP(YEAR(I18),$R$13:$S$39,2,0))) -> 0
L19: =IF(K19=0,0,IF(I19<#REF!,"EXPERIENCIA ADQUIRIDA ANTES DEL GRADO",K19/VLOOKUP(YEAR(I19),$R$13:$S$39,2,0))) -> 0 | R19: 1989 | S19: 32559.6
L20: =IF(K20=0,0,IF(I20<#REF!,"EXPERIENCIA ADQUIRIDA ANTES DEL GRADO",K20/VLOOKUP(YEAR(I20),$R$13:$S$39,2,0))) -> 0
L21: =IF(K21=0,0,IF(I21<#REF!,"EXPERIENCIA ADQUIRIDA ANTES DEL GRADO",K21/VLOOKUP(YEAR(I21),$R$13:$S$39,2,0))) -> 0 | R21: 1990 | S21: 41025.1
L22: =IF(K22=0,0,IF(I22<#REF!,"EXPERIENCIA ADQUIRIDA ANTES DEL GRADO",K22/VLOOKUP(YEAR(I22),$R$13:$S$39,2,0))) -> 0 | R22: 1991 | S22: 51720
R23: 1992 | S23: 65190
A24: PUNTAJE
R25: 1993 | S25: 81510
A26: =+[14]RUP!A22 -> OFERENTE | B26: 2 | C26: =VLOOKUP(B26,Conformación!$A$5:$N$129,2,FALSE) -> 0 | R26: 1994 | S26: 98700
C27: =VLOOKUP(B26,Conformación!$A$5:$N$129,4,FALSE) -> ( 0% - 0% - 0%- 0%- 0%) | R27: 1995 | S27: 118933.5
R28: 1996 | S28: 142125
A29: CARGO | B29: NOMBRE | C29: TARJETA PROFESIONAL | D29: FECHA EXPEDICIÓN | F29: PROFESION | G29: POSTGRADO | H29: OBJETO | I29: FECHA INICIO CONTRATO | J29: FECHA TERMINACIÓN CONTRATO | K29: VALOR | L29: SMMLV | M29: REQUERIMIENTO PARTICULAR QUE ACREDITA | N29: =+N14 -> PUNTAJE ADICIONAL ESTUDIOS | O29: OBSERVACIONES | R29: 1997 | S29: 172005
A30: =+A7 -> Arquitecto | E30: =IF(D30=0,0,IF(D30<D$7,"CUMPLE EL TIEMPO MÍNIMO REQUERIDO DE HABER TERMINADO Y APROBADO ESTUDIOS","NO CUMPLE EL TIEMPO MÍNIMO REQUERIDO DE HABER TERMINADO Y APROBADO ESTUDIOS")) -> 0 | M30: =IF(L30>=$L$7,"Mínimo uno de los contratos debe ser ≥ a una (1) vez el POE, a la fecha de su terminación, expresado en SMMLV.",0) -> Mínimo uno de los contratos debe ser ≥ a una (1) vez el POE, a la fecha de su terminación, expresado en SMMLV. | R30: 2007 | S30: 433700
M31: =IF(L31>=$L$7,"Mínimo uno de los contratos debe ser ≥ a una (1) vez el POE, a la fecha de su terminación, expresado en SMMLV.",0) -> Mínimo uno de los contratos debe ser ≥ a una (1) vez el POE, a la fecha de su terminación, expresado en SMMLV. | R31: 2008 | S31: 461500
M32: =IF(L32>=$L$7,"Mínimo uno de los contratos debe ser ≥ a una (1) vez el POE, a la fecha de su terminación, expresado en SMMLV.",0) -> Mínimo uno de los contratos debe ser ≥ a una (1) vez el POE, a la fecha de su terminación, expresado en SMMLV. | R32: 2009 | S32: 496900
M33: =IF(L33>=$L$7,"Mínimo uno de los contratos debe ser ≥ a una (1) vez el POE, a la fecha de su terminación, expresado en SMMLV.",0) -> Mínimo uno de los contratos debe ser ≥ a una (1) vez el POE, a la fecha de su terminación, expresado en SMMLV. | R33: 2010 | S33: 515000
R34: 2011 | S34: 535600
A35: PUNTAJE
R36: 2012 | S36: 566700
A37: =+[14]RUP!A33 -> OFERENTE | B37: 3 | C37: =VLOOKUP(B37,Conformación!$A$5:$N$129,2,FALSE) -> 0 | R37: 2013 | S37: 581900
C38: =VLOOKUP(B37,Conformación!$A$5:$N$129,4,FALSE) -> ( 0% - 0% - 0%- 0%- 0%) | R38: 2014 | S38: 616000
R39: 2015 | S39: 644350
A40: CARGO | B40: NOMBRE | C40: TARJETA PROFESIONAL | D40: FECHA EXPEDICIÓN | F40: PROFESION | G40: POSTGRADO | H40: OBJETO | I40: FECHA INICIO CONTRATO | J40: FECHA TERMINACIÓN CONTRATO | K40: VALOR | L40: SMMLV | M40: REQUERIMIENTO PARTICULAR QUE ACREDITA | N40: =+N29 -> PUNTAJE ADICIONAL ESTUDIOS | O40: OBSERVACIONES | R40: 2016 | S40: 689454
...

Sheet METODOLOGIA Y CRONOGRAMA
A1: =+Conformación!A1 -> UNIDAD DE SERVICIOS PENITENCIARIOS Y CARCELARIOS - USPEC OBJETO: “REHABILITACIÓN ESTRUCTURAL DE LA BOCATOMA UBICADA EN LOS LÍMITES DE LA JURISDICCIÓN DE LOS MUNICIPIOS DE CÓMBITA, TUTA Y SOTAQUIRÁ” INVITACION PUBLICA N° USPEC- IP-MC-60-2019
A3: OFERENTE | C3: 1 | D3: =VLOOKUP(C3,Conformación!$A$5:$N$129,2,FALSE) -> CONSTRUNAL DE AGUAS SAS
D4: =VLOOKUP(C3,Conformación!$A$5:$N$129,4,FALSE) -> (CONSTRUNAL DE AGUAS SAS 100% - 0% - 0%- 0%- 0%)
A7: ETAPAS | B7: CUMPLE | C7: NO CUMPLE | D7: OBSERVACIÓN
A8: ANALISIS DE LA NECESIDAD | B8: X
A9: PLANTEAMIENTO DE ALTERNATIVAS EFECTIVAS DE SOLUCIÓN | B9: X
A10: SELECCIÓN DE LA MEJOR ALTERNATIVA | B10: X
A11: GENERACIÓN DE ESTUDIOS Y DISEÑOS | B11: X
A12: ESTRUCTURACIÓN FINANCERA Y LEGAL | B12: X
A13: DETERMINACIÓN DE LAS HERRAMIENTAS DE FORTALECIMIENTO EN LA ESTRUCTURACIÓN Y PRESENTACIÓN DE PROYECTOS DE LOS MUNICIPIOS ANTE LOS OCAD | B13: X
A14: DETERMINACIÓN DE POSIBLES ACTIVIDADES OPERATIVAS Y CONTRACTUALES QUE DEMANDEN LOS PROCESOS | B14: X
A15: ARTICULACIÓN PROPUESTA PARA LA ESTRCUTURACIÓN INTEGRAL ENTRE LOS COMPONENTES FINANCIERO, JURIDICO Y TÉCNICO , SE DEBE RELACIONAR: | B15: X
A16: 1. DESCRIPCIÓN DEL DESARROLLO DE LA ACTIVIDAD O FASE | B16: X
A17: 2. REGISTRO DE PROFESIONALES A PARTICIPÁR, ROLES Y MEDIOS DE CONTACTO | B17: X
A18: 3. ESQUEMAS DE TRABAJO | B18: X
A19: 4. RECURSOS LOGISTICOS DISPONIBLES PARA EL DESARROLLO DE LA CONSULTORIA | B19: X
... A22: CRONOGRAMA DETALLADO EN FORMATO PROJECT O EXCEL, EN EL CUAL SE DEFINA LA RUTA CRITICA DE LOS TRABAJOS Y SUS RESPONSABLES, EN ESTE CAPITULO SE DEBA INCLUIR LA DISTRIBUCIÓN DE LOS TIEMPOS DE LAS ACTIVIDADES A DESARROLLAR, SUS PLAZOS FECHAS DE INICIO Y FINALIZACIÓN. SE TENDRA EN CUENTA LA VIABILIDAD DE CRONOGRAMA, LA COHERENCIA EN EL DESARROLLO DE LAS ACTIVIDADES, LOS TIEMPOS FIJADOS PARA LA ENTREGA DE CADA UNO DE LOS INFORMES Y LA CLARIDAD EN SU PRESENTACIÓN | B22: X

Sheet Resumen Evaluación
A1: =+Conformación!A1 -> UNIDAD DE SERVICIOS PENITENCIARIOS Y CARCELARIOS - USPEC OBJETO: “REHABILITACIÓN ESTRUCTURAL DE LA BOCATOMA UBICADA EN LOS LÍMITES DE LA JURISDICCIÓN DE LOS MUNICIPIOS DE CÓMBITA, TUTA Y SOTAQUIRÁ” INVITACION PUBLICA N° USPEC- IP-MC-60-2019
B2: OFERENTE : | C2: 1 | D2: =VLOOKUP(C2,Conformación!$A$5:$N$129,2,FALSE) -> CONSTRUNAL DE AGUAS SAS | H2: OFERENTE : | I2: 2 | J2: =VLOOKUP(I2,Conformación!$A$5:$N$129,2,FALSE) -> 0 | N2: OFERENTE : | O2: 3 | P2: =VLOOKUP(O2,Conformación!$A$5:$N$129,2,FALSE) -> 0 | T2: OFERENTE : | U2: 4 | V2: =VLOOKUP(U2,Conformación!$A$5:$N$129,2,FALSE) -> 0 | Z2: OFERENTE : | AA2: 5 | AB2: =VLOOKUP(AA2,Conformación!$A$5:$N$129,2,FALSE) -> 0
C3: =VLOOKUP(C2,Conformación!$A$5:$N$129,4,FALSE) -> (CONSTRUNAL DE AGUAS SAS 100% - 0% - 0%- 0%- 0%) | I3: =VLOOKUP(I2,Conformación!$A$5:$N$129,4,FALSE) -> ( 0% - 0% - 0%- 0%- 0%) | O3: =VLOOKUP(O2,Conformación!$A$5:$N$129,4,FALSE) -> ( 0% - 0% - 0%- 0%- 0%) | U3: =VLOOKUP(U2,Conformación!$A$5:$N$129,4,FALSE) -> ( 0% - 0% - 0%- 0%- 0%) | AA3: =VLOOKUP(AA2,Conformación!$A$5:$N$129,4,FALSE) -> ( 0% - 0% - 0%- 0%- 0%)
A6: DOCUMENTO | C6: SI | D6: NO | E6: Folio/fecha/valor/M2/SMMLV | F6: OBSERVACIONES | G6: DOCUMENTO | I6: SI | J6: NO | K6: Folio/fecha/valor/M2/SMMLV | L6: OBSERVACIONES | M6: DOCUMENTO | O6: SI | P6: NO | Q6: Folio/fecha/valor/M2/SMMLV | R6: OBSERVACIONES | S6: DOCUMENTO | U6: SI | V6: NO | W6: Folio/fecha/valor/M2/SMMLV | X6: OBSERVACIONES | Y6: DOCUMENTO | AA6: SI | AB6: NO | AC6: Folio/fecha/valor/M2/SMMLV | AD6: OBSERVACIONES
A7: REQUISITOS MÍNIMOS EXIGIDOS | G7: REQUISITOS MÍNIMOS EXIGIDOS | M7: REQUISITOS MÍNIMOS EXIGIDOS | S7: REQUISITOS MÍNIMOS EXIGIDOS | Y7: REQUISITOS MÍNIMOS EXIGIDOS
A8: 3.2 | B8: ASPECTOS JURIDICOS | G8: =+A8 -> 3.2 | H8: ASPECTOS JURIDICOS | M8: =+A8 -> 3.2 | N8: ASPECTOS JURIDICOS | S8: =+A8 -> 3.2 | T8: ASPECTOS JURIDICOS | Y8: =+A8 -> 3.2 | Z8: ASPECTOS JURIDICOS
A9: 1 | B9: Carta de Presentación de la Oferta | C9: x | F9: =IF(C9="X","CUMPLE","NO CUMPLE") -> CUMPLE | G9: =+A9 -> 1 | H9: Carta de Presentación de la Oferta | L9: =IF(I9="X","CUMPLE","NO CUMPLE") -> NO CUMPLE | M9: =+A9 -> 1 | N9: Carta de Presentación de la Oferta | R9: =IF(O9="X","CUMPLE","NO CUMPLE") -> NO CUMPLE | S9: =+A9 -> 1 | T9: Carta de Presentación de la Oferta | X9: =IF(U9="X","CUMPLE","NO CUMPLE") -> NO CUMPLE | Y9: =+A9 -> 1 | Z9: Carta de Presentación de la Oferta | AD9: =IF(AA9="X","CUMPLE","NO CUMPLE") -> NO CUMPLE
A10: 2 | B10: Acreditación de la Existencia y Representación Legal | C10: x | F10: =IF(C10="X","CUMPLE","NO CUMPLE") -> CUMPLE | G10: =+A10 -> 2 | H10: Acreditación de la Existencia y Representación Legal | L10: =IF(I10="X","CUMPLE","NO CUMPLE") -> NO CUMPLE | M10: =+A10 -> 2 | N10: Acreditación de la Existencia y Representación Legal | R10: =IF(O10="X","CUMPLE","NO CUMPLE") -> NO CUMPLE | S10: =+A10 -> 2 | T10: Acreditación de la Existencia y Representación Legal | X10: =IF(U10="X","CUMPLE","NO CUMPLE") -> NO CUMPLE | Y10: =+A10 -> 2 | Z10: Acreditación de la Existencia y Representación Legal | AD10: =IF(AA10="X","CUMPLE","NO CUMPLE") -> NO CUMPLE
A11: 3 | B11: Documento de Constitución del Consorcio o Unión Temporal | C11: x | F11: =IF(C11="X","CUMPLE","NO CUMPLE") -> CUMPLE | G11: =+A11 -> 3 | H11: Documento de Constitución del Consorcio o Unión Temporal | L11: =IF(I11="X","CUMPLE","NO CUMPLE") -> NO CUMPLE | M11: =+A11 -> 3 | N11: Documento de Constitución del Consorcio o Unión Temporal | R11: =IF(O11="X","CUMPLE","NO CUMPLE") -> NO CUMPLE | S11: =+A11 -> 3 | T11: Documento de Constitución del Consorcio o Unión Temporal | X11: =IF(U11="X","CUMPLE","NO CUMPLE") -> NO CUMPLE | Y11: =+A11 -> 3 | Z11: Documento de Constitución del Consorcio o Unión Temporal | AD11: =IF(AA11="X","CUMPLE","NO CUMPLE") -> NO CUMPLE
A12: 4 | B12: RUP Registro Único del Proponente (30 Días) | C12: x | F12: =IF(C12="X","CUMPLE","NO CUMPLE") -> CUMPLE | G12: =+A12 -> 4 | H12: RUP Registro Único del Proponente (30 Días) | L12: =IF(I12="X","CUMPLE","NO CUMPLE") -> NO CUMPLE | M12: =+A12 -> 4 | N12: RUP Registro Único del Proponente (30 Días) | R12: =IF(O12="X","CUMPLE","NO CUMPLE") -> NO CUMPLE | S12: =+A12 -> 4 | T12: RUP Registro Único del Proponente (30 Días) | X12: =IF(U12="X","CUMPLE","NO CUMPLE") -> NO CUMPLE | Y12: =+A12 -> 4 | Z12: RUP Registro Único del Proponente (30 Días) | AD12: =IF(AA12="X","CUMPLE","NO CUMPLE") -> NO CUMPLE
A13: 5 | B13: Garantia de Seriedad de la oferta | C13: x | F13: =IF(C13="X","CUMPLE","NO CUMPLE") -> CUMPLE | G13: =+A13 -> 5 | H13: Garantia de Seriedad de la oferta | L13: =IF(I13="X","CUMPLE","NO CUMPLE") -> NO CUMPLE | M13: =+A13 -> 5 | N13: Garantia de Seriedad de la oferta | R13: =IF(O13="X","CUMPLE","NO CUMPLE") -> NO CUMPLE | S13: =+A13 -> 5 | T13: Garantia de Seriedad de la oferta | X13: =IF(U13="X","CUMPLE","NO CUMPLE") -> NO CUMPLE | Y13: =+A13 -> 5 | Z13: Garantia de Seriedad de la oferta | AD13: =IF(AA13="X","CUMPLE","NO CUMPLE") -> NO CUMPLE
A14: 6 | B14: Certificación de Pagos al Sistema de Seguridad Social y de Aportes Parafiscales | C14: x | F14: =IF(C14="X","CUMPLE","NO CUMPLE") -> CUMPLE | G14: =+A14 -> 6 | H14: Certificación de Pagos al Sistema de Seguridad Social y de Aportes Parafiscales | L14: =IF(I14="X","CUMPLE","NO CUMPLE") -> NO CUMPLE | M14: =+A14 -> 6 | N14: Certificación de Pagos al Sistema de Seguridad Social y de Aportes Parafiscales | R14: =IF(O14="X","CUMPLE","NO CUMPLE") -> NO CUMPLE | S14: =+A14 -> 6 | T14: Certificación de Pagos al Sistema de Seguridad Social y de Aportes Parafiscales | X14: =IF(U14="X","CUMPLE","NO CUMPLE") -> NO CUMPLE | Y14: =+A14 -> 6 | Z14: Certificación de Pagos al Sistema de Seguridad Social y de Aportes Parafiscales | AD14: =IF(AA14="X","CUMPLE","NO CUMPLE") -> NO CUMPLE
A15: 8 | B15: Verificación de no inclusión en el boletín de responsables fiscales | C15: x | F15: =IF(C15="X","CUMPLE","NO CUMPLE") -> CUMPLE | G15: =+A15 -> 8 | H15: Verificación de no inclusión en el boletín de responsables fiscales | L15: =IF(I15="X","CUMPLE","NO CUMPLE") -> NO CUMPLE | M15: =+A15 -> 8 | N15: Verificación de no inclusión en el boletín de responsables fiscales | R15: =IF(O15="X","CUMPLE","NO CUMPLE") -> NO CUMPLE | S15: =+A15 -> 8 | T15: Verificación de no inclusión en el boletín de responsables fiscales | X15: =IF(U15="X","CUMPLE","NO CUMPLE") -> NO CUMPLE | Y15: =+A15 -> 8 | Z15: Verificación de no inclusión en el boletín de responsables fiscales | AD15: =IF(AA15="X","CUMPLE","NO CUMPLE") -> NO CUMPLE
A16: 9 | B16: Verificación del sistema de información de registro de sanciones y causas de inhabilidad (SIRI) de la Procuraduría General De La Nación | C16: x | F16: =IF(C16="X","CUMPLE","NO CUMPLE") -> CUMPLE | G16: =+A16 -> 9 | H16: Verificación del sistema de información de registro de sanciones y causas de inhabilidad (SIRI) de la Procuraduría General De La Nación | L16: =IF(I16="X","CUMPLE","NO CUMPLE") -> NO CUMPLE | M16: =+A16 -> 9 | N16: Verificación del sistema de información de registro de sanciones y causas de inhabilidad (SIRI) de la Procuraduría General De La Nación | R16: =IF(O16="X","CUMPLE","NO CUMPLE") -> NO CUMPLE | S16: =+A16 -> 9 | T16: Verificación del sistema de información de registro de sanciones y causas de inhabilidad (SIRI) de la Procuraduría General De La Nación | X16: =IF(U16="X","CUMPLE","NO CUMPLE") -> NO CUMPLE | Y16: =+A16 -> 9 | Z16: Verificación del sistema de información de registro de sanciones y causas de inhabilidad (SIRI) de la Procuraduría General De La Nación | AD16: =IF(AA16="X","CUMPLE","NO CUMPLE") -> NO CUMPLE
A17: 10 | B17: Verificación de antecedentes judiciales del Ministerio De Defensa Nacional – Policía Nacional. | C17: x | F17: =IF(C17="X","CUMPLE","NO CUMPLE") -> CUMPLE | G17: =+A17 -> 10 | H17: Verificación de antecedentes judiciales del Ministerio De Defensa Nacional – Policía Nacional. | L17: =IF(I17="X","CUMPLE","NO CUMPLE") -> NO CUMPLE | M17: =+A17 -> 10 | N17: Verificación de antecedentes judiciales del Ministerio De Defensa Nacional – Policía Nacional. | R17: =IF(O17="X","CUMPLE","NO CUMPLE") -> NO CUMPLE | S17: =+A17 -> 10 | T17: Verificación de antecedentes judiciales del Ministerio De Defensa Nacional – Policía Nacional. | X17: =IF(U17="X","CUMPLE","NO CUMPLE") -> NO CUMPLE | Y17: =+A17 -> 10 | Z17: Verificación de antecedentes judiciales del Ministerio De Defensa Nacional – Policía Nacional. | AD17: =IF(AA17="X","CUMPLE","NO CUMPLE") -> NO CUMPLE
A18: DOCUMENTACIÓN ACLARATORIA ENTREGADA POR LOS OFERENTES DE LOS ASPECTOS JURÍDICOS | C18: Mediante correo y radicado No 2016-430053974-2 remitido el día 01 de agosto de 2016, allegaron documentación juridica requerida acalrando lo solicitado por la entidad. | G18: DOCUMENTACIÓN ACLARATORIA ENTREGADA POR LOS OFERENTES DE LOS ASPECTOS JURÍDICOS | M18: DOCUMENTACIÓN ACLARATORIA ENTREGADA POR LOS OFERENTES DE LOS ASPECTOS JURÍDICOS | S18: DOCUMENTACIÓN ACLARATORIA ENTREGADA POR LOS OFERENTES DE LOS ASPECTOS JURÍDICOS | Y18: DOCUMENTACIÓN ACLARATORIA ENTREGADA POR LOS OFERENTES DE LOS ASPECTOS JURÍDICOS
A19: CONCLUSIÓN EVALUACION ASPECTOS JURÍDICOS | C19: =+IF(AND(F9="CUMPLE",F10="CUMPLE",F11="CUMPLE",F12="CUMPLE",F13="CUMPLE",F14="CUMPLE",F15="CUMPLE",F16="CUMPLE",F17="CUMPLE"),"CUMPLE","NO CUMPLE") -> CUMPLE | G19: CONCLUSIÓN EVALUACION ASPECTOS JURÍDICOS | I19: =+IF(AND(L9="CUMPLE",L10="CUMPLE",L11="CUMPLE",L12="CUMPLE",L13="CUMPLE",L14="CUMPLE",L15="CUMPLE",L16="CUMPLE",L17="CUMPLE"),"CUMPLE","NO CUMPLE") -> NO CUMPLE | M19: CONCLUSIÓN EVALUACION ASPECTOS JURÍDICOS | O19: =+IF(AND(R9="CUMPLE",R10="CUMPLE",R11="CUMPLE",R12="CUMPLE",R13="CUMPLE",R14="CUMPLE",R15="CUMPLE",R16="CUMPLE",R17="CUMPLE"),"CUMPLE","NO CUMPLE") -> NO CUMPLE | S19: CONCLUSIÓN EVALUACION ASPECTOS JURÍDICOS | U19: =+IF(AND(X9="CUMPLE",X10="CUMPLE",X11="CUMPLE",X12="CUMPLE",X13="CUMPLE",X14="CUMPLE",X15="CUMPLE",X16="CUMPLE",X17="CUMPLE"),"CUMPLE","NO CUMPLE") -> NO CUMPLE | Y19: CONCLUSIÓN EVALUACION ASPECTOS JURÍDICOS | AA19: =+IF(AND(AD9="CUMPLE",AD10="CUMPLE",AD11="CUMPLE",AD12="CUMPLE",AD13="CUMPLE",AD14="CUMPLE",AD15="CUMPLE",AD16="CUMPLE",AD17="CUMPLE"),"CUMPLE","NO CUMPLE") -> NO CUMPLE
A21: 3.3 | B21: REQUISITOS HABILITANTES FINANCIEROS | G21: =+A21 -> 3.3 | H21: CAPACIDAD FINANCIERA | M21: =+A21 -> 3.3 | N21: CAPACIDAD FINANCIERA | S21: =+A21 -> 3.3 | T21: CAPACIDAD FINANCIERA | Y21: =+A21 -> 3.3 | Z21: CAPACIDAD FINANCIERA
B22: RUP Registro Único del Proponente (30 Días) (FECHA DE CADA UNO DE LOS INTEGRANTES) | C22: x | E22: 42584 | F22: =IF(C22="X","CUMPLE","NO CUMPLE") -> CUMPLE | H22: RUP Registro Único del Proponente (30 Días) (FECHA DE CADA UNO DE LOS INTEGRANTES) | L22: =IF(I22="X","CUMPLE","NO CUMPLE") -> NO CUMPLE | N22: RUP Registro Único del Proponente (30 Días) (FECHA DE CADA UNO DE LOS INTEGRANTES) | R22: =IF(O22="X","CUMPLE","NO CUMPLE") -> NO CUMPLE | T22: RUP Registro Único del Proponente (30 Días) (FECHA DE CADA UNO DE LOS INTEGRANTES) | X22: =IF(U22="X","CUMPLE","NO CUMPLE") -> NO CUMPLE | Z22: RUP Registro Único del Proponente (30 Días) (FECHA DE CADA UNO DE LOS INTEGRANTES) | AD22: =IF(AA22="X","CUMPLE","NO CUMPLE") -> NO CUMPLE
B23: CT = ≥ 50% PEE (60% PEE SIN ANTICIPO) | C23: x | E23: si | F23: =IF(E23="SI","CUMPLE","NO CUMPLE") -> CUMPLE | H23: CT = ≥ 50% PEE (60% PEE SIN ANTICIPO) | L23: =IF(K23="SI","CUMPLE","NO CUMPLE") -> NO CUMPLE | N23: CT = ≥ 50% PEE (60% PEE SIN ANTICIPO) | R23: =IF(Q23="SI","CUMPLE","NO CUMPLE") -> NO CUMPLE | T23: CT = ≥ 50% PEE (60% PEE SIN ANTICIPO) | X23: =IF(W23="SI","CUMPLE","NO CUMPLE") -> NO CUMPLE | Z23: CT = ≥ 50% PEE (60% PEE SIN ANTICIPO) | AD23: =IF(AC23="SI","CUMPLE","NO CUMPLE") -> NO CUMPLE
B24: LIQ = AC / PC ≥ 2.0 | C24: x | E24: si | F24: =IF(E24="SI","CUMPLE","NO CUMPLE") -> CUMPLE | H24: LIQ = AC / PC ≥ 2.0 | L24: =IF(K24="SI","CUMPLE","NO CUMPLE") -> NO CUMPLE | N24: LIQ = AC / PC ≥ 2.0 | R24: =IF(Q24="SI","CUMPLE","NO CUMPLE") -> NO CUMPLE | T24: LIQ = AC / PC ≥ 2.0 | X24: =IF(W24="SI","CUMPLE","NO CUMPLE") -> NO CUMPLE | Z24: LIQ = AC / PC ≥ 1,0 | AD24: =IF(AC24="SI","CUMPLE","NO CUMPLE") -> NO CUMPLE
B25: NE = PT / AT ≤ 0.50 | C25: x | E25: si | F25: =IF(E25="SI","CUMPLE","NO CUMPLE") -> CUMPLE | H25: NE = PT / AT ≤ 0.50 | L25: =IF(K25="SI","CUMPLE","NO CUMPLE") -> NO CUMPLE | N25: NE = PT / AT ≤ 0.50 | R25: =IF(Q25="SI","CUMPLE","NO CUMPLE") -> NO CUMPLE | T25: NE = PT / AT ≤ 0.50 | X25: =IF(W25="SI","CUMPLE","NO CUMPLE") -> NO CUMPLE | Z25: NE = PT / AT ≤ 0,70 | AD25: =IF(AC25="SI","CUMPLE","NO CUMPLE") -> NO CUMPLE
B26: RCI = UO/GI ≥ 2.0 | C26: x | E26: si | F26: =IF(E26="SI","CUMPLE","NO CUMPLE") -> CUMPLE | H26: RCI = UO/GI ≥ 2.0 | L26: =IF(K26="SI","CUMPLE","NO CUMPLE") -> NO CUMPLE | N26: RCI = UO/GI ≥ 2.0 | R26: =IF(Q26="SI","CUMPLE","NO CUMPLE") -> NO CUMPLE | T26: RCI = UO/GI ≥ 2.0 | X26: =IF(W26="SI","CUMPLE","NO CUMPLE") -> NO CUMPLE | Z26: RCI = UO/GI ≥ 2.0 | AD26: =IF(AC26="SI","CUMPLE","NO CUMPLE") -> NO CUMPLE
B27: RP = UO/P ≥ 8% | C27: x | E27: si | F27: =IF(E27="SI","CUMPLE","NO CUMPLE") -> CUMPLE | H27: RP = UO/P ≥ 8% | L27: =IF(K27="SI","CUMPLE","NO CUMPLE") -> NO CUMPLE | N27: RP = UO/P ≥ 8% | R27: =IF(Q27="SI","CUMPLE","NO CUMPLE") -> NO CUMPLE | T27: RP = UO/P ≥ 8% | X27: =IF(W27="SI","CUMPLE","NO CUMPLE") -> NO CUMPLE | Z27: RP = UO/P ≥ 8% | AD27: =IF(AC27="SI","CUMPLE","NO CUMPLE") -> NO CUMPLE
B28: RA = UO/AT ≥ 5% | C28: x | E28: si | F28: =IF(E28="SI","CUMPLE","NO CUMPLE") -> CUMPLE | H28: RA = UO/AT ≥ 5% | L28: =IF(K28="SI","CUMPLE","NO CUMPLE") -> NO CUMPLE | N28: RA = UO/AT ≥ 5% | R28: =IF(Q28="SI","CUMPLE","NO CUMPLE") -> NO CUMPLE | T28: RA = UO/AT ≥ 5% | X28: =IF(W28="SI","CUMPLE","NO CUMPLE") -> NO CUMPLE | Z28: RA = UO/AT ≥ 5% | AD28: =IF(AC28="SI","CUMPLE","NO CUMPLE") -> NO CUMPLE
A29: DOCUMENTACIÓN ACLARATORIA ENTREGADA POR LOS OFERENTES DE LA CAPACIDAD FINANCIERA | C29: NO SE REQUIRIO | G29: DOCUMENTACIÓN ACLARATORIA ENTREGADA POR LOS OFERENTES DE LA CAPACIDAD FINANCIERA | M29: DOCUMENTACIÓN ACLARATORIA ENTREGADA POR LOS OFERENTES DE LA CAPACIDAD FINANCIERA | S29: DOCUMENTACIÓN ACLARATORIA ENTREGADA POR LOS OFERENTES DE LA CAPACIDAD FINANCIERA | Y29: DOCUMENTACIÓN ACLARATORIA ENTREGADA POR LOS OFERENTES DE LA CAPACIDAD FINANCIERA
A30: CONCLUSIÓN EVALUACION CAPACIDAD FINANCIERA | C30: =+IF(AND(F22="CUMPLE",F23="CUMPLE",F24="CUMPLE",F25="CUMPLE",F26="CUMPLE",F27="CUMPLE",F28="CUMPLE"),"CUMPLE","NO CUMPLE") -> CUMPLE | G30: CONCLUSIÓN EVALUACION CAPACIDAD FINANCIERA | I30: =+IF(AND(L22="CUMPLE",L23="CUMPLE",L24="CUMPLE",L25="CUMPLE",L26="CUMPLE",L27="CUMPLE",L28="CUMPLE"),"CUMPLE","NO CUMPLE") -> NO CUMPLE | M30: CONCLUSIÓN EVALUACION CAPACIDAD FINANCIERA | O30: =+IF(AND(R22="CUMPLE",R23="CUMPLE",R24="CUMPLE",R25="CUMPLE",R26="CUMPLE",R27="CUMPLE",R28="CUMPLE"),"CUMPLE","NO CUMPLE") -> NO CUMPLE | S30: CONCLUSIÓN EVALUACION CAPACIDAD FINANCIERA | U30: =+IF(AND(X22="CUMPLE",X23="CUMPLE",X24="CUMPLE",X25="CUMPLE",X26="CUMPLE",X27="CUMPLE",X28="CUMPLE"),"CUMPLE","NO CUMPLE") -> NO CUMPLE | Y30: CONCLUSIÓN EVALUACION CAPACIDAD FINANCIERA | AA30: =+IF(AND(AD22="CUMPLE",AD23="CUMPLE",AD24="CUMPLE",AD25="CUMPLE",AD26="CUMPLE",AD27="CUMPLE",AD28="CUMPLE"),"CUMPLE","NO CUMPLE") -> NO CUMPLE
A32: 3.4 | B32: REQUISITOS TÉCNICOS | G32: =+A32 -> 3.4 | H32: =+B32 -> REQUISITOS TÉCNICOS | M32: =+A32 -> 3.4 | N32: =+B32 -> REQUISITOS TÉCNICOS | S32: =+A32 -> 3.4 | T32: =+B32 -> REQUISITOS TÉCNICOS | Y32: =+A32 -> 3.4 | Z32: =+B32 -> REQUISITOS TÉCNICOS
A34: 3.4.1 | B34: EXPERIENCIA ESPECÍFICA DEL OFERENTE | G34: =+A34 -> 3.4.1 | H34: EXPERIENCIA ESPECÍFICA DEL OFERENTE | M34: =+A34 -> 3.4.1 | N34: EXPERIENCIA ESPECÍFICA DEL OFERENTE | S34: =+A34 -> 3.4.1 | T34: EXPERIENCIA ESPECÍFICA DEL OFERENTE | Y34: =+A34 -> 3.4.1 | Z34: EXPERIENCIA ESPECÍFICA DEL OFERENTE
B35: =+'Exp. oferente'!A6 -> OPERACIÓN Y/O MANTENIMIENTO Y/O REMODELACIÓN Y/O ADECUACIÓN Y/O AMPLIACIÓN Y/O CONSTRUCCIÓN Y/O MANTENIMIENTO DE PLANTAS DE TRATAMIENTO DE AGUA POTABLE PTAP Y/O PLANTAS DE TRATAMIENTO DE AGUA RESIDUAL,mediante la presentación de MÁXIMO CUATRO (4) certificaciones de contratos iniciados y terminados con entidades públicas o privadas, terminados y liquidados a la fecha del cierre del presente proceso, los cuales deberán sumar en conjunto, un VALOR IGUAL O SUPERIOR A 1.0 VEZ EL P.O.E. | F35: =+IF(AND(C36="X",C37="X",C38="X",C39="X",C40="X"),"CUMPLE","NO CUMPLE") -> CUMPLE | H35: =+'Exp. oferente'!A6 -> OPERACIÓN Y/O MANTENIMIENTO Y/O REMODELACIÓN Y/O ADECUACIÓN Y/O AMPLIACIÓN Y/O CONSTRUCCIÓN Y/O MANTENIMIENTO DE PLANTAS DE TRATAMIENTO DE AGUA POTABLE PTAP Y/O PLANTAS DE TRATAMIENTO DE AGUA RESIDUAL,mediante la presentación de MÁXIMO CUATRO (4) certificaciones de contratos iniciados y terminados con entidades públicas o privadas, terminados y liquidados a la fecha del cierre del presente proceso, los cuales deberán sumar en conjunto, un VALOR IGUAL O SUPERIOR A 1.0 VEZ EL P.O.E. | L35: =+IF(AND(I36="X",I37="X",I38="X",I39="X",I40="X"),"CUMPLE","NO CUMPLE") -> NO CUMPLE | N35: =+'Exp. oferente'!A6 -> OPERACIÓN Y/O MANTENIMIENTO Y/O REMODELACIÓN Y/O ADECUACIÓN Y/O AMPLIACIÓN Y/O CONSTRUCCIÓN Y/O MANTENIMIENTO DE PLANTAS DE TRATAMIENTO DE AGUA POTABLE PTAP Y/O PLANTAS DE TRATAMIENTO DE AGUA RESIDUAL,mediante la presentación de MÁXIMO CUATRO (4) certificaciones de contratos iniciados y terminados con entidades públicas o privadas, terminados y liquidados a la fecha del cierre del presente proceso, los cuales deberán sumar en conjunto, un VALOR IGUAL O SUPERIOR A 1.0 VEZ EL P.O.E. | R35: =+IF(AND(O36="X",O37="X",O38="X",O39="X",O40="X"),"CUMPLE","NO CUMPLE") -> NO CUMPLE | T35: =+'Exp. oferente'!A6 -> OPERACIÓN Y/O MANTENIMIENTO Y/O REMODELACIÓN Y/O ADECUACIÓN Y/O AMPLIACIÓN Y/O CONSTRUCCIÓN Y/O MANTENIMIENTO DE PLANTAS DE TRATAMIENTO DE AGUA POTABLE PTAP Y/O PLANTAS DE TRATAMIENTO DE AGUA RESIDUAL,mediante la presentación de MÁXIMO CUATRO (4) certificaciones de contratos iniciados y terminados con entidades públicas o privadas, terminados y liquidados a la fecha del cierre del presente proceso, los cuales deberán sumar en conjunto, un VALOR IGUAL O SUPERIOR A 1.0 VEZ EL P.O.E. | X35: =+IF(AND(U36="X",U37="X",U38="X",U39="X",U40="X"),"CUMPLE","NO CUMPLE") -> NO CUMPLE | Z35: =+'Exp. oferente'!A6 -> OPERACIÓN Y/O MANTENIMIENTO Y/O REMODELACIÓN Y/O ADECUACIÓN Y/O AMPLIACIÓN Y/O CONSTRUCCIÓN Y/O MANTENIMIENTO DE PLANTAS DE TRATAMIENTO DE AGUA POTABLE PTAP Y/O PLANTAS DE TRATAMIENTO DE AGUA RESIDUAL,mediante la presentación de MÁXIMO CUATRO (4) certificaciones de contratos iniciados y terminados con entidades públicas o privadas, terminados y liquidados a la fecha del cierre del presente proceso, los cuales deberán sumar en conjunto, un VALOR IGUAL O SUPERIOR A 1.0 VEZ EL P.O.E. | AD35: =+IF(AND(AA36="X",AA37="X",AA38="X",AA39="X",AA40="X"),"CUMPLE","NO CUMPLE") -> NO CUMPLE
B36: =+'Exp. oferente'!G24 -> ADECUACION DE LA INFRAESTRUCTURA Y MANTENIMIENTO PREVENTIVO Y CORRECTIVO A LOS EQUIPOS DE LA PLANTA DE BENEFICIO ANIMAL DEL MUNICIPIO DE PUERTO GAITAN | C36: x | E36: =+CONCATENATE('Exp. oferente'!I24,CHAR(10),TEXT('Exp. oferente'!H24,"DD"),"/",TEXT('Exp. oferente'!H24,"MMMM"),"/",TEXT('Exp. oferente'!H24,"YYYY"), CHAR(10),DOLLAR('Exp. oferente'!J24)) -> SIN 00/enero/1900 $ 0,00 | H36: =+'Exp. oferente'!G44 -> PRESTACION DE SERVICIO DE TRANSPORTE ESCOLAR | K36: =+CONCATENATE('Exp. oferente'!I44,CHAR(10),TEXT('Exp. oferente'!H44,"DD"),"/",TEXT('Exp. oferente'!H44,"MMMM"),"/",TEXT('Exp. oferente'!H44,"YYYY"), CHAR(10),DOLLAR('Exp. oferente'!J44)) -> SIN 30/noviembre/2017 $ 5.856.791.309,00 | L36: El contrato contiene experiencia en redes de acueducto y alcantarillado pero dentro de la certificación no especifica el VALOR de la ESTRUCTURACIÓN EN PROYECTOS PARA SISTEMAS DE: AGUA POTABLE Y/O ACUEDUCTOS Y/O ALCANTARILLADOS SANITARIOS Y/O TRATAMIENTO DE AGUAS RESIDUALES, teniendo en cuenta la nota establecida en el numeral 3.4 de la acreditación y verificación de la experiencia del oferente, NOTA 2: Cuando el objeto requerido como experiencia sea una parte del objeto contractual de la(s) certificación(es) aportada(s), no será tenido en cuenta, salvo que se acredite debidamente discriminados la experiencia requerida y su valor. En este evento, el valor que se tendrá en cuenta para efectos de la verificación de la experiencia del oferente, será el correspondiente al valor discriminado de la experiencia solicitada. | N36: =+'Exp. oferente'!G64 -> TRANSPORTE TERRESTRE PARA LOS ESCOLARES DE LAS VEREDAS DEL MUNICIPIO DE CIMITARRA | Q36: =+CONCATENATE('Exp. oferente'!I64,CHAR(10),TEXT('Exp. oferente'!H64,"DD"),"/",TEXT('Exp. oferente'!H64,"MMMM"),"/",TEXT('Exp. oferente'!H64,"YYYY"), CHAR(10),DOLLAR('Exp. oferente'!J64)) -> SIN 21/diciembre/2015 $ 1.291.424.627,00 | T36: =+'Exp. oferente'!G84 -> PRESTACION DE SERVICIO DE TRANSPORTE ESPECIAL DE PASAJEROS EN LA CIUDAD DE BOGOTA, PARA EL DESPLAZAMIENTO DE LOS TRABAJADORES S&A SERVICIOS Y ASESORIAS SAS RN MISION EN EL FONDO NACIONAL DEL AHORRO | W36: =+CONCATENATE('Exp. oferente'!I84,CHAR(10),TEXT('Exp. oferente'!H84,"DD"),"/",TEXT('Exp. oferente'!H84,"MMMM"),"/",TEXT('Exp. oferente'!H84,"YYYY"), CHAR(10),DOLLAR('Exp. oferente'!J84)) -> SIN 31/diciembre/2016 $ 1.164.000.000,00 | Z36: =+'Exp. oferente'!G104 -> FIJAR REGLAS PARA LA COORDINACION POR PARTE DE CAFAM DEL SERVICIO DE TRANSPORTE QUE EL TRASPORTADOR PRESTA A LOS ESTUDIANTES DEL COLEGIO DCAFAM Y ESTABLECER CONDICIONES PARA PRESTACION DEL SERVICIO | AC36: =+CONCATENATE('Exp. oferente'!I104,CHAR(10),TEXT('Exp. oferente'!H104,"DD"),"/",TEXT('Exp. oferente'!H104,"MMMM"),"/",TEXT('Exp. oferente'!H104,"YYYY"), CHAR(10),DOLLAR('Exp. oferente'!J104)) -> SIN 30/noviembre/2015 $ 1.791.306.380,00
B37: =+'Exp. oferente'!G25 -> 0 | C37: x | E37: =+CONCATENATE('Exp. oferente'!I25,CHAR(10),TEXT('Exp. oferente'!H25,"DD"),"/",TEXT('Exp. oferente'!H25,"MMMM"),"/",TEXT('Exp. oferente'!H25,"YYYY"), CHAR(10),DOLLAR('Exp. oferente'!J25)) -> SIN 00/enero/1900 $ 0,00 | H37: =+'Exp. oferente'!G45 -> CONTRATAR EL SERVICIO DE TRANSPORTE ESPECIAL PARA ATENDER LAS RUTAS Y LOS DIFERENTES EVENTOS DE LOS APRENDICES DEL CENTRO DE BIOTECNOLOGIA AGROPECUARIA MOSQUERA | K37: =+CONCATENATE('Exp. oferente'!I45,CHAR(10),TEXT('Exp. oferente'!H45,"DD"),"/",TEXT('Exp. oferente'!H45,"MMMM"),"/",TEXT('Exp. oferente'!H45,"YYYY"), CHAR(10),DOLLAR('Exp. oferente'!J45)) -> SIN 31/diciembre/2017 $ 264.345.852,00 | N37: =+'Exp. oferente'!#REF! -> #REF! | Q37: =+CONCATENATE('Exp. oferente'!#REF!,CHAR(10),TEXT('Exp. oferente'!#REF!,"DD"),"/",TEXT('Exp. oferente'!#REF!,"MMMM"),"/",TEXT('Exp. oferente'!#REF!,"YYYY"), CHAR(10),DOLLAR('Exp. oferente'!#REF!)) -> #REF! | T37: =+'Exp. oferente'!G85 -> PRESTAR EL SERVICIO DE TRANSPORTE TERRESTRE PARA LA COMUNIDAD ESAPISTA | W37: =+CONCATENATE('Exp. oferente'!I85,CHAR(10),TEXT('Exp. oferente'!H85,"DD"),"/",TEXT('Exp. oferente'!H85,"MMMM"),"/",TEXT('Exp. oferente'!H85,"YYYY"), CHAR(10),DOLLAR('Exp. oferente'!J85)) -> SIN 31/diciembre/2016 $ 280.000.000,00 | Z37: =+'Exp. oferente'!G105 -> LA TRANSPORTADORA EN DESARROLLO DEL CONTRATO SE COMPROMETE PARA CON OPEN, APRESTAR EL SERVICIO DE TRANSPORTE DE PASAJEROS DE SUS FUNCIONARIOS | AC37: =+CONCATENATE('Exp. oferente'!I105,CHAR(10),TEXT('Exp. oferente'!H105,"DD"),"/",TEXT('Exp. oferente'!H105,"MMMM"),"/",TEXT('Exp. oferente'!H105,"YYYY"), CHAR(10),DOLLAR('Exp. oferente'!J105)) -> SIN 31/diciembre/2017 $ 181.759.595,00
B38: =+'Exp. oferente'!G26 -> 0 | C38: x | E38: =+CONCATENATE('Exp. oferente'!I26,CHAR(10),TEXT('Exp. oferente'!H26,"DD"),"/",TEXT('Exp. oferente'!H26,"MMMM"),"/",TEXT('Exp. oferente'!H26,"YYYY"), CHAR(10),DOLLAR('Exp. oferente'!J26)) -> SIN 00/enero/1900 $ 0,00 | H38: =+'Exp. oferente'!G46 -> 0 | K38: =+CONCATENATE('Exp. oferente'!I46,CHAR(10),TEXT('Exp. oferente'!H46,"DD"),"/",TEXT('Exp. oferente'!H46,"MMMM"),"/",TEXT('Exp. oferente'!H46,"YYYY"), CHAR(10),DOLLAR('Exp. oferente'!J46)) -> SIN 31/diciembre/2017 $ 264.345.852,00 | N38: =+'Exp. oferente'!G65 -> 0 | Q38: =+CONCATENATE('Exp. oferente'!I65,CHAR(10),TEXT('Exp. oferente'!H65,"DD"),"/",TEXT('Exp. oferente'!H65,"MMMM"),"/",TEXT('Exp. oferente'!H65,"YYYY"), CHAR(10),DOLLAR('Exp. oferente'!J65)) -> SIN 00/enero/1900 $ 0,00 | T38: =+'Exp. oferente'!G86 -> PRESTACION DEL SERVICIO DE TRANSPORTE TERRESTRE AUTOMOTOR ESPECIAL ESCOLAR CON EL SERVCIO DE MONITORA PARA LOS ALUMNOS DEL GIMNASIO MODERNO | W38: =+CONCATENATE('Exp. oferente'!I86,CHAR(10),TEXT('Exp. oferente'!H86,"DD"),"/",TEXT('Exp. oferente'!H86,"MMMM"),"/",TEXT('Exp. oferente'!H86,"YYYY"), CHAR(10),DOLLAR('Exp. oferente'!J86)) -> SIN 30/noviembre/2015 $ 1.216.238.437,00 | Z38: =+'Exp. oferente'!#REF! -> #REF! | AC38: =+CONCATENATE('Exp. oferente'!#REF!,CHAR(10),TEXT('Exp. oferente'!#REF!,"DD"),"/",TEXT('Exp. oferente'!#REF!,"MMMM"),"/",TEXT('Exp. oferente'!#REF!,"YYYY"), CHAR(10),DOLLAR('Exp. oferente'!#REF!)) -> #REF!
B39: =+'Exp. oferente'!G28 -> 0 | C39: x | E39: =+CONCATENATE('Exp. oferente'!I28,CHAR(10),TEXT('Exp. oferente'!H28,"DD"),"/",TEXT('Exp. oferente'!H28,"MMMM"),"/",TEXT('Exp. oferente'!H28,"YYYY"), CHAR(10),DOLLAR('Exp. oferente'!J28)) -> SIN 00/enero/1900 $ 0,00 | H39: =+'Exp. oferente'!G47 -> PRESTACION DE SERVICIO DE TRANSPORTE ESCOLAR | K39: =+CONCATENATE('Exp. oferente'!I47,CHAR(10),TEXT('Exp. oferente'!H47,"DD"),"/",TEXT('Exp. oferente'!H47,"MMMM"),"/",TEXT('Exp. oferente'!H47,"YYYY"), CHAR(10),DOLLAR('Exp. oferente'!J47)) -> SIN 30/noviembre/2015 $ 1.143.736.690,00 | N39: =+'Exp. oferente'!G66 -> 0 | Q39: =+CONCATENATE('Exp. oferente'!I66,CHAR(10),TEXT('Exp. oferente'!H66,"DD"),"/",TEXT('Exp. oferente'!H66,"MMMM"),"/",TEXT('Exp. oferente'!H66,"YYYY"), CHAR(10),DOLLAR('Exp. oferente'!J66)) -> SIN 00/enero/1900 $ 0,00 | T39: =+'Exp. oferente'!#REF! -> #REF! | W39: =+CONCATENATE('Exp. oferente'!#REF!,CHAR(10),TEXT('Exp. oferente'!#REF!,"DD"),"/",TEXT('Exp. oferente'!#REF!,"MMMM"),"/",TEXT('Exp. oferente'!#REF!,"YYYY"), CHAR(10),DOLLAR('Exp. oferente'!#REF!)) -> #REF! | Z39: =+'Exp. oferente'!#REF! -> #REF! | AC39: =+CONCATENATE('Exp. oferente'!#REF!,CHAR(10),TEXT('Exp. oferente'!#REF!,"DD"),"/",TEXT('Exp. oferente'!#REF!,"MMMM"),"/",TEXT('Exp. oferente'!#REF!,"YYYY"),CHAR(10),DOLLAR('Exp. oferente'!#REF!)) -> #REF!
B40: =+'Exp. oferente'!#REF! -> #REF! | C40: x | E40: =+CONCATENATE('Exp. oferente'!#REF!,CHAR(10),TEXT('Exp. oferente'!#REF!,"DD"),"/",TEXT('Exp. oferente'!#REF!,"MMMM"),"/",TEXT('Exp. oferente'!#REF!,"YYYY"), CHAR(10),DOLLAR('Exp. oferente'!#REF!)) -> #REF! | H40: =+'Exp. oferente'!G48 -> 0 | K40: =+CONCATENATE('Exp. oferente'!I48,CHAR(10),TEXT('Exp. oferente'!H48,"DD"),"/",TEXT('Exp. oferente'!H48,"MMMM"),"/",TEXT('Exp. oferente'!H48,"YYYY"), CHAR(10),DOLLAR('Exp. oferente'!J48)) -> SIN 00/enero/1900 $ 0,00 | N40: =+'Exp. oferente'!G67 -> 0 | Q40: =+CONCATENATE('Exp. oferente'!I67,CHAR(10),TEXT('Exp. oferente'!H67,"DD"),"/",TEXT('Exp. oferente'!H67,"MMMM"),"/",TEXT('Exp. oferente'!H67,"YYYY"), CHAR(10),DOLLAR('Exp. oferente'!J67)) -> SIN 00/enero/1900 $ 0,00 | T40: =+'Exp. oferente'!#REF! -> #REF! | W40: =+CONCATENATE('Exp. oferente'!#REF!,CHAR(10),TEXT('Exp. oferente'!#REF!,"DD"),"/",TEXT('Exp. oferente'!#REF!,"MMMM"),"/",TEXT('Exp. oferente'!#REF!,"YYYY"), CHAR(10),DOLLAR('Exp. oferente'!#REF!)) -> #REF! | Z40: =+'Exp. oferente'!#REF! -> #REF! | AC40: =+CONCATENATE('Exp. oferente'!#REF!,CHAR(10),TEXT('Exp. oferente'!#REF!,"DD"),"/",TEXT('Exp. oferente'!#REF!,"MMMM"),"/",TEXT('Exp. oferente'!#REF!,"YYYY"), CHAR(10),DOLLAR('Exp. oferente'!#REF!)) -> #REF!
B41: =+'Exp. oferente'!A7 -> 0 | F41: =+IF(AND(C42="X"),"CUMPLE","NO CUMPLE") -> NO CUMPLE | H41: =+'Exp. oferente'!A7 -> 0 | L41: =+IF(AND(I42="X"),"CUMPLE","NO CUMPLE") -> NO CUMPLE | N41: =+'Exp. oferente'!A7 -> 0 | R41: =+IF(AND(O42="X"),"CUMPLE","NO CUMPLE") -> NO CUMPLE | T41: =+'Exp. oferente'!A7 -> 0 | X41: =+IF(AND(U42="X"),"CUMPLE","NO CUMPLE") -> NO CUMPLE | Z41: =+'Exp. oferente'!A7 -> 0 | AD41: =+IF(AND(AA42="X"),"CUMPLE","NO CUMPLE") -> NO CUMPLE
D42: X
B43: =+'Exp. oferente'!A10 -> 0 | F43: =+IF(AND(C44="X"),"CUMPLE","NO CUMPLE") -> NO CUMPLE | H43: =+'Exp. oferente'!A10 -> 0 | L43: =+IF(AND(I44="X"),"CUMPLE","NO CUMPLE") -> NO CUMPLE | N43: =+'Exp. oferente'!A10 -> 0 | R43: =+IF(AND(O44="X"),"CUMPLE","NO CUMPLE") -> NO CUMPLE | T43: =+'Exp. oferente'!A10 -> 0 | X43: =+IF(AND(U44="X"),"CUMPLE","NO CUMPLE") -> NO CUMPLE | Z43: =+'Exp. oferente'!A10 -> 0 | AD43: =+IF(AND(AA44="X"),"CUMPLE","NO CUMPLE") -> NO CUMPLE
D44: X | F44: Dentro de los contratos aportados no se incluye ESTRUCTURACIÓN DE PROYECTOS PARA PLANTAS DE TRATAMIENTO DE AGUA RESIDUAL "PTAR", de valor igual o superior al valor del POE, expresado en SMMLV
A45: DOCUMENTACIÓN ACLARATORIA ENTREGADA POR LOS OFERENTES DE LA EXPERIENCIA ESPECÍFICA | G45: DOCUMENTACIÓN ACLARATORIA ENTREGADA POR LOS OFERENTES DE LA EXPERIENCIA ESPECÍFICA | M45: DOCUMENTACIÓN ACLARATORIA ENTREGADA POR LOS OFERENTES DE LA EXPERIENCIA ESPECÍFICA | S45: DOCUMENTACIÓN ACLARATORIA ENTREGADA POR LOS OFERENTES DE LA EXPERIENCIA ESPECÍFICA | Y45: DOCUMENTACIÓN ACLARATORIA ENTREGADA POR LOS OFERENTES DE LA EXPERIENCIA ESPECÍFICA
...

Sheet CONCLUSION
A1: UNIDAD DE SERVICIOS PENITENCIARIOS Y CARCELARIOS
A4: “REHABILITACIÓN ESTRUCTURAL DE LA BOCATOMA UBICADA EN LOS LÍMITES DE LA JURISDICCIÓN DE LOS MUNICIPIOS DE CÓMBITA, TUTA Y SOTAQUIRÁ” INVITACION PUBLICA N° USPEC- IP-MC-60-2019
A6: ANÁLISIS POR EL SISTEMA DE COSTOS POR PERSONAL Y FACTOR MULTIPLICADOR
A7: No. | B7: NOMBRE DEL OFERENTE | C7: REQUISITOS TECNICOS HABILITANTES | D7: OBSERVACIONES
A8: 1 | B8: =+Conformación!B5 -> CONSTRUNAL DE AGUAS SAS | C8: NO CUMPLE | D8: VER EVALUACION TECNICA. EL VALOR DE LA OFERTA ECONOMICA ES DE $53.884.669,00 (VALOR AJUSTADO)

Sheet FORMATO ECONOMICO ETAPA II
