Workbook

Sheet ANEXO 1
A1: ANEXO 1
C2: ANALISIS DE COTIZACIONES
C3: ADQUIRIR MATERIALES DE REFERENCIA CERTIFICADOS DE SUSTANCIAS SICOACTIVAS PARA LOS GRUPOS DE QUÍMICA DE LA FISCALÍA GENERAL DE LA NACIÓN.
A5: NECESIDAD | F5: COTIZACION 1 | K5: COTIZACION 2 | P5: VALOR COTIZACIÓN HÁBIL MÁS BAJA | Q5: PROMEDIO | R5: VALOR COTIZACIÓN HÁBIL MÁS ALTA | S5: PORCENTAJE DIFERENCIAL (BAJA/PROMEDIO) | T5: MEDIA ARITMETICA BAJA | V5: ANALISIS DE COTIZACIONES
A6: ITEM | B6: DESCRIPCIÓN DEL MANTENIMIENTO | C6: UNIDAD | D6: CANTIDAD | F6: VALOR UNITARIO SIN IVA | G6: IVA | H6: VALOR UNITARIO INCLUIDO IVA | I6: VALOR TOTAL INCLUIDO IVA | K6: VALOR UNITARIO SIN IVA | L6: IVA | M6: VALOR UNITARIO INCLUIDO IVA | N6: VALOR TOTAL INCLUIDO IVA | P6: VALOR UNITARIO SIN IVA | Q6: VALOR UNITARIO SIN IVA | R6: VALOR UNITARIO SIN IVA | S6: 0.35 | T6: VALOR UNITARIO SIN IVA | V6: VALOR UNITARIO SIN IVA | W6: IVA | X6: VALOR UNITARIO INCLUIDO IVA | Y6: VALOR TOTAL INCLUIDO IVA
A7: 1 | B7: Cocaína clorhidrato | C7: Frasco x 100 mg | D7: 8 | F7: 2450000 | G7: =+F7*19% -> 465500 | H7: =+G7+F7 -> 2915500 | I7: =+H7*D7 -> 23324000 | L7: =+K7*19% -> 0 | M7: =+L7+K7 -> 0 | N7: =+M7*D7 -> 0 | P7: =ROUND(MIN(F7,K7),0) -> 2450000 | Q7: =ROUND(AVERAGE(F7,K7),0) -> 2450000 | R7: =+MAX(F7,K7) -> 2450000 | S7: =+(R7/P7)-1 -> 0 | T7: =+ROUND(AVERAGE(P7,Q7),0) -> 2450000 | V7: =+Q7 -> 2450000 | W7: =ROUND(V7*19%,0) -> 465500 | X7: =+W7+V7 -> 2915500 | Y7: =+X7*D7 -> 23324000
A8: 2 | B8: (-)-DELTA 9-Tetrahidrocannabinol solución en etanol | C8: Ampolla x 1 mg/mL | D8: 18 | F8: 1620000 | G8: =+F8*19% -> 307800 | H8: =+G8+F8 -> 1927800 | I8: =+H8*D8 -> 34700400 | L8: =+K8*19% -> 0 | M8: =+L8+K8 -> 0 | N8: =+M8*D8 -> 0 | P8: =ROUND(MIN(F8,K8),0) -> 1620000 | Q8: =ROUND(AVERAGE(F8,K8),0) -> 1620000 | R8: =+MAX(F8,K8) -> 1620000 | S8: =+(R8/P8)-1 -> 0 | T8: =+ROUND(AVERAGE(P8,Q8),0) -> 1620000 | V8: =+Q8 -> 1620000 | W8: =ROUND(V8*19%,0) -> 307800 | X8: =+W8+V8 -> 1927800 | Y8: =+X8*D8 -> 34700400
A9: 3 | B9: Heroína clorhidrato | C9: Frasco x 50 mg | D9: 6 | F9: 2500000 | G9: =+F9*19% -> 475000 | H9: =+G9+F9 -> 2975000 | I9: =+H9*D9 -> 17850000 | L9: =+K9*19% -> 0 | M9: =+L9+K9 -> 0 | N9: =+M9*D9 -> 0 | P9: =ROUND(MIN(F9,K9),0) -> 2500000 | Q9: =ROUND(AVERAGE(F9,K9),0) -> 2500000 | R9: =+MAX(F9,K9) -> 2500000 | S9: =+(R9/P9)-1 -> 0 | T9: =+ROUND(AVERAGE(P9,Q9),0) -> 2500000 | V9: =+Q9 -> 2500000 | W9: =ROUND(V9*19%,0) -> 475000 | X9: =+W9+V9 -> 2975000 | Y9: =+X9*D9 -> 17850000
A10: 4 | B10: Cannabidiol | C10: Frasco x 50 mg | D10: 5 | F10: 1850000 | G10: =+F10*19% -> 351500 | H10: =+G10+F10 -> 2201500 | I10: =+H10*D10 -> 11007500 | L10: =+K10*19% -> 0 | M10: =+L10+K10 -> 0 | N10: =+M10*D10 -> 0 | P10: =ROUND(MIN(F10,K10),0) -> 1850000 | Q10: =ROUND(AVERAGE(F10,K10),0) -> 1850000 | R10: =+MAX(F10,K10) -> 1850000 | S10: =+(R10/P10)-1 -> 0 | T10: =+ROUND(AVERAGE(P10,Q10),0) -> 1850000 | V10: =+Q10 -> 1850000 | W10: =ROUND(V10*19%,0) -> 351500 | X10: =+W10+V10 -> 2201500 | Y10: =+X10*D10 -> 11007500
A11: 5 | B11: Cannabinol | C11: Frasco x 50 mg | D11: 4 | F11: 2700000 | G11: =+F11*19% -> 513000 | H11: =+G11+F11 -> 3213000 | I11: =+H11*D11 -> 12852000 | L11: =+K11*19% -> 0 | M11: =+L11+K11 -> 0 | N11: =+M11*D11 -> 0 | P11: =ROUND(MIN(F11,K11),0) -> 2700000 | Q11: =ROUND(AVERAGE(F11,K11),0) -> 2700000 | R11: =+MAX(F11,K11) -> 2700000 | S11: =+(R11/P11)-1 -> 0 | T11: =+ROUND(AVERAGE(P11,Q11),0) -> 2700000 | V11: =+Q11 -> 2700000 | W11: =ROUND(V11*19%,0) -> 513000 | X11: =+W11+V11 -> 3213000 | Y11: =+X11*D11 -> 12852000
A12: 6 | B12: (-)-DELTA 8-Tetrahidrocannabinol solución en etanol | C12: Ampolla x 1 mg/mL | D12: 3 | F12: 1380000 | G12: =+F12*19% -> 262200 | H12: =+G12+F12 -> 1642200 | I12: =+H12*D12 -> 4926600 | L12: =+K12*19% -> 0 | M12: =+L12+K12 -> 0 | N12: =+M12*D12 -> 0 | P12: =ROUND(MIN(F12,K12),0) -> 1380000 | Q12: =ROUND(AVERAGE(F12,K12),0) -> 1380000 | R12: =+MAX(F12,K12) -> 1380000 | S12: =+(R12/P12)-1 -> 0 | T12: =+ROUND(AVERAGE(P12,Q12),0) -> 1380000 | V12: =+Q12 -> 1380000 | W12: =ROUND(V12*19%,0) -> 262200 | X12: =+W12+V12 -> 1642200 | Y12: =+X12*D12 -> 4926600
A13: TOTAL | I13: =SUM(I7:I12) -> 104660500 | N13: =SUM(N7:N12) -> 0 | Y13: =SUM(Y7:Y12) -> 104660500
B15: NOTAS:
B16: 1) Se realizó el estudio con 1 cotización la cual cumple con lo solicitado por la entidad
B17: 2) Para establecer el valor del mercado se tomaron los valores de referencia
B18: 3) En el presente análisis se aplicó el procedimiento de aproximación generalmente aceptado por las reglas matemáticas denominado redondeo, que consiste en acercar los valores decimales al número entero más aproximado (a la baja, cuando el numero decimal sea menor a 5 o a la alta cuando el numero decimal sea igual o mayor a 5).
B20: Fecha de elaboración: 18/04/2023
B21: Estudio del Sector: No: 139

Sheet ANEXO 2
A1: ANEXO 2
C2: ANALISIS DE COSTOS HISTORICOS
C3: ADQUIRIR MATERIALES DE REFERENCIA CERTIFICADOS DE SUSTANCIAS SICOACTIVAS PARA LOS GRUPOS DE QUÍMICA DE LA FISCALÍA GENERAL DE LA NACIÓN.
A5: NECESIDAD | F5: FGN-NC-IPSE-0036-2022 | H5: 44743 | I5: 44986 | K5: FEAB-IOCA-0008-2021 | M5: 44287 | N5: 44986 | P5: ANALISIS DE COSTOS HISTORICOS
A6: ITEM | B6: DESCRIPCIÓN DEL MANTENIMIENTO | C6: UNIDAD | D6: CANTIDAD | F6: VALOR UNITARIO SIN IVA | H6: 1.2027 | I6: 1.3177 | K6: VALOR UNITARIO SIN IVA | M6: 1.0776 | N6: 1.3177 | P6: VALOR UNITARIO SIN IVA | Q6: IVA | R6: VALOR UNITARIO INCLUIDO IVA | S6: VALOR TOTAL INCLUIDO IVA
A7: 1 | B7: =+'ANEXO 1'!B7 -> Cocaína clorhidrato | C7: =+'ANEXO 1'!C7 -> Frasco x 100 mg | D7: =+'ANEXO 1'!D7 -> 8 | F7: 1900000 | H7: =ROUND($I$6/$H$6*F7,0) -> 2081675 | P7: =+H7 -> 2081675 | Q7: =+ROUND(P7*19%,0) -> 395518 | R7: =+Q7+P7 -> 2477193 | S7: =+R7*D7 -> 19817544
A8: 2 | B8: =+'ANEXO 1'!B8 -> (-)-DELTA 9-Tetrahidrocannabinol solución en etanol | C8: =+'ANEXO 1'!C8 -> Ampolla x 1 mg/mL | D8: =+'ANEXO 1'!D8 -> 18 | F8: 1448000 | H8: =ROUND($I$6/$H$6*F8,0) -> 1586455 | P8: =+H8 -> 1586455 | Q8: =+ROUND(P8*19%,0) -> 301426 | R8: =+Q8+P8 -> 1887881 | S8: =+R8*D8 -> 33981858
A9: 3 | B9: =+'ANEXO 1'!B9 -> Heroína clorhidrato | C9: =+'ANEXO 1'!C9 -> Frasco x 50 mg | D9: =+'ANEXO 1'!D9 -> 6 | F9: 2323000 | H9: =ROUND($I$6/$H$6*F9,0) -> 2545121 | P9: =+H9 -> 2545121 | Q9: =+ROUND(P9*19%,0) -> 483573 | R9: =+Q9+P9 -> 3028694 | S9: =+R9*D9 -> 18172164
A10: 4 | B10: =+'ANEXO 1'!B10 -> Cannabidiol | C10: =+'ANEXO 1'!C10 -> Frasco x 50 mg | D10: =+'ANEXO 1'!D10 -> 5 | F10: 1730000 | H10: =ROUND($I$6/$H$6*F10,0) -> 1895419 | P10: =+H10 -> 1895419 | Q10: =+ROUND(P10*19%,0) -> 360130 | R10: =+Q10+P10 -> 2255549 | S10: =+R10*D10 -> 11277745
A11: 5 | B11: =+'ANEXO 1'!B11 -> Cannabinol | C11: =+'ANEXO 1'!C11 -> Frasco x 50 mg | D11: =+'ANEXO 1'!D11 -> 4 | F11: 2300000 | H11: =ROUND($I$6/$H$6*F11,0) -> 2519922 | P11: =+H11 -> 2519922 | Q11: =+ROUND(P11*19%,0) -> 478785 | R11: =+Q11+P11 -> 2998707 | S11: =+R11*D11 -> 11994828
A12: 6 | B12: =+'ANEXO 1'!B12 -> (-)-DELTA 8-Tetrahidrocannabinol solución en etanol | C12: =+'ANEXO 1'!C12 -> Ampolla x 1 mg/mL | D12: =+'ANEXO 1'!D12 -> 3 | K12: 1301000 | M12: =ROUND($N$6/$M$6*K12,0) -> 1590876 | P12: =+M12 -> 1590876 | Q12: =+ROUND(P12*19%,0) -> 302266 | R12: =+Q12+P12 -> 1893142 | S12: =+R12*D12 -> 5679426
A13: TOTAL | S13: =SUM(S7:S12) -> 100923565
B15: NOTAS:
B16: 1) El índice refleja la evolución promedio de los precios de todos los artículos/insumos es decir, se refiere a un promedio tomado sobre la base de todos los productos ofrecidos en el mercado.
B17: 2) Para traer a valor presente los precios unitarios, se toma el índice de serie del mes vigente dividido por el índice de serie del mes y año en que fue efectuada la compra. Este resultado se multiplica por el precio de la misma.
B18: 3) En el presente análisis se aplicó el procedimiento de aproximación generalmente aceptado por las reglas matemáticas denominado redondeo, que consiste en acercar los valores decimales al número entero más aproximado (a la baja, cuando el numero decimal sea menor a 5 o a la alta cuando el numero decimal sea igual o mayor a 5).
B20: Fecha de elaboración: 18/04/2023
B21: Estudio del Sector: No: 139

Sheet ANEXO 3
A1: ANEXO 3
C2: ESTUDIO DEL SECTOR
C3: ADQUIRIR MATERIALES DE REFERENCIA CERTIFICADOS DE SUSTANCIAS SICOACTIVAS PARA LOS GRUPOS DE QUÍMICA DE LA FISCALÍA GENERAL DE LA NACIÓN.
A5: NECESIDAD | F5: ANALISIS DE COTIZACIONES | H5: ANALISIS DE COSTOS HISTORICOS | J5: ESTUDIO DEL SECTOR
A6: ITEM | B6: DESCRIPCIÓN DEL MANTENIMIENTO | C6: UNIDAD | D6: CANTIDAD | F6: VALOR UNITARIO SIN IVA | H6: VALOR UNITARIO SIN IVA | J6: VALOR UNITARIO SIN IVA | K6: IVA | L6: VALOR UNITARIO INCLUIDO IVA | M6: VALOR TOTAL INCLUIDO IVA
A7: 1 | B7: =+'ANEXO 1'!B7 -> Cocaína clorhidrato | C7: =+'ANEXO 1'!C7 -> Frasco x 100 mg | D7: =+'ANEXO 1'!D7 -> 8 | F7: =+'ANEXO 1'!V7 -> 2450000 | H7: =+'ANEXO 2'!P7 -> 2081675 | J7: =+ROUND(AVERAGE(F7,H7),0) -> 2265838 | K7: =+ROUND(J7*19%,0) -> 430509 | L7: =+K7+J7 -> 2696347 | M7: =+L7*D7 -> 21570776
A8: 2 | B8: =+'ANEXO 1'!B8 -> (-)-DELTA 9-Tetrahidrocannabinol solución en etanol | C8: =+'ANEXO 1'!C8 -> Ampolla x 1 mg/mL | D8: =+'ANEXO 1'!D8 -> 18 | F8: =+'ANEXO 1'!V8 -> 1620000 | H8: =+'ANEXO 2'!P8 -> 1586455 | J8: =+ROUND(AVERAGE(F8,H8),0) -> 1603228 | K8: =+ROUND(J8*19%,0) -> 304613 | L8: =+K8+J8 -> 1907841 | M8: =+L8*D8 -> 34341138
A9: 3 | B9: =+'ANEXO 1'!B9 -> Heroína clorhidrato | C9: =+'ANEXO 1'!C9 -> Frasco x 50 mg | D9: =+'ANEXO 1'!D9 -> 6 | F9: =+'ANEXO 1'!V9 -> 2500000 | H9: =+'ANEXO 2'!P9 -> 2545121 | J9: =+F9 -> 2500000 | K9: =+ROUND(J9*19%,0) -> 475000 | L9: =+K9+J9 -> 2975000 | M9: =+L9*D9 -> 17850000
A10: 4 | B10: =+'ANEXO 1'!B10 -> Cannabidiol | C10: =+'ANEXO 1'!C10 -> Frasco x 50 mg | D10: =+'ANEXO 1'!D10 -> 5 | F10: =+'ANEXO 1'!V10 -> 1850000 | H10: =+'ANEXO 2'!P10 -> 1895419 | J10: =+F10 -> 1850000 | K10: =+ROUND(J10*19%,0) -> 351500 | L10: =+K10+J10 -> 2201500 | M10: =+L10*D10 -> 11007500
A11: 5 | B11: =+'ANEXO 1'!B11 -> Cannabinol | C11: =+'ANEXO 1'!C11 -> Frasco x 50 mg | D11: =+'ANEXO 1'!D11 -> 4 | F11: =+'ANEXO 1'!V11 -> 2700000 | H11: =+'ANEXO 2'!P11 -> 2519922 | J11: =+ROUND(AVERAGE(F11,H11),0) -> 2609961 | K11: =+ROUND(J11*19%,0) -> 495893 | L11: =+K11+J11 -> 3105854 | M11: =+L11*D11 -> 12423416
A12: 6 | B12: =+'ANEXO 1'!B12 -> (-)-DELTA 8-Tetrahidrocannabinol solución en etanol | C12: =+'ANEXO 1'!C12 -> Ampolla x 1 mg/mL | D12: =+'ANEXO 1'!D12 -> 3 | F12: =+'ANEXO 1'!V12 -> 1380000 | H12: =+'ANEXO 2'!P12 -> 1590876 | J12: =+F12 -> 1380000 | K12: =+ROUND(J12*19%,0) -> 262200 | L12: =+K12+J12 -> 1642200 | M12: =+L12*D12 -> 4926600
A13: TOTAL | M13: =SUM(M7:M12) -> 102119430
B15: NOTAS:
B16: 1) Para los ítems 3; 4 y 6, se establecieron los valores unitarios del análisis de cotizaciones.
B17: 2) Para los ítems 1; 2 y 5, se establecieron los valores unitarios del promedio entre análisis de cotizaciones y análisis de costos históricos
B18: 3) En el presente análisis se aplicó el procedimiento de aproximación generalmente aceptado por las reglas matemáticas denominado redondeo, que consiste en acercar los valores decimales al número entero más aproximado (a la baja, cuando el numero decimal sea menor a 5 o a la alta cuando el numero decimal sea igual o mayor a 5).
B20: Fecha de elaboración: 18/04/2023
B21: Estudio del Sector: No: 139
