Workbook

Sheet colombia compra
F1: MATRIZ DE IDENTIFICACIÓN, VALORACIÓN Y ASIGNACIÓN DE RIESGOS UNIDAD PARA LAS VÍCTIMAS
B7: Clase del Riesgo | C7: Descripción | F7: Etapa del proceso | G7: Desde | H7: Hasta | I7: Descrición | N7: Tipo de riesgo | O7: Descripción
B8: General | C8: Es un Riesgo de todos los Procesos de Contratación adelantados por la Entidad Estatal, por lo cual está presente en toda su actividad contractual. | F8: Planeación | G8: Plan anual de adquisición | H8: Acto de Apertura del Proceso de Contratación | I8: Durante esta estapa, la Entidad elabora los estudios previos y el proyecto de pliegos de condiciones o sus equivalentes. Dentro de las preguntas que la Entidad Estatal debe hacerse para identificar los Riesgos de la etapa de planeación se encuentran las siguientes: (i) La modalidad de contratación es adecuada para el bien servicio u obra necesitado. (ii) Los requisitos habilitantes son los apropiados para el Proceso de Contratación y es posible encontrar proponentes que los cumplan incluyendo los Riesgos relacionados con la habilidad para determinar requisitos habilitantes consistentes con el Proceso de Contratación y con el sector económico en el que actúan los posibles oferentes. (iii) El valor del contrato corresponde a los precios del mercado. (iv) La descripción del bien o servicio requerido es claro. (v) El Proceso de Contratación cuenta con las condiciones que garanticen la transparencia, equidad y competencia entre los proponentes. (vi) El estudio de mercado permite identificar los aspectos de oferta y demanda del mercado respectivo. (vii) El diseño del Proceso de Contratación permite satisfacer las necesidades de la Entidad Estatal, cumplir su misión y si es coherente con el cumplimiento de sus objetivos y metas. | N8: Riesgos Económicos: | O8: Son los derivados del comportamiento del mercado, tales como la fluctuación de los precios de los insumos, desabastecimiento y especulación de los mismos, entre otros.
B9: Específico | C9: Es un Riesgo propio del Proceso de Contratación objeto de análisis. | N9: Riesgos Sociales o Políticos | O9: Son los derivados de los cambios de las políticas gubernamentales y de cambios en las condiciones sociales que tengan impacto en la ejecución del contrato.
N10: Riesgos Operacionales | O10: Son los asociados a la operatividad del contrato, tales como la suficiencia del presupuesto oficial, del plazo o los derivados de procesos, procedimientos, parámetros, sistemas de información y tecnológicos, equipos humanos o técnicos inadecuados o insuficientes.
B11: Fuente del Riesgo | C11: Descripción | F11: Selección | G11: Acto de Apertura del Proceso de Contratación | H11: Adjudicación o la declaración de desierto del Proceso de Contratación | I11: En la etapa de selección la Entidad Estatal selecciona al contratista. En esta etapa los Riesgos frecuentes son los siguientes: (i) Falta de capacidad de la Entidad Estatal para promover y adelantar la selección del contratista, incluyendo el riesgo de seleccionar aquellos que no cumplan con la totalidad de los requisitos habilitantes o se encuentren incursos en alguna inhabilidad o incompatibilidad. (ii) Riesgo de colusión. (iii) Riesgo de ofertas artificialmente bajas. | N11: Riesgos Financieros: | O11: Son (i) el riesgo de consecución de financiación o riesgo de liquidez para obtener recursos para cumplir con el objeto del contrato, y (ii) el riesgo de las condiciones financieras establecidas para la obtención de los recursos, tales como plazos, tasas, garantías, contragarantías, y refinanciaciones, entre otros.
B12: Interno | C12: Es un Riesgo asociado a la operación, capacidad, o situación particular de la Entidad Estatal (reputacional, tecnológico). | F12: Contratación | G12: Adjudicación del contrato objeto del proceso de contratación | H12: Perfeccionamiento | I12: En esta etapa los Riesgos frecuentes son los siguientes: (i) Riesgo de que no se firme el contrato. (ii) Riesgo de que no se presenten las garantías requeridas en los Documentos del Proceso de Contratación o que su presentación sea tardía. (iii) Riesgos asociados al incumplimiento de la publicación o el registro presupuestal del contrato. (iv) Riesgos asociados a los reclamos de terceros sobre la selección del oferente que retrasen el perfeccionamiento del contrato. | N12: Riesgos Regulatorios | O12: Derivados de cambios regulatorios o reglamentarios que afecten la ecuación económica del contrato.
B13: Externo | C13: Es un Riesgo del sector del objeto del Proceso de Contratación, o asociado a asuntos no referidos a la Entidad Estatal (desastres económicos, existencia de monopolios, circunstancias electorales). | F13: Ejecución | G13: Perfeccionamiento | H13: Vencimiento del plazo o acta de liquidación | I13: Esta etapa puede extenderse cuando hay lugar a garantías de calidad, estabilidad y mantenimiento, o a condiciones de disposición final o recuperación ambiental de las obras o bienes. En esta etapa se cumplen con las obligaciones previstas en el contrato, permitiendo el logro del objeto del Proceso de Contratación; en consecuencia los Riesgos frecuentes son los asociados al cumplimiento del contrato y el logro del objeto propuesto, el rompimiento del equilibrio económico del contrato, los asociados a la liquidación y terminación del contrato y aquellos relacionados con el incumplimiento de la normativa posconsumo. | N13: Riesgos de la Naturaleza: | O13: Son los eventos naturales previsibles en los cuales no hay intervención humana que puedan tener impacto en la ejecución del contrato, por ejemplo los temblores, inundaciones, lluvias, sequías, entre otros.
N14: Riesgos Ambientales: | O14: Son los derivados de las obligaciones legales o reglamentarias de carácter ambiental, así como de las licencias, planes de manejo o de permisos y autorizaciones ambientales, incluyendo tasas retributivas y compensatorias, obligaciones de mitigación, tareas de monitoreo y control, entre otras.
N16: Riesgos Tecnológicos: | O16: Son los derivados de fallas en los sistemas de comunicación de voz y de datos, suspensión de servicios públicos, nuevos desarrollos tecnológicos o estándares que deben ser tenidos en cuenta para la ejecución del contrato, obsolescencia tecnológica
C18: Probabilidad del Riesgo | F18: Impacto del riesgo | O18: Impacto
C19: Categoría | D19: Valoración | F19: Impacto | O19: Clasificación Cualitativa | Q19: Obstruye la ejecución del contrato de manera intrascendente. | R19: Dificulta la ejecución del contrato de manera baja. Aplicando medidas mínimas se puede lograr el objeto contractual. | S19: Afecta la ejecución del contrato sin alterar el beneficio de las partes. | T19: Obstruye la ejecución del contrato sustancialmente per aun así permite la consecución del objeto contractual. | U19: Perturba la ejecución del contrato de manera grave imposibilitando la consecución del objeto contractual.
B20: Probabilidad | C20: Raro (puede ocurrir excepcionalmente) | D20: 1 | F20: Clasificación Cualitativa | H20: Obstruye la ejecución del contrato de manera intrascendente. | I20: Dificulta la ejecución del contrato de manera baja. Aplicando medidas mínimas se puede lograr el objeto contractual. | J20: Afecta la ejecución del contrato sin alterar el beneficio de las partes. | K20: Obstruye la ejecución del contrato sustancialmente per aun así permite la consecución del objeto contractual. | L20: Perturba la ejecución del contrato de manera grave imposibilitando la consecución del objeto contractual. | O20: Clasificación Monetaria | Q20: Los sobrecostos no representan mpas del uno por ciento (1%) del valor del contrato. | R20: Los sobrecostos no representan más del cinco por ciento (5%) del valor del contrato. | S20: Genera un impacto sobre el valor del contrato entre el cinco (5%) y el quince por ciento (15%). | T20: Incrementa el valor del contrato entre el quince (15%) y el treinta por ciento (30%). | U20: Impacto sobre el valor del contrato de más del treinta por ciento (30%).
C21: Improbable (puede ocurrir ocasionalmente) | D21: 2 | F21: Clasificación Monetaria | H21: Los sobrecostos no representan mpas del uno por ciento (1%) del valor del contrato. | I21: Los sobrecostos no representan más del cinco por ciento (5%) del valor del contrato. | J21: Genera un impacto sobre el valor del contrato entre el cinco (5%) y el quince por ciento (15%). | K21: Incrementa el valor del contrato entre el quince (15%) y el treinta por ciento (30%). | L21: Impacto sobre el valor del contrato de más del treinta por ciento (30%). | O21: Categoría | P21: Valoración | Q21: Insignificante | R21: Menor | S21: Moderado | T21: Mayor | U21: Catastrófico
C22: Posible (puede ocurrir en cualquier momento futuro) | D22: 3 | F22: Categoría | G22: Valoración | H22: Insignificante | I22: Menor | J22: Moderado | K22: Mayor | L22: Catastrófico | Q22: 1 | R22: 2 | S22: 3 | T22: 4 | U22: 5
C23: Probable (probablemente va a ocurrir) | D23: 4 | H23: 1 | I23: 2 | J23: 3 | K23: 4 | L23: 5 | N23: Probabilidad | O23: Raro (puede ocurrir excepcionalmente) | P23: 1 | Q23: 2 | R23: 3 | S23: 4 | T23: 5 | U23: 6
C24: Casi cierto (ocurre en la mayoría de circunstancias) | D24: 5 | O24: Improbable (puede ocurrir ocasionalmente) | P24: 2 | Q24: 3 | R24: 4 | S24: 5 | T24: 6 | U24: 7
O25: Posible (puede ocurrir en cualquier momento futuro) | P25: 3 | Q25: 4 | R25: 5 | S25: 6 | T25: 7 | U25: 8
B26: Fuente: Agencia Nacional para la Contratación Pública – Colombia Compra Eficiente, http://www.colombiacompra.gov.co/es/manuales-y-documentos-tipo | O26: Probable (probablemente va a ocurrir) | P26: 4 | Q26: 5 | R26: 6 | S26: 7 | T26: 8 | U26: 9
O27: Casi cierto (ocurre en la mayoría de circunstancias) | P27: 5 | Q27: 6 | R27: 7 | S27: 8 | T27: 9 | U27: 10

Sheet Tipos de Riesgo
B2: TIPOS DE RIESGO
B3: Económicos | C3: Riesgos Económicos: son los derivados del comportamiento del mercado, tales como la fluctuación de los precios de los insumos, desabastecimiento y especulación de los mismos, entre otros.
B4: Sociales | C4: Riesgos Sociales o Políticos: son los derivados de los cambios de las políticas gubernamentales y decambios en las condiciones sociales que tengan impacto en la ejecución del contrato.
B5: Operacionales | C5: Riesgos Operacionales: son los asociados a la operatividad del contrato, tales como la suficiencia del presupuesto oficial, del plazo o los derivados de procesos, procedimientos, parámetros, sistemas de información y tecnológicos, equipos humanos o técnicos inadecuados o insuficientes.
B6: Financieros | C6: Riesgos Financieros: son (i) el riesgo de consecución de financiación o riesgo de liquidez para obtener recursos para cumplir con el objeto del contrato, y (ii) el riesgo de las condiciones financieras establecidas para la obtención de los recursos, tales como plazos, tasas, garantías, contragarantías, y refinanciaciones, entre otros.
B7: Regulatorio | C7: Riesgos Regulatorios: derivados de cambios regulatorios o reglamentarios que afecten la ecuación económica del contrato.
B8: De la Naturaleza | C8: Riesgos de la Naturaleza: son los eventos naturales previsibles en los cuales no hay intervención humana que puedan tener impacto en la ejecución del contrato, por ejemplo los temblores, inundaciones, lluvias, sequías, entre otros.
B9: Ambientales | C9: Riesgos Ambientales: son los derivados de las obligaciones legales o reglamentarias de carácter ambiental, así como de la control, entre otras.s licencias, planes de manejo o de permisos y autorizaciones ambientales, incluyendo tasas retributivas y compensatorias, obligaciones de mitigación, tareas de monitoreo y
B10: Tecnológicos | C10: Riesgos Tecnológicos: son los derivados de fallas en los sistemas de comunicación de voz y de datos, suspensión de servicios públicos, nuevos desarrollos tecnológicos o estándares que deben ser tenidos en cuenta para la ejecución del contrato, obsolescencia tecnológica.
A15: PROBABILIDAD DEL RIESGO
A17: PROBABILIDAD | B17: VALORACION | C17: TIPO | D17: Probabilidad
B18: 1 | C18: Raro | D18: Puede ocurrir excepcionalmente
B19: 2 | C19: Improbable | D19: Puede ocurrir ocacionalmente
B20: 3 | C20: Posible | D20: Puede ocurrir en cualquier momento futuro
B21: 4 | C21: Probable | D21: Probablemente va a ocurrir
B22: 5 | C22: Casi cierto | D22: Ocurre en la mayoria de las circunstancias
A26: IMPACTO DEL RIESGO
A28: IMPACTO | B28: VALORACION | C28: TIPO | E28: Calificacion Cualitativa | G28: Obstruye la ejecucion del contrato de manera intracendente | H28: Dificulta la ejecucion del contrato de manera baja. Aplicando medidas minimas se puede lograr el objeto contractual | I28: Dificulta la ejecucion del contrato sin alterar el beneficio para las partes. | J28: Obstruye la ejecucion del contrato sustancialmente, pero aun asi permite la concecucion del objeto contractual. | K28: Perturba la ejecucion del contrato de manera grave imposibilitando la concecucion del objeto contractual.
B29: 1 | C29: Insignificante
B30: 2 | C30: Menor
B31: 3 | C31: Moderado | E31: Calificacion Cuantitativa | G31: Los sobrecostos no representan mas del (1%) del valor del contrato | H31: Los sobrecostos no representan mas del (5%) del valor del contrato | I31: Genera un Impacto sobre el valor del contrato entre el (5%) y el (15%). | J31: Incrementa el valor del contrato entre el (15%) y el (30%). | K31: Impacto sobre el valor del contrato en mas de un (30%).
B32: 4 | C32: Mayor
B33: 5 | C33: Catastrófico
E34: Categoria | F34: Valoracion | G34: Insignificante | H34: Menor | I34: Moderado | J34: Mayor | K34: Catastrofico
G35: 1 | H35: 2 | I35: 3 | J35: 4 | K35: 5
A38: CATEGORIAS DEL RIESGO
A40: CATEGORIA | B40: VALORACION | C40: TIPO | E40: Valoracion del Riesgo | F40: Categoria
B41: 2 | C41: Riesgo Bajo | E41: 8,9,y 10 | F41: Riesgo Extremo
B42: 3 | C42: Riesgo Bajo | E42: 6 y 7 | F42: Riesgo Alto
B43: 4 | C43: Riesgo Bajo | E43: 5 | F43: Riesgo Medio
B44: 5 | C44: Riesgo Medio | E44: 2,3, y 4 | F44: Riesgo Bajo
B45: 6 | C45: Riesgo Alto
B46: 7 | C46: Riesgo Alto
B47: 8 | C47: Riesgo Extremo
B48: 9 | C48: Riesgo Extremo
B49: 10 | C49: Riesgo Extremo
A51: Periodicidad: Tiempo en el cual se realiza el seguimiento y control a materialización de riesgos: Mensual
B53: ETAPAS
B54: Planeación
B55: Selección
...

Sheet Matriz de Riesgos
A5: MATRIZ DE IDENTIFICACION Y DISTRIBUCION DE RIESGOS
A6: O8+A2:O11+A2:A2:U15+A2:O11
A7: CONTRATO DE DILIGENCIAR EL TIPO DE CONTRATO: PRESTACION DE SERVICIOS, COMPRA, SUMINISTRO, COMODATO, ARRENDAMIENTO…
A8: OBJETO: | F8: COLOCAR EL OBJETO DEL CONTRATO
F10: Valor del Contrato: | H10: Probabilidad | J10: Impacto | L10: Categoria | P10: Impacto después de tratamiento | T10: ¿Afecta la ejecución del Contrato? | U10: Persona responsable por implementar el tratamiento | V10: Fecha estimada inicio tratamiento | W10: Fecha estimada completa tratamiento | X10: Monitoreo y Revisión
A11: No. | B11: Clase | C11: Fuente | D11: Etapa | E11: Tipo | F11: Descripción | G11: Consecuencia de la ocurrencia | H11: Categoría | I11: Valoración | J11: Categoría | K11: Valoración | L11: Categoría del Riesgo | M11: Valoración del Riesgo | N11: ¿A quién se asigna? | O11: Tratamiento/Controles | P11: Probabilidad | Q11: Impacto | R11: Valoración del Riesgo | S11: Categoría | X11: Como se realiza el monitoreo? | Y11: Periodicidad ¿Cuando?
A12: 1 | B12: General | C12: Interno | D12: Planeación | E12: Operacional | I12: 2 | J12: =VLOOKUP(K12,'Tipos de Riesgo'!$B$29:$C$33,2,FALSE) -> Menor | K12: 2 | M12: =+K12+I12 -> 4 | P12: 0 | Q12: 0 | R12: =+P12+Q12 -> 0
A13: 2 | B13: General | C13: Interno | D13: Planeación | E13: Operacional | H13: Improbable | I13: 0 | J13: =VLOOKUP(K13,'Tipos de Riesgo'!$B$29:$C$33,2,FALSE) -> #N/A | K13: 0 | M13: =+I13+K13 -> 0 | P13: 0 | Q13: 0 | R13: =+P13+Q13 -> 0
A14: 3 | B14: General | C14: Externo | D14: Contratación | E14: Operacional | H14: Probable | I14: 0 | J14: =VLOOKUP(K14,'Tipos de Riesgo'!$B$29:$C$33,2,FALSE) -> #N/A | K14: 0 | M14: =+I14+K14 -> 0 | P14: 0 | Q14: 0 | R14: 3
A15: 4 | B15: General | C15: Interno | D15: Contratación | E15: Operacionales | H15: =VLOOKUP(I15,'Tipos de Riesgo'!$B$18:$C$22,2,FALSE) -> #N/A | I15: 0 | J15: =VLOOKUP(K15,'Tipos de Riesgo'!$B$29:$C$33,2,FALSE) -> #N/A | K15: 0 | M15: =+I15+K15 -> 0 | P15: 0 | Q15: 0 | R15: 3
A16: 5 | B16: General | C16: Interno | D16: Ejecución | E16: Operacionales | H16: =VLOOKUP(I16,'Tipos de Riesgo'!$B$18:$C$22,2,FALSE) -> #N/A | I16: 0 | J16: =VLOOKUP(K16,'Tipos de Riesgo'!$B$29:$C$33,2,FALSE) -> #N/A | K16: 0 | M16: =+I16+K16 -> 0 | P16: 0 | Q16: 0 | R16: =+P16+Q16 -> 0
A17: 6 | B17: General | C17: Interno | D17: Ejecución | E17: Operacional | H17: =VLOOKUP(I17,'Tipos de Riesgo'!$B$18:$C$22,2,FALSE) -> #N/A | I17: 0 | J17: =VLOOKUP(K17,'Tipos de Riesgo'!$B$29:$C$33,2,FALSE) -> #N/A | K17: 0 | M17: =+I17+K17 -> 0 | P17: 0 | Q17: 0 | R17: =+P17+Q17 -> 0
A18: 7 | B18: General | C18: Externo | D18: Ejecución | E18: Operacional | H18: =VLOOKUP(I18,'Tipos de Riesgo'!$B$18:$C$22,2,FALSE) -> #N/A | I18: 0 | J18: =VLOOKUP(K18,'Tipos de Riesgo'!$B$29:$C$33,2,FALSE) -> #N/A | K18: 0 | M18: =+I18+K18 -> 0 | P18: 0 | Q18: 0 | R18: =+P18+Q18 -> 0
A19: 8 | B19: General | C19: Externo | D19: Ejecución | E19: Regulatorio | H19: =VLOOKUP(I19,'Tipos de Riesgo'!$B$18:$C$22,2,FALSE) -> #N/A | I19: 0 | J19: =VLOOKUP(K19,'Tipos de Riesgo'!$B$29:$C$33,2,FALSE) -> #N/A | K19: 0 | M19: =+I19+K19 -> 0 | P19: 0 | Q19: 0 | R19: =+P19+Q19 -> 0
A20: 9 | B20: Especifico | C20: Externo | D20: Ejecución | E20: Operacional | H20: =VLOOKUP(I20,'Tipos de Riesgo'!$B$18:$C$22,2,FALSE) -> #N/A | I20: 0 | J20: =VLOOKUP(K20,'Tipos de Riesgo'!$B$29:$C$33,2,FALSE) -> #N/A | K20: 0 | M20: =+I20+K20 -> 0 | P20: 0 | Q20: 0 | R20: =+P20+Q20 -> 0
R21: 7

Sheet RIESGOS GENERALES
A1: MATRIZ DE IDENTIFICACION Y DISTRIBUCION DE RIESGOS
A3: L TIPO DE CONTRATO: PRESTACION DE SERVICIOS
A4: OBJETO: | F4: Actualizar el diseño de la Arquitectura Empresarial y el Plan Estratégico de Tecnologías de la Información (PETI) para la gestión de las Tecnologías de la Información de la Unidad Para la Atención y Reparación Integral a las Victimas, para el horizonte 2019 – 2021, bajo los estándares y lineamientos definidos, establecidos y adoptados en el Marco de Referencia de la Arquitectura Empresarial para la Gestión de TI (MRAE) de la Política de Gobierno Digital.
A7: No. | B7: Clase | C7: Fuente | D7: tds | E7: Tipo | F7: Descripción | G7: Consecuencia de la ocurrencia | H7: Probabilidad | J7: Impacto | L7: Categoria | N7: ¿A quién se asigna? | O7: Tratamiento/Controles | P7: Impacto después de tratamiento | T7: ¿Afecta la ejecución del Contrato? | U7: Persona responsable por implementar el tratamiento | V7: Fecha estimada inicio tratamiento | W7: Fecha estimada completa tratamiento | X7: Monitoreo y Revisión
H8: Categoría | I8: Valoración | J8: Categoría | K8: Valoración | L8: Categoría | M8: Valoración | P8: Probabilidad | Q8: Impacto | R8: Valoración del Riesgo | S8: Categoría | X8: Como se realiza el monitoreo? | Y8: Periodicidad ¿Cuando?
A9: 1 | B9: General | C9: Interno | D9: Planeación | E9: Operacional | F9: La definición de la necesidad y el objeto establecido en el estudio previo, no se ajusta a la modalidad de selección aplicable. | G9: No se pueda adelantar el proceso contractual por no ajustarse a la modalidad de selección, retrasos en la satisfacción de la necesidad | H9: =VLOOKUP(I9,'Tipos de Riesgo'!$B$18:$C$22,2,FALSE) -> Improbable | I9: 2 | J9: =VLOOKUP(K9,'Tipos de Riesgo'!$B$29:$C$33,2,FALSE) -> Menor | K9: 2 | L9: =VLOOKUP(M9,'Tipos de Riesgo'!$B$41:$C$49,2,FALSE) -> Riesgo Bajo | M9: =+K9+I9 -> 4 | N9: Entidad | O9: Revisión y apoyo jurídico a las Dependencias que solicitan la contratación, aclarando los requisitos y la aplicabilidad de cada una de las modalidades de selección, de conformidad con los lienamientos legales establecidos. | P9: 1 | Q9: 1 | R9: =+P9+Q9 -> 2 | S9: =VLOOKUP(R9,'Tipos de Riesgo'!$B$41:$C$49,2,FALSE) -> Riesgo Bajo | T9: Eventualmente | U9: Dependencia que establece la necesidad Grupo de Gestion Contractual | V9: Inicio etapa precontractual | W9: Finalización etapa precontractual | X9: Registro en la lista de verificación | Y9: Finalizada la etapa de planeación
A10: 2 | B10: General | C10: Interno | D10: Planeación | E10: Operacional | F10: El presupuesto planificado no corresponde al valor real de la prestación a realizar. | G10: Imposibilidad para que se presenten oferentes y puede generarse la declaratoria de desierta del proceso. | H10: =VLOOKUP(I10,'Tipos de Riesgo'!$B$18:$C$22,2,FALSE) -> Posible | I10: 3 | J10: =VLOOKUP(K10,'Tipos de Riesgo'!$B$29:$C$33,2,FALSE) -> Mayor | K10: 4 | L10: =VLOOKUP(M10,'Tipos de Riesgo'!$B$41:$C$49,2,FALSE) -> Riesgo Alto | M10: =+I10+K10 -> 7 | N10: Entidad | O10: Se debe efectuar Analisis del Sector y estudio de Mercado, conforme al objeto a contratar, aplicando las variables que correspondan, que permita establecer de manera real el valor de la solución a entregar. (# 4 art 2,2,1,1,2,1,1 D. 1082/15) Tener en cuenta los lienamientos que para el efecto establezca Colombia Compra Eficiente | P10: 1 | Q10: 1 | R10: =+P10+Q10 -> 2 | S10: =VLOOKUP(R10,'Tipos de Riesgo'!$B$41:$C$49,2,FALSE) -> Riesgo Bajo | T10: Eventualmente | U10: Área Técnica que genera la necesidad | V10: Inicio etapa precontractual | W10: Hasta la ejecución | X10: Registro en la lista de verificación | Y10: Finalizada la etapa de planeación
A11: 3 | B11: General | C11: Externo | D11: Contratación | E11: Operacional | F11: El contratista seleccionado no firma el contrato en el plazo establecido y/o se retrasa en la constitución y presentación de las garantías que amparan el cumplimiento del contrato, incluyendo adiciones y prorrogas | G11: Retraso en el inicio y ejecución del contrato y afectación en el logro de los objetivos y satisfacción de la necesidad propuesta. Las garantías no tengan la vigencia requerida por la norma | H11: Probable | I11: 4 | J11: =VLOOKUP(K11,'Tipos de Riesgo'!$B$29:$C$33,2,FALSE) -> Moderado | K11: 3 | L11: =VLOOKUP(M11,'Tipos de Riesgo'!$B$41:$C$49,2,FALSE) -> Riesgo Alto | M11: =+I11+K11 -> 7 | N11: Contratista | O11: Se establecen plazos perentorios para la ejecución del contrato (5 días hábiles siguientes a la firma del contrato, prorrogas y/o adiciones), de no allegarse dentro del término se requerirá al contratista. Se requerirá para el pago de las cuentas el Vb del Supervisor de contar con la aprobación de garantias. | P11: 1 | Q11: 2 | R11: 3 | S11: =VLOOKUP(R11,'Tipos de Riesgo'!$B$41:$C$49,2,FALSE) -> Riesgo Bajo | T11: Genera retrasos | U11: Dependencia que genera la necesidad. Grupo de Gestion Contractual | V11: Inicio etapa precontractual | W11: Finalización Ejecución y Términación | X11: Registro en la lista de verificación | Y11: Finalizada la Etapa de Ejecución y Términación.
A12: 4 | B12: General | C12: Interno | D12: Contratación | E12: Operacionales | F12: La imposibilidad de dar inicio a la ejecución del contrato por falta de interventoría y/o supervisión. | G12: El retraso en la ejecución del objeto contratado, pudiendo generar retrasos, modificaciones contractuales y variación del valor del contrato. | H12: =VLOOKUP(I12,'Tipos de Riesgo'!$B$18:$C$22,2,FALSE) -> Posible | I12: 3 | J12: =VLOOKUP(K12,'Tipos de Riesgo'!$B$29:$C$33,2,FALSE) -> Mayor | K12: 4 | L12: =VLOOKUP(M12,'Tipos de Riesgo'!$B$41:$C$49,2,FALSE) -> Riesgo Alto | M12: =+I12+K12 -> 7 | N12: Entidad | O12: Una vez establecidad la necesidad se debe Planear y establecer que los términos para la selección e inicio de los contratos coincidan. (Interventoria) (art. 2.2.1.1.1.4.1 D. 1082/15) Realizar la designación y comunicación del Supervisor (Art. 83 Ley 1474/11) | P12: 1 | Q12: 2 | R12: 3 | S12: =VLOOKUP(R12,'Tipos de Riesgo'!$B$41:$C$49,2,FALSE) -> Riesgo Bajo | T12: Genera retrasos | U12: Dependencia que establece la necesidad Oficina Asesora Juridica | V12: Inicio etapa precontractual | W12: Finalización etapa contractual | X12: Registro en la lista de verificación | Y12: Finalizada la etapa de contratación
A13: 5 | B13: General | C13: Interno | D13: Ejecución | E13: Operacionales | F13: Errores involuntarios que hayan quedado en los estudios previos, pliegos de condiciones, frente a unidades, cantidades, especificaciones, productos, servicios, descripción del proyecto, operaciones aritméticas, etc. | G13: Afectación en la ejecución del contrato, pudiéndose generar modificaciones, prorrogas y/o adiciones. | H13: =VLOOKUP(I13,'Tipos de Riesgo'!$B$18:$C$22,2,FALSE) -> Posible | I13: 3 | J13: =VLOOKUP(K13,'Tipos de Riesgo'!$B$29:$C$33,2,FALSE) -> Moderado | K13: 3 | L13: =VLOOKUP(M13,'Tipos de Riesgo'!$B$41:$C$49,2,FALSE) -> Riesgo Alto | M13: =+I13+K13 -> 6 | N13: Entidad | O13: Verificar desde los Estudios Previos que se determinen de manera clara las unidades, cantidades, especificaciones, productos, servicios, operaciones aritmeticas y estas coincidan en todos aquellos documentos que se suscriban. | P13: 1 | Q13: 2 | R13: =+P13+Q13 -> 3 | S13: =VLOOKUP(R13,'Tipos de Riesgo'!$B$41:$C$49,2,FALSE) -> Riesgo Bajo | T13: Eventualmente | U13: Dependencia que establece la necesidad Oficina Asesora Juridica Supervisor y/o interventor | V13: Inicio etapa precontractual | W13: Finalización etapa de ejecución | X13: Registro en la lista de verificación | Y13: Finalizada la etapa de ejecución
A14: 6 | B14: General | C14: Interno | D14: Ejecución | E14: Operacional | F14: Demoras por parte de la Entidad en las aprobaciones previas de los productos y/o servicios desarrollados por el contratista. | G14: Afecta el cumplimiento de las obligaciones del contratante a cargo del Supervisor del contrato, relacionadas con la aprobación de productos y/o informes. Puede generar afectación en los tiempos de ejecución. | H14: =VLOOKUP(I14,'Tipos de Riesgo'!$B$18:$C$22,2,FALSE) -> Posible | I14: 3 | J14: =VLOOKUP(K14,'Tipos de Riesgo'!$B$29:$C$33,2,FALSE) -> Moderado | K14: 3 | L14: =VLOOKUP(M14,'Tipos de Riesgo'!$B$41:$C$49,2,FALSE) -> Riesgo Alto | M14: =+I14+K14 -> 6 | N14: Entidad | O14: Revisión y aprobación oportuna de la documentación inherente a los productos e informes del contrato. | P14: 2 | Q14: 2 | R14: =+P14+Q14 -> 4 | S14: =VLOOKUP(R14,'Tipos de Riesgo'!$B$41:$C$49,2,FALSE) -> Riesgo Bajo | T14: Eventualmente | U14: Supervisor y/o Interventor del contrato | V14: Ejecución contractual | W14: Finalización etapa ejecución | X14: Registro en la lista de verificación | Y14: Finalizada la etapa de ejecución
A15: 7 | B15: General | C15: Externo | D15: Ejecución | E15: Operacional | F15: Ocurre cuando se presentan retrasos en la entrega de los informes y/o productos a cargo del contratista por causas inherentes a las actividades pactadas en la ejecución del contrato | G15: Afectación de la ejecución del contrato, insatisfacción de la necesidad y, posible incumplimiento de las obligaciones y actividades pactadas en el contrato. | H15: =VLOOKUP(I15,'Tipos de Riesgo'!$B$18:$C$22,2,FALSE) -> Posible | I15: 3 | J15: =VLOOKUP(K15,'Tipos de Riesgo'!$B$29:$C$33,2,FALSE) -> Mayor | K15: 4 | L15: =VLOOKUP(M15,'Tipos de Riesgo'!$B$41:$C$49,2,FALSE) -> Riesgo Alto | M15: =+I15+K15 -> 7 | N15: Entidad y contratista | O15: Realizar seguimiento continuo a la ejecución del contrato y de evidenciar un presunto incumplimiento y/o demoras se dará aplicación a los procedimientos, clausualas excepcionales, caducidad, sanciones y multas conforme lo establece la norma, atendiendo a los derechos de la Entidad. (art. 84, 85, 86 L 1474/11) | P15: 2 | Q15: 3 | R15: =+P15+Q15 -> 5 | S15: =VLOOKUP(R15,'Tipos de Riesgo'!$B$41:$C$49,2,FALSE) -> Riesgo Medio | T15: Eventualmente | U15: Contratista Supervisor y/o Interventor del contrato | V15: Ejecución contractual | W15: Finalización etapa ejecución y terminación | X15: Registro en la lista de verificación | Y15: Finalizada la etapa de ejecución y terminación
A16: 8 | B16: General | C16: Externo | D16: Ejecución | E16: Regulatorio | F16: Expedición de normas que impongan nuevos tributos, impuestos o cargas parafiscales, que pueden afectar el equilibrio económico del contrato. | G16: Genera una carga adicional a las previstas, que puede afectar a cualquiera o a las dos partes del contrato y generar desequilibrio contractual. | H16: =VLOOKUP(I16,'Tipos de Riesgo'!$B$18:$C$22,2,FALSE) -> Raro | I16: 1 | J16: =VLOOKUP(K16,'Tipos de Riesgo'!$B$29:$C$33,2,FALSE) -> Moderado | K16: 3 | L16: =VLOOKUP(M16,'Tipos de Riesgo'!$B$41:$C$49,2,FALSE) -> Riesgo Bajo | M16: =+I16+K16 -> 4 | N16: Entidad y contratista | O16: Aplicación inmediata de las disposiciones legales y ajuste de los procesos internos de la Entidad. | P16: 2 | Q16: 1 | R16: =+P16+Q16 -> 3 | S16: =VLOOKUP(R16,'Tipos de Riesgo'!$B$41:$C$49,2,FALSE) -> Riesgo Bajo | T16: Eventualmente | U16: Contratista y Entidad | V16: Ejecución contractual | W16: Finalización etapa ejecución | X16: Registro en la lista de verificación | Y16: Finalizada la etapa de ejecución
A17: 9 | B17: Especifico | C17: Externo | D17: Ejecución | E17: Operacional | F17: Errores cometidos por los contratistas y/o proveedores en la elaboración de las actas, cuentas de cobro, recibos a satisfaccion, que ocasionan demoras en su radicación. | G17: Demora en los pagos que puede afectar el desarrollo normal del contrato | H17: =VLOOKUP(I17,'Tipos de Riesgo'!$B$18:$C$22,2,FALSE) -> Improbable | I17: 2 | J17: =VLOOKUP(K17,'Tipos de Riesgo'!$B$29:$C$33,2,FALSE) -> Menor | K17: 2 | L17: =VLOOKUP(M17,'Tipos de Riesgo'!$B$41:$C$49,2,FALSE) -> Riesgo Bajo | M17: =+I17+K17 -> 4 | N17: Contratista | O17: Revisión de documentos radicados por el Contratista y/o proveedor para solicitar los ajustes correspondientes. | P17: 1 | Q17: 1 | R17: =+P17+Q17 -> 2 | S17: =VLOOKUP(R17,'Tipos de Riesgo'!$B$41:$C$49,2,FALSE) -> Riesgo Bajo | T17: Eventualmente | U17: Contratista y Supervisor | V17: Ejecución Contractual | W17: Finalización etapa de ejecución | X17: Registro en la lista de verificación | Y17: Finalizada la etapa de ejecución
A18: 10 | B18: General | C18: Interno | D18: Planeación | E18: Operacional | F18: Que el sondeo de mercado no posea un análisis estadístico que permita validar el cumplimiento de requisitos técnicos de los Bienes y/o Servicios | G18: Que la estimación de Precios e interpretación de la cifra sean erradas y conlleven a establecer valores y comportamientos (estadísticos) errados en el proceso | H18: =VLOOKUP(I18,'Tipos de Riesgo'!$B$18:$C$22,2,FALSE) -> Posible | I18: 3 | J18: =VLOOKUP(K18,'Tipos de Riesgo'!$B$29:$C$33,2,FALSE) -> Mayor | K18: 4 | L18: =VLOOKUP(M18,'Tipos de Riesgo'!$B$41:$C$49,2,FALSE) -> Riesgo Alto | M18: =+I18+K18 -> 7 | N18: unidad | O18: identificar con el análisis de sector que el mercado tiene pluralidad de oferentes que pueden satisfacer la necesidad de la Entidad y establecer las condiciones más favorables para la Entidad | P18: 1 | Q18: 4 | R18: =+P18+Q18 -> 5 | S18: media | T18: si | U18: área técnica y Grupo de Gestión Contractual | V18: Etapa precontractual, inicio de asesoría y acompañamiento abogado GGC | W18: elaboración de la versión final del estudio previo | X18: Revisión del estudio previo por parte de las áreas encargadas e involucradas | Y18: Durante la etapa de planeación
A19: 11 | B19: General | C19: Interno | D19: Planeación | E19: Operacional | F19: Se presenta cuando la definición de la necesidad y el objeto establecido en el estudio previo, no se ajusta a la modalidad de selección aplicable. | G19: Retrasos en la revisión y ajuste del estudio previo por parte del abogado a cargo del tema y aprobación del mismo por parte del Comité de Contratación. | H19: =VLOOKUP(I19,'Tipos de Riesgo'!$B$18:$C$22,2,FALSE) -> Posible | I19: 3 | J19: =VLOOKUP(K19,'Tipos de Riesgo'!$B$29:$C$33,2,FALSE) -> Mayor | K19: 4 | L19: =VLOOKUP(M19,'Tipos de Riesgo'!$B$41:$C$49,2,FALSE) -> Riesgo Alto | M19: =+I19+K19 -> 7 | N19: unidad | O19: Revisión y apoyo jurídico a las dependencias que solicitan la contratación, aclarando los requisitos y la aplicabilidad de cada una de las modalidades de selección por parte del GGC | P19: 1 | Q19: 1 | R19: =+P19+Q19 -> 2 | S19: bajo | T19: si | U19: Grupo de Gestión Contractual | V19: Etapa precontractual, inicio de asesoría y acompañamiento abogado GGC | W19: Presentación de estudios previos para la recomendación de Comité | X19: Asesoría a las dependencias, revisión y ajuste del Estudio Previo. Constante actualización normativ | Y19: solicitud interesado en la contratación
A20: 12 | B20: General | C20: Interno | D20: Planeación | E20: Operacional | F20: Debilidad en la elaboración del estudio previo y del pliego de condiciones por parte del equipo técnico, financiero y jurídico | G20: Incumplimiento del plan de acción/ selección de propuestas que no satisfagan las necesidades de la entidad /declaratoria de desierta del proceso. | H20: =VLOOKUP(I20,'Tipos de Riesgo'!$B$18:$C$22,2,FALSE) -> Posible | I20: 3 | J20: =VLOOKUP(K20,'Tipos de Riesgo'!$B$29:$C$33,2,FALSE) -> Mayor | K20: 4 | L20: =VLOOKUP(M20,'Tipos de Riesgo'!$B$41:$C$49,2,FALSE) -> Riesgo Alto | M20: =+I20+K20 -> 7 | N20: unidad | O20: Quien elabora los estudios previos del sector y mercado debe tener clara la necesidad estatal, el objeto y las especificaciones técnicas. Adicionalmente debe interactuar la parte jurídica para que el estudio quede ajustado a la modalidad contractual que le corresponde y a la normatividad vigente. Conformación del equipo multidisciplinario técnico, jurídico y financiero. | P20: 1 | Q20: 1 | R20: =+P20+Q20 -> 2 | S20: bajo | T20: si | U20: área técnica y Grupo de Gestión Contractual | V20: Etapa precontractual, inicio de asesoría y acompañamiento abogado GGC | W20: hasta la aprobación de la necesidad a contratar por el comité de contratación | X20: Confor macion de equipo multidiciplinario que revice jurídica, técnica y financie ra los Estudio s previo en los requeri mientos jurídico s, técnico s y financie ros | Y20: Durante la etapa de planeación
A21: 13 | B21: General | C21: Externo | D21: Selección | E21: Económico | F21: Riesgo de ofertas artificialmente bajas | G21: baja calidad en la prestación de los servicios e incumplimiento de las con las condiciones técnicas contempladas dentro del proceso, por lo cual no se satisface la necesidad completamente / incumplimiento contractual que podría afectar la ecuación económica | H21: =VLOOKUP(I21,'Tipos de Riesgo'!$B$18:$C$22,2,FALSE) -> Posible | I21: 3 | J21: =VLOOKUP(K21,'Tipos de Riesgo'!$B$29:$C$33,2,FALSE) -> Catastrófico | K21: 5 | L21: =VLOOKUP(M21,'Tipos de Riesgo'!$B$41:$C$49,2,FALSE) -> Riesgo Extremo | M21: =+I21+K21 -> 8 | N21: unidad | O21: elaboración de estudios de mercado que permitan establecer el precio artificialmente bajo. Especificar detalladamente los requerimimentos técnicos mínimos solicitadosdurante el proceso precontractual, verificar la existencia de precios artificialmente bajos y solicitar la respectiva justificación | P21: 1 | Q21: 1 | R21: =+P21+Q21 -> 2 | S21: bajo | T21: si | U21: área técnica y Grupo de Gestión Contractual | V21: Desde la elaboración del estudio previo del mercado y del sector | W21: en la adjudicación del contrato. | X21: análisis del estudio previos, sector y mercado en SECOP II | Y21: Durante el periodo de selección
A22: 14 | B22: General | C22: interno | D22: selección | E22: operacional | F22: incumplimiento de requisitos legales en la celebración y legalización del contrato | G22: investigaciones disciplinarias a los servidores públicos | H22: =VLOOKUP(I22,'Tipos de Riesgo'!$B$18:$C$22,2,FALSE) -> Posible | I22: 3 | J22: =VLOOKUP(K22,'Tipos de Riesgo'!$B$29:$C$33,2,FALSE) -> Mayor | K22: 4 | L22: =VLOOKUP(M22,'Tipos de Riesgo'!$B$41:$C$49,2,FALSE) -> Riesgo Alto | M22: =+I22+K22 -> 7 | N22: unidad | O22: elaboración detallada de los anexos técnicos y jurídicos | P22: 2 | Q22: 2 | R22: =+P22+Q22 -> 4 | S22: bajo | T22: si | U22: área técnica y Grupo de Gestión Contractual | V22: desde la aprobaciónd el comité de contratación | W22: hasta la adjudicación del contrato | X22: reuniones de las áreas involucradas en la elaboración del estudio previo y del análisis del sector | Y22: durante la etapa de planeación y selección, hasta la adjudicación del contrato9
A23: 15 | B23: General | C23: Externo | D23: Selección | E23: Económico | F23: baja participación de proponentes | G23: poca competencia en la operación principal | H23: =VLOOKUP(I23,'Tipos de Riesgo'!$B$18:$C$22,2,FALSE) -> Posible | I23: 3 | J23: =VLOOKUP(K23,'Tipos de Riesgo'!$B$29:$C$33,2,FALSE) -> Moderado | K23: 3 | L23: =VLOOKUP(M23,'Tipos de Riesgo'!$B$41:$C$49,2,FALSE) -> Riesgo Alto | M23: =+I23+K23 -> 6 | N23: unidad | O23: socialización del proceso de selección | P23: 1 | Q23: 3 | R23: =+P23+Q23 -> 4 | S23: bajo | T23: no | U23: área técnica y Grupo de Gestión Contractual | V23: desde la planeación del proceso de contratación | W23: a la fecha del cierre de presentación de ofertas | X23: revisando el interés de proveedores registrados en SECOP II | Y23: Permanente durante la etapa de selección
A24: 16 | B24: General | C24: Interno | D24: Selección | E24: Tecnológico | F24: Fallas en la disponibilidad del sistema de contratación - SECOP II-(www.colombiacompra.gov.co) | G24: retraso o incumplimiento de los plazos legales para la publicación de los actos y/o documentos del proceso | H24: =VLOOKUP(I24,'Tipos de Riesgo'!$B$18:$C$22,2,FALSE) -> Posible | I24: 3 | J24: =VLOOKUP(K24,'Tipos de Riesgo'!$B$29:$C$33,2,FALSE) -> Moderado | K24: 3 | L24: =VLOOKUP(M24,'Tipos de Riesgo'!$B$41:$C$49,2,FALSE) -> Riesgo Alto | M24: =+I24+K24 -> 6 | N24: unidad | O24: verificación y seguimiento de la disponibilidad del sistema de contratación - SECOP II-(www.colombiacompra.gov.co)/ comunicación con la OTI sobre la verificación de red de navegación/escalar las fallas permanentes a la Dirección General | P24: 2 | Q24: 2 | R24: =+P24+Q24 -> 4 | S24: bajo | T24: si | U24: Grupo de gestión contractual | V24: desde la publicación del proceso en SECOP II | W24: hasta la adjudicación del contrato | X24: A través de la verificación de la disponibilidad del Sistema de Contratación Pública –SECOP II (www.colombiacompra.gov.co) | Y24: cuando se requiera publicar actos y documentos derivados del proceso de selección y adjudicación del contrato
A25: 17 | B25: General | C25: Interno | D25: Ejecución | E25: Financiero | F25: se presenta cuando la entidad no cuenta con los recursos para pagar el valor del contrato en los tiempos establecidos | G25: Genera mora de la entidad en el pago que puede afectar al contratista, hasta el punto de romper la ecuación económica del contrato. | H25: =VLOOKUP(I25,'Tipos de Riesgo'!$B$18:$C$22,2,FALSE) -> Posible | I25: 3 | J25: =VLOOKUP(K25,'Tipos de Riesgo'!$B$29:$C$33,2,FALSE) -> Mayor | K25: 4 | L25: =VLOOKUP(M25,'Tipos de Riesgo'!$B$41:$C$49,2,FALSE) -> Riesgo Alto | M25: =+I25+K25 -> 7 | N25: unidad | O25: Verificación del valor total del contrato y/o sus adiciones en valor, de manera previa a la expedición del registro presupuestal. Programar oportunamente el PAC | P25: 2 | Q25: 3 | R25: =+P25+Q25 -> 5 | S25: medio | T25: si | U25: Supervisor de contratoSubdirección Financiera Grupo de Presupuesto | V25: Al inicio de la ejecución | W25: Al final de la ejecución del contrato | X25: En el momento de expedir el registro presupuestal al contrato y/o sus adiciones en valor, verificar que los valores correspondan a los del registro presupuestal. Programación PAC | Y25: Cada vez que se expide registro presupuestal a un contrato y/o adición. Y se programa el PAC
A26: 18 | B26: general | C26: externo | D26: ejecución | E26: naturaleza | F26: Eventos de la naturaleza fuera del control de las partes que impiden continuar con la ejecución del contrato temporal o definitivamente | G26: suspensión de la ejecución del objeto contractual | H26: =VLOOKUP(I26,'Tipos de Riesgo'!$B$18:$C$22,2,FALSE) -> Raro | I26: 1 | J26: =VLOOKUP(K26,'Tipos de Riesgo'!$B$29:$C$33,2,FALSE) -> Menor | K26: 2 | L26: =VLOOKUP(M26,'Tipos de Riesgo'!$B$41:$C$49,2,FALSE) -> Riesgo Bajo | M26: =+I26+K26 -> 3 | N26: unidad/proveedor | O26: reducir las consecuencias a través de planes de contingencia y mitigacion | P26: 3 | Q26: 2 | R26: =+P26+Q26 -> 5 | S26: medio | T26: si | U26: unidad/proveedor | V26: a partir del cumplimiento de los requisitos de perfeccionamiento y ejecución del contrato | W26: la del vencimiento del plazo del contrato | X26: del proveedor | Y26: en la ocurrencia del hecho
A27: 19 | B27: Especifico | C27: externo | D27: Ejecución | E27: operacional | F27: Uso de procesos, procedimientos o parámetros inapropiados para la ejecución del contrato. | G27: Retraso en ejecución de actividades del contrato. Pérdidas económicas por actividades ejecutadas incorrectamente. | H27: IMPROBABLE | I27: =IF(H27="RARO",1,IF(H27="IMPROBABLE",2,IF(H27="POSIBLE",3,IF(H27="PROBABLE",4,IF(H27="CASI CIERTO",5,0))))) -> 2 | J27: MENOR | K27: =IF(J27="INSIGNIFICANTE",1,IF(J27="MENOR",2,IF(J27="MODERADO",3,IF(J27="MAYOR",4,IF(J27="CATASTRÓFICO",5,0))))) -> 2 | L27: =VLOOKUP(M27,'[1]Tipos de Riesgo'!$B$41:$C$49,2,FALSE) -> Riesgo Bajo | M27: =+I27+K27 -> 4 | N27: Contratista | O27: Revisión oportuna y redefinición de procesos, procedimientos o parámetros. | P27: 2 | Q27: 2 | R27: =+P27+Q27 -> 4 | S27: bajo | T27: si | U27: Contratista y supervisor | V27: Desde la fecha de inicio del contrato | W27: la del vencimiento del plazo del contrato | X27: Revisión y actualización permanente de cambios en procesos y procedimientos | Y27: SEGÚN CRONOGRAMA
A28: 20 | B28: Especifico | C28: externo | D28: Ejecución | E28: Económico | F28: Riesgo de consecución de financiación o riesgo de liquidez para obtener recursos para cumplir con el objeto del contrato | G28: Retraso en ejecución de actividades del contrato. | H28: =VLOOKUP(I28,'[1]Tipos de Riesgo'!$B$18:$C$22,2,FALSE) -> Improbable | I28: 2 | J28: =VLOOKUP(K28,'[1]Tipos de Riesgo'!$B$29:$C$33,2,FALSE) -> Menor | K28: 2 | L28: =VLOOKUP(M28,'[1]Tipos de Riesgo'!$B$41:$C$49,2,FALSE) -> Riesgo Bajo | M28: =+I28+K28 -> 4 | N28: Contratista | O28: Control oportuno de flujo de recursos del contrato. | P28: 2 | Q28: 2 | R28: =+P28+Q28 -> 4 | S28: bajo | T28: si | U28: Contratista y supervisor | V28: Desde la fecha de inicio del contrato | W28: la del vencimiento del plazo del contrato | X28: Seguimientoy control detallado de flujo de recursos del contrato. | Y28: MENSUAL
A29: 21 | B29: Especifico | C29: externo | D29: Ejecución | E29: Tecnológico | F29: Implementación de nuevos desarrollos tecnológicos o estándares que deben ser tenidos en cuenta para la ejecución del contrato. | G29: Retraso en ejecución de actividades del contrato. | H29: =VLOOKUP(I29,'[1]Tipos de Riesgo'!$B$18:$C$22,2,FALSE) -> Raro | I29: 1 | J29: =VLOOKUP(K29,'[1]Tipos de Riesgo'!$B$29:$C$33,2,FALSE) -> Menor | K29: 2 | L29: =VLOOKUP(M29,'[1]Tipos de Riesgo'!$B$41:$C$49,2,FALSE) -> Riesgo Bajo | M29: =+I29+K29 -> 3 | N29: Contratista | O29: Oprtuna incorporación de desarrollos o estándares. | P29: 2 | Q29: 2 | R29: =+P29+Q29 -> 4 | S29: bajo | T29: si | U29: Contratista y supervisor | V29: Desde la fecha de inicio del contrato | W29: la del vencimiento del plazo del contrato | X29: Actualización de información sobre tecnologías aplicables al desarrollo del contrato. | Y29: MENSUAL
A30: 22 | B30: Especifico | C30: externo | D30: Ejecución | E30: seguridad | F30: Accesos No autorizados o Fraudulentos | G30: Robo de información, suplantación | H30: =VLOOKUP(I30,'[1]Tipos de Riesgo'!$B$18:$C$22,2,FALSE) -> Improbable | I30: 2 | J30: =VLOOKUP(K30,'[1]Tipos de Riesgo'!$B$29:$C$33,2,FALSE) -> Menor | K30: 2 | L30: =VLOOKUP(M30,'[1]Tipos de Riesgo'!$B$41:$C$49,2,FALSE) -> Riesgo Bajo | M30: =+I30+K30 -> 4 | N30: Unidad y Proveedor | O30: Monitoreo de protocolos de control de acceso a la herramienta tecnológica, dónde se identifique el comportamiento no habitual de los usuarios. | P30: 2 | Q30: 2 | R30: =+P30+Q30 -> 4 | S30: bajo | T30: si | U30: Contratista | V30: Desde la fecha de inicio del contrato | W30: la del vencimiento del plazo del contrato | X30: Informe de análisis de monitoreo de registros de auditoría del aplicativo. | Y30: MENSUAL
A31: 23 | B31: Especifico | C31: externo | D31: Ejecución | E31: seguridad | F31: Adulteración, pérdida, consulta, uso no autorizado o fraudulento de información confidencial | G31: Problemas legales por mal manejo de la información confidencial | H31: =VLOOKUP(I31,'[1]Tipos de Riesgo'!$B$18:$C$22,2,FALSE) -> Improbable | I31: 2 | J31: =VLOOKUP(K31,'[1]Tipos de Riesgo'!$B$29:$C$33,2,FALSE) -> Menor | K31: 2 | L31: =VLOOKUP(M31,'[1]Tipos de Riesgo'!$B$41:$C$49,2,FALSE) -> Riesgo Bajo | M31: =+I31+K31 -> 4 | N31: Unidad y Proveedor | O31: Validación de la implementación de controles de seguridad relacionados con el aseguramiento de software (Lista de chequeo proporcionada por la Unidad) y definición de plan de trabajo para reducción de brecha. Gestionar los incidentes de seguridad de la información relacionados con la herramienta tecnológica | P31: 2 | Q31: 2 | R31: =+P31+Q31 -> 4 | S31: bajo | T31: si | U31: Contratista | V31: Desde la fecha de inicio del contrato | W31: la del vencimiento del plazo del contrato | X31: Informe de controles de seguridad implementados en el aplicativo Informe de incidientes presentados con la identificación de la causa raíz y las acciones adelantadas en la atención. | Y31: MENSUAL
