Workbook

Sheet Lote 1. Laboratorio 
A1: PROYECCION ECONOMICA LOTE 1. LABORATORIO | J1: COTIZACION 1 AVANTIKA | N1: COTIZACION 2 DEP S.A.S | R1: PROMEDIO
A2: ITEM | B2: Código UNSPC | C2: NOMBRE DEL PRODUCTO | D2: DESCRIPCIÓN DETALLADA DEL PRODUCTO | E2: Ilustración del Producto | F2: UNIDAD DE MEDIDA | G2: CANTIDAD | H2: OBSERVACIONES | I2: PROGRAMA DE FORMACION | J2: VALOR UNITARIO SIN IMPUESTO | K2: IMPUESTO APLICABLE | L2: VALOR UNITARIO CON IMPUESTO | M2: VALOR TOTAL CON IMPUESTO | N2: VALOR UNITARIO SIN IMPUESTO | O2: IMPUESTO APLICABLE | P2: VALOR UNITARIO CON IMPUESTO | Q2: VALOR TOTAL CON IMPUESTO | R2: VALOR UNITARIO CON IMPUESTO | S2: VALOR TOTAL CON IMPUESTO
A3: 1 | B3: 12161500 | C3: Material de Referencia Certificado para LECHE ENTERA LIQUIDA ó LECHE ENTERA EN POLVO en los parametros Proteína,Grasa,Acidez titulable | D3: Caracteristicas del item: Proteina 3,0% a 4,0% ; Grasa 2,8% a 5,0% Cantidad leche entera liquida: 200 mL ó Cantidad leche entera en polvo: 80 g fecha de vencimiento: 1 a 3 meses | F3: mL | G3: 2 | H3: De acuerdo a la norma ISO IEC 17025 en el numeral 6,4,1 El laboratorio debe tener acceso al equipamiento (incluidos pero sin limitarse a instrumentos de medición software patrones de medición materiales de referencia datos de referencia reactivos consumibles o aparatos auxiliares) que se requiere para el correcto desempeño de las actividades de laboratorio y que pueden influir en los resultados, NOTA 1 Existen muchos nombres para designar los materiales de referencia y los materiales de referencia certificados incluyendo patrones de referencia patrones de calibración materiales de referencia patrón y materiales de control de calidad, La Norma ISO 17034 contiene información adicional sobre productores de materiales de referencia (PMR), Los PMR que cumplan los requisitos de la Norma ISO 17034 se consideran competentes, Los materiales de referencia de PMR que cumplan con los requisitos de la Norma ISO 17034 se proporcionan con una hoja de información o certificado de producto que especifica entre otras características la homogeneidad y la estabilidad para las propiedades especificadas y para los materiales de referencia certificados las propiedades especificadas con valores certificados su incertidumbre de medición y la trazabilidad metrológica asociadas, NOTA 2 La Guía ISO 33 proporciona orientación para la selección y uso de los materiales de referencia, La Guía ISO 80 proporciona orientación para la preparación interna de los materiales de referencia utilizados para el control de la calidad, por lo cual es necesario adquirir este reactivo estandar para la verificación y /o validaión de la matriz leche liquida ó leche en polvo | I3: Proyecto SENNOVA 920868 | J3: 4697000 | K3: 0.19 | L3: =+(J3*K3)+J3 -> 5589430 | M3: =+L3*G3 -> 11178860 | R3: =+AVERAGE(L3,P3) -> 5589430 | S3: =+R3*G3 -> 11178860
A4: 2 | B4: 12161500 | C4: Material de Referencia Certificado para LECHE ENTERA LIQUIDA ó LECHE ENTERA EN POLVO ó SUERO EN POLVO en parametro pH | D4: Caracteristicas del item: pH Cantidad leche liquida: 100 mL ó cantidad leche en polvo: 80 g ó cantidad suero en polvo:80 g fecha de vencimiento: 1 a 3 meses | F4: mL | G4: 1 | H4: De acuerdo a la norma ISO IEC 17025 en el numeral 6,4,1 El laboratorio debe tener acceso al equipamiento (incluidos pero sin limitarse a instrumentos de medición software patrones de medición materiales de referencia datos de referencia reactivos consumibles o aparatos auxiliares) que se requiere para el correcto desempeño de las actividades de laboratorio y que pueden influir en los resultados, NOTA 1 Existen muchos nombres para designar los materiales de referencia y los materiales de referencia certificados incluyendo patrones de referencia patrones de calibración materiales de referencia patrón y materiales de control de calidad, La Norma ISO 17034 contiene información adicional sobre productores de materiales de referencia (PMR), Los PMR que cumplan los requisitos de la Norma ISO 17034 se consideran competentes, Los materiales de referencia de PMR que cumplan con los requisitos de la Norma ISO 17034 se proporcionan con una hoja de información o certificado de producto que especifica entre otras características la homogeneidad y la estabilidad para las propiedades especificadas y para los materiales de referencia certificados las propiedades especificadas con valores certificados su incertidumbre de medición y la trazabilidad metrológica asociadas, NOTA 2 La Guía ISO 33 proporciona orientación para la selección y uso de los materiales de referencia, La Guía ISO 80 proporciona orientación para la preparación interna de los materiales de referencia utilizados para el control de la calidad, por lo cual es necesario adquirir este reactivo estandar para la verificación y /o validaión de la matriz leche liquida ó leche en polvo | I4: Proyecto SENNOVA 920868 | J4: 4697000 | K4: 0.19 | L4: =+(J4*K4)+J4 -> 5589430 | M4: =+L4*G4 -> 5589430 | R4: =+AVERAGE(L4,P4) -> 5589430 | S4: =+R4*G4 -> 5589430
A5: 3 | B5: 12161500 | C5: Material de Referencia Certificado para LECHE LIQUIDA ENTERA ó LECHE ENTERA EN POLVO en el parametro Vitamina A | D5: cacteristicas del item: Vitamina A Cantidad leche entera liquida: 50 mL ó Cantidad leche entera en polvo: 20 g fecha de vencimiento: 1 a 3 meses | F5: g | G5: 1 | H5: De acuerdo a la norma ISO IEC 17025 en el numeral 6,4,1 El laboratorio debe tener acceso al equipamiento (incluidos pero sin limitarse a instrumentos de medición software patrones de medición materiales de referencia datos de referencia reactivos consumibles o aparatos auxiliares) que se requiere para el correcto desempeño de las actividades de laboratorio y que pueden influir en los resultados, NOTA 1 Existen muchos nombres para designar los materiales de referencia y los materiales de referencia certificados incluyendo patrones de referencia patrones de calibración materiales de referencia patrón y materiales de control de calidad, La Norma ISO 17034 contiene información adicional sobre productores de materiales de referencia (PMR), Los PMR que cumplan los requisitos de la Norma ISO 17034 se consideran competentes, Los materiales de referencia de PMR que cumplan con los requisitos de la Norma ISO 17034 se proporcionan con una hoja de información o certificado de producto que especifica entre otras características la homogeneidad y la estabilidad para las propiedades especificadas y para los materiales de referencia certificados las propiedades especificadas con valores certificados su incertidumbre de medición y la trazabilidad metrológica asociadas, NOTA 2 La Guía ISO 33 proporciona orientación para la selección y uso de los materiales de referencia, La Guía ISO 80 proporciona orientación para la preparación interna de los materiales de referencia utilizados para el control de la calidad, por lo cual es necesario adquirir este reactivo estandar para la verificación y /o validaión de la matriz leche liquida | I5: Proyecto SENNOVA 920868 | J5: 4697000 | K5: 0.19 | L5: =+(J5*K5)+J5 -> 5589430 | M5: =+L5*G5 -> 5589430 | R5: =+AVERAGE(L5,P5) -> 5589430 | S5: =+R5*G5 -> 5589430
A6: 4 | B6: 41121701 | C6: Frasco Mojonnier 21-23 mL | D6: Frasco Mojonnier 21-23 mL con tapon de caucho (tamaño5) | F6: mL | G6: 12 | H6: El laboratorio de Alimentos Y Bebidas Del Centro De Comercio Y Servicios Regional Atlántico con el fin ampliar la oferta de servicios y seindo apoyo al CVA busca desarrollar la metodologia determinación de grasa en derivados lacteos (leche yogurt entre otros) AOAC 989,05 ya que el laboratorio cuenta con mucho de los reactivos solo se necesitan los frascos Mojonnier, | I6: Proyecto SENNOVA 920868 | J6: 95000 | K6: 0.19 | L6: =+(J6*K6)+J6 -> 113050 | M6: =+L6*G6 -> 1356600 | N6: 103600 | O6: =+N6*19% -> 19684 | P6: =+N6+O6 -> 123284 | Q6: =+P6*G6 -> 1479408 | R6: =+AVERAGE(L6,P6) -> 118167 | S6: =+R6*G6 -> 1418004
A7: 5 | B7: 39101616 | C7: Lámpara de cátodo hueco de elemento de sodio (Na) | D7: P,N 5610128800 Lámpara de cátodo hueco de elemento único sin codificar de sodio (Na) para todos los instrumentos AAS con conector de base octal | F7: N,A | G7: 1 | H7: El laboratorio de Alimentos Y Bebidas Del Centro De Valor Agregados Regional Atlántico cuenta con un Espectrofometro de absorción Atomica modelo 200 serie AA 240 FS AA; placa SENA: 930214920, El equipo se utiliza en el laboratorio para la Determinación de metales en alimentos esta lampara de Cátodo hueco del elemento Sodio (Na) nos permitira determinar este metal que es vigilacia y obligatorio por la nueva resolución de etiquetado nutriciona 810 de 2021 se hace necesario darle continuidad a este servicio, Metodo de referencia AOAC 999,11 | I7: Proyecto SENNOVA 920868 | J7: 5540000 | K7: 0.19 | L7: =+(J7*K7)+J7 -> 6592600 | M7: =+L7*G7 -> 6592600 | N7: 6038600 | O7: =+N7*19% -> 1147334 | P7: =+N7+O7 -> 7185934 | Q7: =+P7*G7 -> 7185934 | R7: =+AVERAGE(L7,P7) -> 6889267 | S7: =+R7*G7 -> 6889267
A8: 6 | B8: 12161500 | C8: Solución estándar de zinc para AAS 1000 mg/L de Zn, x100mL (Reactivo) | D8: Solución estándar de zinc para AA: concentracion: 1000 mg/L de Zn, Presentación: 100 mL fecha de vencimiento: no menor a 2 años | F8: mL | G8: 1 | H8: El laboratorio de Alimentos Y Bebidas Del Centro De Valor Agregados Regional Atlántico cuenta con un Espectrofometro de absorción Atomica modelo 200 serie AA 240 FS AA; placa SENA: 930214920, El equipo se utiliza en el laboratorio para la Determinación de metales en alimentos esta reactivo estandar de Zn nos permitira evaluar el metal zinc que es de vigilacia y obligatorio por la nueva resolución de etiquetado nutriciona 810 de 2021 se hace necesario darle continuidad a este servicio, Metodo de referencia AOAC 999,11 | I8: Proyecto SENNOVA 920868 | J8: 450000 | K8: 0.19 | L8: =+(J8*K8)+J8 -> 535500 | M8: =+L8*G8 -> 535500 | N8: 477000 | O8: =+N8*19% -> 90630 | P8: =+N8+O8 -> 567630 | Q8: =+P8*G8 -> 567630 | R8: =+AVERAGE(L8,P8) -> 551565 | S8: =+R8*G8 -> 551565
A9: 7 | B9: 12161500 | C9: Solución estándar de sodio para AAS 1000 mg/L de Na, x100mL (Reactivo) | D9: Solución estándar de sodio para AA: concentracion: 1000 mg/L de Na, Presentación: 100 mL fecha de vencimiento: no menor a 2 años | F9: mL | G9: 1 | H9: El laboratorio de Alimentos Y Bebidas Del Centro De Valor Agregados Regional Atlántico cuenta con un Espectrofometro de absorción Atomica modelo 200 serie AA 240 FS AA; placa SENA: 930214920, El equipo se utiliza en el laboratorio para la Determinación de metales en alimentos esta reactivo estandar de Na nos permitira evaluar el metal sodio que es de vigilacia y obligatorio por la nueva resolución de etiquetado nutriciona 810 de 2021 se hace necesario darle continuidad a este servicio, Metodo de referencia AOAC 966,16 | I9: Proyecto SENNOVA 920868 | J9: 450001 | K9: 0.19 | L9: =+(J9*K9)+J9 -> 535501.19 | M9: =+L9*G9 -> 535501.19 | N9: 477001 | O9: =+N9*19% -> 90630.19 | P9: =+N9+O9 -> 567631.19 | Q9: =+P9*G9 -> 567631.19 | R9: =+AVERAGE(L9,P9) -> 551566.19 | S9: =+R9*G9 -> 551566.19
A10: 8 | B10: 12161500 | C10: Solución estándar de calcio para AAS 1000 mg/L de Ca, x100mL (Reactivo) | D10: Solución estándar de calcio para AA: concentracion: 1000 mg/L de Ca, Presentación: 100 mL fecha de vencimiento: no menor a 2 años | F10: mL | G10: 1 | H10: El laboratorio de Alimentos Y Bebidas Del Centro De Valor Agregados Regional Atlántico cuenta con un Espectrofometro de absorción Atomica modelo 200 serie AA 240 FS AA; placa SENA: 930214920, El equipo se utiliza en el laboratorio para la Determinación de metales en alimentos esta reactivo estandar de Ca nos permitira evaluar el metal calcio que es de vigilacia y obligatorio por la nueva resolución de etiquetado nutriciona 810 de 2021 se hace necesario darle continuidad a este servicio, Metodo de referencia AOAC 991,25 | I10: Proyecto SENNOVA 920868 | J10: 450002 | K10: 0.19 | L10: =+(J10*K10)+J10 -> 535502.38 | M10: =+L10*G10 -> 535502.38 | N10: 477002 | O10: =+N10*19% -> 90630.38 | P10: =+N10+O10 -> 567632.38 | Q10: =+P10*G10 -> 567632.38 | R10: =+AVERAGE(L10,P10) -> 551567.38 | S10: =+R10*G10 -> 551567.38
A11: 9 | B11: 12161500 | C11: Fenolftaleina indicador ACSReag, Ph Eur x 25gramos (Reactivo) | D11: Fenolftaleina: indicador ACSReag, Ph Eur concentracion: Grado analitico Presentación: 25 g fecha de vencimiento: no menor a 2 años | F11: g | G11: 1 | H11: El laboratorio de Alimentos Y Bebidas Del Centro De Comercio Y Servicios Regional Atlántico con el fin ampliar la oferta de servicios y seindo apoyo al CVA busca desarrollar la metodologia determinación de acidez proteina entre otros, Este reactivo es necesario para la determinación de alcalinidad, Este material es necesario para la determinación de acidez y proteina en alimentos | I11: Proyecto SENNOVA 920868 | J11: 200200 | K11: 0.19 | L11: =+(J11*K11)+J11 -> 238238 | M11: =+L11*G11 -> 238238 | N11: 210300 | O11: =+N11*19% -> 39957 | P11: =+N11+O11 -> 250257 | Q11: =+P11*G11 -> 250257 | R11: =+AVERAGE(L11,P11) -> 244247.5 | S11: =+R11*G11 -> 244247.5
A12: 10 | B12: 12161500 | C12: Hidroxido de Amonio 30% G,A X2,5L (Reactivo) | D12: Hidróxido amónico ACS concentración: 28-30 % Presentación: 2,5 L fecha de vencimiento: no menor a 2 años | F12: L | G12: 1 | H12: El laboratorio de Alimentos Y Bebidas Del Centro De Comercio Y Servicios Regional Atlántico con el fin ampliar la oferta de servicios y seindo apoyo al CVA busca desarrollar la metodologia determinación de grasa en derivados lacteos (leche yogurt entre otros) AOAC 989,05 ya que el laboratorio cuenta con mucho de los reactivos solo se necesita hidroxido d eamonio, | I12: Proyecto SENNOVA 920868 | J12: 328000 | K12: 0.19 | L12: =+(J12*K12)+J12 -> 390320 | M12: =+L12*G12 -> 390320 | N12: 357600 | O12: =+N12*19% -> 67944 | P12: =+N12+O12 -> 425544 | Q12: =+P12*G12 -> 425544 | R12: =+AVERAGE(L12,P12) -> 407932 | S12: =+R12*G12 -> 407932
A13: 11 | B13: 12161500 | C13: ACETONA grado HPLC X2,5 Litros (Reactivo) | D13: Acetona para cromatografía líquida LiChrosolv®, Fórmula química CH₃COCH₃ masa molar 5808 g/mol y número CAS 67-64-1, Presentación: 2,5 L fecha de vencimiento: no menor a 2 años | F13: L | G13: 1 | H13: El laboratorio de Alimentos Y Bebidas Del Centro De Comercio Y Servicios Regional Atlántico Cuenta con un equipo Cormatografo UHPLC Marca THERMO SCIENTIFIC, con el fin ampliar la oferta de servicios y siendo apoyo al CVA busca desarrollar la metodologia determinación de vitamina A en Leche liquida con el metodo de referencia AOAC 992,04, Por lo cual necesita este reactivo Acetona HPLC 95% para preparación de las soluciones y estandares de trabajo, | I13: Proyecto SENNOVA 920868 | J13: 756000 | K13: 0.19 | L13: =+(J13*K13)+J13 -> 899640 | M13: =+L13*G13 -> 899640 | N13: 809000 | O13: =+N13*19% -> 153710 | P13: =+N13+O13 -> 962710 | Q13: =+P13*G13 -> 962710 | R13: =+AVERAGE(L13,P13) -> 931175 | S13: =+R13*G13 -> 931175
A14: 12 | B14: 41121701 | C14: PARTE CENTRAL SOXLETH 500 ML | D14: 500 Ml Soxhlet Extractor Condensador Para Graham Laboratory x 2 unidades | F14: N,A | G14: 2 | H14: El laboratorio de Alimentos Y Bebidas Del Centro De Comercio Y Servicios Regional Atlántico con el fin ampliar la oferta de servicios y seindo apoyo al CVA busca desarrollar la metodologia determinación de grasa en derivados lacteos (leche yogurt entre otros) AOAC 989,05 ya que el laboratorio cuenta con mucho de los reactivos solo se necesitan los Condensadores (esmerilado que permita acoplar el condensador a la flauta) | I14: Proyecto SENNOVA 920868 | J14: 582000 | K14: 0.19 | L14: =+(J14*K14)+J14 -> 692580 | M14: =+L14*G14 -> 1385160 | N14: 634400 | O14: =+N14*19% -> 120536 | P14: =+N14+O14 -> 754936 | Q14: =+P14*G14 -> 1509872 | R14: =+AVERAGE(L14,P14) -> 723758 | S14: =+R14*G14 -> 1447516
A15: 13 | B15: 41121701 | C15: Condensador SOXHLET 1 ESMERILADO 45/40 300 mm | D15: 500 Ml Soxhlet Extractor Condensador Para Graham Laboratory x 2 unidades | F15: N,A | G15: 2 | H15: El laboratorio de Alimentos Y Bebidas Del Centro De Comercio Y Servicios Regional Atlántico con el fin ampliar la oferta de servicios y seindo apoyo al CVA busca desarrollar la metodologia determinación de grasa en derivados lacteos (leche yogurt entre otros) AOAC 989,05 ya que el laboratorio cuenta con mucho de los reactivos solo se necesitan los Condensadores (esmerilado que permita acoplar el condensador a la flauta) | I15: Proyecto SENNOVA 920868 | J15: 328000 | K15: 0.19 | L15: =+(J15*K15)+J15 -> 390320 | M15: =+L15*G15 -> 780640 | N15: 344400 | O15: =+N15*19% -> 65436 | P15: =+N15+O15 -> 409836 | Q15: =+P15*G15 -> 819672 | R15: =+AVERAGE(L15,P15) -> 400078 | S15: =+R15*G15 -> 800156
A16: 14 | B16: 41103206 | C16: Detergente pH neutro | D16: Detergente pH neutro concentracion: Generico Presentación: 5 Litros fecha de vencimiento: no menor a 2 años | F16: L | G16: 1 | H16: Este reactivo es necesario adquirirlo para la preparación de soluciones de limpieza acuosas de materiales por inmersión y/o acción mecánica para la remoción completa de residuos contaminantes en materiales de laboratorio de vidrio cuarzo plásticos, Especialmente indicado para materiales sensibles a álcalis como aluminio zinc o aleaciones, | I16: Proyecto SENNOVA 920868 | J16: 82000 | K16: 0.19 | L16: =+(J16*K16)+J16 -> 97580 | M16: =+L16*G16 -> 97580 | N16: 86100 | O16: =+N16*19% -> 16359 | P16: =+N16+O16 -> 102459 | Q16: =+P16*G16 -> 102459 | R16: =+AVERAGE(L16,P16) -> 100019.5 | S16: =+R16*G16 -> 100019.5
A17: 15 | B17: 42131606 | C17: Careta 3m Media Cara 6200+filtros 6003 V, Organic Y Gas Acid | D17: Tipo de máscara: Media cara en elastómero Material: Elastómero Materiales filtrados: Vapores orgánicos y Gases ácidos Peso: 200 g Filtros compatibles: serie 6000serie 2000serie 7000 Cantidad de filtros: 2 Incluye filtros: Sí | F17: N,A | G17: 2 | H17: El laboratorio de Alimentos Y Bebidas Del Centro De Comercio Y Servicios Regional Atlántico Cuenta con un equipo Cabina extractora pero se hace necesario el uso de CARETA (MASCAR DE GASES) este material es necesario para la seguridad del personal de laboratorio en las ejecuciones de analisis que requieres reactivos que generan vapores, | I17: Proyecto SENNOVA 920868 | J17: 185200 | K17: 0.19 | L17: =+(J17*K17)+J17 -> 220388 | M17: =+L17*G17 -> 440776 | N17: 196400 | O17: =+N17*19% -> 37316 | P17: =+N17+O17 -> 233716 | Q17: =+P17*G17 -> 467432 | R17: =+AVERAGE(L17,P17) -> 227052 | S17: =+R17*G17 -> 454104
... A36: 34 | B36: 51212011 | C36: Pimpinas | D36: Recipiente plastico con capacidad para 5 galones | F36: Unidades | G36: 5 | H36: El laboratorio de Alimentos Y Bebidas Del Centro De Comercio Y Servicios Regional Atlántico tiene actividades que generan residuos quimicos peligrosos liquido, este Consumible requerido para colectar residuos peligrosos tales como: acidos basicos organicos y aquellos generados por los equipos Cromatografo HPLC Y Espectrofotometro de absorción atomica en las instalaciones del laboratorio de alimentos y bebidas, | I36: Proyecto SENNOVA 920868 | J36: 31000 | K36: 0.19 | L36: =+(J36*K36)+J36 -> 36890 | M36: =+L36*G36 -> 184450 | N36: 33500 | O36: =+N36*19% -> 6365 | P36: =+N36+O36 -> 39865 | Q36: =+P36*G36 -> 199325 | R36: =+AVERAGE(L36,P36) -> 38377.5 | S36: =+R36*G36 -> 191887.5
A37: 35 | C37: DATALOGGER DE TEMPERATURA Y HUMEDAD CON PANTALLA LCD | D37: El Datalogger de temperatura y humedad está diseñado con un sensor de alta precisión para temperatura y humedad, Este registrador de datos cuenta con características de alta precisión respuesta rápida y estabilidad, Es ampliamente utilizado para monitorear y recolectar datos de temperatura y humedad ambiental, | F37: Unidades | G37: 1 | H37: El laboratorio de Alimentos Y Bebidas Del Centro De Valor Agregados Regional Atlántico cuenta con un Espectrofometro de absorción Atomica modelo 200 serie AA 240 FS AA; placa SENA: 930214920, El equipo se utiliza en el laboratorio para la Determinación de metales en alimentos este cable de comunicación nos permitirá operar el equipo y darle continuidad a este servicio, Metodo de referencia AOAC 999,11 - Metodo de referencia AOAC 966,16 | I37: Proyecto SENNOVA 920868 | J37: 1256000 | K37: 0.19 | L37: =+(J37*K37)+J37 -> 1494640 | M37: =+L37*G37 -> 1494640 | N37: 1331400 | O37: =+N37*19% -> 252966 | P37: =+N37+O37 -> 1584366 | Q37: =+P37*G37 -> 1584366 | R37: =+AVERAGE(L37,P37) -> 1539503 | S37: =+R37*G37 -> 1539503
A38: 38 | B38: 41111900 | C38: Consumibles de equipo de Absorción atómica Agilent tecnologies | D38: Graphite electrodes for GTA 120 1 pair N° parte 6310003400 | F38: Paquete | G38: 1 | H38: El laboratorio de Alimentos Y Bebidas Del Centro De Valor Agregados Regional Atlántico cuenta con un Espectrofometro de absorción Atomica modelo 200 serie AA 240 FS AA; placa SENA: 930214920, El equipo se utiliza en el laboratorio para la Determinación de metales en alimentos este consumible fue solicitado en la ultima intervención y es necesario para la operación correcta del mismo y darle continuidad a este servicio, Metodo de referencia AOAC 999,11 - Metodo de referencia AOAC 966,16 | I38: Proyecto SENNOVA 920868 | J38: 4126700 | K38: 0.19 | L38: =+(J38*K38)+J38 -> 4910773 | M38: =+L38*G38 -> 4910773 | N38: 4498200 | O38: =+N38*19% -> 854658 | P38: =+N38+O38 -> 5352858 | Q38: =+P38*G38 -> 5352858 | R38: =+AVERAGE(L38,P38) -> 5131815.5 | S38: =+R38*G38 -> 5131815.5
A39: 39 | B39: 41111900 | C39: Consumibles de equipo de Absorción atómica Agilent tecnologies | D39: Mark 7 spray chamber O-ring kit aqueous N° parte 9910093400 | F39: Paquete | G39: 1 | H39: El laboratorio de Alimentos Y Bebidas Del Centro De Valor Agregados Regional Atlántico cuenta con un Espectrofometro de absorción Atomica modelo 200 serie AA 240 FS AA; placa SENA: 930214920, El equipo se utiliza en el laboratorio para la Determinación de metales en alimentos este consumible fue solicitado en la ultima intervención y es necesario para la operación correcta del mismo y darle continuidad a este servicio, Metodo de referencia AOAC 999,11 - Metodo de referencia AOAC 966,16 | I39: Proyecto SENNOVA 920868 | J39: 1080000 | K39: 0.19 | L39: =+(J39*K39)+J39 -> 1285200 | M39: =+L39*G39 -> 1285200 | N39: 1134000 | O39: =+N39*19% -> 215460 | P39: =+N39+O39 -> 1349460 | Q39: =+P39*G39 -> 1349460 | R39: =+AVERAGE(L39,P39) -> 1317330 | S39: =+R39*G39 -> 1317330
A40: 42 | B40: 41121701 | C40: Tubos de 15mL de nalgene para centrifuga con tapa | D40: TUBOS NUNC PARA CENTRÍFUGA ESTÉRILES CÓNICOS MATERIAL POLIPROPILENO 15mL | F40: Paquete | G40: 1 | H40: El laboratorio de Alimentos Y Bebidas Del Centro De Comercio Y Servicios Regional Atlántico con el fin ampliar la oferta de servicios y siendo apoyo al CVA busca desarrollar la metodologia determinación de Vitamina A en leche liquida con el metodo de referencia AOAC 992,04, Este material es necesario para realizacion estos analisis en alimentos | I40: Proyecto SENNOVA 920868 | J40: 65500 | K40: 0.19 | L40: =+(J40*K40)+J40 -> 77945 | M40: =+L40*G40 -> 77945 | N40: 70800 | O40: =+N40*19% -> 13452 | P40: =+N40+O40 -> 84252 | Q40: =+P40*G40 -> 84252 | R40: =+AVERAGE(L40,P40) -> 81098.5 | S40: =+R40*G40 -> 81098.5
A41: 43 | B41: 41111970 | C41: Sensor (termocupla) rigido de termometro digital que soporte 550°C | D41: Sensor de temperatura rigido tipo k que sea compatible para termometro digital Extech instruments tipo EA15 que tenga sonda de aproximadamente 300 mm de diametro, Puerto RS232 | F41: Unidades | G41: 1 | H41: El laboratorio de Alimentos Y Bebidas Del Centro De Comercio Y Servicios Regional Atlántico con el fin ampliar la oferta de servicios y siendo apoyo al CVA busca desarrollar la metodologia determinación de cenizas en derivados lacteos, Este material es necesario para la verificación de las condiciones de temperatura del equipo Horno de Mufla y de esta forma asegurar la calidad de los resultados de los analisis en alimentos, | I41: Proyecto SENNOVA 920868 | J41: 443000 | K41: 0.19 | L41: =+(J41*K41)+J41 -> 527170 | M41: =+L41*G41 -> 527170 | N41: 482900 | O41: =+N41*19% -> 91751 | P41: =+N41+O41 -> 574651 | Q41: =+P41*G41 -> 574651 | R41: =+AVERAGE(L41,P41) -> 550910.5 | S41: =+R41*G41 -> 550910.5
A42: 44 | B42: 41121800 | C42: Matraz volumetrico clase A Actinico 50mL | D42: Matraz aforado de bajo actínico de clase A con tapón cónico estándar de vidrio 50 mL | F42: Unidades | G42: 6 | H42: El laboratorio de Alimentos Y Bebidas Del Centro De Comercio Y Servicios Regional Atlántico con el fin ampliar la oferta de servicios y siendo apoyo al CVA busca desarrollar la metodologia determinación de Vitamina A en leche liquida con el metodo de referencia AOAC 992,04, Este material es necesario para realizacion estos analisis en alimentos | I42: Proyecto SENNOVA 920868 | J42: 153800 | K42: 0.19 | L42: =+(J42*K42)+J42 -> 183022 | M42: =+L42*G42 -> 1098132 | N42: 167700 | O42: =+N42*19% -> 31863 | P42: =+N42+O42 -> 199563 | Q42: =+P42*G42 -> 1197378 | R42: =+AVERAGE(L42,P42) -> 191292.5 | S42: =+R42*G42 -> 1147755
A43: 45 | B43: 41121800 | C43: Matraz volumetrico clase A Actinico 100mL | D43: Matraz aforado de bajo actínico de clase A con tapón cónico estándar de vidrio 100 mL | F43: Unidades | G43: 2 | H43: El laboratorio de Alimentos Y Bebidas Del Centro De Comercio Y Servicios Regional Atlántico con el fin ampliar la oferta de servicios y siendo apoyo al CVA busca desarrollar la metodologia determinación de Vitamina A en leche liquida con el metodo de referencia AOAC 992,04, Este material es necesario para realizacion estos analisis en alimentos | I43: Proyecto SENNOVA 920868 | J43: 183000 | K43: 0.19 | L43: =+(J43*K43)+J43 -> 217770 | M43: =+L43*G43 -> 435540 | N43: 197700 | O43: =+N43*19% -> 37563 | P43: =+N43+O43 -> 235263 | Q43: =+P43*G43 -> 470526 | R43: =+AVERAGE(L43,P43) -> 226516.5 | S43: =+R43*G43 -> 453033
A44: 47 | B44: 12161500 | C44: ACETONITRILO GRADO HPLC Plus ≥99,9% X 4L | D44: Acetonitrilo grado HPLC, concentración: 99 % Presentación: 4 L fecha de vencimiento: no menor a 2 años | F44: Unidades | G44: 1 | H44: El laboratorio de Alimentos Y Bebidas Del Centro De Comercio Y Servicios Regional Atlántico Cuenta con un equipo Cormatografo UHPLC Marca THERMO SCIENTIFIC, con el fin de salvaguardar la integridad de la columna que es primordial en la limpieza y protección de las columnas se necesita este reactivo Acetonitrilo grado HPLC 99,9% para preparación de las soluciones y Limpieza y protección d elas columnas, | I44: Proyecto SENNOVA 920868 | J44: 296000 | K44: 0.19 | L44: =+(J44*K44)+J44 -> 352240 | M44: =+L44*G44 -> 352240 | N44: 322700 | O44: =+N44*19% -> 61313 | P44: =+N44+O44 -> 384013 | Q44: =+P44*G44 -> 384013 | R44: =+AVERAGE(L44,P44) -> 368126.5 | S44: =+R44*G44 -> 368126.5
A45: 48 | B45: 41111900 | C45: ESTANDAR DE CONDUCTIVIDAD 1413 µs/cm x 1L | D45: Estandar de conductividad 1413 µs/cm x 1L , Trazable Con certificado de analisis acreditado como material de referencia ISO 17034, | F45: Unidades | G45: 1 | H45: El laboratorio de Alimentos Y Bebidas Del Centro De Comercio Y Servicios Regional Atlántico Cuenta con un equipo Multiparamétrico para medir la conductividad del agua el laboratorio a traves de este equipo garantiza que el agua de trabajo TIPO I cumpla co las caracteristicas de conductividad, por ende se necesita el ESTANDAR DE CONDUCTIVIDAD 1413 µs/cm y asi asegurar el equipo que nos arroja el resultado | I45: Proyecto SENNOVA 920868 | J45: 834000 | K45: 0.19 | L45: =+(J45*K45)+J45 -> 992460 | M45: =+L45*G45 -> 992460 | N45: 900800 | O45: =+N45*19% -> 171152 | P45: =+N45+O45 -> 1071952 | Q45: =+P45*G45 -> 1071952 | R45: =+AVERAGE(L45,P45) -> 1032206 | S45: =+R45*G45 -> 1032206
A46: 49 | B46: 41121800 | C46: Pipeta Pasteur En Vidrio, RANGO DE VOLUMEN 250 mm, Pipeta Pasteur En Vidrio 230 mm Cja X 250 | D46: pietas pasteur de Vidrio de soda, ISO 7712, Punta fina y estirada, Tubo de aspiración con estrechamiento para tapón de algodón | F46: Unidades | G46: 1 | H46: El laboratorio de Alimentos Y Bebidas Del Centro De Comercio Y Servicios Regional Atlántico Cuenta con un equipo Cormatografo UHPLC Marca THERMO SCIENTIFIC, Este material es necesario para el aseguramiento de la metodologia Determinación de vitaminas en HPLC, | I46: Proyecto SENNOVA 920868 | J46: 101000 | K46: 0.19 | L46: =+(J46*K46)+J46 -> 120190 | M46: =+L46*G46 -> 120190 | N46: 110100 | O46: =+N46*19% -> 20919 | P46: =+N46+O46 -> 131019 | Q46: =+P46*G46 -> 131019 | R46: =+AVERAGE(L46,P46) -> 125604.5 | S46: =+R46*G46 -> 125604.5
M47: =SUM(M3:M46) -> 91047261 | Q47: =SUM(Q6:Q46) -> 73609596 | R47: =SUM(R3:R46) -> 72364499 | S47: =SUM(S3:S46) -> 93507288

Sheet Lote 2. Logistica 
A1: PROYECCION ECONOMICA LOTE 2. LOGISTICA | H1: COTIZACION 1 BISNEXT | L1: COTIZACION 1 SUMINISTROS EC | P1: COTIZACION 1 GD GROUP | T1: PROMEDIO
A2: ITEM | B2: Código UNSPC | C2: NOMBRE DEL PRODUCTO | D2: DESCRIPCIÓN DETALLADA DEL PRODUCTO | E2: UNIDAD DE MEDIDA | F2: CANTIDAD | G2: Programa de Formación | H2: VALOR UNITARIO SIN IMPUESTO | I2: IMPUESTO APLICABLE | J2: VALOR UNITARIO CON IMPUESTO | K2: VALOR TOTAL CON IMPUESTO | L2: VALOR UNITARIO SIN IMPUESTO | M2: IMPUESTO APLICABLE | N2: VALOR UNITARIO CON IMPUESTO | O2: VALOR TOTAL CON IMPUESTO | P2: VALOR UNITARIO SIN IMPUESTO | Q2: IMPUESTO APLICABLE | R2: VALOR UNITARIO CON IMPUESTO | S2: VALOR TOTAL CON IMPUESTO | T2: VALOR UNITARIO CON IMPUESTO | U2: VALOR TOTAL CON IMPUESTO
A3: 1 | B3: 24112404 | C3: CAJAS DE CARTÓN | D3: Cajas de cartón corrugado de aletas simples 40 largo, 40 ancho, 20 alto | E3: Unidad | F3: 36 | G3: Logistica Articulación con la Media | H3: 10000 | I3: 1900 | J3: 11900 | K3: 428400 | L3: 11200 | M3: 2128 | N3: 13328 | O3: 479808 | P3: 9000 | Q3: 1710 | R3: 10710 | S3: 385560 | T3: 11979.333 | U3: 431256
A4: 2 | B4: 56121201 | C4: CANTONERAS | D4: Cantoneras plásticas- Cantoneras de plástico para fleje. Caja Cantoneras Plàsticas 32X40mm x 2000 unid | E4: Caja X 2000 UNIDADES | F4: 1 | G4: Logistica Articulación con la Media | H4: 698400 | I4: 132696 | J4: 831096 | K4: 831096 | L4: 776000 | M4: 147440 | N4: 923440 | O4: 923440 | P4: 628600 | Q4: 119434 | R4: 748034 | S4: 748034 | T4: 834190 | U4: 834190
A5: 3 | B5: 23153020 | C5: CINTA PELIGRO | D5: CINTA PELIGRO Fixser 70 X 100 metros | E5: Unidad | F5: 2 | G5: Logistica Articulación con la Media | H5: 40000 | I5: 7600 | J5: 47600 | K5: 95200 | L5: 44500 | M5: 8455 | N5: 52955 | O5: 105910 | P5: 36000 | Q5: 6840 | R5: 42840 | S5: 85680 | T5: 47798.333 | U5: 95596.667
A6: 4 | B6: 31181700 | C6: EMPAQUES PET PARA ALIMENTOS | D6: EMPAQUES PET PARA ALIMENTOS DE 350 ML PAQUETE X 50 UNIDADES | E6: PAQUETE X 50 UNIDADES | F6: 2 | G6: Logistica Articulación con la Media | H6: 100000 | I6: 19000 | J6: 119000 | K6: 238000 | L6: 111200 | M6: 21128 | N6: 132328 | O6: 264656 | P6: 90000 | Q6: 17100 | R6: 107100 | S6: 214200 | T6: 119476 | U6: 238952
A7: 5 | B7: 31181700 | C7: EMPAQUES-CAJA DE CARTÓN CORRUGADO CON AISLAMIENTO TÉRMICO | D7: CAJA DE CARTON CORRUGADOS PARA ALIMENTOS REFRIGERADOS CON AISLAMIENTO TÉRMICO 30X30X15 CM | E7: Unidad | F7: 30 | G7: Logistica Articulación con la Media | H7: 50000 | I7: 9500 | J7: 59500 | K7: 1785000 | L7: 55600 | M7: 10564 | N7: 66164 | O7: 1984920 | P7: 45000 | Q7: 8550 | R7: 53550 | S7: 1606500 | T7: 59738 | U7: 1792140
A8: 6 | B8: 31181700 | C8: EMPAQUES-CAJA DE CARTÓN CORRUGADO PARA CONGELADOS | D8: CAJA DE CARTON CORRUGADO CON RESINA PARA CONGELADOS 30X40X15 CM | E8: Unidad | F8: 20 | G8: Logistica Articulación con la Media | H8: 50000 | I8: 9500 | J8: 59500 | K8: 1190000 | L8: 50600 | M8: 9614 | N8: 60214 | O8: 1204280 | P8: 49650 | Q8: 9433.5 | R8: 59083.5 | S8: 1181670 | T8: 59599.167 | U8: 1191983.3
A9: 7 | B9: 11162123 | C9: FLEJE O ZUNCHO | D9: Zuncho plástico de polipropileno 1/2X2.0 C5 X 500 MT | E9: Rollo X 500 MT | F9: 4 | G9: Logistica Articulación con la Media | H9: 70000 | I9: 13300 | J9: 83300 | K9: 333200 | L9: 77800 | M9: 14782 | N9: 92582 | O9: 370328 | P9: 63000 | Q9: 11970 | R9: 74970 | S9: 299880 | T9: 83617.333 | U9: 334469.33
A10: 8 | B10: 24121500 | C10: Cajas de Cartón | D10: Cajas 40 Cm Largo * 30 Cm de Ancho * 30 Cm de Alto | E10: CAJA | F10: 100 | G10: Logistica Regular | H10: 20000 | I10: =+(H10*19%) -> 3800 | J10: =+I10+H10 -> 23800 | K10: =+J10*F10 -> 2380000 | L10: 22300 | M10: =+(L10*19%) -> 4237 | N10: =+M10+L10 -> 26537 | O10: =+N10*F10 -> 2653700 | P10: 18000 | Q10: =+(P10*19%) -> 3420 | R10: =+Q10+P10 -> 21420 | S10: =+R10*F10 -> 2142000 | T10: =+AVERAGE(J10,N10,R10) -> 23919 | U10: =+T10*F10 -> 2391900
A11: 9 | B11: 24121500 | C11: Cajas de Cartón | D11: Cajas 20 Ancho * 10 Largo *10 Alto | E11: CAJA | F11: 300 | G11: Logistica Regular | H11: 16000 | I11: =+(H11*19%) -> 3040 | J11: =+I11+H11 -> 19040 | K11: =+J11*F11 -> 5712000 | L11: 17800 | M11: =+(L11*19%) -> 3382 | N11: =+M11+L11 -> 21182 | O11: =+N11*F11 -> 6354600 | P11: 14400 | Q11: =+(P11*19%) -> 2736 | R11: =+Q11+P11 -> 17136 | S11: =+R11*F11 -> 5140800 | T11: =+AVERAGE(J11,N11,R11) -> 19119.333 | U11: =+T11*F11 -> 5735800
A12: 10 | B12: 11162123 | C12: Zunchos por Rollos de 1000 metros | D12: Zunchos por Rollos de 1000 metros | E12: ROLLO X 1000 METROS | F12: 5 | G12: Logistica Regular | H12: 92000 | I12: =+(H12*19%) -> 17480 | J12: =+I12+H12 -> 109480 | K12: =+J12*F12 -> 547400 | L12: 102300 | M12: =+(L12*19%) -> 19437 | N12: =+M12+L12 -> 121737 | O12: =+N12*F12 -> 608685 | P12: 82800 | Q12: =+(P12*19%) -> 15732 | R12: =+Q12+P12 -> 98532 | S12: =+R12*F12 -> 492660 | T12: =+AVERAGE(J12,N12,R12) -> 109916.33 | U12: =+T12*F12 -> 549581.67
A13: 11 | B13: 24111500 | C13: Bolsas de Grapas de 1 Kilos | D13: Bolsas de Grapas de 1 Kilos | E13: BOLSAS | F13: 10 | G13: Logistica Regular | H13: 32000 | I13: =+(H13*19%) -> 6080 | J13: =+I13+H13 -> 38080 | K13: =+J13*F13 -> 380800 | L13: 32650 | M13: =+(L13*19%) -> 6203.5 | N13: =+M13+L13 -> 38853.5 | O13: =+N13*F13 -> 388535 | P13: 29000 | Q13: =+(P13*19%) -> 5510 | R13: =+Q13+P13 -> 34510 | S13: =+R13*F13 -> 345100 | T13: =+AVERAGE(J13,N13,R13) -> 37147.833 | U13: =+T13*F13 -> 371478.33
A14: 12 | B14: 31201503 | C14: Pallets | D14: Cinta Strech de 30 X 450 metros X 3 Unidades | E14: UNIDAD | F14: 50 | G14: Logistica Regular | H14: 42000 | I14: =+(H14*19%) -> 7980 | J14: =+I14+H14 -> 49980 | K14: =+J14*F14 -> 2499000 | L14: 46700 | M14: =+(L14*19%) -> 8873 | N14: =+M14+L14 -> 55573 | O14: =+N14*F14 -> 2778650 | P14: 37800 | Q14: =+(P14*19%) -> 7182 | R14: =+Q14+P14 -> 44982 | S14: =+R14*F14 -> 2249100 | T14: =+AVERAGE(J14,N14,R14) -> 50178.333 | U14: =+T14*F14 -> 2508916.7
A15: 13 | B15: 24111501 | C15: Costales de Fibra (Saco) | D15: Lonas o Costales en fibra nuevas de 50 Kilogramos | E15: UNIDAD | F15: 50 | G15: Logistica Regular | H15: 3600 | I15: =+(H15*19%) -> 684 | J15: =+I15+H15 -> 4284 | K15: =+J15*F15 -> 214200 | L15: 3500 | M15: =+(L15*19%) -> 665 | N15: =+M15+L15 -> 4165 | O15: =+N15*F15 -> 208250 | P15: 3000 | Q15: =+(P15*19%) -> 570 | R15: =+Q15+P15 -> 3570 | S15: =+R15*F15 -> 178500 | T15: =+AVERAGE(J15,N15,R15) -> 4006.3333 | U15: =+T15*F15 -> 200316.67
A16: 14 | B16: 24111500 | C16: Bolsa Big Bag de 1 Tonelada | D16: Bolsa Big Bag de 1 Tonelada | E16: UNIDAD | F16: 10 | G16: Logistica Regular | H16: 110000 | I16: =+(H16*19%) -> 20900 | J16: =+I16+H16 -> 130900 | K16: =+J16*F16 -> 1309000 | L16: 122300 | M16: =+(L16*19%) -> 23237 | N16: =+M16+L16 -> 145537 | O16: =+N16*F16 -> 1455370 | P16: 99000 | Q16: =+(P16*19%) -> 18810 | R16: =+Q16+P16 -> 117810 | S16: =+R16*F16 -> 1178100 | T16: =+AVERAGE(J16,N16,R16) -> 131415.67 | U16: =+T16*F16 -> 1314156.7
A17: 15 | B17: 24111500 | C17: Bidón agua 100 Litros | D17: Bidón agua 100 Litros | E17: UNIDAD | F17: 8 | G17: Logistica Regular | H17: 100000 | I17: =+(H17*19%) -> 19000 | J17: =+I17+H17 -> 119000 | K17: =+J17*F17 -> 952000 | L17: 111200 | M17: =+(L17*19%) -> 21128 | N17: =+M17+L17 -> 132328 | O17: =+N17*F17 -> 1058624 | P17: 90000 | Q17: =+(P17*19%) -> 17100 | R17: =+Q17+P17 -> 107100 | S17: =+R17*F17 -> 856800 | T17: =+AVERAGE(J17,N17,R17) -> 119476 | U17: =+T17*F17 -> 955808
K18: =SUM(K3:K17) -> 18895296 | O18: =SUM(O3:O17) -> 20839756 | S18: =SUM(S3:S17) -> 17104584 | T18: =SUM(T3:T17) -> 1711577 | U18: =SUM(U3:U17) -> 18946545

Sheet Lote 3. Alojamiento y Limpieza
B1: PROYECCION ECONOMICA LOTE 3. ALOJAMIENTO Y LIMPIEZA | J1: COTIZACION 1 BISNEXT | N1: COTIZACION 2 SUMMINISTRO C | R1: COTIZACION 3 GD GROUP | V1: PROMEDIO
B2: ITEM | C2: Código UNSPC | D2: NOMBRE DEL PRODUCTO | E2: DESCRIPCIÓN DETALLADA DEL PRODUCTO | F2: UNIDAD DE MEDIDA | G2: CANTIDAD | H2: Ilustración del Producto | I2: Programa de Formación | J2: VALOR UNITARIO SIN IMPUESTO | K2: IMPUESTO APLICABLE | L2: VALOR UNITARIO CON IMPUESTO | M2: VALOR TOTAL CON IMPUESTO | N2: VALOR UNITARIO SIN IMPUESTO | O2: IMPUESTO APLICABLE | P2: VALOR UNITARIO CON IMPUESTO | Q2: VALOR TOTAL CON IMPUESTO | R2: VALOR UNITARIO SIN IMPUESTO | S2: IMPUESTO APLICABLE | T2: VALOR UNITARIO CON IMPUESTO | U2: VALOR TOTAL CON IMPUESTO | V2: VALOR UNITARIO CON IMPUESTO | W2: VALOR TOTAL CON IMPUESTO
B3: 1 | C3: 52121504 | D3: PROTECTOR DE COLCHÓN KING RETARDA EL PASO DE FLUIDOS | E3: Es un protector de colchón liso, el tratamiento especial en su tela hace que los líquidos que entren en contacto con la superficie del protector se queden en forma de gotas que se deslizan y no penetran rápidamente la tela. Protegiendo y alargando la vida del colchón. Dobladillo elástico de 1cm, ajustable en todo el contorno. Tela antifluido 120gr. 100% Poliéster. Medidas: 2 x 2 x 50 cms de caida Color: Blanco, liso, sin rayas, no satinado, sin adornos | F3: Unidad | G3: 3 | I3: Alijamiento y Limpieza Regular | J3: 220000 | K3: =+J3*19% -> 41800 | L3: =+J3+K3 -> 261800 | M3: =+L3*G3 -> 785400 | N3: 198000 | O3: =+N3*19% -> 37620 | P3: =+N3+O3 -> 235620 | Q3: =+P3*G3 -> 706860 | R3: 244400 | S3: =+R3*19% -> 46436 | T3: =+R3+S3 -> 290836 | U3: =+T3*G3 -> 872508 | V3: =+AVERAGE(L3,P3,T3) -> 262752 | W3: =+V3*G3 -> 788256
B4: 2 | C4: 52121500 | D4: Sábana Hotelera Doble | E4: Sabana Hotelera Plana o Ajustable. Medidas 1,40 x 190 cm. x 40 ó 50 cm de caida lados del colchon, lomo Hilos 200 ó 250 Color blanco , no satinado, no rayas no estampado. | F4: Unidad | G4: 10 | I4: Alijamiento y Limpieza Regular | J4: 104000 | K4: =+J4*19% -> 19760 | L4: =+J4+K4 -> 123760 | M4: =+L4*G4 -> 1237600 | N4: 93600 | O4: =+N4*19% -> 17784 | P4: =+N4+O4 -> 111384 | Q4: =+P4*G4 -> 1113840 | R4: 115500 | S4: =+R4*19% -> 21945 | T4: =+R4+S4 -> 137445 | U4: =+T4*G4 -> 1374450 | V4: =+AVERAGE(L4,P4,T4) -> 124196.33 | W4: =+V4*G4 -> 1241963.3
B5: 3 | C5: 53131600 | D5: Shampoo para habitaciones hoteleras | E5: Linea Econopack Productos empacados en caja plegadiza elaborada en papel ecológico 100% fibra de caña, cubierta con poliestireno termo encogible Fabricante Diversas Envase plastico referencia París / Presentación Bambú con capacidad de 30ml. (caja por 60 unidades) Descripción: liquido Color : amarillo Análisis pH (7 g. en 500 ml.) a 25°C Especificaciones : 6.0 – 7.5 Soluble en agua, Estabilidad libre de particulas | F5: unidades | G5: 30 | I5: Alijamiento y Limpieza Regular | J5: 5200 | K5: =+J5*19% -> 988 | L5: =+J5+K5 -> 6188 | M5: =+L5*G5 -> 185640 | N5: 4600 | O5: =+N5*19% -> 874 | P5: =+N5+O5 -> 5474 | Q5: =+P5*G5 -> 164220 | R5: 6100 | S5: =+R5*19% -> 1159 | T5: =+R5+S5 -> 7259 | U5: =+T5*G5 -> 217770 | V5: =+AVERAGE(L5,P5,T5) -> 6307 | W5: =+V5*G5 -> 189210
B6: 4 | C6: 47101518 | D6: Acondicionador para habitaciones hoteleras | E6: Productos empacados en caja plegadiza elaborada en papel ecológico 100% fibra de caña, cubierta con poliestireno termo encogible Fabricante Diversas Envase referencia París / Presentación Bambú con capacidad de 30ml. (caja por 60 unidades) Descripción: liquido Color : amarillo Análisis pH (7 g. en 500 ml.) a 25°C Especificaciones : 6.0 – 7.5 Soluble en agua, Estabilidad libre de particulas | F6: unidades | G6: 30 | I6: Alijamiento y Limpieza Regular | J6: 4000 | K6: =+J6*19% -> 760 | L6: =+J6+K6 -> 4760 | M6: =+L6*G6 -> 142800 | N6: 3600 | O6: =+N6*19% -> 684 | P6: =+N6+O6 -> 4284 | Q6: =+P6*G6 -> 128520 | R6: 4400 | S6: =+R6*19% -> 836 | T6: =+R6+S6 -> 5236 | U6: =+T6*G6 -> 157080 | V6: =+AVERAGE(L6,P6,T6) -> 4760 | W6: =+V6*G6 -> 142800
B7: 5 | C7: 53131600 | D7: Crema de manos para habitaciones hoteleras | E7: Productos empacados en caja plegadiza elaborada en papel ecológico 100% fibra de caña, cubierta con poliestireno termo encogible Fabricante Diversas Crema de 30 ml envase referencia paris /presentación bambú aroma cosmético (caja por 44 unidades) | F7: unidades | G7: 30 | I7: Alijamiento y Limpieza Regular | J7: 3200 | K7: =+J7*19% -> 608 | L7: =+J7+K7 -> 3808 | M7: =+L7*G7 -> 114240 | N7: 2800 | O7: =+N7*19% -> 532 | P7: =+N7+O7 -> 3332 | Q7: =+P7*G7 -> 99960 | R7: 3500 | S7: =+R7*19% -> 665 | T7: =+R7+S7 -> 4165 | U7: =+T7*G7 -> 124950 | V7: =+AVERAGE(L7,P7,T7) -> 3768.3333 | W7: =+V7*G7 -> 113050
B8: 6 | C8: 53131600 | D8: Jabon para habitaciones hoteleras | E8: Fabricante Diversas Jabón de 20 gramos, 0,7 onzas Jabón de tocador, sólido Forma redonda, aroma cosmético (caja por 44 unidades) | F8: unidades | G8: 30 | I8: Alijamiento y Limpieza Regular | J8: 600 | K8: =+J8*19% -> 114 | L8: =+J8+K8 -> 714 | M8: =+L8*G8 -> 21420 | N8: 1000 | O8: =+N8*19% -> 190 | P8: =+N8+O8 -> 1190 | Q8: =+P8*G8 -> 35700 | R8: 600 | S8: =+R8*19% -> 114 | T8: =+R8+S8 -> 714 | U8: =+T8*G8 -> 21420 | V8: =+AVERAGE(L8,P8,T8) -> 872.66667 | W8: =+V8*G8 -> 26180
B9: 7 | C9: 53131601 | D9: Gorros de baño habitaciones hoteleras | E9: Gorros en polietireno. Diseñado para adaptarse perfectamente al contorno de la cabeza, el gorro de ducha es práctico, ligero y desechable. Viene envasado en una caja de cartón blanca individual que garantiza mayor higiene y protección al producto. Fabricado en polietireno transparente con una goma elástica ofrecer mayor agarre y protección al cabello a la hora de tomar una ducha. Presentación caja por 48 unidades | F9: unidad | G9: 30 | I9: Alijamiento y Limpieza Regular | J9: 1800 | K9: =+J9*19% -> 342 | L9: =+J9+K9 -> 2142 | M9: =+L9*G9 -> 64260 | N9: 1600 | O9: =+N9*19% -> 304 | P9: =+N9+O9 -> 1904 | Q9: =+P9*G9 -> 57120 | R9: 2000 | S9: =+R9*19% -> 380 | T9: =+R9+S9 -> 2380 | U9: =+T9*G9 -> 71400 | V9: =+AVERAGE(L9,P9,T9) -> 2142 | W9: =+V9*G9 -> 64260
B10: 8 | C10: 53102512 | D10: Pañuelos faciales de bolsillo | E10: Práctico y cómodo tamaño * Ultra resistente *Suaves pañuelos * 100% fibras naturales * Mayor absorción * Sin deshacerse triple hoja Testeado dermatológicamente .Presentación pack 8x10 | F10: unidades | G10: 20 | I10: Alijamiento y Limpieza Regular | J10: 18000 | K10: =+J10*19% -> 3420 | L10: =+J10+K10 -> 21420 | M10: =+L10*G10 -> 428400 | N10: 16200 | O10: =+N10*19% -> 3078 | P10: =+N10+O10 -> 19278 | Q10: =+P10*G10 -> 385560 | R10: 20000 | S10: =+R10*19% -> 3800 | T10: =+R10+S10 -> 23800 | U10: =+T10*G10 -> 476000 | V10: =+AVERAGE(L10,P10,T10) -> 21499.333 | W10: =+V10*G10 -> 429986.67
B11: 9 | C11: 53102507 | D11: Gancho De Madera Lustrada | E11: Ganchos de madera para ropa. Medidas: 43 cm largo x 22 cm de alto. Características: Gancho para el clóset, con cuerpo de madera. | F11: unidades | G11: 15 | I11: Alijamiento y Limpieza Regular | J11: 9000 | K11: =+J11*19% -> 1710 | L11: =+J11+K11 -> 10710 | M11: =+L11*G11 -> 160650 | N11: 8100 | O11: =+N11*19% -> 1539 | P11: =+N11+O11 -> 9639 | Q11: =+P11*G11 -> 144585 | R11: 10000 | S11: =+R11*19% -> 1900 | T11: =+R11+S11 -> 11900 | U11: =+T11*G11 -> 178500 | V11: =+AVERAGE(L11,P11,T11) -> 10749.667 | W11: =+V11*G11 -> 161245
B12: 10 | C12: 26111702 | D12: PILAS | E12: Pilas alcalinas doble AA, voltaje 1.5 para controles | F12: Unidades | G12: 15 | I12: Alijamiento y Limpieza Regular | J12: 2000 | K12: =+J12*19% -> 380 | L12: =+J12+K12 -> 2380 | M12: =+L12*G12 -> 35700 | N12: 1800 | O12: =+N12*19% -> 342 | P12: =+N12+O12 -> 2142 | Q12: =+P12*G12 -> 32130 | R12: 2200 | S12: =+R12*19% -> 418 | T12: =+R12+S12 -> 2618 | U12: =+T12*G12 -> 39270 | V12: =+AVERAGE(L12,P12,T12) -> 2380 | W12: =+V12*G12 -> 35700
B13: 11 | C13: 26111702 | D13: PILAS | E13: Pila Energizer Econopack AAA-40 |Bateria triple AAA para control del A.A. Y del tv cable, potencia 1875 w (requeridas con marca por ser las aplicables para el funcionamiento) | F13: Unidades | G13: 14 | I13: Alijamiento y Limpieza Regular | J13: 7000 | K13: =+J13*19% -> 1330 | L13: =+J13+K13 -> 8330 | M13: =+L13*G13 -> 116620 | N13: 6300 | O13: =+N13*19% -> 1197 | P13: =+N13+O13 -> 7497 | Q13: =+P13*G13 -> 104958 | R13: 7700 | S13: =+R13*19% -> 1463 | T13: =+R13+S13 -> 9163 | U13: =+T13*G13 -> 128282 | V13: =+AVERAGE(L13,P13,T13) -> 8330 | W13: =+V13*G13 -> 116620
B14: 12 | C14: 39111500 | D14: Lámpara de escritorio | E14: Tipo : Lámparas led de escritorio Caracteristicas: Touch Flujo luminoso : 420 Lúmenes Color : Blanco Modelo: PL-0074QIQ Peso (kg) 1,1 | F14: unidad | G14: 2 | I14: Alijamiento y Limpieza Regular | J14: 320000 | K14: =+J14*19% -> 60800 | L14: =+J14+K14 -> 380800 | M14: =+L14*G14 -> 761600 | N14: 288000 | O14: =+N14*19% -> 54720 | P14: =+N14+O14 -> 342720 | Q14: =+P14*G14 -> 685440 | R14: 355500 | S14: =+R14*19% -> 67545 | T14: =+R14+S14 -> 423045 | U14: =+T14*G14 -> 846090 | V14: =+AVERAGE(L14,P14,T14) -> 382188.33 | W14: =+V14*G14 -> 764376.67
... B16: 14 | C16: 60121241 | D16: BOLSA ZIPLOC | E16: BOLSA ZIPLOC, CIERRE HERMÉTICO, GRADO ALIMENTICIO, 20 x 30 cm, PAQ. X 100 UND | F16: PAQUETE | G16: 1 | I16: Alijamiento y Limpieza Regular | J16: 46000 | K16: =+J16*19% -> 8740 | L16: =+J16+K16 -> 54740 | M16: =+L16*G16 -> 54740 | N16: 41400 | O16: =+N16*19% -> 7866 | P16: =+N16+O16 -> 49266 | Q16: =+P16*G16 -> 49266 | R16: 51100 | S16: =+R16*19% -> 9709 | T16: =+R16+S16 -> 60809 | U16: =+T16*G16 -> 60809 | V16: =+AVERAGE(L16,P16,T16) -> 54938.333 | W16: =+V16*G16 -> 54938.333
M17: =SUM(M3:M16) -> 4180470 | Q17: =SUM(Q3:Q16) -> 3783129 | U17: =SUM(U3:U16) -> 4647783 | V17: =SUM(V3:V16) -> 909953.33 | W17: =SUM(W3:W16) -> 4203794

Sheet Lote 4. Artesanias
A1: PROYECCION ECONOMICA LOTE 4. ARTESANIAS | H1: COTIZACION 1 BISNEXT | L1: COTIZACION 2 SUMMINISTRO C | P1: COTIZACION 3 GD GROUP | T1: PROMEDIO
A2: ITEM | B2: Código UNSPC | C2: NOMBRE DEL PRODUCTO | D2: DESCRIPCIÓN DETALLADA DEL PRODUCTO | E2: UNIDAD DE MEDIDA | F2: CANTIDAD | G2: Programa de Formación | H2: VALOR UNITARIO SIN IMPUESTO | I2: IMPUESTO APLICABLE | J2: VALOR UNITARIO CON IMPUESTO | K2: VALOR TOTAL CON IMPUESTO | L2: VALOR UNITARIO SIN IMPUESTO | M2: IMPUESTO APLICABLE | N2: VALOR UNITARIO CON IMPUESTO | O2: VALOR TOTAL CON IMPUESTO | P2: VALOR UNITARIO SIN IMPUESTO | Q2: IMPUESTO APLICABLE | R2: VALOR UNITARIO CON IMPUESTO | S2: VALOR TOTAL CON IMPUESTO | T2: VALOR UNITARIO CON IMPUESTO | U2: VALOR TOTAL CON IMPUESTO
A3: 1 | B3: 11161807 | C3: TELA FLEECE POLAR | D3: Generalidades: El Fleece Polar es muy suave, afelpado por ambos lados, posee propiedades generadoras de calor por tener una superficie motosa, la cual es ideal para el diseño y la confección de productos como cobijas, chaquetas friogrificas, forros, mantas, muñequeria y decoración navideña. Requisitos Generales: Este producto se utiliza para confeccionar muñequería navideña Requisitos Especificos: Dimensiones, 1.50 metros de ancho. Empaque y rotulado: N.A. Presentación: ela fleece Color Blanco Garantías: La fecha de vencimiento debe ser mínimo de un año contados a partir de la fecha de entrega del producto | E3: METRO | F3: 5 | G3: Artesanias Regular | H3: 28000 | I3: =+H3*19% -> 5320 | J3: =+H3+I3 -> 33320 | K3: =+J3*F3 -> 166600 | L3: 25200 | M3: =+L3*19% -> 4788 | N3: =+L3+M3 -> 29988 | O3: =+N3*F3 -> 149940 | P3: 31200 | Q3: =+P3*19% -> 5928 | R3: =+P3+Q3 -> 37128 | S3: =+R3*F3 -> 185640 | T3: =+AVERAGE(J3,N3,R3) -> 33478.667 | U3: =+T3*F3 -> 167393.33
A4: 2 | B4: 11161807 | C4: TELA FLEECE POLAR | D4: Generalidades: El Fleece Polar es muy suave, afelpado por ambos lados, posee propiedades generadoras de calor por tener una superficie motosa, la cual es ideal para el diseño y la confección de productos como cobijas, chaquetas friogrificas, forros, mantas, muñequeria y decoración navideña. Requisitos Generales: Este producto se utiliza para confeccionar muñequería navideña Requisitos Especificos: Dimensiones, 1.50 metros de ancho. Empaque y rotulado: N.A. Presentación: tela fleece Color negro Garantías: La fecha de vencimiento debe ser mínimo de un año contados a partir de la fecha de entrega del producto+D11 | E4: METRO | F4: 5 | G4: Artesanias Regular | H4: 28000 | I4: =+H4*19% -> 5320 | J4: =+H4+I4 -> 33320 | K4: =+J4*F4 -> 166600 | L4: 25200 | M4: =+L4*19% -> 4788 | N4: =+L4+M4 -> 29988 | O4: =+N4*F4 -> 149940 | P4: 31200 | Q4: =+P4*19% -> 5928 | R4: =+P4+Q4 -> 37128 | S4: =+R4*F4 -> 185640 | T4: =+AVERAGE(J4,N4,R4) -> 33478.667 | U4: =+T4*F4 -> 167393.33
A5: 3 | B5: 11161807 | C5: TELA FLEECE POLAR | D5: Generalidades: El Fleece Polar es muy suave, afelpado por ambos lados, posee propiedades generadoras de calor por tener una superficie motosa, la cual es ideal para el diseño y la confección de productos como cobijas, chaquetas friogrificas, forros, mantas, muñequeria y decoración navideña. Requisitos Generales: Este producto se utiliza para confeccionar muñequería navideña Requisitos Especificos: Dimensiones, 1.50 metros de ancho. Empaque y rotulado: N.A. Presentación: Color beige Garantías: La fecha de vencimiento debe ser mínimo de un año contados a partir de la fecha de entrega del producto | E5: METRO | F5: 5 | G5: Artesanias Regular | H5: 28000 | I5: =+H5*19% -> 5320 | J5: =+H5+I5 -> 33320 | K5: =+J5*F5 -> 166600 | L5: 25200 | M5: =+L5*19% -> 4788 | N5: =+L5+M5 -> 29988 | O5: =+N5*F5 -> 149940 | P5: 31200 | Q5: =+P5*19% -> 5928 | R5: =+P5+Q5 -> 37128 | S5: =+R5*F5 -> 185640 | T5: =+AVERAGE(J5,N5,R5) -> 33478.667 | U5: =+T5*F5 -> 167393.33
A6: 4 | B6: 11161807 | C6: TELA FLEECE POLAR | D6: Generalidades: El Fleece Polar es muy suave, afelpado por ambos lados,posee propiedades generadoras de calor por tener una superficie motosa, la cual es ideal para el diseño y la confección de productos como cobijas, chaquetas friogrificas, forros, mantas, muñequeria y decoración navideña. Requisitos Generales: Este producto se utiliza para confeccionar muñequería navideña Requisitos Especificos: Dimensiones, 1.50 metros de ancho. Empaque y rotulado: N.A. Presentación: tela fleece Color rojo Garantías: La fecha de vencimiento debe ser mínimo de un año contados a partir de la fecha de entrega del producto | E6: METRO | F6: 5 | G6: Artesanias Regular | H6: 28000 | I6: =+H6*19% -> 5320 | J6: =+H6+I6 -> 33320 | K6: =+J6*F6 -> 166600 | L6: 25000 | M6: =+L6*19% -> 4750 | N6: =+L6+M6 -> 29750 | O6: =+N6*F6 -> 148750 | P6: 29000 | Q6: =+P6*19% -> 5510 | R6: =+P6+Q6 -> 34510 | S6: =+R6*F6 -> 172550 | T6: =+AVERAGE(J6,N6,R6) -> 32526.667 | U6: =+T6*F6 -> 162633.33
A7: 5 | B7: 11161807 | C7: TELA FLEECE POLAR | D7: Generalidades: El Fleece Polar es muy suave, afelpado por ambos lados, posee propiedades generadoras de calor por tener una superficie motosa, la cual es ideal para el diseño y la confección de productos como cobijas, chaquetas friogrificas, forros, mantas, muñequeria y decoración navideña. Requisitos Generales: Este producto se utiliza para confeccionar muñequería navideña Requisitos Especificos: Dimensiones, 1.50 metros de ancho. Empaque y rotulado: N.A. Presentación: : tela fleece Color verde navidad Garantías: La fecha de vencimiento debe ser mínimo de un año contados a partir de la fecha de entrega del producto | E7: METRO | F7: 5 | G7: Artesanias Regular | H7: 28000 | I7: =+H7*19% -> 5320 | J7: =+H7+I7 -> 33320 | K7: =+J7*F7 -> 166600 | L7: 25200 | M7: =+L7*19% -> 4788 | N7: =+L7+M7 -> 29988 | O7: =+N7*F7 -> 149940 | P7: 31200 | Q7: =+P7*19% -> 5928 | R7: =+P7+Q7 -> 37128 | S7: =+R7*F7 -> 185640 | T7: =+AVERAGE(J7,N7,R7) -> 33478.667 | U7: =+T7*F7 -> 167393.33
A8: 6 | B8: 11161807 | C8: TELA FLEECE POLAR | D8: Generalidades: El Fleece Polar es muy suave, afelpado por ambos lados, posee propiedades generadoras de calor por tener una superficie motosa, la cual es ideal para el diseño y la confección de productos como cobijas, chaquetas friogrificas, forros, mantas, muñequeria y decoración navideña. Requisitos Generales: Este producto se utiliza para confeccionar muñequería navideña Requisitos Especificos: Dimensiones, 1.50 metros de ancho. Empaque y rotulado: N.A. Presentación: Color piel Garantías: La fecha de vencimiento debe ser mínimo de un año contados a partir de la fecha de entrega del producto | E8: METRO | F8: 5 | G8: Artesanias Regular | H8: 28000 | I8: =+H8*19% -> 5320 | J8: =+H8+I8 -> 33320 | K8: =+J8*F8 -> 166600 | L8: 25200 | M8: =+L8*19% -> 4788 | N8: =+L8+M8 -> 29988 | O8: =+N8*F8 -> 149940 | P8: 31200 | Q8: =+P8*19% -> 5928 | R8: =+P8+Q8 -> 37128 | S8: =+R8*F8 -> 185640 | T8: =+AVERAGE(J8,N8,R8) -> 33478.667 | U8: =+T8*F8 -> 167393.33
A9: 7 | B9: 11161807 | C9: TELA FLEECE POLAR | D9: Generalidades: El Fleece Polar es muy suave, afelpado por ambos lados, posee propiedades generadoras de calor por tener una superficie motosa, la cual es ideal para el diseño y la confección de productos como cobijas, chaquetas friogrificas, forros, mantas, muñequeria y decoración navideña. Requisitos Generales: Este producto se utiliza para confeccionar muñequería navideña Requisitos Especificos: Dimensiones, 1.50 metros de ancho. Empaque y rotulado: N.A. Presentación:: tela fleece Color estampado navideño Garantías: La fecha de vencimiento debe ser mínimo de un año contados a partir de la fecha de entrega del producto | E9: METRO | F9: 5 | G9: Artesanias Regular | H9: 28000 | I9: =+H9*19% -> 5320 | J9: =+H9+I9 -> 33320 | K9: =+J9*F9 -> 166600 | L9: 25200 | M9: =+L9*19% -> 4788 | N9: =+L9+M9 -> 29988 | O9: =+N9*F9 -> 149940 | P9: 31200 | Q9: =+P9*19% -> 5928 | R9: =+P9+Q9 -> 37128 | S9: =+R9*F9 -> 185640 | T9: =+AVERAGE(J9,N9,R9) -> 33478.667 | U9: =+T9*F9 -> 167393.33
A10: 8 | B10: 11161807 | C10: TELA FLEECE POLAR | D10: Generalidades: El Fleece Polar es muy suave, afelpado por ambos lados, posee propiedades generadoras de calor por tener una superficie motosa, la cual es ideal para el diseño y la confección de productos como cobijas, chaquetas friogrificas, forros, mantas, muñequeria y decoración navideña. Requisitos Generales: Este producto se utiliza para confeccionar muñequería navideña Requisitos Especificos: Dimensiones, 1.50 metros de ancho. Empaque y rotulado: N.A. Presentación: : tela fleece Color naranja Garantías: La fecha de vencimiento debe ser mínimo de un año contados a partir de la fecha de entrega del producto | E10: METRO | F10: 5 | G10: Artesanias Regular | H10: 28000 | I10: =+H10*19% -> 5320 | J10: =+H10+I10 -> 33320 | K10: =+J10*F10 -> 166600 | L10: 25200 | M10: =+L10*19% -> 4788 | N10: =+L10+M10 -> 29988 | O10: =+N10*F10 -> 149940 | P10: 31200 | Q10: =+P10*19% -> 5928 | R10: =+P10+Q10 -> 37128 | S10: =+R10*F10 -> 185640 | T10: =+AVERAGE(J10,N10,R10) -> 33478.667 | U10: =+T10*F10 -> 167393.33
A11: 9 | B11: 54121500 | C11: MURANOS | D11: Generalidades: Piedras murano en color azul marino oscuro. El cristal o vidrio de Muranotiene gran resistencia y un hermoso brillo y colores. Es un insumo perfecto para la bisutería y joyería. Requisitos Generales: El producto debe ser en material de vidrio. Requisitos Especificos: Murano #8 color azul marino oscuro Empaque y rotulado: N.A. Presentación: collar de sarta. Garantías: N.A. | E11: SARTA | F11: 500 | G11: 500 Bisuteria Población Desplazada | H11: 7000 | I11: =+H11*19% -> 1330 | J11: =+H11+I11 -> 8330 | K11: =+J11*F11 -> 4165000 | L11: 6300 | M11: =+L11*19% -> 1197 | N11: =+L11+M11 -> 7497 | O11: =+N11*F11 -> 3748500 | P11: 7800 | Q11: =+P11*19% -> 1482 | R11: =+P11+Q11 -> 9282 | S11: =+R11*F11 -> 4641000 | T11: =+AVERAGE(J11,N11,R11) -> 8369.6667 | U11: =+T11*F11 -> 4184833.3
A12: 10 | B12: 54121500 | C12: MURANOS | D12: Generalidades: Piedras murano en color azul marino oscuro.El cristal o vidrio de Muranotiene gran resistencia y un hermoso brillo y colores. Es un insumo perfecto para la bisutería y joyería. Requisitos Generales: El producto debe ser en material de vidrio. Requisitos Especificos: El producto debe ser en murano #6 color azul marino oscuro Empaque y rotulado: N.A. Presentación: Collar de sarta. Garantías: N.A | E12: SARTA | F12: 500 | G12: 500. Bisuteria Población Desplazada | H12: 6000 | I12: =+H12*19% -> 1140 | J12: =+H12+I12 -> 7140 | K12: =+J12*F12 -> 3570000 | L12: 5400 | M12: =+L12*19% -> 1026 | N12: =+L12+M12 -> 6426 | O12: =+N12*F12 -> 3213000 | P12: 6700 | Q12: =+P12*19% -> 1273 | R12: =+P12+Q12 -> 7973 | S12: =+R12*F12 -> 3986500 | T12: =+AVERAGE(J12,N12,R12) -> 7179.6667 | U12: =+T12*F12 -> 3589833.3
A13: 11 | B13: 54121500 | C13: MURANOS | D13: Generalidades: Piedras murano en color azul marino oscuro.El cristal o vidrio de Muranotiene gran resistencia y un hermoso brillo y colores. Es un insumo perfecto para la bisutería y joyería. Requisitos Generales: El producto debe ser en material de vidrio. Requisitos Especificos: El producto debe ser murano #4 color azul marino oscuro Empaque y rotulado: N.A Presentación: collar de sarta Garantías: N.A | E13: SARTA | F13: 500 | G13: 500. Bisuteria Población Desplazada | H13: 6000 | I13: =+H13*19% -> 1140 | J13: =+H13+I13 -> 7140 | K13: =+J13*F13 -> 3570000 | L13: 5400 | M13: =+L13*19% -> 1026 | N13: =+L13+M13 -> 6426 | O13: =+N13*F13 -> 3213000 | P13: 6700 | Q13: =+P13*19% -> 1273 | R13: =+P13+Q13 -> 7973 | S13: =+R13*F13 -> 3986500 | T13: =+AVERAGE(J13,N13,R13) -> 7179.6667 | U13: =+T13*F13 -> 3589833.3
A14: 12 | B14: 54121500 | C14: MURANOS | D14: Generalidades: Piedra Murano en color negro. El cristal o vidrio de Muranotiene gran resistencia y un hermoso brillo y colores. Es un insumo perfecto para la bisutería y joyería. Requisitos Generales: El proucto debe ser en material de vidrio. Requisitos Especificos: El producto debe ser en murano #8. en color negro Empaque y rotulado: N.A Presentación: Collar de sarta. Garantías: N.A | E14: SARTA | F14: 500 | G14: 500. Bisuteria Población Desplazada | H14: 7000 | I14: =+H14*19% -> 1330 | J14: =+H14+I14 -> 8330 | K14: =+J14*F14 -> 4165000 | L14: 6300 | M14: =+L14*19% -> 1197 | N14: =+L14+M14 -> 7497 | O14: =+N14*F14 -> 3748500 | P14: 7800 | Q14: =+P14*19% -> 1482 | R14: =+P14+Q14 -> 9282 | S14: =+R14*F14 -> 4641000 | T14: =+AVERAGE(J14,N14,R14) -> 8369.6667 | U14: =+T14*F14 -> 4184833.3
... A62: 60 | B62: 53141615 | C62: AGUJA MOSTACILLERA | D62: UNIDAD DE MEDIDA PAQUETE NOMBRE AGUJA MOSTACILLERA | E62: PAQUETE | F62: 52 | G62: 37. Bisuteria Población Desplazada 15. Bisuteria Regular | H62: 5000 | I62: =+H62*19% -> 950 | J62: =+H62+I62 -> 5950 | K62: =+J62*F62 -> 309400 | L62: 4500 | M62: =+L62*19% -> 855 | N62: =+L62+M62 -> 5355 | O62: =+N62*F62 -> 278460 | P62: 5600 | Q62: =+P62*19% -> 1064 | R62: =+P62+Q62 -> 6664 | S62: =+R62*F62 -> 346528 | T62: =+AVERAGE(J62,N62,R62) -> 5989.6667 | U62: =+T62*F62 -> 311462.67
K63: =SUM(K3:K62) -> 93385369 | O63: =SUM(O3:O62) -> 84324233 | S63: =SUM(S3:S62) -> 103711594 | T63: =SUM(T3:T62) -> 1417409 | U63: =SUM(U3:U62) -> 93807065

Sheet Lote 5. Organizacion de eventos
A1: PROYECCION ECONOMICA LOTE 5. ORGANIZACIÓN DE EVENTOS | I1: COTIZACION 1 BISNEXT | M1: COTIZACION 2 SUMMINISTRO C | Q1: COTIZACION 3 GD GROUP | U1: PROMEDIO
A2: ITEM | B2: Código UNSPC | C2: NOMBRE DEL PRODUCTO | D2: DESCRIPCIÓN DETALLADA DEL PRODUCTO | E2: UNIDAD DE MEDIDA | F2: CANTIDAD | G2: Ilustración del Producto | H2: Programa de Formación | I2: VALOR UNITARIO SIN IMPUESTO | J2: IMPUESTO APLICABLE | K2: VALOR UNITARIO CON IMPUESTO | L2: VALOR TOTAL CON IMPUESTO | M2: VALOR UNITARIO SIN IMPUESTO | N2: IMPUESTO APLICABLE | O2: VALOR UNITARIO CON IMPUESTO | P2: VALOR TOTAL CON IMPUESTO | Q2: VALOR UNITARIO SIN IMPUESTO | R2: IMPUESTO APLICABLE | S2: VALOR UNITARIO CON IMPUESTO | T2: VALOR TOTAL CON IMPUESTO | U2: VALOR UNITARIO CON IMPUESTO | V2: VALOR TOTAL CON IMPUESTO
