Workbook

Sheet modelo (2)
A1: periodos | G1: ejecución | J1: Reajustes | L1: Total obra acumulada | M1: Saldo por Pagar de Obra | N1: ABONO A OBRA | O1: Abono a Obra acumulado | P1: Total reajustes acumulado | Q1: Saldo por pagar de reajustes | R1: ABONO A REAJUSTES | S1: Abono a reajustes acumulado | T1: Impuestos | U1: Calculo de Intereses (descontar el valor de los impuestos el 8% del valor de la obra ejcutada en el trimestre) | V1: Total Pago a Contratista de obra | X1: reajustes | AD1: Interventoria
A2: año | C2: trimestre | D2: mes | J2: Ind. Icoviv | X2: año | Y2: 0.0224 | AD2: Etapa I | AF2: Etapa II | AH2: TOTAL PAGO INTERVENTORIA
A3: 1 | B3: 2 | C3: 3 | D3: 4 | E3: 5 | G3: 6 | H3: 7 | I3: 8 | J3: 9 | K3: 10 | Y3: 0.0432 | Z3: 1543586.9
F4: =+#REF!-SUM(#REF!) -> #REF! | G4: % | H4: mes | I4: trimestre | J4: Io | K4: =+'Tabla de reajustes'!Z3 -> 117.05 | T4: trimestrales | Y4: 0.09 | Z4: 6261549
F5: =+#REF!+F4 -> #REF!
J6: If | K6: trimestre | AD6: mes | AE6: Reajuste (IPCC) | AF6: mes | AG6: Reajuste (IPCC)
L7: 11 | M7: 12 | N7: 13 | O7: 14 | P7: 15 | Q7: 16 | R7: 17 | S7: 18 | T7: 19 | U7: 20 | V7: 21
A8: 0 | B8: 2022 | C8: 0 | D8: 0 | E8: 44896
A9: 1 | B9: 2023 | C9: 2 | D9: 0 | E9: 45017 | X9: =+SUM(R10:R21) -> 0 | Z9: =+SUM(U9:U20) -> 0 | AA9: =+SUM(V10:V21) -> 0 | AI9: =+SUM(AD9:AD20)+SUM(AF9:AF20) -> 457274.37 | AJ9: =+SUM(AE9:AE20)+SUM(AG9:AG20) -> #REF!
D10: 0 | E10: 45047
D11: 0 | E11: 45078 | AH11: =SUM(AD9:AG11) -> 0
C12: =1+C9 -> 3 | D12: 1 | E12: 45108 | W12: =+V12-#REF! -> #REF! | AB12: =+#REF!-V12 -> #REF! | AD12: =+F83/36 -> 50808.263
D13: =1+D12 -> 2 | E13: 45139 | AD13: =+AD12 -> 50808.263
D14: =1+D13 -> 3 | E14: 45170 | AD14: =+AD13 -> 50808.263 | AH14: =SUM(AD12:AG14) -> 152424.79
C15: =1+C12 -> 4 | D15: =1+D14 -> 4 | E15: 45200 | W15: =+V15-#REF! -> #REF! | AB15: =+#REF!-V15 -> #REF! | AD15: =+AD14 -> 50808.263
D16: =1+D15 -> 5 | E16: 45231 | AD16: =+AD15 -> 50808.263
D17: =1+D16 -> 6 | E17: 45261 | AD17: =+AD16 -> 50808.263 | AH17: =SUM(AD15:AG17) -> 152424.79
A18: =1+A9 -> 2 | B18: =1+B9 -> 2024 | C18: 1 | D18: =1+D17 -> 7 | E18: 45292 | W18: =+V18-#REF! -> #REF! | AB18: =+#REF!-V18 -> #REF! | AD18: =+AD17 -> 50808.263 | AE18: =+#REF!/12000 -> #REF!
D19: =1+D18 -> 8 | E19: 45323 | AD19: =+AD18 -> 50808.263 | AE19: =+AE18 -> #REF!
D20: =1+D19 -> 9 | E20: 45352 | AD20: =+AD19 -> 50808.263 | AE20: =+AE19 -> #REF! | AH20: =SUM(AD18:AG20) -> #REF!
C21: =1+C18 -> 2 | D21: =1+D20 -> 10 | E21: 45383 | W21: =+V21-#REF! -> #REF! | X21: =+SUM(R22:R33) -> 0 | Z21: =+SUM(U21:U32) -> 0 | AA21: =+SUM(V22:V33) -> 0 | AB21: =+#REF!-V21 -> #REF! | AD21: =+AD20 -> 50808.263 | AE21: =+AE20 -> #REF! | AI21: =+SUM(AD21:AD32)+SUM(AF21:AF32) -> 609699.15 | AJ21: =+SUM(AE21:AE32)+SUM(AG21:AG32) -> #REF!
D22: =1+D21 -> 11 | E22: 45413 | AD22: =+AD21 -> 50808.263 | AE22: =+AE21 -> #REF!
D23: =1+D22 -> 12 | E23: 45444 | AC23: 0.25 | AD23: =+AD22 -> 50808.263 | AE23: =+AE22 -> #REF! | AH23: =SUM(AD21:AG23) -> #REF!
C24: =1+C21 -> 3 | D24: =1+D23 -> 13 | E24: 45474 | W24: =+V24-#REF! -> #REF! | AB24: =+#REF!-V24 -> #REF! | AD24: =+AD23 -> 50808.263 | AE24: =+AE23 -> #REF!
D25: =1+D24 -> 14 | E25: 45505 | AD25: =+AD24 -> 50808.263 | AE25: =+AE24 -> #REF!
D26: =1+D25 -> 15 | E26: 45536 | AD26: =+AD25 -> 50808.263 | AE26: =+AE25 -> #REF! | AH26: =SUM(AD24:AG26) -> #REF!
C27: =1+C24 -> 4 | D27: =1+D26 -> 16 | E27: 45566 | W27: =+V27-#REF! -> #REF! | AB27: =+#REF!-V27 -> #REF! | AD27: =+AD26 -> 50808.263 | AE27: =+AE26 -> #REF!
D28: =1+D27 -> 17 | E28: 45597 | AD28: =+AD27 -> 50808.263 | AE28: =+AE27 -> #REF!
D29: =1+D28 -> 18 | E29: 45627 | AD29: =+AD28 -> 50808.263 | AE29: =+AE28 -> #REF! | AH29: =SUM(AD27:AG29) -> #REF!
A30: =1+A18 -> 3 | B30: =1+B18 -> 2025 | C30: 1 | D30: =1+D29 -> 19 | E30: 45658 | W30: =+V30-#REF! -> #REF! | AB30: =+#REF!-V30 -> #REF! | AD30: =+AD29 -> 50808.263 | AE30: =+#REF!/12000 -> #REF!
D31: =1+D30 -> 20 | E31: 45689 | AD31: =+AD30 -> 50808.263 | AE31: =+AE30 -> #REF!
D32: =1+D31 -> 21 | E32: 45717 | AD32: =+AD31 -> 50808.263 | AE32: =+AE31 -> #REF! | AH32: =SUM(AD30:AG32) -> #REF!
C33: =1+C30 -> 2 | D33: =1+D32 -> 22 | E33: 45748 | W33: =+V33-#REF! -> #REF! | X33: =+SUM(R34:R45) -> 0 | Z33: =+SUM(U33:U44) -> 0 | AA33: =+SUM(V34:V45) -> 0 | AB33: =+#REF!-V33 -> #REF! | AD33: =+AD32 -> 50808.263 | AE33: =+#REF!/12000 -> #REF! | AI33: =+SUM(AD33:AD44)+SUM(AF33:AF44) -> 609699.15 | AJ33: =+SUM(AE33:AE44)+SUM(AG33:AG44) -> #REF!
D34: =1+D33 -> 23 | E34: 45778 | AD34: =+AD33 -> 50808.263 | AE34: =+AE33 -> #REF!
D35: =1+D34 -> 24 | E35: 45809 | AC35: 0.5 | AD35: =+AD34 -> 50808.263 | AE35: =+AE34 -> #REF! | AH35: =SUM(AD33:AG35) -> #REF!
C36: =1+C33 -> 3 | D36: =1+D35 -> 25 | E36: 45839 | W36: =+V36-#REF! -> #REF! | AB36: =+#REF!-V36 -> #REF! | AD36: =+AD35 -> 50808.263 | AE36: =+AE35 -> #REF!
D37: =1+D36 -> 26 | E37: 45870 | AD37: =+AD36 -> 50808.263 | AE37: =+AE36 -> #REF!
D38: =1+D37 -> 27 | E38: 45901 | AD38: =+AD37 -> 50808.263 | AE38: =+AE37 -> #REF! | AH38: =SUM(AD36:AG38) -> #REF!
C39: =1+C36 -> 4 | D39: =1+D38 -> 28 | E39: 45931 | W39: =+V39-#REF! -> #REF! | AB39: =+#REF!-V39 -> #REF! | AD39: =+AD38 -> 50808.263 | AE39: =+AE38 -> #REF!
D40: =1+D39 -> 29 | E40: 45962 | AD40: =+AD39 -> 50808.263 | AE40: =+AE39 -> #REF!
...

Sheet modelo
A1: periodos | F1: DISPONIBILIDAD PARA PROYECTO | L1: ejecución | O1: Reajustes | Q1: Total obra acumulada | R1: Saldo por Pagar de Obra | S1: ABONO A OBRA | T1: Abono a Obra acumulado | U1: Total reajustes acumulado | V1: Saldo por pagar de reajustes | W1: ABONO A REAJUSTES | X1: Abono a reajustes acumulado | Y1: Calculo de Intereses (descontar el valor de los impuestos el 8% del valor de la obra ejcutada en el trimestre) | Z1: Total Pago a Contratista de obra
A2: año | C2: trimestre | D2: mes | F2: Total | H2: Obra | I2: Interventoria | J2: Fiducia | O2: Ind. Icoviv
A3: 1 | B3: 2 | C3: 3 | D3: 4 | E3: 5 | L3: 6 | M3: 7 | N3: 8 | O3: 9 | P3: 10
F4: Año | G4: Trimestre | L4: % | M4: mes | N4: trimestre | O4: Io | P4: =+'Tabla de reajustes'!AD3 -> 117.79613 | Y4: 0.1274
Y5: 0.08
F6: 0.75 | O6: If | P6: trimestre | Y6: =+Y4+Y5 -> 0.2074
Q7: 11 | R7: 12 | S7: 13 | T7: 14 | U7: 15 | V7: 16 | W7: 17 | X7: 18 | Y7: 19 | Z7: 20
A8: 0 | B8: 2022 | C8: 0 | D8: 0 | E8: 44896
A9: 1 | B9: 2023 | C9: 2 | D9: 0 | E9: 45017 | F9: 1800000 | L9: 0 | M9: =+$I$91*L9 -> 0 | O9: =+'Tabla de reajustes'!AE3 -> 118.08963
D10: 0 | E10: 45047 | L10: 0 | M10: =+$I$91*L10 -> 0 | O10: =+ROUND(O9*(1+'Tabla de reajustes'!$D$8),2) -> 118.38
D11: 0 | E11: 45078 | L11: 0 | M11: =+$I$91*L11 -> 0 | N11: =SUM(M9:M11) -> 0 | O11: =+ROUND(O10*(1+'Tabla de reajustes'!$D$8),2) -> 118.67 | Q11: =Q8+N11 -> 0 | R11: =+Q11+R8-S9 -> 0 | U11: =+U8+P11 -> 0 | V11: =+U11+V8-W9 -> 0 | Y11: =+(R11)*$Y$6/4 -> 0
C12: =1+C9 -> 3 | D12: 1 | E12: 45108 | L12: 0.00025 | M12: =+$I$91*L12 -> 6532.4909 | O12: =+ROUND(O11*(1+'Tabla de reajustes'!$D$8),2) -> 118.97 | S12: =IF(R11>H11-W12-Y11,H11-W12-Y11,R11) -> 0 | T12: =+S12-T9 -> 0 | X12: =+W12-X9 -> 0 | Z12: =+S12+W12+Y11 -> 0
D13: =1+D12 -> 2 | E13: 45139 | L13: 0.00025 | M13: =+$I$91*L13 -> 6532.4909 | O13: =+ROUND(O12*(1+'Tabla de reajustes'!$D$8),2) -> 119.27
D14: =1+D13 -> 3 | E14: 45170 | G14: =SUM(H14:J14) -> 175656.39 | H14: =+Y14+R14 -> 20613.602 | I14: 152424.79 | J14: =2*1000*1.1*1.19 -> 2618 | L14: 0.00025 | M14: =+$I$91*L14 -> 6532.4909 | N14: =SUM(M12:M14) -> 19597.473 | O14: =+ROUND(O13*(1+'Tabla de reajustes'!$D$8),2) -> 119.57 | Q14: =Q11+N14 -> 19597.473 | R14: =+Q14-T12 -> 19597.473 | U14: =+U11+P14 -> 0 | V14: =+U14-X12 -> 0 | Y14: =+(R14)*$Y$6/4 -> 1016.129
C15: =1+C12 -> 4 | D15: =1+D14 -> 4 | E15: 45200 | L15: 0.00025 | M15: =+$I$91*L15 -> 6532.4909 | O15: =+ROUND(O14*(1+'Tabla de reajustes'!$D$8),2) -> 119.87 | S15: =IF(R14>H14-W15-Y14,H14-W15-Y14,R14) -> 19597.473 | T15: =+S15+T12 -> 19597.473 | X15: =+W15+X12 -> 0 | Z15: =+S15+W15+Y14 -> 20613.602
D16: =1+D15 -> 5 | E16: 45231 | L16: 0.0175 | M16: =+$I$91*L16 -> 457274.36 | O16: =+ROUND(O15*(1+'Tabla de reajustes'!$D$8),2) -> 120.17
D17: =1+D16 -> 6 | E17: 45261 | G17: =SUM(H17:J17) -> 1178462.5 | H17: =1800000-H11-H14-I11-I14-I17-J11-J14-J17-445881.07 -> 1023419.8 | I17: 152424.79 | J17: =+J14 -> 2618 | L17: 0.02 | M17: =+$I$91*L17 -> 522599.27 | N17: =SUM(M15:M17) -> 986406.13 | O17: =+ROUND(O16*(1+'Tabla de reajustes'!$D$8),2) -> 120.47 | Q17: =Q14+N17 -> 1006003.6 | R17: =+Q17-T15 -> 986406.13 | U17: =+U14+P17 -> 0 | V17: =+U17-X15 -> 0 | Y17: =+(R17)*$Y$6/4 -> 51145.158
A18: =1+A9 -> 2 | B18: =1+B9 -> 2024 | C18: 1 | D18: =1+D17 -> 7 | E18: 45292 | F18: =7700000*F6+1900000 -> 7675000 | L18: 0.0225 | M18: =+$I$91*L18 -> 587924.18 | O18: =+ROUND(O17*(1+'Tabla de reajustes'!$D$8),2) -> 120.77 | S18: =IF(R17>H17-W18-Y17,H17-W18-Y17,R17) -> 972274.59 | T18: =+S18+T15 -> 991872.07 | X18: =+W18+X15 -> 0 | Z18: =+S18+W18+Y17 -> 1023419.8
D19: =1+D18 -> 8 | E19: 45323 | L19: 0.025 | M19: =+$I$91*L19 -> 653249.09 | O19: =+ROUND(O18*(1+'Tabla de reajustes'!$D$8),2) -> 121.07
D20: =1+D19 -> 9 | E20: 45352 | G20: =+F18/4 -> 1918750 | H20: =+G20-I20-J20 -> 1748360.5 | I20: 167771.52 | J20: =+J17 -> 2618 | L20: 0.0275 | M20: =+$I$91*L20 -> 718574 | N20: =SUM(M18:M20) -> 1959747.3 | O20: =+ROUND(O19*(1+'Tabla de reajustes'!$D$8),2) -> 121.37 | P20: =+ROUND((N20)*(O20-$P$4)/$P$4,2) -> 59457.66 | Q20: =Q17+N20 -> 2965750.9 | R20: =+Q20-T18 -> 1973878.8 | U20: =+U17+P20 -> 59457.66 | V20: =+U20-X18 -> 59457.66 | Y20: =+(R20)*$Y$6/4 -> 102345.62
C21: =1+C18 -> 2 | D21: =1+D20 -> 10 | E21: 45383 | L21: 0.03 | M21: =+$I$91*L21 -> 783898.91 | O21: =+ROUND(O20*(1+'Tabla de reajustes'!$D$8),2) -> 121.67 | S21: =IF(R20>H20-W21-Y20,H20-W21-Y20,R20) -> 1646014.9 | T21: =+S21+T18 -> 2637886.9 | X21: =+W21+X18 -> 0 | Z21: =+S21+W21+Y20 -> 1748360.5
D22: =1+D21 -> 11 | E22: 45413 | L22: 0.0325 | M22: =+$I$91*L22 -> 849223.82 | O22: =+ROUND(O21*(1+'Tabla de reajustes'!$D$8),2) -> 121.97
D23: =1+D22 -> 12 | E23: 45444 | G23: =+SUM(H23:J23) -> 2364551.9 | H23: 2193900.5 | I23: 167771.52 | J23: =+J14*1.1 -> 2879.8 | L23: 0.035 | M23: =+$I$91*L23 -> 914548.73 | N23: =SUM(M21:M23) -> 2547671.5 | O23: =+ROUND(O22*(1+'Tabla de reajustes'!$D$8),2) -> 122.27 | P23: =+ROUND((N23)*(O23-$P$4)/$P$4,2) -> 96759.98 | Q23: =Q20+N23 -> 5513422.3 | R23: =+Q23-T21 -> 2875535.4 | U23: =+U20+P23 -> 156217.64 | V23: =+U23-X21 -> 156217.64 | Y23: =+(R23)*$Y$6/4 -> 149096.51
C24: =1+C21 -> 3 | D24: =1+D23 -> 13 | E24: 45474 | L24: 0.035 | M24: =+$I$91*L24 -> 914548.73 | O24: =+ROUND(O23*(1+'Tabla de reajustes'!$D$8),2) -> 122.57 | S24: =IF(R23>H23-W24-Y23,H23-W24-Y23,R23) -> 2044804 | T24: =+S24+T21 -> 4682691 | X24: =+W24+X21 -> 0 | Z24: =+S24+W24+Y23 -> 2193900.5
D25: =1+D24 -> 14 | E25: 45505 | L25: 0.035 | M25: =+$I$91*L25 -> 914548.73 | O25: =+ROUND(O24*(1+'Tabla de reajustes'!$D$8),2) -> 122.88
D26: =1+D25 -> 15 | E26: 45536 | G26: =+F18/4 -> 1918750 | H26: =+G26-I26-J26 -> 1748098.7 | I26: 167771.52 | J26: =+J23 -> 2879.8 | L26: 0.0375 | M26: =+$I$91*L26 -> 979873.64 | N26: =SUM(M24:M26) -> 2808971.1 | O26: =+ROUND(O25*(1+'Tabla de reajustes'!$D$8),2) -> 123.19 | P26: =+ROUND((N26)*(O26-$P$4)/$P$4,2) -> 128622.44 | Q26: =Q23+N26 -> 8322393.4 | R26: =+Q26-T24 -> 3639702.5 | U26: =+U23+P26 -> 284840.08 | V26: =+U26-X24 -> 284840.08 | Y26: =+(R26)*$Y$6/4 -> 188718.57
C27: =1+C24 -> 4 | D27: =1+D26 -> 16 | E27: 45566 | L27: 0.0375 | M27: =+$I$91*L27 -> 979873.64 | O27: =+ROUND(O26*(1+'Tabla de reajustes'!$D$8),2) -> 123.5 | S27: =IF(R26>H26-W27-Y26,H26-W27-Y26,R26) -> 1559380.1 | T27: =+S27+T24 -> 6242071.1 | X27: =+W27+X24 -> 0 | Z27: =+S27+W27+Y26 -> 1748098.7
D28: =1+D27 -> 17 | E28: 45597 | L28: 0.04 | M28: =+$I$91*L28 -> 1045198.5 | O28: =+ROUND(O27*(1+'Tabla de reajustes'!$D$8),2) -> 123.81
D29: =1+D28 -> 18 | E29: 45627 | G29: =+G26 -> 1918750 | H29: =+G29-I29-J29 -> 1748098.7 | I29: 167771.52 | J29: =+J26 -> 2879.8 | L29: 0.045 | M29: =+$I$91*L29 -> 1175848.4 | N29: =SUM(M27:M29) -> 3200920.6 | O29: =+ROUND(O28*(1+'Tabla de reajustes'!$D$8),2) -> 124.12 | P29: =+ROUND((N29)*(O29-$P$4)/$P$4,2) -> 171841.01 | Q29: =Q26+N29 -> 11523314 | R29: =+Q29-T27 -> 5281242.9 | U29: =+U26+P29 -> 456681.09 | V29: =+U29-X27 -> 456681.09 | Y29: =+(R29)*$Y$6/4 -> 273832.45
A30: =1+A18 -> 3 | B30: =1+B18 -> 2025 | C30: 1 | D30: =1+D29 -> 19 | E30: 45658 | F30: =7940000*F6+1750000 -> 7705000 | L30: 0.045 | M30: =+$I$91*L30 -> 1175848.4 | O30: =+ROUND(O29*(1+'Tabla de reajustes'!$D$8),2) -> 124.43 | S30: =IF(R29>H29-W30-Y29,H29-W30-Y29,R29) -> 1474266.2 | T30: =+S30+T27 -> 7716337.3 | X30: =+W30+X27 -> 0 | Z30: =+S30+W30+Y29 -> 1748098.7
D31: =1+D30 -> 20 | E31: 45689 | L31: 0.0475 | M31: =+$I$91*L31 -> 1241173.3 | O31: =+ROUND(O30*(1+'Tabla de reajustes'!$D$8),2) -> 124.74
D32: =1+D31 -> 21 | E32: 45717 | G32: =+F30/4 -> 1926250 | H32: =+G32-I32-J32 -> 1752508.3 | I32: 170861.86 | J32: =+J29 -> 2879.8 | L32: 0.045 | M32: =+$I$91*L32 -> 1175848.4 | N32: =SUM(M30:M32) -> 3592870 | O32: =+ROUND(O31*(1+'Tabla de reajustes'!$D$8),2) -> 125.05 | P32: =+ROUND((N32)*(O32-$P$4)/$P$4,2) -> 221248.47 | Q32: =Q29+N32 -> 15116184 | R32: =+Q32-T30 -> 7399846.7 | U32: =+U29+P32 -> 677929.56 | V32: =+U32-X30 -> 677929.56 | Y32: =+(R32)*$Y$6/4 -> 383682.05
C33: =1+C30 -> 2 | D33: =1+D32 -> 22 | E33: 45748 | L33: 0.0425 | M33: =+$I$91*L33 -> 1110523.5 | O33: =+ROUND(O32*(1+'Tabla de reajustes'!$D$8),2) -> 125.36 | S33: =IF(R32>H32-W33-Y32,H32-W33-Y32,R32) -> 1368826.3 | T33: =+S33+T30 -> 9085163.6 | X33: =+W33+X30 -> 0 | Z33: =+S33+W33+Y32 -> 1752508.3
D34: =1+D33 -> 23 | E34: 45778 | L34: 0.04 | M34: =+$I$91*L34 -> 1045198.5 | O34: =+ROUND(O33*(1+'Tabla de reajustes'!$D$8),2) -> 125.67
D35: =1+D34 -> 24 | E35: 45809 | G35: =+G32 -> 1926250 | H35: =+G35-I35-J35 -> 1752220.4 | I35: 170861.86 | J35: =+J26*1.1 -> 3167.78 | L35: 0.04 | M35: =+$I$91*L35 -> 1045198.5 | N35: =SUM(M33:M35) -> 3200920.6 | O35: =+ROUND(O34*(1+'Tabla de reajustes'!$D$8),2) -> 125.98 | P35: =+ROUND((N35)*(O35-$P$4)/$P$4,2) -> 222383.53 | Q35: =Q32+N35 -> 18317105 | R35: =+Q35-T33 -> 9231941 | U35: =+U32+P35 -> 900313.09 | V35: =+U35-X33 -> 900313.09 | Y35: =+(R35)*$Y$6/4 -> 478676.14 | AA35: 0.5
C36: =1+C33 -> 3 | D36: =1+D35 -> 25 | E36: 45839 | L36: 0.0375 | M36: =+$I$91*L36 -> 979873.64 | O36: =+ROUND(O35*(1+'Tabla de reajustes'!$D$8),2) -> 126.29 | S36: =IF(R35>H35-W36-Y35,H35-W36-Y35,R35) -> 823387.68 | T36: =+S36+T33 -> 9908551.3 | W36: =+V35*AA35 -> 450156.55 | X36: =+W36+X33 -> 450156.55 | Z36: =+S36+W36+Y35 -> 1752220.4
D37: =1+D36 -> 26 | E37: 45870 | L37: 0.035 | M37: =+$I$91*L37 -> 914548.73 | O37: =+ROUND(O36*(1+'Tabla de reajustes'!$D$8),2) -> 126.6
D38: =1+D37 -> 27 | E38: 45901 | G38: =+G35 -> 1926250 | H38: =+G38-I38-J38 -> 1752220.4 | I38: 170861.86 | J38: =+J35 -> 3167.78 | L38: 0.0325 | M38: =+$I$91*L38 -> 849223.82 | N38: =SUM(M36:M38) -> 2743646.2 | O38: =+ROUND(O37*(1+'Tabla de reajustes'!$D$8),2) -> 126.92 | P38: =+ROUND((N38)*(O38-$P$4)/$P$4,2) -> 212508.44 | Q38: =Q35+N38 -> 21060751 | R38: =+Q38-T36 -> 11152199 | U38: =+U35+P38 -> 1112821.5 | V38: =+U38-X36 -> 662664.98 | Y38: =+(R38)*$Y$6/4 -> 578241.54
C39: =1+C36 -> 4 | D39: =1+D38 -> 28 | E39: 45931 | L39: 0.03 | M39: =+$I$91*L39 -> 783898.91 | O39: =+ROUND(O38*(1+'Tabla de reajustes'!$D$8),2) -> 127.24 | S39: =IF(R38>H38-W39-Y38,H38-W39-Y38,R38) -> 842646.32 | T39: =+S39+T36 -> 10751198 | W39: =+V38*AA35 -> 331332.49 | X39: =+W39+X36 -> 781489.04 | Z39: =+S39+W39+Y38 -> 1752220.4
D40: =1+D39 -> 29 | E40: 45962 | L40: 0.03 | M40: =+$I$91*L40 -> 783898.91 | O40: =+ROUND(O39*(1+'Tabla de reajustes'!$D$8),2) -> 127.56
...

Sheet Tabla de reajustes
D1: 2021 | P1: 2022 | AB1: proyectado
D2: Enero | E2: Febrero | F2: Marzo | G2: Abril | H2: Mayo | I2: Junio | J2: Julio | K2: Agosto | L2: Septiembre | M2: Octubre | N2: Noviembre | O2: Diciembre | P2: Enero | Q2: Febrero | R2: Marzo | S2: Abril | T2: Mayo | U2: Junio | V2: Julio | W2: Agosto | X2: Septiembre | Y2: Octubre | Z2: Noviembre | AA2: Diciembre | AB2: Enero | AC2: Febrero | AD2: marzo | AE2: abril | AF2: mayo | AG2: junio
A3: 530202 | B3: Puertos, canales, presas, sistemas de riego y otras obras hidráulicas (acueductos) | C3: 5.781 | D3: 101.256 | E3: 101.976 | F3: 102.364 | G3: 102.981 | H3: 103.391 | I3: 103.692 | J3: 104.517 | K3: 104.688 | L3: 104.909 | M3: 105.26 | N3: 105.883 | O3: 106.258 | P3: =+Z7 -> 108.01 | Q3: =+Z8 -> 108.99 | R3: =+Z9 -> 111.37 | S3: =+Z10 -> 112.29 | T3: =+Z11 -> 114.7 | U3: =+Z12 -> 115.19 | V3: =+Z13 -> 115.74 | W3: =+Z14 -> 116.21 | X3: =+Z15 -> 116.06 | Y3: =+Z16 -> 116.77 | Z3: =+Z17 -> 117.05 | AA3: =+Z18 -> 116.92 | AB3: =+AA3*(1+$D$8) -> 117.21132 | AC3: =+AB3*(1+$D$8) -> 117.50336 | AD3: =+AC3*(1+$D$8) -> 117.79613 | AE3: =+AD3*(1+$D$8) -> 118.08963 | AF3: =+AE3*(1+$D$8) -> 118.38386 | AG3: =+AF3*(1+$D$8) -> 118.67882
E4: =+(E3-D3)/D3 -> 0.0071106897 | F4: =+(F3-E3)/E3 -> 0.0038048168 | G4: =+(G3-F3)/F3 -> 0.0060275097 | H4: =+(H3-G3)/G3 -> 0.0039813169 | I4: =+(I3-H3)/H3 -> 0.0029112785 | J4: =+(J3-I3)/I3 -> 0.0079562551 | K4: =+(K3-J3)/J3 -> 0.0016360975 | L4: =+(L3-K3)/K3 -> 0.0021110347 | ... AG4: =+(AG3-AF3)/AF3 -> 0.0024915907
G5: promedio mensual | H5: acumulado
AB6: se toma para Io, marzo proyectado 2023 | AF6: =+AD3 -> 117.79613
E7: año 2022 | G7: =+AVERAGE(P4:AA4) -> 0.0080285722 | H7: =+SUM(P4:AA4) -> 0.096342866 | Y7: 44562 | Z7: 108.01 | AB7: se toma para If, del primer mes Junio proyectado 2023 | AF7: =+AG3 -> 118.67882
B8: =+G9 -> 0.002468255 | C8: T de crecimiento | D8: =+G8 -> 0.0024915907 | E8: segundo semestre 2022 | G8: =+AVERAGE(V4:AA4) -> 0.0024915907 | H8: =+SUM(V4:AA4) -> 0.014949544 | Y8: 44593 | Z8: 108.99
E9: cuarto trimestre 2022 | G9: =+AVERAGE(Y4:AA4) -> 0.002468255 | H9: =+SUM(Y4:AA4) -> 0.0074047651 | Y9: 44621 | Z9: 111.37
Y10: 44652 | Z10: 112.29
Y11: 44682 | Z11: 114.7
Y12: 44713 | Z12: 115.19
Y13: 44743 | Z13: 115.74
Y14: 44774 | Z14: 116.21
Y15: 44805 | Z15: 116.06
Y16: 44835 | Z16: 116.77
Y17: 44866 | Z17: 117.05
Y18: 44896 | Z18: 116.92
