Workbook

Sheet Hoja Evaluación 
B1: Proponente | C1: EXPERIENCIA MÍNIMA HABILITANTE DEL PROPONENTE | E1: PERSONAL MÍNIMO REQUERIDO HABILITANTE | K1: RESULTADO
E2: Gerente del Proyecto | G2: Profesionales para elaboración de propuesta # 1 | I2: Profesionales para elaboración de propuesta # 2
A3: 1 | B3: EPYCA CONSULTORES S.A.S. | C3: CUMPLE | E3: HABILITADO | G3: HABILITADO | I3: HABILITADO | K3: HABILITADO
A4: 2 | B4: GRUPO INGSAE SAS | C4: NO CUMPLE | E4: HABILITADO | G4: HABILITADO | I4: NO HABILITADO | K4: NO HABILITADO
A5: 3 | B5: CRECE S.A.S | C5: CUMPLE | E5: HABILITADO | G5: HABILITADO | I5: HABILITADO | K5: HABILITADO
A6: 4 | B6: REDISEÑAR, S.A.S. | C6: CUMPLE | E6: HABILITADO | G6: HABILITADO | I6: HABILITADO | K6: HABILITADO
A7: 5 | B7: RACIONALIZAR S.A.S | C7: CUMPLE | E7: HABILITADO | G7: HABILITADO | I7: HABILITADO | K7: HABILITADO
A8: 6 | B8: UNIÓN TEMPORAL CNC BAHAMON CMA-001-2023 | C8: CUMPLE | E8: NO HABILITADO | G8: HABILITADO | I8: NO HABILITADO | K8: NO HABILITADO
A9: 7 | B9: AVANCE ORGANIZACIONAL CONSULTORES SAS BIC | C9: CUMPLE | E9: HABILITADO | G9: HABILITADO | I9: HABILITADO | K9: NO HABILITADO
A10: 8 | B10: CONSORCIO REDISEÑO MIN JUSTICIA | C10: CUMPLE | E10: HABILITADO | G10: HABILITADO | I10: HABILITADO | K10: HABILITADO
A11: 9 | B11: MODERNIZAR MINJUSTICIA UT. | C11: NO CUMPLE | E11: NO HABILITADO | G11: NO HABILITADO | I11: HABILITADO | K11: NO HABILITADO
B14: Proponente | C14: EXPERIENCIA ESPECIFICA ADICIONAL DEL PROPONENTE | E14: EXPERIENCIA ADICIONAL DEL EQUIPO DE TRABAJO | K14: APOYO A LA INDUSTRIA NACIONAL | M14: INCENTIVO VINCULACIÓN PERSONAL EN CONDICIÓN DE DISCAPACIDAD | O14: MIPYME EN EL SISTEMA DE COMPRAS PUBLICAS | Q14: EMPRENDIMIENTOS Y EMPRESAS DE MUJERES | S14: TOTAL
E15: Gerente del Proyecto | G15: Profesionales para elaboración de propuesta # 1 | I15: Profesionales para elaboración de propuesta # 2
C16: Criterio | D16: Puntaje | E16: Criterio | F16: Puntaje | G16: Criterio | H16: Puntaje | I16: Criterio | J16: Puntaje | K16: Criterio | L16: Puntaje | M16: Criterio | N16: Puntaje | O16: Criterio | P16: Puntaje | Q16: Criterio | R16: Puntaje
A17: 1 | B17: EPYCA CONSULTORES S.A.S. | C17: Al proponente que acredite tres (3) contratos adicionales en la ejecución de contratos en los que se acredite las mismas condiciones del objeto contractual en procesos con entidades públicas del orden nacional | D17: =+IF(C17=Hoja2!$A$1,Hoja2!$B$1,IF(C17=Hoja2!$A$2,Hoja2!$B$2,IF(C17=Hoja2!$A$3,Hoja2!$B$3,0))) -> 50 | E17: Más de tres (3) años de experiencia adicional | F17: =+IF(E17=Hoja2!$A$7,Hoja2!$B$7,IF(E17=Hoja2!$A$8,Hoja2!$B$8,IF(E17=Hoja2!$A$9,Hoja2!$B$9,0))) -> 19.25 | G17: Más de tres (3) años de experiencia adicional | H17: =+IF(G17=Hoja2!$A$12,Hoja2!$B$12,IF(G17=Hoja2!$A$13,Hoja2!$B$13,IF(G17=Hoja2!$A$14,Hoja2!$B$14,0))) -> 9.625 | I17: Más de tres (3) años de experiencia adicional | J17: =+IF(I17=Hoja2!$A$18,Hoja2!$B$18,IF(I17=Hoja2!$A$19,Hoja2!$B$19,IF(I17=Hoja2!$A$20,Hoja2!$B$20,0))) -> 9.625 | K17: El oferente persona natural colombiana o residente en Colombia, o persona jurídica constituida de conformidad con la legislación colombiana o proponente plural conformado por estos y extranjero con trato nacional, que vincule el 100% de personal colombiano para la ejecución del contrato | L17: =+IF(K17=Hoja2!$A$24,Hoja2!$B$24,IF(K17=Hoja2!$A$25,Hoja2!$B$25,IF(K17=Hoja2!$A$26,Hoja2!$B$26,IF(K17=Hoja2!$A$27,Hoja2!$B$27,)))) -> 10 | M17: SI | N17: =+IF(M17=Hoja2!$A$31,Hoja2!$B$31,IF(M17=Hoja2!$A$32,Hoja2!$B$32,0)) -> 1 | O17: PEQUEÑA EMPRESA | P17: =+IF(O17=Hoja2!$A$41,Hoja2!$B$41,IF(O17=Hoja2!$A$42,Hoja2!$B$42,IF(O17=Hoja2!$A$43,Hoja2!$B$43,0))) -> 0.2 | Q17: SI | R17: =+IF(Q17=Hoja2!$A$36,Hoja2!$B$36,IF(Q17=Hoja2!$A$37,Hoja2!$B$37,0)) -> 0.25 | S17: =+SUM(D17,F17,H17,J17,L17,N17,P17,R17) -> 99.95
A18: 2 | B18: GRUPO INGSAE SAS | C18: NO HABILITADO
A19: 3 | B19: CRECE S.A.S | C19: Al proponente que acredite dos (2) contratos adicionales en la ejecución de contratos en los que se acredite las mismas condiciones del objeto contractual en procesos con entidades públicas del orden nacional | D19: =+IF(C19=Hoja2!$A$1,Hoja2!$B$1,IF(C19=Hoja2!$A$2,Hoja2!$B$2,IF(C19=Hoja2!$A$3,Hoja2!$B$3,0))) -> 30 | E19: Entre un (1) y tres (3) años de experiencia adicional | F19: =+IF(E19=Hoja2!$A$7,Hoja2!$B$7,IF(E19=Hoja2!$A$8,Hoja2!$B$8,IF(E19=Hoja2!$A$9,Hoja2!$B$9,0))) -> 12 | G19: Más de tres (3) años de experiencia adicional | H19: =+IF(G19=Hoja2!$A$12,Hoja2!$B$12,IF(G19=Hoja2!$A$13,Hoja2!$B$13,IF(G19=Hoja2!$A$14,Hoja2!$B$14,0))) -> 9.625 | I19: Más de tres (3) años de experiencia adicional | J19: =+IF(I19=Hoja2!$A$18,Hoja2!$B$18,IF(I19=Hoja2!$A$19,Hoja2!$B$19,IF(I19=Hoja2!$A$20,Hoja2!$B$20,0))) -> 9.625 | K19: El oferente persona natural colombiana o residente en Colombia, o persona jurídica constituida de conformidad con la legislación colombiana o proponente plural conformado por estos y extranjero con trato nacional, que vincule el 100% de personal colombiano para la ejecución del contrato | L19: =+IF(K19=Hoja2!$A$24,Hoja2!$B$24,IF(K19=Hoja2!$A$25,Hoja2!$B$25,IF(K19=Hoja2!$A$26,Hoja2!$B$26,IF(K19=Hoja2!$A$27,Hoja2!$B$27,)))) -> 10 | M19: SI | N19: =+IF(M19=Hoja2!$A$31,Hoja2!$B$31,IF(M19=Hoja2!$A$32,Hoja2!$B$32,0)) -> 1 | O19: PEQUEÑA EMPRESA | P19: =+IF(O19=Hoja2!$A$41,Hoja2!$B$41,IF(O19=Hoja2!$A$42,Hoja2!$B$42,IF(O19=Hoja2!$A$43,Hoja2!$B$43,0))) -> 0.2 | Q19: SI | R19: =+IF(Q19=Hoja2!$A$36,Hoja2!$B$36,IF(Q19=Hoja2!$A$37,Hoja2!$B$37,0)) -> 0.25 | S19: =+SUM(D19,F19,H19,J19,L19,N19,P19,R19) -> 72.7
A20: 4 | B20: REDISEÑAR, S.A.S. | C20: Al proponente que acredite tres (3) contratos adicionales en la ejecución de contratos en los que se acredite las mismas condiciones del objeto contractual en procesos con entidades públicas del orden nacional | D20: =+IF(C20=Hoja2!$A$1,Hoja2!$B$1,IF(C20=Hoja2!$A$2,Hoja2!$B$2,IF(C20=Hoja2!$A$3,Hoja2!$B$3,0))) -> 50 | E20: Más de tres (3) años de experiencia adicional | F20: =+IF(E20=Hoja2!$A$7,Hoja2!$B$7,IF(E20=Hoja2!$A$8,Hoja2!$B$8,IF(E20=Hoja2!$A$9,Hoja2!$B$9,0))) -> 19.25 | G20: Más de tres (3) años de experiencia adicional | H20: =+IF(G20=Hoja2!$A$12,Hoja2!$B$12,IF(G20=Hoja2!$A$13,Hoja2!$B$13,IF(G20=Hoja2!$A$14,Hoja2!$B$14,0))) -> 9.625 | I20: Más de tres (3) años de experiencia adicional | J20: =+IF(I20=Hoja2!$A$18,Hoja2!$B$18,IF(I20=Hoja2!$A$19,Hoja2!$B$19,IF(I20=Hoja2!$A$20,Hoja2!$B$20,0))) -> 9.625 | K20: El oferente persona natural colombiana o residente en Colombia, o persona jurídica constituida de conformidad con la legislación colombiana o proponente plural conformado por estos y extranjero con trato nacional, que vincule el 100% de personal colombiano para la ejecución del contrato | L20: =+IF(K20=Hoja2!$A$24,Hoja2!$B$24,IF(K20=Hoja2!$A$25,Hoja2!$B$25,IF(K20=Hoja2!$A$26,Hoja2!$B$26,IF(K20=Hoja2!$A$27,Hoja2!$B$27,)))) -> 10 | M20: NO | N20: =+IF(M20=Hoja2!$A$31,Hoja2!$B$31,IF(M20=Hoja2!$A$32,Hoja2!$B$32,0)) -> 0 | O20: MICROEMPRESA | P20: =+IF(O20=Hoja2!$A$41,Hoja2!$B$41,IF(O20=Hoja2!$A$42,Hoja2!$B$42,IF(O20=Hoja2!$A$43,Hoja2!$B$43,0))) -> 0.25 | Q20: NO | R20: =+IF(Q20=Hoja2!$A$36,Hoja2!$B$36,IF(Q20=Hoja2!$A$37,Hoja2!$B$37,0)) -> 0 | S20: =+SUM(D20,F20,H20,J20,L20,N20,P20,R20) -> 98.75
A21: 5 | B21: RACIONALIZAR S.A.S | C21: Al proponente que acredite tres (3) contratos adicionales en la ejecución de contratos en los que se acredite las mismas condiciones del objeto contractual en procesos con entidades públicas del orden nacional | D21: =+IF(C21=Hoja2!$A$1,Hoja2!$B$1,IF(C21=Hoja2!$A$2,Hoja2!$B$2,IF(C21=Hoja2!$A$3,Hoja2!$B$3,0))) -> 50 | E21: Más de tres (3) años de experiencia adicional | F21: =+IF(E21=Hoja2!$A$7,Hoja2!$B$7,IF(E21=Hoja2!$A$8,Hoja2!$B$8,IF(E21=Hoja2!$A$9,Hoja2!$B$9,0))) -> 19.25 | G21: Más de tres (3) años de experiencia adicional | H21: =+IF(G21=Hoja2!$A$12,Hoja2!$B$12,IF(G21=Hoja2!$A$13,Hoja2!$B$13,IF(G21=Hoja2!$A$14,Hoja2!$B$14,0))) -> 9.625 | I21: Más de tres (3) años de experiencia adicional | J21: =+IF(I21=Hoja2!$A$18,Hoja2!$B$18,IF(I21=Hoja2!$A$19,Hoja2!$B$19,IF(I21=Hoja2!$A$20,Hoja2!$B$20,0))) -> 9.625 | K21: El oferente persona natural colombiana o residente en Colombia, o persona jurídica constituida de conformidad con la legislación colombiana o proponente plural conformado por estos y extranjero con trato nacional, que vincule el 100% de personal colombiano para la ejecución del contrato | L21: =+IF(K21=Hoja2!$A$24,Hoja2!$B$24,IF(K21=Hoja2!$A$25,Hoja2!$B$25,IF(K21=Hoja2!$A$26,Hoja2!$B$26,IF(K21=Hoja2!$A$27,Hoja2!$B$27,)))) -> 10 | M21: SI | N21: =+IF(M21=Hoja2!$A$31,Hoja2!$B$31,IF(M21=Hoja2!$A$32,Hoja2!$B$32,0)) -> 1 | O21: PEQUEÑA EMPRESA | P21: =+IF(O21=Hoja2!$A$41,Hoja2!$B$41,IF(O21=Hoja2!$A$42,Hoja2!$B$42,IF(O21=Hoja2!$A$43,Hoja2!$B$43,0))) -> 0.2 | Q21: SI | R21: =+IF(Q21=Hoja2!$A$36,Hoja2!$B$36,IF(Q21=Hoja2!$A$37,Hoja2!$B$37,0)) -> 0.25 | S21: =+SUM(D21,F21,H21,J21,L21,N21,P21,R21) -> 99.95
A22: 6 | B22: UNIÓN TEMPORAL CNC BAHAMON CMA-001-2023 | C22: NO HABILITADO
A23: 7 | B23: AVANCE ORGANIZACIONAL CONSULTORES SAS BIC | C23: Al proponente que acredite tres (3) contratos adicionales en la ejecución de contratos en los que se acredite las mismas condiciones del objeto contractual en procesos con entidades públicas del orden nacional | D23: =+IF(C23=Hoja2!$A$1,Hoja2!$B$1,IF(C23=Hoja2!$A$2,Hoja2!$B$2,IF(C23=Hoja2!$A$3,Hoja2!$B$3,0))) -> 50 | F23: =+IF(E23=Hoja2!$A$7,Hoja2!$B$7,IF(E23=Hoja2!$A$8,Hoja2!$B$8,IF(E23=Hoja2!$A$9,Hoja2!$B$9,0))) -> 0 | G23: Más de tres (3) años de experiencia adicional | H23: =+IF(G23=Hoja2!$A$12,Hoja2!$B$12,IF(G23=Hoja2!$A$13,Hoja2!$B$13,IF(G23=Hoja2!$A$14,Hoja2!$B$14,0))) -> 9.625 | I23: Más de tres (3) años de experiencia adicional | J23: =+IF(I23=Hoja2!$A$18,Hoja2!$B$18,IF(I23=Hoja2!$A$19,Hoja2!$B$19,IF(I23=Hoja2!$A$20,Hoja2!$B$20,0))) -> 9.625 | K23: El oferente persona natural colombiana o residente en Colombia, o persona jurídica constituida de conformidad con la legislación colombiana o proponente plural conformado por estos y extranjero con trato nacional, que vincule el 100% de personal colombiano para la ejecución del contrato | L23: =+IF(K23=Hoja2!$A$24,Hoja2!$B$24,IF(K23=Hoja2!$A$25,Hoja2!$B$25,IF(K23=Hoja2!$A$26,Hoja2!$B$26,IF(K23=Hoja2!$A$27,Hoja2!$B$27,)))) -> 10 | M23: SI | N23: =+IF(M23=Hoja2!$A$31,Hoja2!$B$31,IF(M23=Hoja2!$A$32,Hoja2!$B$32,0)) -> 1 | O23: MICROEMPRESA | P23: =+IF(O23=Hoja2!$A$41,Hoja2!$B$41,IF(O23=Hoja2!$A$42,Hoja2!$B$42,IF(O23=Hoja2!$A$43,Hoja2!$B$43,0))) -> 0.25 | Q23: SI | R23: =+IF(Q23=Hoja2!$A$36,Hoja2!$B$36,IF(Q23=Hoja2!$A$37,Hoja2!$B$37,0)) -> 0.25 | S23: =+SUM(D23,F23,H23,J23,L23,N23,P23,R23) -> 80.75
A24: 8 | B24: CONSORCIO REDISEÑO MIN JUSTICIA | C24: Al proponente que acredite tres (3) contratos adicionales en la ejecución de contratos en los que se acredite las mismas condiciones del objeto contractual en procesos con entidades públicas del orden nacional | D24: =+IF(C24=Hoja2!$A$1,Hoja2!$B$1,IF(C24=Hoja2!$A$2,Hoja2!$B$2,IF(C24=Hoja2!$A$3,Hoja2!$B$3,0))) -> 50 | E24: Entre un (1) y tres (3) años de experiencia adicional | F24: =+IF(E24=Hoja2!$A$7,Hoja2!$B$7,IF(E24=Hoja2!$A$8,Hoja2!$B$8,IF(E24=Hoja2!$A$9,Hoja2!$B$9,0))) -> 12 | G24: Más de tres (3) años de experiencia adicional | H24: =+IF(G24=Hoja2!$A$12,Hoja2!$B$12,IF(G24=Hoja2!$A$13,Hoja2!$B$13,IF(G24=Hoja2!$A$14,Hoja2!$B$14,0))) -> 9.625 | I24: Más de tres (3) años de experiencia adicional | J24: =+IF(I24=Hoja2!$A$18,Hoja2!$B$18,IF(I24=Hoja2!$A$19,Hoja2!$B$19,IF(I24=Hoja2!$A$20,Hoja2!$B$20,0))) -> 9.625 | K24: El oferente persona natural colombiana o residente en Colombia, o persona jurídica constituida de conformidad con la legislación colombiana o proponente plural conformado por estos y extranjero con trato nacional, que vincule el 100% de personal colombiano para la ejecución del contrato | L24: =+IF(K24=Hoja2!$A$24,Hoja2!$B$24,IF(K24=Hoja2!$A$25,Hoja2!$B$25,IF(K24=Hoja2!$A$26,Hoja2!$B$26,IF(K24=Hoja2!$A$27,Hoja2!$B$27,)))) -> 10 | M24: SI | N24: =+IF(M24=Hoja2!$A$31,Hoja2!$B$31,IF(M24=Hoja2!$A$32,Hoja2!$B$32,0)) -> 1 | O24: MICROEMPRESA | P24: =+IF(O24=Hoja2!$A$41,Hoja2!$B$41,IF(O24=Hoja2!$A$42,Hoja2!$B$42,IF(O24=Hoja2!$A$43,Hoja2!$B$43,0))) -> 0.25 | Q24: SI | R24: =+IF(Q24=Hoja2!$A$36,Hoja2!$B$36,IF(Q24=Hoja2!$A$37,Hoja2!$B$37,0)) -> 0.25 | S24: =+SUM(D24,F24,H24,J24,L24,N24,P24,R24) -> 92.75
A25: 9 | B25: MODERNIZAR MINJUSTICIA UT. | C25: NO HABILITADO

Sheet Hoja2
A1: Al proponente que acredite tres (3) contratos adicionales en la ejecución de contratos en los que se acredite las mismas condiciones del objeto contractual en procesos con entidades públicas del orden nacional | B1: 50 | E1: CUMPLE
A2: Al proponente que acredite dos (2) contratos adicionales en la ejecución de contratos en los que se acredite las mismas condiciones del objeto contractual en procesos con entidades públicas del orden nacional | B2: 30 | E2: NO CUMPLE
A3: Al proponente que acredite un (1) contratos adicionales en la ejecución de contratos en los que se acredite las mismas condiciones del objeto contractual en procesos con entidades públicas del orden nacional o privadas | B3: 20
A6: GERENTE
A7: Hasta un (1) año de experiencia adicional | B7: 5
A8: Entre un (1) y tres (3) años de experiencia adicional | B8: 12
A9: Más de tres (3) años de experiencia adicional | B9: 19.25
A12: Hasta un (1) año de experiencia adicional | B12: 2.5
A13: Entre un (1) y tres (3) años de experiencia adicional | B13: 6
A14: Más de tres (3) años de experiencia adicional | B14: 9.625
A17: Profesionales para elaboración de propuesta # 2
A18: Hasta un (1) año de experiencia adicional | B18: 2.5
A19: Entre un (1) y tres (3) años de experiencia adicional | B19: 6
A20: Más de tres (3) años de experiencia adicional | B20: 9.625
A23: APOYO INDUSTRIA NACIONAL
A24: El oferente persona natural colombiana o residente en Colombia, o persona jurídica constituida de conformidad con la legislación colombiana o proponente plural conformado por estos y extranjero con trato nacional, que vincule el 100% de personal colombiano para la ejecución del contrato | B24: 10
A25: El oferente persona natural colombiana o residente en Colombia, o persona jurídica constituida de conformidad con la legislación colombiana o proponente plural conformado por estos y extranjero con trato nacional, que vincule el 40% de personal colombiano para la ejecución del contrato | B25: 7
A26: El oferente extranjero sin aplicación del principio de reciprocidad y tienen componente nacional. | B26: 5
A27: Ofrece servicios extranjeros sin reciprocidad. | B27: 0
A30: INCENTIVO VINCULACIÓN PERSONAL EN CONDICIÓN DE DISCAPACIDAD
A31: SI | B31: 1
A32: NO | B32: 0
A35: EMPRENDIMIENTOS Y EMPRESAS DE MUJERES
A36: SI | B36: 0.25
A37: NO | B37: 0
A40: MIPYME EN EL SISTEMA DE COMPRAS PÚBLICAS //
A41: MICROEMPRESA | B41: 0.25
A42: PEQUEÑA EMPRESA | B42: 0.2
A43: MEDIANA EMPRESA | B43: 0.15
