Workbook

Sheet GENERAL
A1: MEJORAMIENTO MEDIANTE PAVIMENTO RÍGIDO TRAMO VIAL DE LA TRANSVERSAL 49 Y TRAMO VIAL DE LA CARRERA 57 (CALLE LA LENGUA DEL BARRIO LOS CALAMARES) DEL DISTRITO DE CARTAGENA DE INDIAS
A6: PROGRAMAS | B6: PROYECTO | C6: COSTO DEL PROGRAMA
A8: 1
A9: Programa de desarrollo a la aplicación de la gestion ambiental | B9: 1.1. Conformacion del grupo de gestion ambiental | C9: =+'1.1 GEA'!F13 -> 3050000
B11: 1.2. Capacitacion ambiental del personal de la obra | C11: =+'1.2 CAP AMB'!F14 -> 3250000
B12: 1.3. Cumplimiento de requerimientos legales | C12: =+'1.3 REQ LEG'!F14 -> 3766496.9
A13: 2
A14: Actividades constructivas | B14: 2.1. Manejo integral de materiales de construccion | C14: =+'2.1 MAN MAT '!F13 -> 2053585.6
B16: 2.2. Señalizacion de frentes de trabajo y sitios temporales | C16: =+'2.2 SEÑA'!F13 -> 1324800
B17: 2.3. Manejo y disposicion final de RCD | C17: =+'2.3 DIS RCD'!F15 -> 3809700
B18: 2.4. Manejo y disposicion final de residuos convencionales y especiales | C18: =+'2.4 MAN RES CON'!F14 -> 2397400
B19: 2.5. Manejo de generacion de material particulado y ruido | C19: =+'2.5 MP Y RUIDO'!F14 -> 610000
B20: 2.6. Manejo de maquinaria pesada y equipos | C20: =+'2.6 MAN MAN PES'!F13 -> 1186765
A21: 3
A22: Gestion hidrica | B22: 3.1. Manejo de residuos liquidos domesticos e industriales. | C22: =+'3.1 RES LIQ'!H13 -> 1120000
B25: 3.2. Manejo de aguas superficiales | C25: =+'3.2 MAN AGU SUP'!F12 -> 1500000
A28: 4
A29: Gestion social | B29: 4.1. Proyecto de divulgacion e informacion | C29: =+'4.1 DIV E INF'!F14 -> 3020000
B30: 4.2. Proyecto de contratacion de mano de obra | C30: =+'4.2 CONT MANO DE OBRA'!F13 -> 1200000
A31: 5
A32: Salud ocupacional | B32: 5.1. Manejo de salud ocupacional | C32: =+'5.1 MANEJO DE SALUD OCUPACIONAL'!F14 -> 1159300
A33: COSTO DIRECTO TOTAL | C33: =+SUM(C9:C32) -> 29448048
A34: ADMINISTRACIÓN ( 6 ) % | C34: =+C33*0.06 -> 1766882.9
A35: IMPREVISTO ( 1 ) % | C35: =+C33*0.01 -> 294480.48
A36: UTILIDAD ( 3 ) % | C36: =+C33*0.03 -> 883441.43
A37: VALOR TOTAL PMA INCLUIDO AIU | C37: =ROUND(SUM(C33:C36),0) -> 32392852

Sheet GESTION A1 - A2
A1: COSTOS PERSONAL Y EQUIPO DE GESTIÓN AMBIENTAL
A4: 1.0 COSTOS DE PERSONAL
A5: ITEM | B5: DESCRIPCION | C5: UNIDAD | D5: CANT. | E5: VR. UNITARIO | F5: MESES | G5: VR. TOTAL
A6: 1.1 | B6: Residente Ambiental | C6: Mes | D6: 0.2 | E6: 2500000 | F6: 2.5 | G6: =+F6*E6*D6 -> 1250000
A7: 1.2 | B7: Experto Seguridad Industrial y Salud Ocupacional | C7: Mes | D7: 0.2 | E7: 1600000 | F7: =+'1.2 CAP AMB'!D8+'2.2 SEÑA'!D6 -> 1 | G7: =+F7*E7*D7 -> 320000
A8: 1.3 | B8: Obreros Cuadrilla de Orden Aseo y Limpieza | C8: Mes | D8: 0.2 | E8: =+'2.6 MAN MAN PES'!E7 -> 1623930 | F8: =+'2.6 MAN MAN PES'!D7 -> 0.5 | G8: =+F8*E8*D8 -> 162393
A9: 1.4 | B9: Auditor Externo | C9: Mes | D9: 0.2 | E9: 3000000 | F9: 4 | G9: =+F9*E9*D9 -> 2400000
B10: SUBTOTAL PERSONAL | G10: =SUM(G6:G9) -> 4132393
A12: 2.0 COSTOS DE EQUIPOS, HERRAMIENTAS Y OTROS
A13: ITEM | B13: DESCRIPCION | C13: UNIDAD | D13: CANT. | E13: VR. UNITARIO | F13: MESES | G13: VR. TOTAL
A14: 2.1 | B14: Minicargador | C14: Hr | D14: 2 | E14: 100000 | F14: 1 | G14: =+F14*E14*D14 -> 200000
A15: 2.2 | B15: Volqueta | C15: Hr | D15: 2 | E15: 100000 | F15: 1 | G15: =+F15*E15*D15 -> 200000
A16: 2.3 | B16: Carretillas buggy | C16: Und | D16: 2 | E16: 239900 | F16: 1 | G16: =+F16*E16*D16 -> 479800
A17: 2.4 | B17: Palas | C17: Und | D17: 2 | E17: 49900 | F17: 1 | G17: =+F17*E17*D17 -> 99800
A18: 2.5 | B18: Escobas | C18: Und | D18: 2 | E18: 13900 | F18: 1 | G18: =+F18*E18*D18 -> 27800
A19: 2.6 | B19: Bolsas Plasticas | C19: Paquete | D19: 5 | E19: 7500 | F19: 2.5 | G19: =+F19*E19*D19 -> 93750
A20: 2.7 | B20: EPP | C20: Und | D20: 1 | E20: 250000 | F20: 2.5 | G20: =+F20*E20*D20 -> 625000
B22: SUBTOTAL COSTOS DIRECTOS | G22: =SUM(G14:G21) -> 1726150
B24: COSTO DIRECTO TOTAL | G24: =+G22+G10 -> 5858543

Sheet 1.1 GEA
A3: CONFORMACION DEL GRUPO DE GESTION AMBIENTAL
A5: ITEM | B5: DESCRIPCIÓN | C5: UNIDAD | D5: CANTIDAD | E5: VALOR UNITARIO | F5: VALOR TOTAL
A6: 1.1 | B6: Profesional ambiental | C6: Mes | D6: 0.5 | E6: 2500000 | F6: =+E6*D6 -> 1250000
A7: 1.2 | B7: Profesional social | C7: Mes | D7: 0.5 | E7: 2000000 | F7: =+E7*D7 -> 1000000
A8: 1.3 | B8: Profesional en seguridad | C8: Mes | D8: 0.5 | E8: 1600000 | F8: =+E8*D8 -> 800000
A10: Subtotal costos de maquinaria, equipos y materiales | F10: =SUM(F6:F9) -> 3050000
A13: TOTAL COSTOS DIRECTOS | F13: =+F10 -> 3050000

Sheet 1.2 CAP AMB
A3: CAPACITACION AMBIENTAL AL PERSONAL DE LA OBRA
A5: ITEM | B5: DESCRIPCIÓN | C5: UNIDAD | D5: CANTIDAD | E5: VALOR UNITARIO | F5: VALOR TOTAL
A6: 1.1 | B6: Profesional ambiental | C6: Mes | D6: 0.5 | E6: 2500000 | F6: =+E6*D6 -> 1250000
A7: 1.2 | B7: Profesional social | C7: Mes | D7: 0.5 | E7: 2000000 | F7: =+E7*D7 -> 1000000
A8: 1.3 | B8: Profesional en seguridad | C8: Mes | D8: 0.5 | E8: 1600000 | F8: =+E8*D8 -> 800000
A9: 1.4 | B9: Papeleria | C9: Glb | D9: 0.5 | E9: 400000 | F9: =+E9*D9 -> 200000
A11: Subtotal costos de maquinaria, equipos y materiales | F11: =SUM(F6:F10) -> 3250000
A14: TOTAL COSTOS DIRECTOS | F14: =+F11 -> 3250000

Sheet 1.3 REQ LEG
A3: CUMPLIMIENTO DE REQUERIMIENTOS LEGALES
A5: ITEM | B5: DESCRIPCIÓN | C5: UNIDAD | D5: CANTIDAD | E5: VALOR UNITARIO | F5: VALOR TOTAL
A6: 1.1 | B6: Profesional ambiental | C6: Mes | D6: 0.5 | E6: 2500000 | F6: =+E6*D6 -> 1250000
A7: 1.2 | B7: Autoliquidaciones EPA | C7: Glb | D7: 0.3 | E7: 8388323 | F7: =+E7*D7 -> 2516496.9
A11: Subtotal costos de maquinaria, equipos y materiales | F11: =SUM(F6:F10) -> 3766496.9
A14: TOTAL COSTOS DIRECTOS | F14: =+F11 -> 3766496.9

Sheet 2.1 MAN MAT 
A3: MANEJO INTEGRAL DE MATERIALES DE CONSTRUCCION
A5: ITEM | B5: DESCRIPCIÓN | C5: UNIDAD | D5: CANTIDAD | E5: VALOR UNITARIO | F5: VALOR TOTAL
A6: 1.1 | B6: Contenedor | C6: Mes | D6: 1 | E6: 900000 | F6: =+E6*D6 -> 900000
A7: 1.2 | B7: Plástico grueso | C7: Rollo | D7: 1 | E7: 569900 | F7: =+E7*D7 -> 569900
A8: 1.3 | B8: Bodega provisional | C8: Mes | D8: 0.5 | E8: 1167371.2 | F8: =+E8*D8 -> 583685.61
A10: Subtotal costos de maquinaria, equipos y materiales | F10: =SUM(F6:F9) -> 2053585.6
A13: TOTAL COSTOS DIRECTOS | F13: =+F10 -> 2053585.6

Sheet 2.2 SEÑA
A3: SEÑALIZACION DE FRENTES DE TRABAJO Y SITIOS TEMPORALES
A5: ITEM | B5: DESCRIPCIÓN | C5: UNIDAD | D5: CANTIDAD | E5: VALOR UNITARIO | F5: VALOR TOTAL
A6: 1.1 | B6: Profesional en seguridad | C6: Mes | D6: 0.5 | E6: 1600000 | F6: =+E6*D6 -> 800000
A7: 1.2 | B7: Valla informativa | C7: Und | D7: 1 | E7: 150000 | F7: =+E7*D7 -> 150000
A8: 1.3 | B8: Señalizacion movil | C8: Und | D8: 2 | E8: 187400 | F8: =+E8*D8 -> 374800
A10: Subtotal costos de maquinaria, equipos y materiales | F10: =SUM(F6:F9) -> 1324800
A13: TOTAL COSTOS DIRECTOS | F13: =+F10 -> 1324800

Sheet 2.3 DIS RCD
A4: MANEJO DE DISPOSICION FINAL DE RESIDUOS DE CONSTRUCCION Y DEMOLICION
A6: ITEM | B6: DESCRIPCIÓN | C6: UNIDAD | D6: CANTIDAD | E6: VALOR UNITARIO | F6: VALOR TOTAL
A7: 1.1 | B7: Recipientes para disposición de residuos | C7: Und | D7: 4 | E7: 150000 | F7: =+E7*D7 -> 600000
A8: 1.2 | B8: Plástico Grueso | C8: Rollo | D8: 3 | E8: 569900 | F8: =+E8*D8 -> 1709700
A9: 1.3 | B9: Bod cat | C9: Hr | D9: 5 | E9: 100000 | F9: =+E9*D9 -> 500000
A10: 1.4 | B10: Volqueta | C10: Hr | D10: 5 | E10: 100000 | F10: =+E10*D10 -> 500000
A11: 1.5 | B11: Lote para disposición temporal de desechos de construcción | C11: Glb | D11: 1 | E11: 500000 | F11: =+E11*D11 -> 500000
A13: Subtotal costos de maquinaria, herramientas y equipos | F13: =SUM(F7:F12) -> 3809700
A15: TOTAL COSTOS DIRECTOS | F15: =+F13 -> 3809700

Sheet 2.4 MAN RES CON
A3: MANEJO DE DISPOSICION FINAL DE RESIDUOS DE CONSTRUCCION Y DEMOLICION
A5: ITEM | B5: DESCRIPCIÓN | C5: UNIDAD | D5: CANTIDAD | E5: VALOR UNITARIO | F5: VALOR TOTAL
A6: 1.1 | B6: Punto ecologico | C6: Und | D6: 1 | E6: 447900 | F6: =+E6*D6 -> 447900
A7: 1.2 | B7: Bolsas | C7: Caja | D7: 5 | E7: 7500 | F7: =+E7*D7 -> 37500
A8: 1.3 | B8: Transporte y disposcion | C8: M3 | D8: 14 | E8: =6000+27000 -> 33000 | F8: =+E8*D8 -> 462000
A9: 1.4 | B9: Volqueta | C9: Hr | D9: 2 | E9: 100000 | F9: =+E9*D9 -> 200000
A10: 1.5 | B10: Profesional ambiental | C10: Mes | D10: 0.5 | E10: 2500000 | F10: =+E10*D10 -> 1250000
A12: Subtotal costos de maquinaria, herramientas y equipos | F12: =SUM(F6:F11) -> 2397400
A14: TOTAL COSTOS DIRECTOS | F14: =+F12 -> 2397400

Sheet 2.5 MP Y RUIDO
A3: MANEJO DE GENERACION DE MATERIAL PARTICULADO Y RUIDO
A5: ITEM | B5: DESCRIPCIÓN | C5: UNIDAD | D5: CANTIDAD | E5: VALOR UNITARIO | F5: VALOR TOTAL
A6: 1.1 | B6: Alquiler de Carrotanque - Riego de agua | C6: Viaje | D6: 3 | E6: 120000 | F6: =+E6*D6 -> 360000
A7: 1.2 | B7: EPPs | C7: Und | D7: 1 | E7: 250000 | F7: =+E7*D7 -> 250000
A11: Subtotal costos de materiales, equipos y herramientas | F11: =SUM(F6:F10) -> 610000
A14: TOTAL COSTOS DIRECTOS | F14: =+F11 -> 610000

Sheet 2.6 MAN MAN PES
A4: PROGRAMA MANEJO DE MAQUINARIA, EQUIPOS Y TRANSPORTE
A6: ITEM | B6: DESCRIPCIÓN | C6: UNIDAD | D6: CANTIDAD | E6: VALOR UNITARIO | F6: VALOR TOTAL
A7: 1.1 | B7: Obreros | C7: Mes | D7: 0.5 | E7: 1623930 | F7: =+E7*D7 -> 811965
A8: 1.2 | B8: Señalizacion | C8: Und | D8: 2 | E8: 187400 | F8: =+E8*D8 -> 374800
A10: Subtotal costos de materiales, equipos y herramientas | F10: =SUM(F7:F9) -> 1186765
A13: TOTAL COSTOS DIRECTOS | F13: =+F10 -> 1186765

Sheet 3.1 RES LIQ
C3: MANEJO DE RESIDUOS LIQUIDOS DOMESTICOS E INDUSTRIALES
C5: ITEM | D5: DESCRIPCIÓN | E5: UNIDAD | F5: CANTIDAD | G5: VALOR UNITARIO | H5: VALOR TOTAL
C6: 1.1 | D6: Alquiler de baterias sanitarias | E6: Mes | F6: 2.5 | G6: 400000 | H6: =+G6*F6 -> 1000000
C7: 1.2 | D7: Recipientes de almacenamiento temporal (Aceites Usados) | E7: Glb | F7: 1 | G7: 120000 | H7: =+G7*F7 -> 120000
C10: Subtotal costos de materiales, equipos y herramientas | H10: =SUM(H6:H9) -> 1120000
C13: TOTAL COSTOS DIRECTOS | H13: =+H10 -> 1120000

Sheet 3.2 MAN AGU SUP
A3: MANEJO DE AGUAS SUPERFICIALES
A5: ITEM | B5: DESCRIPCIÓN | C5: UNIDAD | D5: CANTIDAD | E5: VALOR UNITARIO | F5: VALOR TOTAL
A6: 1.1 | B6: Capacitacion en uso eficiente del agua | C6: Mes | D6: 0.5 | E6: 500000 | F6: =+E6*D6 -> 250000
A7: 1.2 | B7: Profesional ambiental | C7: Mes | D7: 0.5 | E7: 2500000 | F7: =+E7*D7 -> 1250000
A9: Subtotal costos de materiales, equipos y herramientas | F9: =SUM(F6:F8) -> 1500000
A12: TOTAL COSTOS DIRECTOS | F12: =+F9 -> 1500000

Sheet 4.1 DIV E INF
A4: PROYECTO DE DIVULGACION E INFORMACION
A6: ITEM | B6: DESCRIPCION | C6: UNIDAD | D6: CANT. | E6: VR. UNITARIO | F6: VR. TOTAL
A7: 2.1 | B7: Alquiler Salones | C7: Mes | D7: 0.5 | E7: 500000 | F7: =+E7*D7 -> 250000
A8: 2.2 | B8: Papeleria (asistencia+ actas) | C8: Glb | D8: 1.3 | E8: 400000 | F8: =+E8*D8 -> 520000
A9: 2.3 | B9: Profesional social | C9: Mes | D9: 0.5 | E9: 2000000 | F9: =+E9*D9 -> 1000000
A10: 2.4 | B10: Profesional ambiental | C10: Mes | D10: 0.5 | E10: 2500000 | F10: =+E10*D10 -> 1250000
B12: SUBTOTAL COSTOS DIRECTOS | F12: =SUM(F7:F11) -> 3020000
B14: COSTO DIRECTO TOTAL | F14: =+F12 -> 3020000

Sheet 4.2 CONT MANO DE OBRA
A3: CONTRATACION DE MANO DE OBRA
A5: ITEM | B5: DESCRIPCIÓN | C5: UNIDAD | D5: CANTIDAD | E5: VALOR UNITARIO | F5: VALOR TOTAL
A6: 1.1 | B6: Profesional social | C6: Mes | D6: 0.5 | E6: 2000000 | F6: =+E6*D6 -> 1000000
A7: 1.2 | B7: Papeleria | C7: Glb | D7: 0.5 | E7: 400000 | F7: =+E7*D7 -> 200000
A10: Subtotal costos de materiales, equipos y herramientas | F10: =SUM(F6:F9) -> 1200000
A13: TOTAL COSTOS DIRECTOS | F13: =+F10 -> 1200000

Sheet 5.1 MANEJO DE SALUD OCUPACIONAL
A3: MANEJO DE SALUD OCUPACIONAL
A5: ITEM | B5: DESCRIPCIÓN | C5: UNIDAD | D5: CANTIDAD | E5: VALOR UNITARIO | F5: VALOR TOTAL
A6: 1.1 | B6: Profesional en seguridad | C6: mes | D6: 0.5 | E6: 1600000 | F6: =+E6*D6 -> 800000
A7: 1.2 | B7: Camilla | C7: und | D7: 1 | E7: 206900 | F7: =+E7*D7 -> 206900
A8: 1.3 | B8: Botiquin de emeregias | C8: und | D8: 1 | E8: 134900 | F8: =+E8*D8 -> 134900
A9: 1.4 | B9: Señalizacion informativa | C9: und | D9: 1 | E9: 17500 | F9: =+E9*D9 -> 17500
A11: Subtotal costos de materiales, equipos y herramientas | F11: =SUM(F6:F10) -> 1159300
A14: TOTAL COSTOS DIRECTOS | F14: =+F11 -> 1159300
