Workbook

Sheet LOTE 1 
B3: LOTE 1 | P3: ESTUDIO DE MERCADO | Y3: GRAFICO DE DISPERSIÓN | AA3: REGIONALIZACIÓN LOTE 1
B4: ITEM | C4: ESPECIFICACIÓN TÉCNICA | D4: UNIDAD DE MEDIDA (PRESENTACION) | E4: DIRECCIÓN REGIONAL BOGOTÁ | F4: GRUPO NACIONAL DE APOYO AL SISTEMA DE VERDAD JUSTICIA REPARACIÓN Y NO REPETICIÓN -SSF (BOGOTA) | G4: GRUPO NACIONAL GENETICA CONVENIO CONTRATO ICBF (BOGOTA) | H4: DIRECCIÓN REGIONAL NOROCCIDENTE | I4: DIRECCIÓN REGIONAL NORORIENTE | J4: DIRECCIÓN REGIONAL OCCIDENTE | K4: DIRECCIÓN REGIONAL SUROCCIDENTE | L4: DIRECCIÓN REGIONAL NORTE | M4: DIRECCIÓN REGIONAL SUR | N4: DIRECCIÓN REGIONAL ORIENTE | O4: CANTIDAD TOTAL ESTIMADA | P4: VALOR UNITARIO CON IVA | V4: HISTORICO 2022 | W4: VALOR UNITARIO ESTIMADO CON IVA | X4: VALOR TOTAL CON IVA | AA4: DIRECCIÓN REGIONAL BOGOTÁ | AB4: GRUPO NACIONAL DE APOYO AL SISTEMA DE VERDAD JUSTICIA REPARACIÓN Y NO REPETICIÓN -SSF (BOGOTA) | AC4: GRUPO NACIONAL GENETICA CONVENIO CONTRATO ICBF (BOGOTA) | AD4: DIRECCIÓN REGIONAL NOROCCIDENTE | AE4: DIRECCIÓN REGIONAL NORORIENTE | AF4: DIRECCIÓN REGIONAL OCCIDENTE | AG4: DIRECCIÓN REGIONAL SUROCCIDENTE | AH4: DIRECCIÓN REGIONAL NORTE | AI4: DIRECCIÓN REGIONAL SUR | AJ4: DIRECCIÓN REGIONAL ORIENTE
P5: ANNAR | Q5: AVANTIKA | R5: LAB BRANDS | S5: NORQUIMICOS | T5: QUIMITRONICA | U5: WACOL
B6: 1 | C6: Tubos capilares de microhematocritos sin heparina codificados con color azul. Desechables sin marca de calibración. | D6: Caja x 100 unidades | E6: 0 | F6: 0 | G6: 0 | H6: 0 | I6: 0 | J6: 0 | K6: 0 | L6: 0 | M6: 8 | N6: 0 | O6: =SUM(E6:N6) -> 8 | S6: 10472 | T6: 16755.2 | W6: =ROUND(GEOMEAN(P6:V6),0) -> 13246 | X6: =+W6*O6 -> 105968 | AA6: =+W6*E6 -> 0 | AB6: =+W6*F6 -> 0 | AC6: =+W6*G6 -> 0 | AD6: =+W6*H6 -> 0 | AE6: =+W6*I6 -> 0 | AF6: =+W6*J6 -> 0 | AG6: =+W6*K6 -> 0 | AH6: =+W6*L6 -> 0 | AI6: =+W6*M6 -> 105968 | AJ6: =+W6*N6 -> 0
B7: =1+B6 -> 2 | C7: Varilla o barra agitadora de vidrio de 25-30cm de longitud y de 6-8mm diámetro. | D7: Unidad | E7: 0 | F7: 0 | G7: 0 | H7: 0 | I7: 2 | J7: 0 | K7: 0 | L7: 0 | M7: 10 | N7: 0 | O7: =SUM(E7:N7) -> 12 | P7: 27489 | Q7: 27251 | R7: 11644.15 | T7: 4950.4 | W7: =ROUND(HARMEAN(P7:V7),0) -> 11082 | X7: =+W7*O7 -> 132984 | AA7: =+W7*E7 -> 0 | AB7: =+W7*F7 -> 0 | AC7: =+W7*G7 -> 0 | AD7: =+W7*H7 -> 0 | AE7: =+W7*I7 -> 22164 | AF7: =+W7*J7 -> 0 | AG7: =+W7*K7 -> 0 | AH7: =+W7*L7 -> 0 | AI7: =+W7*M7 -> 110820 | AJ7: =+W7*N7 -> 0
B8: =1+B7 -> 3 | C8: Chupa o Tetina de látex natural para pipetas pasteur, capacidad 2mL. | D8: Paquete x 100 unidades | E8: 3 | F8: 0 | G8: 0 | H8: 0 | I8: 0 | J8: 0 | K8: 0 | L8: 0 | M8: 0 | N8: 0 | O8: =SUM(E8:N8) -> 3 | S8: 714000 | T8: 1166200 | W8: =ROUND(HARMEAN(P8:V8),0) -> 885722 | X8: =+W8*O8 -> 2657166 | AA8: =+W8*E8 -> 2657166 | AB8: =+W8*F8 -> 0 | AC8: =+W8*G8 -> 0 | AD8: =+W8*H8 -> 0 | AE8: =+W8*I8 -> 0 | AF8: =+W8*J8 -> 0 | AG8: =+W8*K8 -> 0 | AH8: =+W8*L8 -> 0 | AI8: =+W8*M8 -> 0 | AJ8: =+W8*N8 -> 0
B9: =1+B8 -> 4 | C9: Cinta indicadora para esterilización por calor húmedo (autoclave) de 18-24mm de ancho y 50-60m de largo | D9: Rollo | E9: 13 | F9: 5 | G9: 6 | H9: 0 | I9: 11 | J9: 0 | K9: 0 | L9: 0 | M9: 2 | N9: 4 | O9: =SUM(E9:N9) -> 41 | S9: 55930 | T9: 89488 | W9: =ROUND(HARMEAN(P9:V9),0) -> 68837 | X9: =+W9*O9 -> 2822317 | AA9: =+W9*E9 -> 894881 | AB9: =+W9*F9 -> 344185 | AC9: =+W9*G9 -> 413022 | AD9: =+W9*H9 -> 0 | AE9: =+W9*I9 -> 757207 | AF9: =+W9*J9 -> 0 | AG9: =+W9*K9 -> 0 | AH9: =+W9*L9 -> 0 | AI9: =+W9*M9 -> 137674 | AJ9: =+W9*N9 -> 275348
B10: =1+B9 -> 5 | C10: Embudo analítico plástico de medida 100-110 mm diámetro del embudo x 140-200mm Largo total x 7-10 mm diamétro del vástago. | D10: Unidad | E10: 0 | F10: 0 | G10: 0 | H10: 0 | I10: 3 | J10: 0 | K10: 0 | L10: 0 | M10: 3 | N10: 0 | O10: =SUM(E10:N10) -> 6 | S10: 64260 | W10: =ROUND(GEOMEAN(P10:V10),0) -> 64260 | X10: =+W10*O10 -> 385560 | AA10: =+W10*E10 -> 0 | AB10: =+W10*F10 -> 0 | AC10: =+W10*G10 -> 0 | AD10: =+W10*H10 -> 0 | AE10: =+W10*I10 -> 192780 | AF10: =+W10*J10 -> 0 | AG10: =+W10*K10 -> 0 | AH10: =+W10*L10 -> 0 | AI10: =+W10*M10 -> 192780 | AJ10: =+W10*N10 -> 0
B11: =1+B10 -> 6 | C11: Embudo analítico plástico de medida 50-65 mm diámetro del embudo x 150-200 mm Largo total x 7-10 mm diámetro del vástago | D11: Unidad | E11: 0 | F11: 0 | G11: 0 | H11: 0 | I11: 0 | J11: 0 | K11: 0 | L11: 0 | M11: 5 | N11: 0 | O11: =SUM(E11:N11) -> 5 | S11: 52360 | W11: =ROUND(GEOMEAN(P11:V11),0) -> 52360 | X11: =+W11*O11 -> 261800 | AA11: =+W11*E11 -> 0 | AB11: =+W11*F11 -> 0 | AC11: =+W11*G11 -> 0 | AD11: =+W11*H11 -> 0 | AE11: =+W11*I11 -> 0 | AF11: =+W11*J11 -> 0 | AG11: =+W11*K11 -> 0 | AH11: =+W11*L11 -> 0 | AI11: =+W11*M11 -> 261800 | AJ11: =+W11*N11 -> 0
B12: =1+B11 -> 7 | C12: Escobillón de limpieza o churrusco para bureta de 10ml. Material: cerda y alambre. Dimensiones: Largo total 600- 800mm Diametro del cepillo 15-18mm | D12: unidad | E12: 0 | F12: 0 | G12: 0 | H12: 0 | I12: 0 | J12: 6 | K12: 26 | L12: 1 | M12: 0 | N12: 5 | O12: =SUM(E12:N12) -> 38 | T12: 13328 | W12: =ROUND(GEOMEAN(P12:V12),0) -> 13328 | X12: =+W12*O12 -> 506464 | AA12: =+W12*E12 -> 0 | AB12: =+W12*F12 -> 0 | AC12: =+W12*G12 -> 0 | AD12: =+W12*H12 -> 0 | AE12: =+W12*I12 -> 0 | AF12: =+W12*J12 -> 79968 | AG12: =+W12*K12 -> 346528 | AH12: =+W12*L12 -> 13328 | AI12: =+W12*M12 -> 0 | AJ12: =+W12*N12 -> 66640
B13: =1+B12 -> 8 | C13: Escobillón de limpieza o churrusco para pipeta de 2ml. Material: Lana/Nylon y alambre. Dimensiones: Largo total 390-650 Diámetro del cepillo 5-9 | D13: Unidad | E13: 0 | F13: 0 | G13: 5 | H13: 0 | I13: 0 | J13: 6 | K13: 6 | L13: 1 | M13: 4 | N13: 5 | O13: =SUM(E13:N13) -> 27 | T13: 11424 | W13: =ROUND(GEOMEAN(P13:V13),0) -> 11424 | X13: =+W13*O13 -> 308448 | AA13: =+W13*E13 -> 0 | AB13: =+W13*F13 -> 0 | AC13: =+W13*G13 -> 57120 | AD13: =+W13*H13 -> 0 | AE13: =+W13*I13 -> 0 | AF13: =+W13*J13 -> 68544 | AG13: =+W13*K13 -> 68544 | AH13: =+W13*L13 -> 11424 | AI13: =+W13*M13 -> 45696 | AJ13: =+W13*N13 -> 57120
B14: =1+B13 -> 9 | C14: Escobillón de limpieza o churrusco para pipeta de 5ml. Material: Lana/Nylon y alambre. Dimensiones: Largo total 450-800 Diámetro del cepillo 10-15 | D14: Unidad | E14: 0 | F14: 0 | G14: 0 | H14: 0 | I14: 0 | J14: 6 | K14: 6 | L14: 1 | M14: 4 | N14: 5 | O14: =SUM(E14:N14) -> 22 | Q14: 297500 | W14: =ROUND(GEOMEAN(P14:V14),0) -> 297500 | X14: =+W14*O14 -> 6545000 | AA14: =+W14*E14 -> 0 | AB14: =+W14*F14 -> 0 | AC14: =+W14*G14 -> 0 | AD14: =+W14*H14 -> 0 | AE14: =+W14*I14 -> 0 | AF14: =+W14*J14 -> 1785000 | AG14: =+W14*K14 -> 1785000 | AH14: =+W14*L14 -> 297500 | AI14: =+W14*M14 -> 1190000 | AJ14: =+W14*N14 -> 1487500
B15: =1+B14 -> 10 | C15: Espátula combinada doble, con cuchara con punta redonda y plana en acero inoxidable, no se oxidan en entornos ácidos, esterilizable en autoclave. Longitud 20 cm. | D15: Unidad | E15: 18 | F15: 2 | G15: 0 | H15: 5 | I15: 6 | J15: 0 | K15: 10 | L15: 0 | M15: 10 | N15: 2 | O15: =SUM(E15:N15) -> 53 | S15: 48790 | T15: 66640 | W15: =ROUND(GEOMEAN(P15:V15),0) -> 57021 | X15: =+W15*O15 -> 3022113 | AA15: =+W15*E15 -> 1026378 | AB15: =+W15*F15 -> 114042 | AC15: =+W15*G15 -> 0 | AD15: =+W15*H15 -> 285105 | AE15: =+W15*I15 -> 342126 | AF15: =+W15*J15 -> 0 | AG15: =+W15*K15 -> 570210 | AH15: =+W15*L15 -> 0 | AI15: =+W15*M15 -> 570210 | AJ15: =+W15*N15 -> 114042
B16: =1+B15 -> 11 | C16: Espátula combinada doble con punta redonda y plana en acero inoxidable, no se oxidan en entornos ácidos, esterilizable en autoclave. Longitud 20 cm. | D16: Unidad | E16: 12 | F16: 0 | G16: 0 | H16: 0 | I16: 0 | J16: 0 | K16: 0 | L16: 0 | M16: 5 | N16: 0 | O16: =SUM(E16:N16) -> 17 | S16: 46410 | W16: =ROUND(GEOMEAN(P16:V16),0) -> 46410 | X16: =+W16*O16 -> 788970 | AA16: =+W16*E16 -> 556920 | AB16: =+W16*F16 -> 0 | AC16: =+W16*G16 -> 0 | AD16: =+W16*H16 -> 0 | AE16: =+W16*I16 -> 0 | AF16: =+W16*J16 -> 0 | AG16: =+W16*K16 -> 0 | AH16: =+W16*L16 -> 0 | AI16: =+W16*M16 -> 232050 | AJ16: =+W16*N16 -> 0
B17: =1+B16 -> 12 | C17: Espátula combinada doble, con cuchara con punta redonda y plana en acero inoxidable, no se oxidan en entornos ácidos, esterilizable en autoclave. Longitud 180 cm. | D17: Unidad | E17: 0 | F17: 0 | G17: 0 | H17: 0 | I17: 6 | J17: 0 | K17: 0 | L17: 0 | M17: 5 | N17: 0 | O17: =SUM(E17:N17) -> 11 | S17: 52360 | T17: 73780 | W17: =ROUND(GEOMEAN(P17:V17),0) -> 62154 | X17: =+W17*O17 -> 683694 | AA17: =+W17*E17 -> 0 | AB17: =+W17*F17 -> 0 | AC17: =+W17*G17 -> 0 | AD17: =+W17*H17 -> 0 | AE17: =+W17*I17 -> 372924 | AF17: =+W17*J17 -> 0 | AG17: =+W17*K17 -> 0 | AH17: =+W17*L17 -> 0 | AI17: =+W17*M17 -> 310770 | AJ17: =+W17*N17 -> 0
B18: =1+B17 -> 13 | C18: Frasco en vidrio color ambar con gotero, capacidad 20 ml | D18: Unidad | E18: 5 | F18: 0 | G18: 0 | H18: 0 | I18: 0 | J18: 0 | K18: 5 | L18: 0 | M18: 6 | N18: 0 | O18: =SUM(E18:N18) -> 16 | Q18: 15827 | W18: =ROUND(GEOMEAN(P18:V18),0) -> 15827 | X18: =+W18*O18 -> 253232 | AA18: =+W18*E18 -> 79135 | AB18: =+W18*F18 -> 0 | AC18: =+W18*G18 -> 0 | AD18: =+W18*H18 -> 0 | AE18: =+W18*I18 -> 0 | AF18: =+W18*J18 -> 0 | AG18: =+W18*K18 -> 79135 | AH18: =+W18*L18 -> 0 | AI18: =+W18*M18 -> 94962 | AJ18: =+W18*N18 -> 0
B19: =1+B18 -> 14 | C19: Frasco en vidrio color ambar con gotero, capacidad 50 ml | D19: Unidad | E19: 11 | F19: 0 | G19: 0 | H19: 0 | I19: 0 | J19: 0 | K19: 10 | L19: 0 | M19: 10 | N19: 1 | O19: =SUM(E19:N19) -> 32 | R19: =44677*1.19 -> 53165.63 | T19: 9520 | W19: =ROUND(GEOMEAN(P19:V19),0) -> 22497 | X19: =+W19*O19 -> 719904 | AA19: =+W19*E19 -> 247467 | AB19: =+W19*F19 -> 0 | AC19: =+W19*G19 -> 0 | AD19: =+W19*H19 -> 0 | AE19: =+W19*I19 -> 0 | AF19: =+W19*J19 -> 0 | AG19: =+W19*K19 -> 224970 | AH19: =+W19*L19 -> 0 | AI19: =+W19*M19 -> 224970 | AJ19: =+W19*N19 -> 22497
B20: =1+B19 -> 15 | C20: Frasco en vidrio color ambar con gotero, capacidad 30 ml | D20: Unidad | E20: 1 | F20: 0 | G20: 0 | H20: 0 | I20: 0 | J20: 0 | L20: 0 | M20: 0 | N20: 0 | O20: =SUM(E20:N20) -> 1 | U20: =35000*1.19 -> 41650 | W20: =ROUND(GEOMEAN(P20:V20),0) -> 41650 | X20: =+W20*O20 -> 41650 | AA20: =+W20*E20 -> 41650 | AB20: =+W20*F20 -> 0 | AC20: =+W20*G20 -> 0 | AD20: =+W20*H20 -> 0 | AE20: =+W20*I20 -> 0 | AF20: =+W20*J20 -> 0 | AG20: =+W20*K20 -> 0 | AH20: =+W20*L20 -> 0 | AI20: =+W20*M20 -> 0 | AJ20: =+W20*N20 -> 0
B21: =1+B20 -> 16 | C21: Frasco Lavador de laboratorio, de polietileno, capacidad 250 mL, incoloro, con boquilla o tubo rígido tipo cuello de cisne, medidas: 17,5cm x 6cm aproximadamente | D21: Unidad | E21: 10 | F21: 0 | G21: 0 | H21: 0 | I21: 2 | J21: 0 | K21: 20 | L21: 0 | M21: 12 | N21: 0 | O21: =SUM(E21:N21) -> 44 | R21: 18215.33 | T21: 24942.4 | W21: =ROUND(HARMEAN(P21:V21),0) -> 21055 | X21: =+W21*O21 -> 926420 | AA21: =+W21*E21 -> 210550 | AB21: =+W21*F21 -> 0 | AC21: =+W21*G21 -> 0 | AD21: =+W21*H21 -> 0 | AE21: =+W21*I21 -> 42110 | AF21: =+W21*J21 -> 0 | AG21: =+W21*K21 -> 421100 | AH21: =+W21*L21 -> 0 | AI21: =+W21*M21 -> 252660 | AJ21: =+W21*N21 -> 0
B22: =1+B21 -> 17 | C22: Lapiz punta de diamante para escritura sobre vidrio | D22: Unidad | E22: 0 | F22: 0 | G22: 0 | H22: 2 | I22: 6 | J22: 0 | K22: 0 | L22: 12 | M22: 0 | N22: 1 | O22: =SUM(E22:N22) -> 21 | Q22: 220031 | T22: 304640 | W22: =ROUND(HARMEAN(P22:V22),0) -> 255513 | X22: =+W22*O22 -> 5365773 | AA22: =+W22*E22 -> 0 | AB22: =+W22*F22 -> 0 | AC22: =+W22*G22 -> 0 | AD22: =+W22*H22 -> 511026 | AE22: =+W22*I22 -> 1533078 | AF22: =+W22*J22 -> 0 | AG22: =+W22*K22 -> 0 | AH22: =+W22*L22 -> 3066156 | AI22: =+W22*M22 -> 0 | AJ22: =+W22*N22 -> 255513
B23: =1+B22 -> 18 | C23: Papel parafilm caja standard de 4 pulgadas, (aproximadamente 10 cm) de ancho y mínimo 38.1 metros (Aproximadamente 125 pies) de largo. | D23: Rollo | E23: 13 | F23: 2 | G23: 0 | H23: 0 | I23: 2 | J23: 1 | K23: 2 | L23: 2 | M23: 6 | N23: 0 | O23: =SUM(E23:N23) -> 28 | S23: 221340 | T23: 283696 | W23: =ROUND(GEOMEAN(P23:V23),0) -> 250586 | X23: =+W23*O23 -> 7016408 | AA23: =+W23*E23 -> 3257618 | AB23: =+W23*F23 -> 501172 | AC23: =+W23*G23 -> 0 | AD23: =+W23*H23 -> 0 | AE23: =+W23*I23 -> 501172 | AF23: =+W23*J23 -> 250586 | AG23: =+W23*K23 -> 501172 | AH23: =+W23*L23 -> 501172 | AI23: =+W23*M23 -> 1503516 | AJ23: =+W23*N23 -> 0
B24: =1+B23 -> 19 | C24: Papel vinipel | D24: Rollo*100m largo x 30cm ancho | E24: 11 | F24: 0 | G24: 0 | H24: 3 | I24: 0 | J24: 0 | K24: 3 | L24: 1 | M24: 10 | N24: 0 | O24: =SUM(E24:N24) -> 28 | S24: 14994 | W24: =ROUND(GEOMEAN(P24:V24),0) -> 14994 | X24: =+W24*O24 -> 419832 | AA24: =+W24*E24 -> 164934 | AB24: =+W24*F24 -> 0 | AC24: =+W24*G24 -> 0 | AD24: =+W24*H24 -> 44982 | AE24: =+W24*I24 -> 0 | AF24: =+W24*J24 -> 0 | AG24: =+W24*K24 -> 44982 | AH24: =+W24*L24 -> 14994 | AI24: =+W24*M24 -> 149940 | AJ24: =+W24*N24 -> 0
B25: =1+B24 -> 20 | C25: Pesasustancias cuadradas o hexagonales en poliestireno antiestático, biológicamente inerte, color natural con capacidad aproximada de 100 ml | D25: Paquete de 500 unidades | E25: 15 | F25: 0 | G25: 0 | H25: 3 | I25: 0 | J25: 0 | K25: 0 | L25: 1 | M25: 0 | N25: 0 | O25: =SUM(E25:N25) -> 19 | Q25: 740180 | S25: 565250 | W25: =ROUND(GEOMEAN(P25:V25),0) -> 646828 | X25: =+W25*O25 -> 12289732 | AA25: =+W25*E25 -> 9702420 | AB25: =+W25*F25 -> 0 | AC25: =+W25*G25 -> 0 | AD25: =+W25*H25 -> 1940484 | AE25: =+W25*I25 -> 0 | AF25: =+W25*J25 -> 0 | AG25: =+W25*K25 -> 0 | AH25: =+W25*L25 -> 646828 | AI25: =+W25*M25 -> 0 | AJ25: =+W25*N25 -> 0
B26: =1+B25 -> 21 | C26: Pesasustancias cuadradas o hexagonales en poliestireno antiestático, biológicamente inerte, color natural con capacidad aproximada de 250 ml | D26: Paquete de 500 unidades | E26: 7 | F26: 1 | G26: 0 | H26: 0 | I26: 0 | J26: 0 | K26: 0 | L26: 1 | M26: 0 | N26: 0 | O26: =SUM(E26:N26) -> 9 | S26: 910350 | W26: =ROUND(GEOMEAN(P26:V26),0) -> 910350 | X26: =+W26*O26 -> 8193150 | AA26: =+W26*E26 -> 6372450 | AB26: =+W26*F26 -> 910350 | AC26: =+W26*G26 -> 0 | AD26: =+W26*H26 -> 0 | AE26: =+W26*I26 -> 0 | AF26: =+W26*J26 -> 0 | AG26: =+W26*K26 -> 0 | AH26: =+W26*L26 -> 910350 | AI26: =+W26*M26 -> 0 | AJ26: =+W26*N26 -> 0
B27: =1+B26 -> 22 | C27: Pesasustancias cuadradas o hexagonales en poliestireno antiestático, biológicamente inerte, color natural con capacidad aproximada de 7 ml. | D27: Paquete de 500 unidades | E27: 0 | F27: 0 | G27: 0 | H27: 3 | I27: 0 | J27: 0 | K27: 0 | L27: 1 | M27: 5 | N27: 0 | O27: =SUM(E27:N27) -> 9 | S27: 327250 | W27: =ROUND(GEOMEAN(P27:V27),0) -> 327250 | X27: =+W27*O27 -> 2945250 | AA27: =+W27*E27 -> 0 | AB27: =+W27*F27 -> 0 | AC27: =+W27*G27 -> 0 | AD27: =+W27*H27 -> 981750 | AE27: =+W27*I27 -> 0 | AF27: =+W27*J27 -> 0 | AG27: =+W27*K27 -> 0 | AH27: =+W27*L27 -> 327250 | AI27: =+W27*M27 -> 1636250 | AJ27: =+W27*N27 -> 0
B28: =1+B27 -> 23 | C28: Pinza de disección de 14 cm, en acero inoxidable, sin garra , sin estrias, autoclavables y de punta fina . | D28: Unidad | E28: 0 | F28: 6 | G28: 0 | H28: 60 | I28: 3 | J28: 0 | K28: 0 | L28: 0 | M28: 2 | N28: 6 | O28: =SUM(E28:N28) -> 77 | Q28: 49028 | W28: =ROUND(GEOMEAN(P28:V28),0) -> 49028 | X28: =+W28*O28 -> 3775156 | AA28: =+W28*E28 -> 0 | AB28: =+W28*F28 -> 294168 | AC28: =+W28*G28 -> 0 | AD28: =+W28*H28 -> 2941680 | AE28: =+W28*I28 -> 147084 | AF28: =+W28*J28 -> 0 | AG28: =+W28*K28 -> 0 | AH28: =+W28*L28 -> 0 | AI28: =+W28*M28 -> 98056 | AJ28: =+W28*N28 -> 294168
B29: =1+B28 -> 24 | C29: Pinzas de disección de 14 cm aproximadamente, en acero inoxidable, de punta redonda , sin garra y con estrías . | D29: Unidad | E29: 0 | F29: 6 | G29: 0 | H29: 65 | I29: 6 | J29: 0 | K29: 0 | L29: 0 | M29: 0 | N29: 6 | O29: =SUM(E29:N29) -> 83 | Q29: 11662 | W29: =ROUND(GEOMEAN(P29:V29),0) -> 11662 | X29: =+W29*O29 -> 967946 | AA29: =+W29*E29 -> 0 | AB29: =+W29*F29 -> 69972 | AC29: =+W29*G29 -> 0 | AD29: =+W29*H29 -> 758030 | AE29: =+W29*I29 -> 69972 | AF29: =+W29*J29 -> 0 | AG29: =+W29*K29 -> 0 | AH29: =+W29*L29 -> 0 | AI29: =+W29*M29 -> 0 | AJ29: =+W29*N29 -> 69972
B30: =1+B29 -> 25 | C30: Reloj con Temporizador / timer para laboratorio: Digital, con dos o tres temporizadores independientes, que realice conteo del tiempo de forma ascendente y descendente, la medición del tiempo hasta 99 horas 59 minutos, 59 segundos, alarma con durabilidad de 1 minuto cuando el contabilizador llegue a cero, con capacidad de memoria, con clip de fijacion magnetica para superficies metálicas. Tipo Boe 220 Jumbo. | D30: Unidad | E30: 2 | F30: 0 | G30: 0 | H30: 0 | I30: 0 | J30: 0 | K30: 0 | L30: 2 | M30: 3 | N30: 0 | O30: =SUM(E30:N30) -> 7 | Q30: 679728 | W30: =ROUND(GEOMEAN(P30:V30),0) -> 679728 | X30: =+W30*O30 -> 4758096 | AA30: =+W30*E30 -> 1359456 | AB30: =+W30*F30 -> 0 | AC30: =+W30*G30 -> 0 | AD30: =+W30*H30 -> 0 | AE30: =+W30*I30 -> 0 | AF30: =+W30*J30 -> 0 | AG30: =+W30*K30 -> 0 | AH30: =+W30*L30 -> 1359456 | AI30: =+W30*M30 -> 2039184 | AJ30: =+W30*N30 -> 0
B31: =1+B30 -> 26 | C31: Tapa de vidrio para desecador, 32 cm de diametro. | D31: Unidad | E31: 0 | F31: 0 | G31: 0 | H31: 1 | I31: 0 | J31: 0 | K31: 0 | L31: 0 | M31: 0 | N31: 0 | O31: =SUM(E31:N31) -> 1 | Q31: 1643509 | W31: =ROUND(GEOMEAN(P31:V31),0) -> 1643509 | X31: =+W31*O31 -> 1643509 | AA31: =+W31*E31 -> 0 | AB31: =+W31*F31 -> 0 | AC31: =+W31*G31 -> 0 | AD31: =+W31*H31 -> 1643509 | AE31: =+W31*I31 -> 0 | AF31: =+W31*J31 -> 0 | AG31: =+W31*K31 -> 0 | AH31: =+W31*L31 -> 0 | AI31: =+W31*M31 -> 0 | AJ31: =+W31*N31 -> 0
B32: =1+B31 -> 27 | C32: Tijeras de mayo punta fina, recta de 13 a 16 cm de longitud, en acero inoxidable. | D32: Unidad | E32: 45 | F32: 6 | G32: 0 | H32: 5 | I32: 3 | J32: 0 | K32: 0 | L32: 0 | M32: 6 | N32: 13 | O32: =SUM(E32:N32) -> 78 | Q32: 119714 | W32: =ROUND(GEOMEAN(P32:V32),0) -> 119714 | X32: =+W32*O32 -> 9337692 | AA32: =+W32*E32 -> 5387130 | AB32: =+W32*F32 -> 718284 | AC32: =+W32*G32 -> 0 | AD32: =+W32*H32 -> 598570 | AE32: =+W32*I32 -> 359142 | AF32: =+W32*J32 -> 0 | AG32: =+W32*K32 -> 0 | AH32: =+W32*L32 -> 0 | AI32: =+W32*M32 -> 718284 | AJ32: =+W32*N32 -> 1556282
B33: =1+B32 -> 28 | C33: Toallas de papel libre de fibra (Lint Free), para laboratorio tipo Kimwipes. | D33: Paquete de 280 toallas | E33: 0 | F33: 0 | G33: 0 | H33: 0 | I33: 1 | J33: 4 | K33: 2 | L33: 20 | M33: 1 | N33: 0 | O33: =SUM(E33:N33) -> 28 | S33: 103530 | T33: 165648 | W33: =ROUND(GEOMEAN(P33:V33),0) -> 130956 | X33: =+W33*O33 -> 3666768 | AA33: =+W33*E33 -> 0 | AB33: =+W33*F33 -> 0 | AC33: =+W33*G33 -> 0 | AD33: =+W33*H33 -> 0 | AE33: =+W33*I33 -> 130956 | AF33: =+W33*J33 -> 523824 | AG33: =+W33*K33 -> 261912 | AH33: =+W33*L33 -> 2619120 | AI33: =+W33*M33 -> 130956 | AJ33: =+W33*N33 -> 0
B34: =1+B33 -> 29 | C34: Lancetas estériles desechables (para obtención de muestras de sangre) con mecanismo de disparo automático al contacto; cuerpo y tapa en plástico, que cubra/resguarde la aguja (tipo lanceta para glucómetro) | D34: Caja X 100 | E34: 5 | F34: 10 | G34: 50 | H34: 9 | I34: 30 | K34: 10 | L34: 3 | M34: 4 | N34: 25 | O34: =+E34+F34+G34+H34+I34+K34+L34+M34+N34 -> 146 | P34: =64800*1.19 -> 77112 | W34: =ROUND(GEOMEAN(P34:V34),0) -> 77112 | X34: =+W34*O34 -> 11258352 | AA34: =+W34*E34 -> 385560 | AB34: =+W34*F34 -> 771120 | AC34: =+W34*G34 -> 3855600 | AD34: =+W34*H34 -> 694008 | AE34: =+W34*I34 -> 2313360 | AF34: =+W34*J34 -> 0 | AG34: =+W34*K34 -> 771120 | AH34: =+W34*L34 -> 231336 | AI34: =+W34*M34 -> 308448 | AJ34: =+W34*N34 -> 1927800
B35: TOTAL ESTIMADO LOTE 1 | X35: =SUM(X6:X34) -> 91799354 | AA35: =SUM(AA6:AA34) -> 32343715 | AB35: =SUM(AB6:AB34) -> 3723293 | AC35: =SUM(AC6:AC34) -> 4325742 | AD35: =SUM(AD6:AD34) -> 10399144 | AE35: =SUM(AE6:AE34) -> 6784075 | AF35: =SUM(AF6:AF34) -> 2707922 | AG35: =SUM(AG6:AG34) -> 5074673 | AH35: =SUM(AH6:AH34) -> 9998914 | ... AJ35: =SUM(AJ6:AJ34) -> 6126882
AA36: =+AJ35+AI35+AH35+AG35+AD35+AF35+AE35+AC35+AB35+AA35 -> 91799354
C37: CLASIFICACIÓN DEL BIEN O SERVICIO DE ACUERDO CON EL CLASIFICADOR DE BIENES Y SERVICIOS | D37: 42281800 24112600 40161500 41104900 41121800 41122400 41122800 41111600 41104800 41121700
C38: CALIDAD MINIMA | D38: No aplica
C39: PATRONES DE DESEMPEÑO MINIMOS | D39: No aplica

Sheet LOTE 2
B2: LOTE 2 | P2: ESTUDIO DE MERCADO | X2: GRAFICO DE DISPERSIÓN | Z2: REGIONALIZACIÓN LOTE 2
B3: ITEM | C3: ESPECIFICACIÓN TÉCNICA | D3: UNIDAD DE MEDIDA (PRESENTACION) | E3: DIRECCIÓN REGIONAL BOGOTÁ | F3: GRUPO NACIONAL DE APOYO AL SISTEMA DE VERDAD JUSTICIA REPARACIÓN Y NO REPETICIÓN -SSF (BOGOTA) | G3: GRUPO NACIONAL DE CIENCIAS FORENSES (BOGOTA) | H3: DIRECCIÓN REGIONAL NOROCCIDENTE | I3: DIRECCIÓN REGIONAL NORORIENTE | J3: DIRECCIÓN REGIONAL OCCIDENTE | K3: DIRECCIÓN REGIONAL SUROCCIDENTE | L3: DIRECCIÓN REGIONAL NORTE | M3: DIRECCIÓN REGIONAL SUR | N3: DIRECCIÓN REGIONAL ORIENTE | O3: CANTIDAD TOTAL | P3: VALOR UNITARIO CON IVA | U3: HISTORICO 2022 | V3: VALOR UNITARIO ESTIMADO CON IVA | W3: VALOR TOTAL CON IVA | Z3: DIRECCIÓN REGIONAL BOGOTÁ | AA3: GRUPO NACIONAL DE APOYO AL SISTEMA DE VERDAD JUSTICIA REPARACIÓN Y NO REPETICIÓN -SSF (BOGOTA) | AB3: GRUPO NACIONAL DE CIENCIAS FORENSES (BOGOTA) | AC3: DIRECCIÓN REGIONAL NOROCCIDENTE | AD3: DIRECCIÓN REGIONAL NORORIENTE | AE3: DIRECCIÓN REGIONAL OCCIDENTE | AF3: DIRECCIÓN REGIONAL SUROCCIDENTE | AG3: DIRECCIÓN REGIONAL NORTE | AH3: DIRECCIÓN REGIONAL SUR | AI3: DIRECCIÓN REGIONAL ORIENTE
P4: ANNAR | Q4: AVANTIKA | R4: LAB BRANDS | S4: NORQUIMICOS | T4: QUIMITRONICA
B5: 30 | C5: Balón volumétrico o aforado de 10 mL, clase A. | D5: Unidad | E5: 21 | F5: 0 | G5: 0 | H5: 5 | I5: 0 | J5: 5 | K5: 30 | L5: 20 | M5: 5 | N5: 5 | O5: =SUM(E5:N5) -> 91 | P5: 73304 | R5: 46008.97 | S5: 42840 | T5: 66937.5 | U5: =(29100)*((1+13.12/100)) -> 32917.92 | V5: =ROUND(HARMEAN(P5:U5),0) -> 48060 | W5: =+V5*O5 -> 4373460 | Z5: =+V5*E5 -> 1009260 | AA5: =+V5*F5 -> 0 | AB5: =+V5*G5 -> 0 | AC5: =+V5*H5 -> 240300 | AD5: =+V5*I5 -> 0 | AE5: =+V5*J5 -> 240300 | AF5: =+V5*K5 -> 1441800 | AG5: =+V5*L5 -> 961200 | AH5: =+V5*M5 -> 240300 | AI5: =+V5*N5 -> 240300
B6: =1+B5 -> 31 | C6: Balón volumétrico o aforado de 100 mL, clase A | D6: Unidad | E6: 21 | F6: 0 | G6: 0 | H6: 0 | I6: 10 | J6: 0 | K6: 20 | L6: 20 | M6: 0 | N6: 0 | O6: =SUM(E6:N6) -> 71 | P6: 113883 | R6: =49812*1.19 -> 59276.28 | S6: 56525 | T6: 108706.5 | U6: =(37008)*((1+13.12/100)) -> 41863.45 | V6: =ROUND(HARMEAN(P6:U6),0) -> 65420 | W6: =+V6*O6 -> 4644820 | Z6: =+V6*E6 -> 1373820 | AA6: =+V6*F6 -> 0 | AB6: =+V6*G6 -> 0 | AC6: =+V6*H6 -> 0 | AD6: =+V6*I6 -> 654200 | AE6: =+V6*J6 -> 0 | AF6: =+V6*K6 -> 1308400 | AG6: =+V6*L6 -> 1308400 | AH6: =+V6*M6 -> 0 | AI6: =+V6*N6 -> 0
B7: =1+B6 -> 32 | C7: Balón volumétrico o aforado de 5 mL, clase A | D7: Unidad | E7: 21 | F7: 0 | G7: 0 | H7: 15 | I7: 0 | J7: 0 | K7: 20 | L7: 20 | M7: 5 | N7: 0 | O7: =SUM(E7:N7) -> 81 | P7: 138754 | R7: 43570.66 | S7: 42840 | T7: 65688 | U7: =(27900)*((1+13.12/100)) -> 31560.48 | V7: =ROUND(HARMEAN(P7:U7),0) -> 49796 | W7: =+V7*O7 -> 4033476 | Z7: =+V7*E7 -> 1045716 | AA7: =+V7*F7 -> 0 | AB7: =+V7*G7 -> 0 | AC7: =+V7*H7 -> 746940 | AD7: =+V7*I7 -> 0 | AE7: =+V7*J7 -> 0 | AF7: =+V7*K7 -> 995920 | AG7: =+V7*L7 -> 995920 | AH7: =+V7*M7 -> 248980 | AI7: =+V7*N7 -> 0
B8: =1+B7 -> 33 | C8: Matraz aforado clase A de 100 mL con certificado de calibración individual (con un año de vigencia) | D8: Unidad | E8: 0 | F8: 0 | G8: 0 | H8: 0 | J8: 0 | K8: 0 | L8: 1 | M8: 3 | N8: 0 | O8: =SUM(E8:N8) -> 4 | P8: 65450 | R8: 297276.19 | S8: 56525 | T8: 90440 | U8: =(78000)*((1+13.12/100)) -> 88233.6 | V8: =ROUND(HARMEAN(P8:U8),0) -> 85143 | W8: =+V8*O8 -> 340572 | Z8: =+V8*E8 -> 0 | AA8: =+V8*F8 -> 0 | AB8: =+V8*G8 -> 0 | AC8: =+V8*H8 -> 0 | AD8: =+V8*I8 -> 0 | AE8: =+V8*J8 -> 0 | AF8: =+V8*K8 -> 0 | AG8: =+V8*L8 -> 85143 | AH8: =+V8*M8 -> 255429 | AI8: =+V8*N8 -> 0
B9: =1+B8 -> 34 | C9: Matraz aforado clase A de 2000 mL con certificado de calibración individual (con un año de vigencia) | D9: Unidad | E9: 0 | F9: 0 | G9: 0 | H9: 0 | I9: 2 | J9: 0 | K9: 0 | L9: 0 | M9: 3 | N9: 0 | O9: =SUM(E9:N9) -> 5 | P9: 324632 | R9: 381158.92 | S9: 208250 | T9: 333200 | U9: =(220000)*((1+13.12/100)) -> 248864 | V9: =ROUND(HARMEAN(P9:U9),0) -> 285301 | W9: =+V9*O9 -> 1426505 | Z9: =+V9*E9 -> 0 | AA9: =+V9*F9 -> 0 | AB9: =+V9*G9 -> 0 | AC9: =+V9*H9 -> 0 | AD9: =+V9*I9 -> 570602 | AE9: =+V9*J9 -> 0 | AF9: =+V9*K9 -> 0 | AG9: =+V9*L9 -> 0 | AH9: =+V9*M9 -> 855903 | AI9: =+V9*N9 -> 0
B10: =1+B9 -> 35 | C10: Matraz aforado clase A de 5 mL con certificado de calibración individual | D10: Unidad | E10: 5 | F10: 0 | G10: 0 | H10: 0 | J10: 0 | K10: 10 | L10: 1 | M10: 10 | N10: 0 | O10: =SUM(E10:N10) -> 26 | P10: 138754 | R10: 281570.43 | S10: 42840 | T10: 68544 | U10: =(50013)*((1+13.12/100)) -> 56574.706 | V10: =ROUND(HARMEAN(P10:U10),0) -> 75340 | W10: =+V10*O10 -> 1958840 | Z10: =+V10*E10 -> 376700 | AA10: =+V10*F10 -> 0 | AB10: =+V10*G10 -> 0 | AC10: =+V10*H10 -> 0 | AD10: =+V10*I10 -> 0 | AE10: =+V10*J10 -> 0 | AF10: =+V10*K10 -> 753400 | AG10: =+V10*L10 -> 75340 | AH10: =+V10*M10 -> 753400 | AI10: =+V10*N10 -> 0
B11: =1+B10 -> 36 | C11: Matraz aforado clase A de 50 mL con certificado de calibración individual | D11: Unidad | E11: 0 | F11: 0 | G11: 0 | H11: 0 | J11: 0 | K11: 5 | L11: 1 | M11: 0 | N11: 0 | O11: =SUM(E11:N11) -> 6 | P11: 79849 | R11: =257276*1.19 -> 306158.44 | S11: 52003 | T11: 83204.8 | U11: =(54500)*((1+13.12/100)) -> 61650.4 | V11: =ROUND(HARMEAN(P11:U11),0) -> 79041 | W11: =+V11*O11 -> 474246 | Z11: =+V11*E11 -> 0 | AA11: =+V11*F11 -> 0 | AB11: =+V11*G11 -> 0 | AC11: =+V11*H11 -> 0 | AD11: =+V11*I11 -> 0 | AE11: =+V11*J11 -> 0 | AF11: =+V11*K11 -> 395205 | AG11: =+V11*L11 -> 79041 | AH11: =+V11*M11 -> 0 | AI11: =+V11*N11 -> 0
B12: =1+B11 -> 37 | C12: Mortero de porcelana con pistilo, aprox. Entre 10 y 15 cm de diámetro | D12: Unidad | E12: 0 | F12: 0 | G12: 0 | H12: 11 | I12: 4 | J12: 0 | K12: 4 | L12: 4 | M12: 8 | N12: 0 | O12: =SUM(E12:N12) -> 31 | S12: 76160 | V12: =ROUND(GEOMEAN(P12:U12),0) -> 76160 | W12: =+V12*O12 -> 2360960 | Z12: =+V12*E12 -> 0 | AA12: =+V12*F12 -> 0 | AB12: =+V12*G12 -> 0 | AC12: =+V12*H12 -> 837760 | AD12: =+V12*I12 -> 304640 | AE12: =+V12*J12 -> 0 | AF12: =+V12*K12 -> 304640 | AG12: =+V12*L12 -> 304640 | AH12: =+V12*M12 -> 609280 | AI12: =+V12*N12 -> 0
B13: =1+B12 -> 38 | C13: Pipetas de vidrio tipo pasteur de 140-160 mm de longitud | D13: Caja x 250 unidades | E13: 29 | F13: 0 | G13: 0 | H13: 0 | I13: 0 | J13: 0 | K13: 4 | L13: 0 | M13: 2 | N13: 0 | O13: =SUM(E13:N13) -> 35 | P13: 113883 | S13: 66759 | T13: 111860 | U13: =(81798)*((1+13.12/100)) -> 92529.898 | V13: =ROUND(GEOMEAN(P13:U13),0) -> 94185 | W13: =+V13*O13 -> 3296475 | Z13: =+V13*E13 -> 2731365 | AA13: =+V13*F13 -> 0 | AB13: =+V13*G13 -> 0 | AC13: =+V13*H13 -> 0 | AD13: =+V13*I13 -> 0 | AE13: =+V13*J13 -> 0 | AF13: =+V13*K13 -> 376740 | AG13: =+V13*L13 -> 0 | AH13: =+V13*M13 -> 188370 | AI13: =+V13*N13 -> 0
B14: =1+B13 -> 39 | C14: Pipetas pasteur larga, 220 a 250 mm, vidrio sodico-calcico, no esteriles. | D14: Caja x 250 unidades | E14: 27 | F14: 0 | G14: 0 | H14: 12 | I14: 4 | J14: 0 | L14: 3 | M14: 16 | N14: 20 | O14: =SUM(E14:N14) -> 82 | P14: 117810 | S14: 66759 | T14: 95081 | U14: =(87504)*((1+13.12/100)) -> 98984.525 | V14: =ROUND(GEOMEAN(P14:U14),0) -> 92755 | W14: =+V14*O14 -> 7605910 | Z14: =+V14*E14 -> 2504385 | AA14: =+V14*F14 -> 0 | AB14: =+V14*G14 -> 0 | AC14: =+V14*H14 -> 1113060 | AD14: =+V14*I14 -> 371020 | AE14: =+V14*J14 -> 0 | AF14: =+V14*K14 -> 0 | AG14: =+V14*L14 -> 278265 | AH14: =+V14*M14 -> 1484080 | AI14: =+V14*N14 -> 1855100
B15: =1+B14 -> 40 | C15: Pipetas pasteur plástica no esteril longitud 155-160 mm con capacidad de 3 ml graduadas. | D15: Caja x 500 unidades | E15: 13 | F15: 0 | G15: 0 | H15: 31 | J15: 1 | K15: 6 | L15: 5 | M15: 6 | N15: 0 | O15: =SUM(E15:N15) -> 62 | R15: 62658.26 | S15: 77350 | T15: 123807.6 | U15: =(57000)*((1+13.12/100)) -> 64478.4 | V15: =ROUND(HARMEAN(P15:U15),0) -> 76228 | W15: =+V15*O15 -> 4726136 | Z15: =+V15*E15 -> 990964 | AA15: =+V15*F15 -> 0 | AB15: =+V15*G15 -> 0 | AC15: =+V15*H15 -> 2363068 | AD15: =+V15*I15 -> 0 | AE15: =+V15*J15 -> 76228 | AF15: =+V15*K15 -> 457368 | AG15: =+V15*L15 -> 381140 | AH15: =+V15*M15 -> 457368 | AI15: =+V15*N15 -> 0
B16: =1+B15 -> 41 | C16: Probeta de 1000 mL en vidrio y graduada., con pico, base de plastico o vidrio. | D16: Unidad | E16: 5 | F16: 0 | G16: 0 | H16: 0 | I16: 0 | J16: 0 | K16: 0 | L16: 0 | M16: 2 | N16: 0 | O16: =SUM(E16:N16) -> 7 | P16: 189805 | R16: 140339.08 | V16: =ROUND(GEOMEAN(P16:U16),0) -> 163209 | W16: =+V16*O16 -> 1142463 | Z16: =+V16*E16 -> 816045 | AA16: =+V16*F16 -> 0 | AB16: =+V16*G16 -> 0 | AC16: =+V16*H16 -> 0 | AD16: =+V16*I16 -> 0 | AE16: =+V16*J16 -> 0 | AF16: =+V16*K16 -> 0 | AG16: =+V16*L16 -> 0 | AH16: =+V16*M16 -> 326418 | AI16: =+V16*N16 -> 0
B17: =1+B16 -> 42 | C17: Tubo de ensayo en vidrio borosilicato, sin tapa, fondo redondo, de 13±1 x 100mm | D17: Unidad | E17: 0 | F17: 0 | G17: 0 | H17: 3000 | I17: 100 | J17: 0 | K17: 0 | L17: 0 | M17: 0 | N17: 0 | O17: =SUM(E17:N17) -> 3100 | R17: 4141.2 | S17: 1190 | T17: 1904 | V17: =ROUND(HARMEAN(P17:U17),0) -> 1867 | W17: =+V17*O17 -> 5787700 | Z17: =+V17*E17 -> 0 | AA17: =+V17*F17 -> 0 | AB17: =+V17*G17 -> 0 | AC17: =+V17*H17 -> 5601000 | AD17: =+V17*I17 -> 186700 | AE17: =+V17*J17 -> 0 | AF17: =+V17*K17 -> 0 | AG17: =+V17*L17 -> 0 | AH17: =+V17*M17 -> 0 | AI17: =+V17*N17 -> 0
B18: =1+B17 -> 43 | C18: Tubos de ensayo en vidrio (borosilicato) fondo redondo de 15 mL (16x150mm) con tapa rosca | D18: caja x 250 unidades | E18: 0 | F18: 0 | G18: 1 | H18: 0 | I18: 0 | J18: 0 | K18: 4 | L18: 2 | M18: 6 | N18: 2 | O18: =SUM(E18:N18) -> 15 | S18: 476000 | T18: 952000 | V18: =ROUND(HARMEAN(P18:U18),0) -> 634667 | W18: =+V18*O18 -> 9520005 | Z18: =+V18*E18 -> 0 | AA18: =+V18*F18 -> 0 | AB18: =+V18*G18 -> 634667 | AC18: =+V18*H18 -> 0 | AD18: =+V18*I18 -> 0 | AE18: =+V18*J18 -> 0 | AF18: =+V18*K18 -> 2538668 | AG18: =+V18*L18 -> 1269334 | AH18: =+V18*M18 -> 3808002 | AI18: =+V18*N18 -> 1269334
B19: =1+B18 -> 44 | C19: Tubos de ensayo en vidrio (borosilicato) fondo redondo de 7mL (13 x 100 mm) con tapa rosca | D19: caja x 250 unidades | E19: 0 | F19: 0 | G19: 0 | H19: 0 | I19: 1 | J19: 0 | K19: 0 | L19: 1 | M19: 3 | N19: 0 | O19: =SUM(E19:N19) -> 5 | S19: 476000 | T19: 952000 | V19: =ROUND(GEOMEAN(P19:U19),0) -> 673166 | W19: =+V19*O19 -> 3365830 | Z19: =+V19*E19 -> 0 | AA19: =+V19*F19 -> 0 | AB19: =+V19*G19 -> 0 | AC19: =+V19*H19 -> 0 | AD19: =+V19*I19 -> 673166 | AE19: =+V19*J19 -> 0 | AF19: =+V19*K19 -> 0 | AG19: =+V19*L19 -> 673166 | AH19: =+V19*M19 -> 2019498 | AI19: =+V19*N19 -> 0
B20: =1+B19 -> 45 | C20: Tubos de ensayo en vidrio borosilicato fondo redondo de 15 mL (15x150mm) sin tapa | D20: Caja x 250 unidades | E20: 0 | F20: 0 | G20: 0 | H20: 0 | I20: 0 | J20: 0 | K20: 0 | L20: 0 | M20: 10 | N20: 0 | O20: =SUM(E20:N20) -> 10 | S20: 404600 | T20: 809200 | V20: =ROUND(HARMEAN(P20:U20),0) -> 539467 | W20: =+V20*O20 -> 5394670 | Z20: =+V20*E20 -> 0 | AA20: =+V20*F20 -> 0 | AB20: =+V20*G20 -> 0 | AC20: =+V20*H20 -> 0 | AD20: =+V20*I20 -> 0 | AE20: =+V20*J20 -> 0 | AF20: =+V20*K20 -> 0 | AG20: =+V20*L20 -> 0 | AH20: =+V20*M20 -> 5394670 | AI20: =+V20*N20 -> 0
B21: =1+B20 -> 46 | C21: Tubos de ensayo de vidrio borosilicato, fondo redondo, de 16 mL (15/16-125mm) con tapa rosca. | D21: Unidad | E21: 0 | F21: 0 | G21: 0 | H21: 3000 | I21: 0 | J21: 0 | K21: 0 | L21: 0 | M21: 0 | N21: 0 | O21: =SUM(E21:N21) -> 3000 | S21: 3617.6 | T21: 7235.2 | V21: =ROUND(HARMEAN(P21:U21),0) -> 4823 | W21: =+V21*O21 -> 14469000 | Z21: =+V21*E21 -> 0 | AA21: =+V21*F21 -> 0 | AB21: =+V21*G21 -> 0 | AC21: =+V21*H21 -> 14469000 | AD21: =+V21*I21 -> 0 | AE21: =+V21*J21 -> 0 | AF21: =+V21*K21 -> 0 | AG21: =+V21*L21 -> 0 | AH21: =+V21*M21 -> 0 | AI21: =+V21*N21 -> 0
B22: =1+B21 -> 47 | C22: Tubos de ensayo en vidrio (borosilicato) fondo redondo de 10 mL (16x100mm) con tapa rosca. | D22: caja x 250 unidades | E22: 20 | F22: 0 | G22: 0 | H22: 0 | J22: 0 | K22: 4 | L22: 4 | M22: 0 | N22: 2 | O22: =SUM(E22:N22) -> 30 | S22: 618800 | T22: 1237600 | V22: =ROUND(GEOMEAN(P22:U22),0) -> 875115 | W22: =+V22*O22 -> 26253450 | Z22: =+V22*E22 -> 17502300 | AA22: =+V22*F22 -> 0 | AB22: =+V22*G22 -> 0 | AC22: =+V22*H22 -> 0 | AD22: =+V22*I22 -> 0 | AE22: =+V22*J22 -> 0 | AF22: =+V22*K22 -> 3500460 | AG22: =+V22*L22 -> 3500460 | AH22: =+V22*M22 -> 0 | AI22: =+V22*N22 -> 1750230
B23: =1+B22 -> 48 | C23: Vaso de precipitado (Beaker) de forma baja, con pico, graduado, resistente a altas temperaturas (en borosilicato), volumen nominal de 10 mL | D23: Unidad | E23: 32 | F23: 0 | G23: 0 | H23: 0 | I23: 0 | J23: 0 | K23: 10 | L23: 30 | M23: 0 | N23: 5 | O23: =SUM(E23:N23) -> 77 | R23: 19757.33 | S23: 11900 | T23: 19040 | V23: =ROUND(HARMEAN(P23:U23),0) -> 16028 | W23: =+V23*O23 -> 1234156 | Z23: =+V23*E23 -> 512896 | AA23: =+V23*F23 -> 0 | AB23: =+V23*G23 -> 0 | AC23: =+V23*H23 -> 0 | AD23: =+V23*I23 -> 0 | AE23: =+V23*J23 -> 0 | AF23: =+V23*K23 -> 160280 | AG23: =+V23*L23 -> 480840 | AH23: =+V23*M23 -> 0 | AI23: =+V23*N23 -> 80140
B24: =1+B23 -> 49 | C24: Vaso de precipitado (Beaker) de forma baja, con pico, graduado, resistente a altas temperaturas (en borosilicato), volumen nominal de 100 mL | D24: Unidad | E24: 40 | F24: 0 | G24: 0 | H24: 5 | I24: 30 | J24: 10 | K24: 10 | L24: 30 | M24: 100 | N24: 5 | O24: =SUM(E24:N24) -> 230 | P24: 18326 | R24: 14917.983 | S24: 9044 | T24: 14470.4 | U24: =(8100)*((1+13.12/100)) -> 9162.72 | V24: =ROUND(HARMEAN(P24:U24),0) -> 12183 | W24: =+V24*O24 -> 2802090 | Z24: =+V24*E24 -> 487320 | AA24: =+V24*F24 -> 0 | AB24: =+V24*G24 -> 0 | AC24: =+V24*H24 -> 60915 | AD24: =+V24*I24 -> 365490 | AE24: =+V24*J24 -> 121830 | AF24: =+V24*K24 -> 121830 | AG24: =+V24*L24 -> 365490 | AH24: =+V24*M24 -> 1218300 | AI24: =+V24*N24 -> 60915
B25: =1+B24 -> 50 | C25: Vaso de precipitado (Beaker) de forma baja, con pico, graduado, resistente a altas temperaturas (en borosilicato), volumen nominal de 1000 mL | D25: Unidad | E25: 10 | F25: 1 | G25: 0 | H25: 0 | I25: 5 | J25: 4 | K25: 10 | L25: 7 | M25: 6 | N25: 2 | O25: =SUM(E25:N25) -> 45 | P25: 53669 | R25: 31168.363 | S25: 27965 | T25: 44744 | U25: =(18300)*((1+13.12/100)) -> 20700.96 | V25: =ROUND(HARMEAN(P25:U25),0) -> 31820 | W25: =+V25*O25 -> 1431900 | Z25: =+V25*E25 -> 318200 | AA25: =+V25*F25 -> 31820 | AB25: =+V25*G25 -> 0 | AC25: =+V25*H25 -> 0 | AD25: =+V25*I25 -> 159100 | AE25: =+V25*J25 -> 127280 | AF25: =+V25*K25 -> 318200 | AG25: =+V25*L25 -> 222740 | AH25: =+V25*M25 -> 190920 | AI25: =+V25*N25 -> 63640
B26: =1+B25 -> 51 | C26: Vaso de precipitado (Beaker) de forma baja, con pico, graduado, resistente a altas temperaturas (en borosilicato), volumen nominal de 2000 mL | D26: Unidad | E26: 12 | F26: 1 | G26: 0 | H26: 0 | I26: 0 | J26: 0 | K26: 10 | L26: 6 | M26: 6 | N26: 0 | O26: =SUM(E26:N26) -> 35 | P26: 60214 | R26: 58556.351 | S26: 58310 | T26: 93296 | V26: =ROUND(GEOMEAN(P26:U26),0) -> 66179 | W26: =+V26*O26 -> 2316265 | Z26: =+V26*E26 -> 794148 | AA26: =+V26*F26 -> 66179 | AB26: =+V26*G26 -> 0 | AC26: =+V26*H26 -> 0 | AD26: =+V26*I26 -> 0 | AE26: =+V26*J26 -> 0 | AF26: =+V26*K26 -> 661790 | AG26: =+V26*L26 -> 397074 | AH26: =+V26*M26 -> 397074 | AI26: =+V26*N26 -> 0
B27: =1+B26 -> 52 | C27: Vaso de precipitado (Beaker) de forma baja, con pico, graduado, resistente a altas temperaturas (en borosilicato), volumen nominal de 250 mL | D27: Unidad | E27: 18 | F27: 0 | G27: 0 | H27: 0 | I27: 15 | J27: 0 | K27: 10 | L27: 12 | M27: 12 | N27: 5 | O27: =SUM(E27:N27) -> 72 | P27: 22253 | R27: 16608.654 | S27: 10591 | T27: 16945.6 | U27: =(8900)*((1+13.12/100)) -> 10067.68 | V27: =ROUND(HARMEAN(P27:U27),0) -> 13970 | W27: =+V27*O27 -> 1005840 | Z27: =+V27*E27 -> 251460 | AA27: =+V27*F27 -> 0 | AB27: =+V27*G27 -> 0 | AC27: =+V27*H27 -> 0 | AD27: =+V27*I27 -> 209550 | AE27: =+V27*J27 -> 0 | AF27: =+V27*K27 -> 139700 | AG27: =+V27*L27 -> 167640 | AH27: =+V27*M27 -> 167640 | AI27: =+V27*N27 -> 69850
B28: =1+B27 -> 53 | C28: Vaso de precipitado (Beaker) de forma baja, con pico, graduado, resistente a altas temperaturas (en borosilicato), volumen nominal de 50 mL | D28: Unidad | E28: 55 | F28: 0 | G28: 0 | H28: 0 | I28: 110 | J28: 20 | K28: 10 | L28: 30 | M28: 200 | N28: 5 | O28: =SUM(E28:N28) -> 430 | P28: 30107 | R28: 15499.052 | S28: 8687 | T28: 13899.2 | U28: =(6159)*((1+13.12/100)) -> 6967.0608 | V28: =ROUND(HARMEAN(P28:U28),0) -> 11673 | W28: =+V28*O28 -> 5019390 | Z28: =+V28*E28 -> 642015 | AA28: =+V28*F28 -> 0 | AB28: =+V28*G28 -> 0 | AC28: =+V28*H28 -> 0 | AD28: =+V28*I28 -> 1284030 | AE28: =+V28*J28 -> 233460 | AF28: =+V28*K28 -> 116730 | AG28: =+V28*L28 -> 350190 | AH28: =+V28*M28 -> 2334600 | AI28: =+V28*N28 -> 58365
B29: =1+B28 -> 54 | C29: Vaso de precipitado (Beaker) de forma baja, con pico, graduado, resistente a altas temperaturas (en borosilicato), volumen nominal de 500-600 mL | D29: Unidad | E29: 20 | F29: 0 | G29: 0 | H29: 0 | I29: 3 | J29: 0 | K29: 10 | L29: 7 | M29: 8 | N29: 5 | O29: =SUM(E29:N29) -> 53 | P29: 31416 | R29: 20353.733 | S29: 17255 | T29: 27608 | V29: =ROUND(HARMEAN(P29:U29),0) -> 22839 | W29: =+V29*O29 -> 1210467 | Z29: =+V29*E29 -> 456780 | AA29: =+V29*F29 -> 0 | AB29: =+V29*G29 -> 0 | AC29: =+V29*H29 -> 0 | AD29: =+V29*I29 -> 68517 | AE29: =+V29*J29 -> 0 | AF29: =+V29*K29 -> 228390 | AG29: =+V29*L29 -> 159873 | AH29: =+V29*M29 -> 182712 | AI29: =+V29*N29 -> 114195
B30: TOTAL ESTIMADO LOTE 2 | W30: =SUM(W5:W29) -> 116194626 | Z30: =SUM(Z5:Z29) -> 31813374 | AA30: =SUM(AA5:AA29) -> 97999 | AB30: =SUM(AB5:AB29) -> 634667 | AC30: =SUM(AC5:AC29) -> 25432043 | AD30: =SUM(AD5:AD29) -> 4847015 | AE30: =SUM(AE5:AE29) -> 799098 | AF30: =SUM(AF5:AF29) -> 13819521 | AG30: =SUM(AG5:AG29) -> 12055896 | ... AI30: =SUM(AI5:AI29) -> 5562069
Z31: =+Z30+AA30+AB30+AC30+AD30+AE30+AF30+AG30+AH30+AI30 -> 116194626
C32: CLASIFICACIÓN DEL BIEN O SERVICIO DE ACUERDO CON EL CLASIFICADOR DE BIENES Y SERVICIOS | D32: 42281800 24112600 40161500 41104900 41121800 41122400 41122800 41111600 41104800 41121700
C33: CALIDAD MINIMA | D33: No aplica
C34: PATRONES DE DESEMPEÑO MINIMOS | D34: No aplica

Sheet LOTE 3
B3: LOTE 3 | L3: ESTUDIO DE MERCADO | S3: GRAFICO DE DISPERSIÓN | V3: REGIONALIZACIÓN LOTE 3
B4: ITEM | C4: ESPECIFICACIÓN TÉCNICA | D4: UNIDAD DE MEDIDA (PRESENTACION) | E4: GRUPO NACIONAL DE APOYO AL SISTEMA DE VERDAD JUSTICIA REPARACIÓN Y NO REPETICIÓN -SSF (BOGOTA) | F4: DIRECCIÓN REGIONAL NOROCCIDENTE | G4: DIRECCIÓN REGIONAL NORORIENTE | H4: DIRECCIÓN REGIONAL SUROCCIDENTE | I4: DIRECCIÓN REGIONAL SUR | J4: DIRECCIÓN REGIONAL ORIENTE | K4: CANTIDAD TOTAL | L4: VALOR UNITARIO CON IVA | Q4: VALOR UNITARIO ESTIMADO CON IVA | R4: VALOR TOTAL CON IVA | V4: GRUPO NACIONAL DE APOYO AL SISTEMA DE VERDAD JUSTICIA REPARACIÓN Y NO REPETICIÓN -SSF (BOGOTA) | W4: DIRECCIÓN REGIONAL NOROCCIDENTE | X4: DIRECCIÓN REGIONAL NORORIENTE | Y4: DIRECCIÓN REGIONAL SUROCCIDENTE | Z4: DIRECCIÓN REGIONAL SUR | AA4: DIRECCIÓN REGIONAL ORIENTE
L5: ANNAR | M5: AVANTIKA | N5: LAB BRANDS | O5: NORQUIMICOS | P5: QUIMITRONICA
B6: 55 | C6: Frasco de vidrio transaparente con tapa rosca, redondo, resistente a altas temperaturas (máx. 140°C), autoclavable (frasco en en borosilicato y tapa el polipropileno), tapa con con sello integral/interno, frasco con anillo vertido libre de goteo, volumen nominal de 50ml | D6: Unidad | E6: 5 | F6: 20 | G6: 0 | H6: 10 | I6: 0 | J6: 0 | K6: =SUM(E6:J6) -> 35 | N6: 27267.66 | O6: 26775 | P6: 47600 | Q6: =ROUND(HARMEAN(L6:P6),0) -> 31569 | R6: =+Q6*K6 -> 1104915 | V6: =+Q6*E6 -> 157845 | W6: =+Q6*F6 -> 631380 | X6: =+Q6*G6 -> 0 | Y6: =+Q6*H6 -> 315690 | Z6: =+Q6*I6 -> 0 | AA6: =+Q6*J6 -> 0
B7: =1+B6 -> 56 | C7: Frasco de vidrio transaparente con tapa rosca, redondo, resistente a altas temperaturas (máx 140°C), autoclavable (frasco en en borosilicato y tapa el polipropileno), tapa con con sello integral/interno, frasco con anillo vertido libre de goteo, volumen nominal de 250ml | D7: Unidad | E7: 0 | F7: 12 | G7: 2 | H7: 10 | I7: 7 | J7: 2 | K7: =SUM(E7:J7) -> 33 | L7: 26180 | N7: 29736.91 | O7: 19159 | P7: 35700 | Q7: =ROUND(HARMEAN(L7:P7),0) -> 26310 | R7: =+Q7*K7 -> 868230 | V7: =+Q7*E7 -> 0 | W7: =+Q7*F7 -> 315720 | X7: =+Q7*G7 -> 52620 | Y7: =+Q7*H7 -> 263100 | Z7: =+Q7*I7 -> 184170 | AA7: =+Q7*J7 -> 52620
B8: =1+B7 -> 57 | C8: Frasco de vidrio transaparente con tapa rosca, redondo, resistente a altas temperaturas (máx. 140°C), autoclavable (frasco en en borosilicato y tapa el polipropileno), tapa con con sello integral/interno, frasco con anillo vertido libre de goteo, volumen nominal de 500ml | D8: Unidad | E8: 4 | F8: 0 | G8: 0 | H8: 0 | I8: 0 | J8: 0 | K8: =SUM(E8:J8) -> 4 | L8: 34034 | N8: 29885.66 | O8: 22610 | P8: 42840 | Q8: =ROUND(GEOMEAN(L8:P8),0) -> 31505 | R8: =+Q8*K8 -> 126020 | V8: =+Q8*E8 -> 126020 | W8: =+Q8*F8 -> 0 | X8: =+Q8*G8 -> 0 | Y8: =+Q8*H8 -> 0 | Z8: =+Q8*I8 -> 0 | AA8: =+Q8*J8 -> 0
B9: =1+B8 -> 58 | C9: Frasco de vidrio transaparente con tapa rosca, redondo, resistente a altas temperaturas (máx. 140°C), autoclavable (frasco en en borosilicato y tapa el polipropileno), tapa con con sello integral/interno, frasco con anillo vertido libre de goteo, volumen nominal de 1000ml | D9: Unidad | E9: 4 | F9: 0 | G9: 0 | H9: 0 | I9: 0 | J9: 0 | K9: =SUM(E9:J9) -> 4 | L9: 53669 | N9: 39569.88 | O9: 32606 | P9: 61880 | Q9: =ROUND(HARMEAN(L9:P9),0) -> 44085 | R9: =+Q9*K9 -> 176340 | V9: =+Q9*E9 -> 176340 | W9: =+Q9*F9 -> 0 | X9: =+Q9*G9 -> 0 | Y9: =+Q9*H9 -> 0 | Z9: =+Q9*I9 -> 0 | AA9: =+Q9*J9 -> 0
B10: =1+B9 -> 59 | C10: Frasco de vidrio transaparente con tapa rosca, redondo, resistente a altas temperaturas (máx. 140°C), autoclavable (frasco en en borosilicato y tapa el polipropileno), tapa con con sello integral/interno, frasco con anillo vertido libre de goteo, volumen nominal de 2000ml | D10: Unidad | E10: 4 | F10: 0 | G10: 0 | H10: 0 | I10: 0 | J10: 0 | K10: =SUM(E10:J10) -> 4 | L10: 174097 | N10: 95004.84 | O10: 91154 | P10: 157080 | Q10: =ROUND(HARMEAN(L10:P10),0) -> 119025 | R10: =+Q10*K10 -> 476100 | V10: =+Q10*E10 -> 476100 | W10: =+Q10*F10 -> 0 | X10: =+Q10*G10 -> 0 | Y10: =+Q10*H10 -> 0 | Z10: =+Q10*I10 -> 0 | AA10: =+Q10*J10 -> 0
B11: TOTAL ESTIMADO LOTE 3 | R11: =SUM(R6:R10) -> 2751605 | V11: =SUM(V6:V10) -> 936305 | W11: =SUM(W6:W10) -> 947100 | X11: =SUM(X6:X10) -> 52620 | Y11: =SUM(Y6:Y10) -> 578790 | Z11: =SUM(Z6:Z10) -> 184170 | AA11: =SUM(AA6:AA10) -> 52620
V12: =+V11+W11+X11+Y11+Z11+AA11 -> 2751605
C13: CLASIFICACIÓN DEL BIEN O SERVICIO DE ACUERDO CON EL CLASIFICADOR DE BIENES Y SERVICIOS | D13: 42281800 24112600 40161500 41104900 41121800 41122400 41122800 41111600 41104800 41121700
C14: CALIDAD MINIMA | D14: No aplica
C15: PATRONES DE DESEMPEÑO MINIMOS | D15: No aplica

Sheet LOTE 4 
B2: LOTE 4 | O2: ESTUDIO DE MERCADO | V2: GRAFICA DE DISPERSIÓN | X2: REGIONALIZACIÓN LOTE 4
B3: ITEM | C3: ESPECIFICACIÓN TÉCNICA | D3: UNIDAD DE MEDIDA (PRESENTACION) | E3: DIRECCIÓN REGIONAL BOGOTÁ | F3: GRUPO NACIONAL DE APOYO AL SISTEMA DE VERDAD JUSTICIA REPARACIÓN Y NO REPETICIÓN -SSF (BOGOTA) | G3: GRUPO NACIONAL GENETICA CONVENIO CONTRATO ICBF (BOGOTA) | H3: DIRECCIÓN REGIONAL NOROCCIDENTE | I3: DIRECCIÓN REGIONAL NORORIENTE | J3: DIRECCIÓN REGIONAL OCCIDENTE | K3: DIRECCIÓN REGIONAL SUROCCIDENTE | L3: DIRECCIÓN REGIONAL SUR | M3: DIRECCIÓN REGIONAL ORIENTE | N3: CANTIDAD TOTAL | O3: VALOR UNITARIO CON IVA | S3: HISTORICO 2022 | T3: VALOR UNITARIO ESTIMADO CON IVA | U3: VALOR TOTAL CON IVA | X3: DIRECCIÓN REGIONAL BOGOTÁ | Y3: GRUPO NACIONAL DE APOYO AL SISTEMA DE VERDAD JUSTICIA REPARACIÓN Y NO REPETICIÓN -SSF (BOGOTA) | Z3: GRUPO NACIONAL GENETICA CONVENIO CONTRATO ICBF (BOGOTA) | AA3: DIRECCIÓN REGIONAL NOROCCIDENTE | AB3: DIRECCIÓN REGIONAL NORORIENTE | AC3: DIRECCIÓN REGIONAL OCCIDENTE | AD3: DIRECCIÓN REGIONAL SUROCCIDENTE | AE3: DIRECCIÓN REGIONAL SUR | AF3: DIRECCIÓN REGIONAL ORIENTE
O4: AVANTIKA | P4: LAB BRANDS | Q4: NORQUIMICOS | R4: WACOL
B5: 60 | C5: Tubos de centrífuga en polipropileno, fondo cónico, tapa rosca, plana y lisa, graduados, volumen de 50 ml (tipo falcon) Resistencia (de menor a moderada) a Fenol, Cloroformo, a fuerza centrífuga de 4000g o mayor, y a temperatura de 56ºC en agitación prolongada con soluciones acuosas (Presentar muestras por 5 unidades) | D5: Caja de 500 unidades | E5: 10 | F5: 0 | G5: 2 | H5: 13 | I5: 0 | J5: 0 | K5: 0 | L5: 0 | M5: 6 | N5: =SUM(E5:M5) -> 31 | P5: 833000 | R5: =1995000*1.19 -> 2374050 | S5: =(1451500)*((1+13.12/100)) -> 1641936.8 | T5: =ROUND(HARMEAN(O5:S5),0) -> 1344846 | U5: =+T5*N5 -> 41690226 | X5: =+T5*E5 -> 13448460 | Y5: =+T5*F5 -> 0 | Z5: =+T5*G5 -> 2689692 | AA5: =+T5*H5 -> 17482998 | AB5: =+T5*I5 -> 0 | AC5: =+T5*J5 -> 0 | AD5: =+T5*K5 -> 0 | AE5: =+T5*L5 -> 0 | AF5: =+T5*M5 -> 8069076
B6: =1+B5 -> 61 | C6: Tubos de microcentrífuga en polipropileno de 0.5/0.6 ml, con tapa plana, graduados, con superficie de escritura, color natural, resistentes a autoclavado, libres de DNA´s y RNA´s. (Presentar muestras por 5 unidades) | D6: caja de 1000 unidades | E6: 2 | F6: 0 | G6: 6 | H6: 0 | I6: 0 | J6: 0 | K6: 0 | L6: 0 | M6: 0 | N6: =SUM(E6:M6) -> 8 | Q6: 101150 | R6: =320000*1.19 -> 380800 | S6: =+(176577)*((1+13.12/100)) -> 199743.9 | T6: =ROUND(HARMEAN(O6:S6),0) -> 171245 | U6: =+T6*N6 -> 1369960 | X6: =+T6*E6 -> 342490 | Y6: =+T6*F6 -> 0 | Z6: =+T6*G6 -> 1027470 | AA6: =+T6*H6 -> 0 | AB6: =+T6*I6 -> 0 | AC6: =+T6*J6 -> 0 | AD6: =+T6*K6 -> 0 | AE6: =+T6*L6 -> 0 | AF6: =+T6*M6 -> 0
B7: =1+B6 -> 62 | C7: Tubos de microcentrífuga en polipropileno, fondo cónico de 1,5 ml, con tapa plana, con superficie de escritura, color natural. | D7: Bolsa por 500 unidades | E7: 1 | F7: 0 | G7: 0 | H7: 0 | I7: 0 | J7: 0 | K7: 0 | L7: 2 | M7: 5 | N7: =SUM(E7:M7) -> 8 | P7: 24752.547 | Q7: 35700 | R7: =221400*1.19 -> 263466 | S7: 38005.926 | T7: =ROUND(HARMEAN(O7:S7),0) -> 40602 | U7: =+T7*N7 -> 324816 | X7: =+T7*E7 -> 40602 | Y7: =+T7*F7 -> 0 | Z7: =+T7*G7 -> 0 | AA7: =+T7*H7 -> 0 | AB7: =+T7*I7 -> 0 | AC7: =+T7*J7 -> 0 | AD7: =+T7*K7 -> 0 | AE7: =+T7*L7 -> 81204 | AF7: =+T7*M7 -> 203010
B8: =1+B7 -> 63 | C8: Tubos de microcentrífuga en polipropileno, fondo cónico de 1,5 ml, con tapa plana, graduados, con superficie de escritura, color natural, resistentes a autoclavado, libres de DNA´s y RNA´s. (presentar muestras por 5 unidades) | D8: Bolsa de 500 unidades | E8: 34 | F8: 4 | G8: 8 | H8: 0 | I8: 0 | J8: 0 | K8: 20 | L8: 0 | M8: 6 | N8: =SUM(E8:M8) -> 72 | P8: 59782.03 | Q8: 74494 | R8: =221400*1.19 -> 263466 | S8: =(263466)*((1+13.12/100)) -> 298032.74 | T8: =ROUND(HARMEAN(O8:S8),0) -> 107232 | U8: =+T8*N8 -> 7720704 | X8: =+T8*E8 -> 3645888 | Y8: =+T8*F8 -> 428928 | Z8: =+T8*G8 -> 857856 | AA8: =+T8*H8 -> 0 | AB8: =+T8*I8 -> 0 | AC8: =+T8*J8 -> 0 | AD8: =+T8*K8 -> 2144640 | AE8: =+T8*L8 -> 0 | AF8: =+T8*M8 -> 643392
B9: =1+B8 -> 64 | C9: Tubos de microcentrífuga en polipropileno, fondo cónico de 2.0 ml, con tapa plana (no tapa rosca), graduados, con superficie de escritura, color natural, resistentes a autoclavado, libres de DNA´s y RNA´s. (Presentar muestras por 5 unidades) | D9: Bolsa de 500 unidades | E9: 5 | F9: 0 | G9: 6 | H9: 0 | I9: 0 | J9: 0 | K9: 0 | L9: 0 | M9: 2 | N9: =SUM(E9:M9) -> 13 | Q9: 83300 | R9: =310000*1.19 -> 368900 | S9: =(182877)*(1+13.12/100) -> 206870.46 | T9: =ROUND(HARMEAN(O9:S9),0) -> 153457 | U9: =+T9*N9 -> 1994941 | X9: =+T9*E9 -> 767285 | Y9: =+T9*F9 -> 0 | Z9: =+T9*G9 -> 920742 | AA9: =+T9*H9 -> 0 | AB9: =+T9*I9 -> 0 | AC9: =+T9*J9 -> 0 | AD9: =+T9*K9 -> 0 | AE9: =+T9*L9 -> 0 | AF9: =+T9*M9 -> 306914
B10: =1+B9 -> 65 | C10: Tubos de microcentrífuga en polipropileno, fondo cónico de 2.0 ml, con tapa plana (no tapa rosca), graduados, con superficie de escritura. | D10: Paquete X 500 unidades | E10: 6 | F10: 0 | G10: 0 | H10: 23 | I10: 10 | J10: 4 | K10: 0 | L10: 0 | M10: 0 | N10: =SUM(E10:M10) -> 43 | P10: 26128.327 | Q10: 42840 | R10: =310000*1.19 -> 368900 | T10: =ROUND(HARMEAN(O10:S10),0) -> 46637 | U10: =+T10*N10 -> 2005391 | X10: =+T10*E10 -> 279822 | Y10: =+T10*F10 -> 0 | Z10: =+T10*G10 -> 0 | AA10: =+T10*H10 -> 1072651 | AB10: =+T10*I10 -> 466370 | AC10: =+T10*J10 -> 186548 | AD10: =+T10*K10 -> 0 | AE10: =+T10*L10 -> 0 | AF10: =+T10*M10 -> 0
B11: =1+B10 -> 66 | C11: Tubos de PCR 0,2mL en polipropileno de pared delgada libres de DNAsa, RNAsa y DNA, resistentes a autoclavado, tapa plana, color natural (Presentar muestras por 5 unidades) | D11: caja de 1000 unidades | E11: 36 | F11: 3 | G11: 5 | H11: 0 | I11: 0 | J11: 0 | K11: 10 | L11: 0 | M11: 0 | N11: =SUM(E11:M11) -> 54 | P11: 245410.56 | Q11: 190400 | R11: =380000*1.19 -> 452200 | S11: =(309536)*((1+13.12/100)) -> 350147.12 | T11: =ROUND(HARMEAN(O11:S11),0) -> 277889 | U11: =+T11*N11 -> 15006006 | X11: =+T11*E11 -> 10004004 | Y11: =+T11*F11 -> 833667 | Z11: =+T11*G11 -> 1389445 | AA11: =+T11*H11 -> 0 | AB11: =+T11*I11 -> 0 | AC11: =+T11*J11 -> 0 | AD11: =+T11*K11 -> 2778890 | AE11: =+T11*L11 -> 0 | AF11: =+T11*M11 -> 0
B12: =1+B11 -> 67 | C12: Tubos de polipropileno fondo cónico, tapa rosca hermética, graduados, volumen de 15 mL, tipo falcon, no estéril, resistentes a solventes orgánicos. | D12: Paquete de 50 tubos | E12: 4 | F12: 0 | G12: 0 | H12: 0 | I12: 0 | J12: 10 | K12: 2 | L12: 8 | M12: 4 | N12: =SUM(E12:M12) -> 28 | Q12: 42840 | R12: =99500*1.19 -> 118405 | S12: =(33900)*((1+(13.12/100))) -> 38347.68 | T12: =ROUND(HARMEAN(O12:S12),0) -> 51844 | U12: =+T12*N12 -> 1451632 | X12: =+T12*E12 -> 207376 | Y12: =+T12*F12 -> 0 | Z12: =+T12*G12 -> 0 | AA12: =+T12*H12 -> 0 | AB12: =+T12*I12 -> 0 | AC12: =+T12*J12 -> 518440 | AD12: =+T12*K12 -> 103688 | AE12: =+T12*L12 -> 414752 | AF12: =+T12*M12 -> 207376
B13: TOTAL ESTIMADO LOTE 4 | U13: =SUM(U5:U12) -> 71563676 | X13: =SUM(X5:X12) -> 28735927 | Y13: =SUM(Y5:Y12) -> 1262595 | Z13: =SUM(Z5:Z12) -> 6885205 | AA13: =SUM(AA5:AA12) -> 18555649 | AB13: =SUM(AB5:AB12) -> 466370 | AC13: =SUM(AC5:AC12) -> 704988 | AD13: =SUM(AD5:AD12) -> 5027218 | AE13: =SUM(AE5:AE12) -> 495956 | AF13: =SUM(AF5:AF12) -> 9429768
X14: =+X13+Y13+Z13+AA13+AB13+AC13+AD13+AE13+AF13 -> 71563676
C15: CLASIFICACIÓN DEL BIEN O SERVICIO DE ACUERDO CON EL CLASIFICADOR DE BIENES Y SERVICIOS | D15: 42281800 24112600 40161500 41104900 41121800 41122400 41122800 41111600 41104800 41121700
C16: CALIDAD MINIMA | D16: No aplica
C17: PATRONES DE DESEMPEÑO MINIMOS | D17: No aplica
C19: PRUEBAS DE LABORATORIO A REALIZAR A LAS MUESTRAS RECIBIDAS PARA EVALUACIÓN
C20: ITEM 60 | D20: 1. Sellado de la tapa: Que el cierre el tubo sea de fácil ajuste e impida derrames. 2. Se someterá a las condiciones de uso del Laboratorio: a) 24 horas a 56°C en movimiento por rotación o inversión, conteniendo los reactivos empleados para la digestión de muestras Oseas. Se evaluará: Derrame (sellado de la tapa), resistencia del tubo a las condiciones (ruptura). b) Resistencia a fenol y cloroformo en las cantidades y concentraciones usadas en el Laboratorio para la extracción de ADN.
C21: ITEM 61 | D21: • Sellado de la tapa: Que la tapa ajuste en el tubo encajando firmemente. • Estabilidad del material del tubo al someterse a ebullición.
C22: ITEM 63 | D22: • Sellado de la tapa: Que la tapa ajuste en el tubo encajando firmemente. • Estabilidad del material del tubo al someterse a ebullición.
C23: ITEM 64 | D23: • Sellado de la tapa: Que la tapa ajuste en el tubo encajando firmemente. • Estabilidad del material del tubo al someterse a ebullición.
C24: ITEM 66 | D24: • Sellado de la tapa: Que la tapa ajuste en el tubo encajando firmemente. • Estabilidad del material al someterse a un proceso de termociclaje. • Medición de la pérdida de volumen después de un proceso de termociclaje, se acepta pérdida máxima del 10% en relación con el volumen inicial.
C25: CONDICIONES DE ENTREGA DE LAS MUESTRAS
C26: 1. El proponente que presente oferta para el lote 4 items 60, 61, 63, 64 y 66, deberá enviar cinco (5) unidades de los elementos correspondientes a los lotes mencionados, para realizar la respectiva evaluación técnica. 2. Estas muestras no serán devueltas y no generarán costo alguno para el Instituto, ni forman parte de las cantidades requeridas. 3. Las muestras deben enviarse en empaque individual, rotulado, con la siguiente información: Número del proceso, marca, referencia, y empresa oferente. 4. Las muestras deberán ser entregadas con la propuesta en la sede central del Instituto Nacional de Medicina Legal y Ciencias Forenses, ubicada en la Calle 7A No. 12A - 51, oficina de correspondencia. Esta información se reflejará en el cronograma y en el documento complementario pliego definitivo, publicados en la plataforma SECOP II. 5. Los sobres deberán entregarse rotulados de la siguiente manera.

Sheet LOTE 5
B2: LOTE 5 | L2: ESTUDIO DE MERCADO | Q2: GRAFICA DE DISPERSIÓN | S2: REGIONALIZACIÓN LOTE 5
B3: ITEM | C3: ESPECIFICACIÓN TÉCNICA | D3: UNIDAD DE MEDIDA (PRESENTACION) | E3: DIRECCIÓN REGIONAL BOGOTÁ | F3: GRUPO NACIONAL DE APOYO AL SISTEMA DE VERDAD JUSTICIA REPARACIÓN Y NO REPETICIÓN -SSF (BOGOTA) | G3: GRUPO NACIONAL GENETICA CONVENIO CONTRATO ICBF (BOGOTA) | H3: DIRECCIÓN REGIONAL NOROCCIDENTE | I3: DIRECCIÓN REGIONAL SUROCCIDENTE | J3: DIRECCIÓN REGIONAL ORIENTE | K3: CANTIDAD ESTIMADA | L3: VALOR UNITARIO CON IVA | N3: HISTORICO 2022 | O3: VALOR UNITARIO ESTIMADO CON IVA | P3: VALOR TOTAL CON IVA | S3: DIRECCIÓN REGIONAL BOGOTÁ | T3: GRUPO NACIONAL DE APOYO AL SISTEMA DE VERDAD JUSTICIA REPARACIÓN Y NO REPETICIÓN -SSF (BOGOTA) | U3: GRUPO NACIONAL GENETICA CONVENIO CONTRATO ICBF (BOGOTA) | V3: DIRECCIÓN REGIONAL NOROCCIDENTE | W3: DIRECCIÓN REGIONAL SUROCCIDENTE | X3: DIRECCIÓN REGIONAL ORIENTE
L4: QUIMITRONICA | M4: PAF
B5: 68 | C5: Tubos de ultrafiltración de 100.000 daltons, con volumen de filtrado (inicial) de 15 ml y volumen final de recuperación mínimo de 200 microlitros, Recuperación mayor del 90%. Resistente a fuerza centrífuga de 3000g o superior en rotor libre, y de 5000g o superior en rotor de ángulo fijo. Membrana vertical de celulosa regenerada. Tubo traslúcido con superficie de escritura. Referencia UFC910096 o su equivalente. | D5: Caja x 96 unidades | E5: 0 | F5: 2 | G5: 10 | H5: 15 | I5: 5 | J5: 0 | K5: =SUM(E5:J5) -> 32 | L5: 11138400 | M5: 10445820 | N5: =(8462995)*(1+(13.12/100)) -> 9573339.9 | O5: =ROUND(GEOMEAN(L5:N5),0) -> 10365962 | P5: =+O5*K5 -> 331710784 | S5: =+O5*E5 -> 0 | T5: =+O5*F5 -> 20731924 | U5: =+O5*G5 -> 103659620 | V5: =+O5*H5 -> 155489430 | W5: =+O5*I5 -> 51829810 | X5: =+O5*J5 -> 0
B6: =1+B5 -> 69 | C6: Tubos de ultrafiltración de 30.000 daltons, con volumen de filtrado (inicial) de 15 ml y volumen final de recuperación mínimo de 200 microlitros, Recuperación mayor del 90%. Resistente a fuerza centrífuga de 3000g o superior en rotor libre y de 5000g o superior en rotor de ángulo fijo. Membrana vertical de celulosa regenerada. Tubo traslúcido. con superficie de escritura. Referencia UFC903096 o su equivalente. | D6: Caja x 96 unidades | E6: 5 | F6: 0 | G6: 0 | H6: 15 | I6: 0 | J6: 25 | K6: =SUM(E6:J6) -> 45 | L6: 11138400 | M6: 10445820 | N6: =(8462995)*(1+(13.12/100)) -> 9573339.9 | O6: =ROUND(GEOMEAN(L6:N6),0) -> 10365962 | P6: =+O6*K6 -> 466468290 | S6: =+O6*E6 -> 51829810 | T6: =+O6*F6 -> 0 | U6: =+O6*G6 -> 0 | V6: =+O6*H6 -> 155489430 | W6: =+O6*I6 -> 0 | X6: =+O6*J6 -> 259149050
B7: TOTAL ESTIMADO LOTE 5 | P7: =SUM(P5:P6) -> 798179074 | S7: =SUM(S5:S6) -> 51829810 | T7: =SUM(T5:T6) -> 20731924 | U7: =SUM(U5:U6) -> 103659620 | V7: =SUM(V5:V6) -> 310978860 | W7: =SUM(W5:W6) -> 51829810 | X7: =SUM(X5:X6) -> 259149050
S8: =+S7+T7+U7+V7+W7+X7 -> 798179074
C9: CLASIFICACIÓN DEL BIEN O SERVICIO DE ACUERDO CON EL CLASIFICADOR DE BIENES Y SERVICIOS | D9: 42281800 24112600 40161500 41104900 41121800 41122400 41122800 41111600 41104800 41121700
C10: CALIDAD MINIMA | D10: No aplica
C11: PATRONES DE DESEMPEÑO MINIMOS | D11: No aplica

Sheet LOTE 6
B3: LOTE 6 | M3: ESTUDIO DE MERCADO | Q3: GRAFICA DE DISPERSIÓN | S3: REGIONALIZACIÓN LOTE 6
B4: ITEM | C4: ESPECIFICACIÓN TÉCNICA | D4: UNIDAD DE MEDIDA (PRESENTACION) | E4: DIRECCIÓN REGIONAL BOGOTÁ | F4: DIRECCIÓN REGIONAL NOROCCIDENTE | G4: DIRECCIÓN REGIONAL NORORIENTE | H4: DIRECCIÓN REGIONAL OCCIDENTE | I4: DIRECCIÓN REGIONAL SUROCCIDENTE | J4: DIRECCIÓN REGIONAL NORTE | K4: DIRECCIÓN REGIONAL SUR | L4: CANTIDAD TOTAL | M4: VALOR UNITARIO CON IVA | N4: HISTORICO 2022 | O4: VALOR UNITARIO ESTIMADO CON IVA | P4: VALOR TOTAL CON IVA | S4: DIRECCIÓN REGIONAL BOGOTÁ | T4: DIRECCIÓN REGIONAL NOROCCIDENTE | U4: DIRECCIÓN REGIONAL NORORIENTE | V4: DIRECCIÓN REGIONAL OCCIDENTE | W4: DIRECCIÓN REGIONAL SUROCCIDENTE | X4: DIRECCIÓN REGIONAL NORTE | Y4: DIRECCIÓN REGIONAL SUR
M5: SANITAS
B6: 70 | C6: Tubos de 1.5 ml tipo ClickFit Microtube, compatible con canastilla tipo Spin Baskets (ref V1221). Que el tubo tenga un cierre óptimo de la tapa con la canastilla adentro. Ref. V4741 | D6: Bolsa por 1000 | E6: 0 | F6: 0 | G6: 0 | H6: 0 | I6: 4 | J6: 4 | K6: 0 | L6: =SUM(E6:K6) -> 8 | M6: =808000*1.19 -> 961520 | N6: =(828240)*(1+(13.12/100)) -> 936905.09 | O6: =ROUND(GEOMEAN(M6:N6),0) -> 949133 | P6: =+O6*L6 -> 7593064 | S6: =+O6*E6 -> 0 | T6: =+O6*F6 -> 0 | U6: =+O6*G6 -> 0 | V6: =+O6*H6 -> 0 | W6: =+O6*I6 -> 3796532 | X6: =+O6*J6 -> 3796532 | Y6: =+O6*K6 -> 0
B7: =1+B6 -> 71 | C7: Tubos de 1.5 ml tipo ClickFit Microtube, que incluya canastilla tipo Spin Baskets (ref V1221). Que el tubo tenga un cierre óptimo de la tapa con la canastilla adentro. Ref. V4741 | D7: Bolsa por 1000 | E7: 12 | F7: 3 | G7: 3 | H7: 1 | I7: 10 | J7: 0 | K7: 2 | L7: =SUM(E7:K7) -> 31 | M7: =2239000*1.19 -> 2664410 | N7: =(2296700)*(1+(13.12/100)) -> 2598027 | O7: =ROUND(GEOMEAN(M7:N7),0) -> 2631009 | P7: =+O7*L7 -> 81561279 | S7: =+O7*E7 -> 31572108 | T7: =+O7*F7 -> 7893027 | U7: =+O7*G7 -> 7893027 | V7: =+O7*H7 -> 2631009 | W7: =+O7*I7 -> 26310090 | X7: =+O7*J7 -> 0 | Y7: =+O7*K7 -> 5262018
B8: TOTAL ESTIMADO LOTE 6 | P8: =SUM(P6:P7) -> 89154343 | S8: =SUM(S6:S7) -> 31572108 | T8: =SUM(T6:T7) -> 7893027 | U8: =SUM(U6:U7) -> 7893027 | V8: =SUM(V6:V7) -> 2631009 | W8: =SUM(W6:W7) -> 30106622 | X8: =SUM(X6:X7) -> 3796532 | Y8: =SUM(Y6:Y7) -> 5262018
S9: =+S8+T8+U8+V8+W8+X8+Y8 -> 89154343
C10: CLASIFICACIÓN DEL BIEN O SERVICIO DE ACUERDO CON EL CLASIFICADOR DE BIENES Y SERVICIOS | D10: 42281800 24112600 40161500 41104900 41121800 41122400 41122800 41111600 41104800 41121700
C11: CALIDAD MINIMA | D11: No aplica
C12: PATRONES DE DESEMPEÑO MINIMOS | D12: No aplica

Sheet LOTE 7 
B3: LOTE 7 | O3: ESTUDIO DE MERCADO | U3: GRAFICA DE DISPERSIÓN | W3: REGIONALIZACIÓN LOTE 7
B4: ITEM | C4: ESPECIFICACIÓN TÉCNICA | D4: UNIDAD DE MEDIDA (PRESENTACION) | E4: DIRECCIÓN REGIONAL BOGOTÁ | F4: GRUPO NACIONAL GENETICA CONVENIO CONTRATO ICBF (BOGOTA) | G4: DIRECCIÓN REGIONAL NOROCCIDENTE | H4: DIRECCIÓN REGIONAL NORORIENTE | I4: DIRECCIÓN REGIONAL OCCIDENTE | J4: DIRECCIÓN REGIONAL SUROCCIDENTE | K4: DIRECCIÓN REGIONAL NORTE | L4: DIRECCIÓN REGIONAL SUR | M4: DIRECCIÓN REGIONAL ORIENTE | N4: CANTIDAD TOTAL | O4: VALOR UNITARIO CON IVA | R4: HISTORICO 2022 | S4: VALOR UNITARIO ESTIMADO CON IVA | T4: VALOR TOTAL CON IVA | W4: DIRECCIÓN REGIONAL BOGOTÁ | X4: GRUPO NACIONAL GENETICA CONVENIO CONTRATO ICBF (BOGOTA) | Y4: DIRECCIÓN REGIONAL NOROCCIDENTE | Z4: DIRECCIÓN REGIONAL NORORIENTE | AA4: DIRECCIÓN REGIONAL OCCIDENTE | AB4: DIRECCIÓN REGIONAL SUROCCIDENTE | AC4: DIRECCIÓN REGIONAL NORTE | AD4: DIRECCIÓN REGIONAL SUR | AE4: DIRECCIÓN REGIONAL ORIENTE
O5: ANNAR | P5: NORQUIMICOS | Q5: QUIMITRONICA
B6: 72 | C6: Papel filtro cualitativo, diámetro 12.5 cm, de flujo lento, grosor nominal entre 140 y 200 um, rango de retención entre 2 y 4 um, peso base entre 80-100 g/m2. | D6: Paquete de 100 filtros | E6: 61 | F6: 0 | G6: 2 | H6: 13 | I6: 0 | J6: 0 | K6: 0 | L6: 2 | M6: 0 | N6: =SUM(E6:M6) -> 78 | Q6: 240284.8 | S6: =ROUND(GEOMEAN(O6:R6),0) -> 240285 | T6: =+S6*N6 -> 18742230 | W6: =+S6*E6 -> 14657385 | X6: =+S6*F6 -> 0 | Y6: =+S6*G6 -> 480570 | Z6: =+S6*H6 -> 3123705 | AA6: =+S6*I6 -> 0 | AB6: =+S6*J6 -> 0 | AC6: =+S6*K6 -> 0 | AD6: =+S6*L6 -> 480570 | AE6: =+S6*M6 -> 0
