Workbook
Name contratación: 'IDENTIFICACION Y ANALISIS'!$B$43:$B$48
Name ejecución: 'IDENTIFICACION Y ANALISIS'!$B$50:$B$79
Name OPCIONES: 'ASIGNACION Y TRATAMIENTO'!$B$39:$B$41
Name planeación: 'IDENTIFICACION Y ANALISIS'!$B$19:$B$29
Name selección: 'IDENTIFICACION Y ANALISIS'!$B$31:$B$41

Sheet CONTEXTO
C1: MATRIZ DE RIESGOS EN CONTRATACIÓN | F1: Código: GCO-GCI-F164 Versión: 01 Vigencia: 16 diciembre de 2022 Caso HOLA: 206942
B5: ESTABLECER EL CONTEXTO
B6: El punto inicial es identificar el contexto en el cual interactúa la Entidad Estatal para conocer el ambiente social, económico y político, e identificar (i) sus propios Riesgos; (ii) los Riesgos comunes a sus Procesos de Contratación; y (iii) los Riesgos del Proceso de Contratación en particular. (Aplica igual para contratos interadministrativos) En este paso la Entidad Estatal debe identificar los aspectos que se mencionan a continuación y los posibles efectos adversos que estos pueden generar.
B7: Objeto del Proceso de Contratación: “Aunar esfuerzos administrativos, técnicos, financieros y logísticos entre el Fondo de Desarrollo Local de La Candelaria y Artesanías de Colombia S.A. - BIC para la revitalización, la reconversión verde, el fortalecimiento y la transformación productiva que permita la reactivación económica de los artesanos de la localidad de acuerdo al proyecto no. 1628: La Candelaria Productiva y Resiliente".
B8: Partícipes del Proceso de Contratación: Agentes externos (Organismos de control, veedurías ciudadanas), agentes internos (supervisores, funcionarios y demás usuarios).
B9: Ciudadanía que se beneficia del Proceso de Contratación: Agentes internos (funcionarios, pasantes) y externos (Usuarios externos en general)
B10: Capacidad de la Entidad Estatal entendida como la disponibilidad de recursos y conocimientos para el Proceso de Contratación: La disponibilidad de la Entidad de sus recursos y el conocimiento de su equipo humano se refleja en los diferentes funcionarios que participarán en las diversas etapas del proceso de selección: participan las áreas que requieren los procesos de contratación (Etapa de Estudios previos), el área de Contratos de la Secretaría General (Etapa contractual), los evaluadores designados, idóneos y con experiencia en el tema.
B11: Suficiencia del presupuesto oficial del Proceso de Contratación: De acuerdo al Plan de contratación para la vigencia (indique el año 2023 se estimaron los recursos necesarios para el desarrollo del proceso de la contratación, el cual tendrá el soporte presupuestal suficiente para su desarrollo.
B12: Condiciones geográficas y de acceso del lugar en el cual se debe cumplir el objeto del Proceso de Contratación: El suministro, obra o servicio se prestará principalmente en las Sedes de la Entidad, o en el lugar indicado en los estudios previos del proceso.
B13: Entorno socio ambiental: Si aplican
B14: Condiciones políticas: Si aplican
B15: Factores ambientales: No aplica
B16: Sector del objeto del Proceso de Contratación y su mercado: Todos los clientes (entidades privadas, Estatales y Gubernamentales), alrededor en todo el Territorio Nacional Colombiano y el exterior.
... B18: Experiencia propia y de otras Entidades Estatales en Procesos de Contratación del mismo tipo: - La Entidad contrata de manera permanente procesos para fortalecimiento de unidades productivas; así las cosas se cuenta con la experiencia adquirida en el adelantamiento de este tipo de procesos que ha sido la necesaria para prevenir circunstancias inesperadas y lograr el cumplimiento de los fines de la contratación
B34: =+B34:B45B34:B52 -> #NAME?

Sheet IDENTIFICACION Y ANALISIS
C2: MATRIZ DE RIESGOS DE CONTRATACIÓN | F2: Código: GCO-GCI-F164 Versión: 01 Vigencia: 16 diciembre de 2022 Caso HOLA: 206942
B6: DEFINICIONES
B7: RIESGO: evento que puede generar efectos adversos y de distinta magnitud en el logro de los objetivos del Proceso de Contratación o en la ejecución de un contrato
B8: RIESGOS PREVISIBLES: Son los posibles hechos o circunstancias que por la naturaleza del contrato y de la actividad a ejecutar es factible su ocurrencia.
B9: ETAPA DE PLANEACIÓN: Está comprendida entre la elaboración del Plan Anual de Adquisiciones y la fecha en la cual decide continuar o no con el Proceso de Contratación
B10: ETAPA DE SELECCIÓN: Está comprendida entre el acto de Apertura del Proceso de Contratación y la Adjudicación o la declaración de desierto del Proceso de Contratación
B11: ETAPA DE CONTRATACIÓN: Una vez adjudicado el contrato objeto del Proceso de Contratación, inicia la etapa de contratación en la cual se debe cumplir con el cronograma previsto para la celebración del contrato, el registro presupuestal, la publicación en el SECOP y el cumplimiento de los requisitos para el perfeccionamiento, ejecución y pago.
B12: ETAPA DE EJECUCIÓN: Inicia una vez cumplidos los requisitos previstos para iniciar la ejecución del contrato respectivo y termina con el vencimiento del plazo del contrato o la fecha de liquidación si hay lugar a ella.
B13: RIESGO GENERAL: Es un riesgo de todos los procesos de contratación adelantados por la Entidad Estatal, por lo cual está presente en toda su actividad contractual.
B14: RIEGO ESPECIFICO: Es un riesgo propio del proceso de contratación objeto de análisis.
B15: INSTRUCCIONES PARA LA IDENTIFICACIÓN, ANALISIS, EVALUACIÓN , ASIGNACIÓN Y TRATAMIENTO DE RIESGOS EN LA CONTRATACIÓN
B16: 1) Identifique los riesgos previsibles que le apliquen al objeto contractual que se adelante; En caso de identificar otro riesgo inclúyalo en la proforma e informe al Área de Contratos de la Secretaría General para que sea actualizada en el SIG.
C17: ETAPAS | D17: CLASE | E17: FUENTE | F17: TIPO
C18: PLANEACIÓN
B19: Inadecuada escogencia de la modalidad de contratación | F19: Operacionales
B20: Requisitos habilitantes inapropiados para el proceso de selección | F20: Operacionales
B21: Inadecuado análisis económico estimativo del valor del contrato | F21: Economicos
B22: Inadecuada descripción del bien o servicio requerido | D22: Especifico | E22: Interno | F22: Operacionales
B23: Inadecuada elaboración de estudios y diseños | F23: Operacionales
B24: Requisitos habilitantes que impidan la selección objetiva | F24: Operacionales
B25: Falta de profundidad en el estudio de sector no identificandose claramente aspectos de oferta y demanda | F25: Economicos
B26: Ausencia de fundamentación de la justificación y conveniencia de la contratación | F26: Operacionales
B27: Inadecuada identificación de las condiciones contractuales | F27: Operacionales
B28: No aprobación o demoras en la expedición vigencias futuras | F28: Operacionales
B29: Apertura de procesos sin disponibilidad presupuestal | F29: Operacionales
C30: SELECCIÓN
B31: Inadecuada evaluación de las ofertas y/o verificación de requisitos habilitantes | F31: Operacionales
B32: Inadecuado manejo administrativo del proceso contractual | F32: Operacionales
B33: Falta de claridad en la elaboración de los actos administrativos | F33: Operacionales
B34: Contestación inoportuna a todas las observaciones formuladas a los documentos de la contratación | F34: Operacionales
B35: Estimación errada o inadecuada de la propuesta económica realizada por el proponente por no calcular los costos de los conceptos necesarios para el cumplimiento del objeto del Contrato | F35: Operacionales
B36: Los documentos ponderables no son legibles | F36: Regulatorios
B37: No publicación de la documentación del proceso de selección en el SECOP | F37: Operacionales
B38: Confabulacion de los proponentes (Colusión) | F38: Operacionales
B39: Proyección de la propuesta económica por parte del proponente que conlleven a pérdidas o baja utilidad en la ejecución del contrato. | F39: Economicos
B40: Selección de una oferta como adjudicataria cuyo oferente se encuentre incurso en alguna inhabilidad o incompatibilidad | F40: Regulatorios
B41: Selección de ofertas con precios artificialmente bajos. | F41: Operacionales
C42: CONTRATACIÓN
B43: Riesgo de que no se firme el contrato. | F43: Operacionales
B44: Falta de constitución o constitución tardía de la garantía única. Aceptación de garantías que no se ajustan a lo contemplado en el contrato | F44: Regulatorios
...

Sheet EVALUACION
D1: MATRIZ DE RIESGOS DE CONTRATACIÓN | K1: Código: GCO-GCI-F164 Versión: 01 Vigencia: 16 diciembre de 2022 Caso HOLA: 206942
B5: Objeto Contractual: “Aunar esfuerzos administrativos, técnicos, financieros y logísticos entre el Fondo de Desarrollo Local de La Candelaria y Artesanías de Colombia S.A. - BIC para la revitalización, la reconversión verde, el fortalecimiento y la transformación productiva que permita la reactivación económica de los artesanos de la localidad de acuerdo al proyecto no. 1628: La Candelaria Productiva y Resiliente”.
B6: INSTRUCCIONES PARA LA IDENTIFICACIÓN, ANALISIS, EVALUACIÓN , ASIGNACIÓN Y TRATAMIENTO DE RIESGOS EN LA CONTRATACIÓN
B7: 1) Seleccione el tipo de calificación (Cualitativa ó Monetaria)
B8: 2) Seleccione la(s) etapas y los riesgos que aplican al objeto contractual
B9: 3) Asigne la probabilidad de ocurrencia del riesgo, de conformidad con la tabla de probabilidad
B10: 4) Asigne el impacto que generaría la materialización del riesgo, de conformidad con la tabla de impacto
B11: 5) Al realizar las anteriores actividades se obtendrá la calificación total y la valoración del riesgo (prioridad) , traslde al formato evaluación con controles, los que tengan un nivel de criticidad diferente a bajo.
B12: 6) Continúe en la hoja de evaluación de controles
B14: CALIFICACIÓN | H14: Cualitativa
B15: ETAPA | C15: Descripción (Que puede pasar y, cómo puede ocurrir) | H15: Consecuencias de la ocurrencia del evento | I15: Probabilidad de Ocurrencia | J15: Impacto | K15: Calificación Total | L15: Prioridad
B16: PLANEACIÓN | C16: ='IDENTIFICACION Y ANALISIS'!B22 -> Inadecuada descripción del bien o servicio requerido | H16: 1. Inducir al error al conveniente 2. No cumplir con la necesidad de la Entidad. 3. Retrasos en el cronograma del proceso por adendas. 4. Afectacion de componenete presupuestal del proceso. | I16: 2 | J16: 3 | K16: =+I16+J16 -> 5 | L16: =IF(K16<=4,"BAJO",IF(K16=5,"MEDIO",IF(K16=6,"ALTO",IF(K16=7,"ALTO","EXTREMO")))) -> MEDIO
B17: CONTRATACIÓN | C17: Riesgos asociados a los reclamos de terceros sobre la selección del oferente que retrasen el perfeccionamiento del contrato | H17: 1, Demora en la ejecución del contrato 2. No se satisface la necesidad de la Entidad. | I17: 1 | J17: 3 | K17: =+I17+J17 -> 4 | L17: =IF(K17<=4,"BAJO",IF(K17=5,"MEDIO",IF(K17=6,"ALTO",IF(K17=7,"ALTO","EXTREMO")))) -> BAJO
B18: CONTRATACIÓN | C18: Cambios en la normativa que modifique o imponga nuevas obligaciones al contratista. | H18: 1. Modificaciones del contrato y posible variación del valor del mismo | I18: 2 | J18: 3 | K18: =+I18+J18 -> 5 | L18: =IF(K18<=4,"BAJO",IF(K18=5,"MEDIO",IF(K18=6,"ALTO",IF(K18=7,"ALTO","EXTREMO")))) -> MEDIO
B19: EJECUCIÓN | C19: Pérdida de elementos por robo a alguno de los elementos, antes o durante la entrega de los mismos a la Alcaldía Local o durante su custodia en la ejecucion del contrato | H19: Daños ocasionados a terceros | I19: 1 | J19: 3 | K19: =+I19+J19 -> 4 | L19: =IF(K19<=4,"BAJO",IF(K19=5,"MEDIO",IF(K19=6,"ALTO",IF(K19=7,"ALTO","EXTREMO")))) -> BAJO
B20: EJECUCIÓN | C20: Baja participacion en procesos de convocatoria y durante la ejecucion del contrato | H20: 1. Retraso en el cronograma de actividades 2. No se cumple la meta de la vigencia 2023 | I20: 2 | J20: 3 | K20: =+I20+J20 -> 5 | L20: =IF(K20<=4,"BAJO",IF(K20=5,"MEDIO",IF(K20=6,"ALTO",IF(K20=7,"ALTO","EXTREMO")))) -> MEDIO
B21: EJECUCIÓN | C21: Deterioro de las condiciones de salud publica a causa de la pandemia mundial declarada por la OMS y el Gobierno Nacional | H21: 1. Retraso en el cronograma de actividades 2. No se cumple la meta de la vigencia 2023 | I21: 1 | J21: 3 | K21: =+I21+J21 -> 4 | L21: =IF(K21<=4,"BAJO",IF(K21=5,"MEDIO",IF(K21=6,"ALTO",IF(K21=7,"ALTO","EXTREMO")))) -> BAJO
B22: EJECUCIÓN | C22: Incumplimiento de la administración en los pagos. | H22: 1. Retraso en el cronograma de actividades 2. No se cumple la meta de la vigencia 2023 | I22: 1 | J22: 2 | K22: =+I22+J22 -> 3 | L22: =IF(K22<=4,"BAJO",IF(K22=5,"MEDIO",IF(K22=6,"ALTO",IF(K22=7,"ALTO","EXTREMO")))) -> BAJO
B25: Probabilidad | C25: Catagoria | E25: Valoración | G25: Impacto | H25: Categoria | I25: Valoración
C26: Raro (puede ocurrir excepcionalmente) | E26: 1 | H26: Insignificante | I26: 1
C27: Improbable (puede ocurrir ocasionalmente) | E27: 2 | H27: Menor | I27: 2
C28: Posible (puede ocurrir en cualquier momento futuro) | E28: 3 | H28: Moderado | I28: 3
C29: Probable (probablemente va a ocurrir) | E29: 4 | H29: Mayor | I29: 4
C30: Casi cierto (ocurre en la mayoria de circunstancias) | E30: 5 | H30: Catastrófico | I30: 5
C32: Valoración del Riesgo
C33: Calificación Cualitativa | F33: Obstruye la ejecución del contrato de manera intrascendente. | G33: Dificulta la ejecución del contrato de manera baja, aplicando medidas mínimas se pueden lograr el objeto contractual | H33: Afecta la ejecución del contrato sin alterar el beneficio para las partes | I33: Obstruye la ejecución del contrato sustancialmente pero aun así permite la consecución del objeto contractual | K33: Perturba la ejecución del contrato de manera grave imposibilitando la consecución del objeto contractual.
C34: Calificación Monetaria | F34: Los sobrecostos no representan más del uno por ciento (1%) del valor del contrato. | G34: Los sobrecostos no representan más del cinco por ciento (5%) del valor del contrato. | H34: Genera un impacto sobre el valor del contrato entre el cinco (5%) y el quince por ciento (15%). | I34: Incrementa el valor del contrato entre el quince (15%) y el treinta por ciento (30%). | K34: Impacto sobre el valor del contrato en más del treinta por ciento (30%).
C35: Categoría | E35: Valoración | F35: Insignificante | G35: Menor | H35: Moderado | I35: Mayor | K35: Catastrófico
F36: 1 | G36: 2 | H36: 3 | I36: 4 | K36: 5
C37: Raro (puede ocurrir excepcionalmente) | E37: 1 | F37: 2 | G37: 3 | H37: 4 | I37: 5 | K37: 6
C38: Improbable (puede ocurrir ocasionalmente) | E38: 2 | F38: 3 | G38: 4 | H38: 5 | I38: 6 | K38: 7
C39: Posible (puede ocurrir en cualquier momento futuro) | E39: 3 | F39: 4 | G39: 5 | H39: 6 | I39: 7 | K39: 8
C40: Probable (probablemente va a ocurrir) | E40: 4 | F40: 5 | G40: 6 | H40: 7 | I40: 8 | K40: 9
C41: Casi cierto (ocurre en la mayoria de circunstancias) | E41: 5 | F41: 6 | G41: 7 | H41: 8 | I41: 9 | K41: 10
G43: Categoria del Riesgo
G44: Valoración del Riesgo | H44: Categoría
G45: 8, 9 y 10 | H45: Riesgo extremo
G46: 6 y 7 | H46: Riesgo alto
G47: 5 | H47: Riesgo medio
G48: 2, 3 y 4 | H48: Riesgo bajo
...

Sheet EVALUACION CON CONTROLES
D2: MATRIZ DE RIESGOS DE CONTRATACIÓN | P2: Código: GCO-GCI-F164 Versión: 01 Vigencia: 16 diciembre de 2022 Caso HOLA: 206942
A6: =+EVALUACION!B5 -> Objeto Contractual: “Aunar esfuerzos administrativos, técnicos, financieros y logísticos entre el Fondo de Desarrollo Local de La Candelaria y Artesanías de Colombia S.A. - BIC para la revitalización, la reconversión verde, el fortalecimiento y la transformación productiva que permita la reactivación económica de los artesanos de la localidad de acuerdo al proyecto no. 1628: La Candelaria Productiva y Resiliente”.
A7: INSTRUCCIONES PARA LA IDENTIFICACIÓN, ANALISIS, EVALUACIÓN , ASIGNACIÓN Y TRATAMIENTO DE RIESGOS EN LA CONTRATACIÓN
A8: 1) Describa el tratamiento/controles a ser implementados
A9: 2) Teniendo en cuenta el tratamiento descrito, asigne la probabilidad de ocurrencia del riesgo, de conformidad con la tabla de probabilidad
A10: 3) Teniendo en cuenta el tratamiento descrito, asigne el impacto que generaría la materialización del riesgo, de conformidad con la tabla de impacto
A11: 4) Al realizar las anteriores actividades se obtendrá la calificación total y la valoración del riesgo (prioridad)
A12: 5) Diligencie la información de las démas columnas
A13: 7) Continúe en la hoja de asignación y tratamiento
A15: ETAPA | B15: Descripción (Que puede pasar y, cómo puede ocurrir) | F15: Tratamiento/Controles a ser implementados | H15: Probabilidad de Ocurrencia | I15: Impacto | J15: Calificación Total | K15: Prioridad | L15: ¿Afecta el equilibrio económico del contrato? | M15: Persona responsable por implementar el tratamiento | N15: Fecha estimada en que se inicia el tratamiento | O15: Fecha estimada en que se completa el tratamiento | P15: ¿Cómo se realiza el monitoreo? | Q15: Periodicidad ¿Cuándo?
A16: =+EVALUACION!B16 -> PLANEACIÓN | B16: =+EVALUACION!C16 -> Inadecuada descripción del bien o servicio requerido | F16: Efectuar revisiones en la etapa de elaboración de los Estudios Previos, verificando las necesidades y presupuesto de la entidad | H16: 2 | I16: 3 | J16: =+H16+I16 -> 5 | K16: =IF(J16<=4,"BAJO",IF(J16=5,"MEDIO",IF(J16=6,"ALTO",IF(J16=7,"ALTO","EXTREMO")))) -> MEDIO | L16: si | M16: PROFESIONALES DEL ÁREA DE GESTIÓN DEL DESARROLLO LOCAL | N16: En la etapa precontractual | O16: Al publicar el proceso en SECOP | P16: Revisiones de los documentos de parte de Inversion Local, Contratacion y comité de contratación. | Q16: Durante la etapa de planeación
A17: =+EVALUACION!B17 -> CONTRATACIÓN | B17: =+EVALUACION!C17 -> Riesgos asociados a los reclamos de terceros sobre la selección del oferente que retrasen el perfeccionamiento del contrato | F17: Publicacion de todos los documentos asociados a la selección correspondiente | H17: 1 | I17: 3 | J17: =+H17+I17 -> 4 | K17: =IF(J17<=4,"BAJO",IF(J17=5,"MEDIO",IF(J17=6,"ALTO",IF(J17=7,"ALTO","EXTREMO")))) -> BAJO | L17: si | M17: PROFESIONALES DEL ÁREA DE GESTIÓN DEL DESARROLLO LOCAL | N17: Al publicar el proceso en SECOP | O17: Al iniciar la ejecución del Contrato | P17: Revisiones de las posibles observaciones presentadas | Q17: Durante la etapa de selección
A18: =+EVALUACION!B18 -> CONTRATACIÓN | B18: =+EVALUACION!C18 -> Cambios en la normativa que modifique o imponga nuevas obligaciones al contratista. | F18: Realizar los seguimientos y controles pertinentes para la correcta ejecucuón del contrato. | H18: 2 | I18: 3 | J18: =+H18+I18 -> 5 | K18: =IF(J18<=4,"BAJO",IF(J18=5,"MEDIO",IF(J18=6,"ALTO",IF(J18=7,"ALTO","EXTREMO")))) -> MEDIO | L18: si | M18: SUPERVISOR | N18: Desde el inicio de la formulación | O18: Hasta el fin de la ejecución contractual | P18: Seguimiento a las actualizaciones en la normatividad aplicable al contrato | Q18: Durante la etapa de evaluacion y selección
A19: =+EVALUACION!B19 -> EJECUCIÓN | B19: =+EVALUACION!C19 -> Pérdida de elementos por robo a alguno de los elementos, antes o durante la entrega de los mismos a la Alcaldía Local o durante su custodia en la ejecucion del contrato | F19: Revisiones periódicas de seguimiento., el contratista asume el riesgo de pérdida de algún bien o elemento que se encuentre bajo su custodia en las sedes donde se preste el servicio. | H19: 1 | I19: 3 | J19: =+H19+I19 -> 4 | K19: =IF(J19<=4,"BAJO",IF(J19=5,"MEDIO",IF(J19=6,"ALTO",IF(J19=7,"ALTO","EXTREMO")))) -> BAJO | L19: si | M19: SUPERVISOR/CONTRATISTA | N19: Desde el inicio de la ejecución | O19: Hasta finalizar la ejecución | P19: Revision de supervision a atrves de inventarios aleatorios de bienes a su cargo | Q19: Durante la etapa de Ejecucion
A20: =+EVALUACION!B20 -> EJECUCIÓN | B20: =+EVALUACION!C20 -> Baja participacion en procesos de convocatoria y durante la ejecucion del contrato | F20: Seguimiento a través del supervisor designado | H20: 2 | I20: 3 | J20: =+H20+I20 -> 5 | K20: =IF(J20<=4,"BAJO",IF(J20=5,"MEDIO",IF(J20=6,"ALTO",IF(J20=7,"ALTO","EXTREMO")))) -> MEDIO | L20: si | M20: SUPERVISOR | N20: Desde el inicio de la ejecución | O20: Hasta finalizar la ejecución | P20: Comites mensuales de proyecto | Q20: Durante la etapa de Ejecucion
A21: =+EVALUACION!B21 -> EJECUCIÓN | B21: =+EVALUACION!C21 -> Deterioro de las condiciones de salud publica a causa de la pandemia mundial declarada por la OMS y el Gobierno Nacional | F21: Protocolos de Bioseguridad establecidos y control de su estricto cumplimiento | H21: 1 | I21: 3 | J21: =+H21+I21 -> 4 | K21: =IF(J21<=4,"BAJO",IF(J21=5,"MEDIO",IF(J21=6,"ALTO",IF(J21=7,"ALTO","EXTREMO")))) -> BAJO | L21: si | M21: CONTRATISTA | N21: Desde el inicio de la ejecución | O21: Hasta finalizar la ejecución | P21: Seguimiento protocolos de bioseguridad | Q21: Durante la etapa de Ejecucion
A22: =+EVALUACION!B22 -> EJECUCIÓN | B22: =+EVALUACION!C22 -> Incumplimiento de la administración en los pagos. | F22: Supervisar de manera eficiente los tiempos de ejecucion, de acuerdo con los cronogramas propuestos. | H22: 1 | I22: 2 | J22: =+H22+I22 -> 3 | K22: =IF(J22<=4,"BAJO",IF(J22=5,"MEDIO",IF(J22=6,"ALTO",IF(J22=7,"ALTO","EXTREMO")))) -> BAJO | L22: si | M22: SUPERVISOR | N22: 2023 | O22: 2023 | P22: Programacion de acuerdo al cronograma de pagos establecido en el PAC | Q22: Durante la etapa de Ejecucion
B36: Categoria del Riesgo | G36: Impacto del Riesgo
A37: Probabilidad | B37: Catagoria | E37: Valoración | G37: Categoria | I37: Valoración | M37: Categoria del Riesgo
B38: Raro (puede ocurrir excepcionalmente) | E38: 1 | G38: Insignificante | I38: 1 | M38: Valoración del Riesgo | O38: Categoría
B39: Improbable (puede ocurrir ocasionalmente) | E39: 2 | G39: Menor | I39: 2 | M39: 8, 9 y 10 | O39: Riesgo extremo
B40: Posible (puede ocurrir en cualquier momento futuro) | E40: 3 | G40: Moderado | I40: 3 | M40: 6 y 7 | O40: Riesgo alto
B41: Probable (probablemente va a ocurrir) | E41: 4 | G41: Mayor | I41: 4 | M41: 5 | O41: Riesgo medio
B42: Casi cierto (ocurre en la mayoria de circunstancias) | E42: 5 | G42: Catastrófico | I42: 5 | M42: 2, 3 y 4 | O42: Riesgo bajo
B44: Valoración del Riesgo
B45: Calificación Cualitativa | F45: Obstruye la ejecución del contrato de manera intrascendente. | H45: Dificulta la ejecución del contrato de manera baja, aplicando medidas mínimas se pueden lograr el objeto contractual | K45: Afecta la ejecución del contrato sin alterar el beneficio para las partes | M45: Obstruye la ejecución del contrato sustancialmente pero aun así permite la consecución del objeto contractual | O45: Perturba la ejecución del contrato de manera grave imposibilitando la consecución del objeto contractual.
B46: Calificación Monetaria | F46: Los sobrecostos no representan más del uno por ciento (1%) del valor del contrato. | H46: Los sobrecostos no representan más del cinco por ciento (5%) del valor del contrato. | K46: Genera un impacto sobre el valor del contrato entre el cinco (5%) y el quince por ciento (15%). | M46: Incrementa el valor del contrato entre el quince (15%) y el treinta por ciento (30%). | O46: Impacto sobre el valor del contrato en más del treinta por ciento (30%).
B47: Catagoria | E47: Valoración | F47: Insignificante | H47: Menor | K47: Moderado | M47: Mayor | O47: Catastrófico
F48: 1 | H48: 2 | K48: 3 | M48: 4 | O48: 5
B49: Raro (puede ocurrir excepcionalmente) | E49: 1 | F49: 2 | H49: 3 | K49: 4 | M49: 5 | O49: 6
B50: Improbable (puede ocurrir ocasionalmente) | E50: 2 | F50: 3 | H50: 4 | K50: 5 | M50: 6 | O50: 7
B51: Posible (puede ocurrir en cualquier momento futuro) | E51: 3 | F51: 4 | H51: 5 | K51: 6 | M51: 7 | O51: 8
B52: Probable (probablemente va a ocurrir) | E52: 4 | F52: 5 | H52: 6 | K52: 7 | M52: 8 | O52: 9
B53: Casi cierto (ocurre en la mayoria de circunstancias) | E53: 5 | F53: 6 | H53: 7 | K53: 8 | M53: 9 | O53: 10

Sheet ASIGNACION Y TRATAMIENTO
D2: MATRIZ DE RIESGOS DE CONTRATACIÓN | W2: Código: GCO-GCI-F164 Versión: 01 Vigencia: 16 diciembre de 2022 Caso HOLA: 206942
B6: =CONTEXTO!B7 -> Objeto del Proceso de Contratación: “Aunar esfuerzos administrativos, técnicos, financieros y logísticos entre el Fondo de Desarrollo Local de La Candelaria y Artesanías de Colombia S.A. - BIC para la revitalización, la reconversión verde, el fortalecimiento y la transformación productiva que permita la reactivación económica de los artesanos de la localidad de acuerdo al proyecto no. 1628: La Candelaria Productiva y Resiliente".
B7: IDENTIFICACIÓN, ANALISIS, EVALUACIÓN , ASIGNACIÓN Y TRATAMIENTO DE RIESGOS EN LA CONTRATACIÓN
B8: Esta matriz es un documento anexo del Estudio Previo
B10: No | C10: Descripción (Que puede pasar y, cómo puede ocurrir) | D10: Etapa | E10: Clase | F10: Fuente | G10: Consecuencias de la ocurrencia del evento | H10: Probabilidad | I10: Impacto | J10: Calificación total | K10: Prioridad | L10: ¿A quien se le asigna? | M10: % | N10: Tratamiento/Controles a ser implementados | O10: Probabilidad | P10: Impacto | Q10: Calificación total | R10: Prioridad | S10: ¿Afecta el equilibrio económico del contrato? | T10: Persona responsable por implementar el tratamiento | U10: Fecha estimada en que se inicia el tratamiento | V10: Fecha estimada en que se completa el tratamiento | W10: ¿Cómo se realiza el monitoreo | X10: Periodicidad ¿Cuándo?
B11: 1 | C11: ='EVALUACION CON CONTROLES'!B16 -> Inadecuada descripción del bien o servicio requerido | D11: =+'EVALUACION CON CONTROLES'!A16 -> PLANEACIÓN | E11: =VLOOKUP(C11,'IDENTIFICACION Y ANALISIS'!$B$19:$F$79,3,FALSE) -> Especifico | F11: =VLOOKUP(C11,'IDENTIFICACION Y ANALISIS'!$B$19:$F$79,4,FALSE) -> Interno | G11: =+EVALUACION!H16 -> 1. Inducir al error al conveniente 2. No cumplir con la necesidad de la Entidad. 3. Retrasos en el cronograma del proceso por adendas. 4. Afectacion de componenete presupuestal del proceso. | H11: =+EVALUACION!I16 -> 2 | I11: =+EVALUACION!J16 -> 3 | J11: =+EVALUACION!K16 -> 5 | K11: =+EVALUACION!L16 -> MEDIO | L11: SDG | N11: =+'EVALUACION CON CONTROLES'!F16 -> Efectuar revisiones en la etapa de elaboración de los Estudios Previos, verificando las necesidades y presupuesto de la entidad | O11: =+'EVALUACION CON CONTROLES'!H16 -> 2 | P11: 2 | Q11: 4 | R11: BAJO | S11: =+'EVALUACION CON CONTROLES'!L16 -> si | T11: =+'EVALUACION CON CONTROLES'!M16 -> PROFESIONALES DEL ÁREA DE GESTIÓN DEL DESARROLLO LOCAL | U11: =+'EVALUACION CON CONTROLES'!N16 -> En la etapa precontractual | V11: =+'EVALUACION CON CONTROLES'!O16 -> Al publicar el proceso en SECOP | W11: =+'EVALUACION CON CONTROLES'!P16 -> Revisiones de los documentos de parte de Inversion Local, Contratacion y comité de contratación. | X11: =+'EVALUACION CON CONTROLES'!Q16 -> Durante la etapa de planeación
B12: 2 | C12: ='EVALUACION CON CONTROLES'!B17 -> Riesgos asociados a los reclamos de terceros sobre la selección del oferente que retrasen el perfeccionamiento del contrato | D12: =+'EVALUACION CON CONTROLES'!A17 -> CONTRATACIÓN | E12: =VLOOKUP(C12,'IDENTIFICACION Y ANALISIS'!$B$19:$F$79,3,FALSE) -> General | F12: =VLOOKUP(C12,'IDENTIFICACION Y ANALISIS'!$B$19:$F$79,4,FALSE) -> Externo | G12: =+EVALUACION!H17 -> 1, Demora en la ejecución del contrato 2. No se satisface la necesidad de la Entidad. | H12: =+EVALUACION!I17 -> 1 | I12: =+EVALUACION!J17 -> 3 | J12: =+EVALUACION!K17 -> 4 | K12: =+EVALUACION!L17 -> BAJO | L12: SDG | N12: =+'EVALUACION CON CONTROLES'!F17 -> Publicacion de todos los documentos asociados a la selección correspondiente | O12: =+'EVALUACION CON CONTROLES'!H17 -> 1 | P12: =+'EVALUACION CON CONTROLES'!I17 -> 3 | Q12: =+'EVALUACION CON CONTROLES'!J17 -> 4 | R12: =+'EVALUACION CON CONTROLES'!K17 -> BAJO | S12: =+'EVALUACION CON CONTROLES'!L17 -> si | T12: =+'EVALUACION CON CONTROLES'!M17 -> PROFESIONALES DEL ÁREA DE GESTIÓN DEL DESARROLLO LOCAL | U12: =+'EVALUACION CON CONTROLES'!N17 -> Al publicar el proceso en SECOP | V12: =+'EVALUACION CON CONTROLES'!O17 -> Al iniciar la ejecución del Contrato | ... X12: =+'EVALUACION CON CONTROLES'!Q17 -> Durante la etapa de selección
B13: 3 | C13: ='EVALUACION CON CONTROLES'!B18 -> Cambios en la normativa que modifique o imponga nuevas obligaciones al contratista. | D13: =+'EVALUACION CON CONTROLES'!A18 -> CONTRATACIÓN | E13: =VLOOKUP(C13,'IDENTIFICACION Y ANALISIS'!$B$19:$F$79,3,FALSE) -> General | F13: =VLOOKUP(C13,'IDENTIFICACION Y ANALISIS'!$B$19:$F$79,4,FALSE) -> Externo | G13: =+EVALUACION!H18 -> 1. Modificaciones del contrato y posible variación del valor del mismo | H13: =+EVALUACION!I18 -> 2 | I13: =+EVALUACION!J18 -> 3 | J13: =+EVALUACION!K18 -> 5 | K13: =+EVALUACION!L18 -> MEDIO | L13: CONTRATISTA Y SDG | N13: =+'EVALUACION CON CONTROLES'!F18 -> Realizar los seguimientos y controles pertinentes para la correcta ejecucuón del contrato. | O13: =+'EVALUACION CON CONTROLES'!H18 -> 2 | P13: 2 | Q13: 4 | R13: BAJO | S13: =+'EVALUACION CON CONTROLES'!L18 -> si | T13: =+'EVALUACION CON CONTROLES'!M18 -> SUPERVISOR | U13: =+'EVALUACION CON CONTROLES'!N18 -> Desde el inicio de la formulación | V13: =+'EVALUACION CON CONTROLES'!O18 -> Hasta el fin de la ejecución contractual | W13: =+'EVALUACION CON CONTROLES'!P18 -> Seguimiento a las actualizaciones en la normatividad aplicable al contrato | X13: =+'EVALUACION CON CONTROLES'!Q18 -> Durante la etapa de evaluacion y selección
B14: 4 | C14: ='EVALUACION CON CONTROLES'!B19 -> Pérdida de elementos por robo a alguno de los elementos, antes o durante la entrega de los mismos a la Alcaldía Local o durante su custodia en la ejecucion del contrato | D14: =+'EVALUACION CON CONTROLES'!A19 -> EJECUCIÓN | E14: =VLOOKUP(C14,'IDENTIFICACION Y ANALISIS'!$B$19:$F$79,3,FALSE) -> Especifico | F14: =VLOOKUP(C14,'IDENTIFICACION Y ANALISIS'!$B$19:$F$79,4,FALSE) -> Interno | G14: =+EVALUACION!H19 -> Daños ocasionados a terceros | H14: =+EVALUACION!I19 -> 1 | I14: =+EVALUACION!J19 -> 3 | J14: =+EVALUACION!K19 -> 4 | K14: =+EVALUACION!L19 -> BAJO | L14: CONTRATISTA | N14: =+'EVALUACION CON CONTROLES'!F19 -> Revisiones periódicas de seguimiento., el contratista asume el riesgo de pérdida de algún bien o elemento que se encuentre bajo su custodia en las sedes donde se preste el servicio. | O14: =+'EVALUACION CON CONTROLES'!H19 -> 1 | P14: =+'EVALUACION CON CONTROLES'!I19 -> 3 | Q14: =+'EVALUACION CON CONTROLES'!J19 -> 4 | R14: =+'EVALUACION CON CONTROLES'!K19 -> BAJO | S14: =+'EVALUACION CON CONTROLES'!L19 -> si | T14: =+'EVALUACION CON CONTROLES'!M19 -> SUPERVISOR/CONTRATISTA | U14: =+'EVALUACION CON CONTROLES'!N19 -> Desde el inicio de la ejecución | V14: =+'EVALUACION CON CONTROLES'!O19 -> Hasta finalizar la ejecución | ... X14: =+'EVALUACION CON CONTROLES'!Q19 -> Durante la etapa de Ejecucion
B15: 5 | C15: ='EVALUACION CON CONTROLES'!B20 -> Baja participacion en procesos de convocatoria y durante la ejecucion del contrato | D15: =+'EVALUACION CON CONTROLES'!A20 -> EJECUCIÓN | E15: =VLOOKUP(C15,'IDENTIFICACION Y ANALISIS'!$B$19:$F$79,3,FALSE) -> Especifico | F15: =VLOOKUP(C15,'IDENTIFICACION Y ANALISIS'!$B$19:$F$79,4,FALSE) -> Interno | G15: =+EVALUACION!H20 -> 1. Retraso en el cronograma de actividades 2. No se cumple la meta de la vigencia 2023 | H15: =+EVALUACION!I20 -> 2 | I15: =+EVALUACION!J20 -> 3 | J15: =+EVALUACION!K20 -> 5 | K15: =+EVALUACION!L20 -> MEDIO | L15: CONTRATISTA Y SDG | N15: =+'EVALUACION CON CONTROLES'!F20 -> Seguimiento a través del supervisor designado | O15: =+'EVALUACION CON CONTROLES'!H20 -> 2 | P15: 2 | Q15: 4 | R15: BAJO | S15: =+'EVALUACION CON CONTROLES'!L20 -> si | T15: =+'EVALUACION CON CONTROLES'!M20 -> SUPERVISOR | U15: =+'EVALUACION CON CONTROLES'!N20 -> Desde el inicio de la ejecución | V15: =+'EVALUACION CON CONTROLES'!O20 -> Hasta finalizar la ejecución | W15: =+'EVALUACION CON CONTROLES'!P20 -> Comites mensuales de proyecto | X15: =+'EVALUACION CON CONTROLES'!Q20 -> Durante la etapa de Ejecucion
B16: 6 | C16: ='EVALUACION CON CONTROLES'!B21 -> Deterioro de las condiciones de salud publica a causa de la pandemia mundial declarada por la OMS y el Gobierno Nacional | D16: =+'EVALUACION CON CONTROLES'!A21 -> EJECUCIÓN | E16: =VLOOKUP(C16,'IDENTIFICACION Y ANALISIS'!$B$19:$F$79,3,FALSE) -> General | F16: =VLOOKUP(C16,'IDENTIFICACION Y ANALISIS'!$B$19:$F$79,4,FALSE) -> Externo | G16: =+EVALUACION!H21 -> 1. Retraso en el cronograma de actividades 2. No se cumple la meta de la vigencia 2023 | H16: =+EVALUACION!I21 -> 1 | I16: =+EVALUACION!J21 -> 3 | J16: =+EVALUACION!K21 -> 4 | K16: =+EVALUACION!L21 -> BAJO | L16: CONTRATISTA Y SDG | N16: =+'EVALUACION CON CONTROLES'!F21 -> Protocolos de Bioseguridad establecidos y control de su estricto cumplimiento | O16: =+'EVALUACION CON CONTROLES'!H21 -> 1 | P16: =+'EVALUACION CON CONTROLES'!I21 -> 3 | Q16: =+'EVALUACION CON CONTROLES'!J21 -> 4 | R16: =+'EVALUACION CON CONTROLES'!K21 -> BAJO | S16: =+'EVALUACION CON CONTROLES'!L21 -> si | T16: =+'EVALUACION CON CONTROLES'!M21 -> CONTRATISTA | U16: =+'EVALUACION CON CONTROLES'!N21 -> Desde el inicio de la ejecución | V16: =+'EVALUACION CON CONTROLES'!O21 -> Hasta finalizar la ejecución | ... X16: =+'EVALUACION CON CONTROLES'!Q21 -> Durante la etapa de Ejecucion
B17: 7 | C17: ='EVALUACION CON CONTROLES'!B22 -> Incumplimiento de la administración en los pagos. | D17: =+'EVALUACION CON CONTROLES'!A22 -> EJECUCIÓN | E17: =VLOOKUP(C17,'IDENTIFICACION Y ANALISIS'!$B$19:$F$79,3,FALSE) -> Especifico | F17: =VLOOKUP(C17,'IDENTIFICACION Y ANALISIS'!$B$19:$F$79,4,FALSE) -> Interno | G17: =+EVALUACION!H22 -> 1. Retraso en el cronograma de actividades 2. No se cumple la meta de la vigencia 2023 | H17: =+EVALUACION!I22 -> 1 | I17: =+EVALUACION!J22 -> 2 | J17: =+EVALUACION!K22 -> 3 | K17: =+EVALUACION!L22 -> BAJO | L17: CONTRATISTA | N17: =+'EVALUACION CON CONTROLES'!F22 -> Supervisar de manera eficiente los tiempos de ejecucion, de acuerdo con los cronogramas propuestos. | O17: =+'EVALUACION CON CONTROLES'!H22 -> 1 | P17: =+'EVALUACION CON CONTROLES'!I22 -> 2 | Q17: =+'EVALUACION CON CONTROLES'!J22 -> 3 | R17: =+'EVALUACION CON CONTROLES'!K22 -> BAJO | S17: =+'EVALUACION CON CONTROLES'!L22 -> si | T17: =+'EVALUACION CON CONTROLES'!M22 -> SUPERVISOR | U17: =+'EVALUACION CON CONTROLES'!N22 -> 2023 | V17: =+'EVALUACION CON CONTROLES'!O22 -> 2023 | ... X17: =+'EVALUACION CON CONTROLES'!Q22 -> Durante la etapa de Ejecucion
F19: Categoria | J19: Impacto del Riesgo
E20: Probabilidad | F20: Catagoria | G20: Valoración | J20: Categoria | L20: Valoración
F21: Raro (puede ocurrir excepcionalmente) | G21: 1 | J21: Insignificante | L21: 1
F22: Improbable (puede ocurrir ocasionalmente) | G22: 2 | J22: Menor | L22: 2
F23: Posible (puede ocurrir en cualquier momento futuro) | G23: 3 | J23: Moderado | L23: 3
F24: Probable (probablemente va a ocurrir) | G24: 4 | J24: Mayor | L24: 4
F25: Casi cierto (ocurre en la mayoria de circunstancias) | G25: 5 | J25: Catastrófico | L25: 5
D27: Valoración del Riesgo
D28: Catagoria | E28: Valoración | F28: Insignificante | H28: Menor | J28: Moderado | K28: Mayor | L28: Catastrófico | P28: Categoria del Riesgo
F29: 1 | H29: 2 | J29: 3 | K29: 4 | L29: 5 | P29: Valoración del Riesgo | S29: Categoría
D30: Raro (puede ocurrir excepcionalmente) | E30: 1 | F30: 2 | H30: 3 | J30: 4 | K30: 5 | L30: 6 | P30: 8, 9 y 10 | S30: Riesgo extremo
D31: Improbable (puede ocurrir ocasionalmente) | E31: 2 | F31: 3 | H31: 4 | J31: 5 | K31: 6 | L31: 7 | P31: 6 y 7 | S31: Riesgo alto
D32: Posible (puede ocurrir en cualquier momento futuro) | E32: 3 | F32: 4 | H32: 5 | J32: 6 | K32: 7 | L32: 8 | P32: 5 | S32: Riesgo medio
D33: Probable (probablemente va a ocurrir) | E33: 4 | F33: 5 | H33: 6 | J33: 7 | K33: 8 | L33: 9 | P33: 2, 3 y 4 | S33: Riesgo bajo
D34: Casi cierto (ocurre en la mayoria de circunstancias) | E34: 5 | F34: 6 | H34: 7 | J34: 8 | K34: 9 | L34: 10
B39: CONTRATISTA
B40: SDG
B41: CONTRATISTA Y SDG
