Workbook
Name \0: [1]CRA.MODI!#REF!
Name \0: #N/A
Name \0: [1]CRA.MODI!#REF!
Name \00: #REF!
Name \a: #REF!
Name \a: #REF!
Name \a: #REF!
Name \AA: [2]LIQUIDACION!#REF!
Name \b: #REF!
Name \b: [3]INSUMOS!#REF!
Name \b: #REF!
Name \bb: [4]STRSUMM0!#REF!
Name \c: #REF!
Name \c: #REF!
Name \e: #REF!
Name \E: #REF!
Name \e: #REF!
Name \EE: #REF!
Name \f: #REF!
Name \f: #REF!
Name \G: #REF!
Name \i: #REF!
Name \i: [3]INSUMOS!#REF!
Name \i: #REF!
Name \k: '[5]7422CW00'!#REF!
Name \l: #REF!
Name \l: [6]STRSUMM0!#REF!
Name \l: #REF!
Name \m: #REF!
Name \m: [3]INSUMOS!#REF!
Name \m: #REF!
Name \ñ: '[7]7422CW00'!#REF!
Name \P: #REF!
Name \q: #N/A
Name \r: #REF!
Name \r: [3]INSUMOS!#REF!
Name \r: #REF!
Name \s: #REF!
Name \sa: #REF!
Name \sa: #REF!
Name \t: [3]INSUMOS!#REF!
Name \t: #N/A
Name \V: #REF!
Name \w: #N/A
Name \x: #REF!
Name \x: [3]INSUMOS!#REF!
Name \x: #REF!
Name \z: #REF!
Name \Z: #N/A
Name \z: #REF!
Name _: #REF!
Name _: #REF!
Name ______________________________________PJ50: #REF!
Name ______________________________________pj51: #REF!
Name _____________________________________PJ50: #REF!
Name _____________________________________pj51: #REF!
Name ____________________________________PJ50: #REF!
Name ____________________________________pj51: #REF!
Name ___________________________________PJ50: #REF!
Name ___________________________________pj51: #REF!

Sheet CRA 14 CALLES 16 Y 21 
A1: CONDICIONES ORIGINALES | I1: MEDIDAS VIALES TOTALES
I2: VIA | K2: ANDEN | M2: ANCHO TOTAL
A3: REPOSICION DE REDES EXISTENTES DE ACUEDUCTO Y ALCANTARILLADO Y CAMBIO DE PAVIMENTO ASFALTICO A RIGIDO, ANDENES DE LA CARRERA 14 ENTRE CALLES 16 Y 21, DEL MUNICIPIO DE SANTA ROSA DE CABAL– DEPARTAMENTO DE RISARALDA, | I3: LARGO | J3: ANCHO | K3: LARGO | L3: ANCHO
I4: 490 | J4: 6.1 | K4: =+I4 -> 490 | L4: 3.72 | M4: =+J4+L4 -> 9.82
A5: ÍTEM | B5: PARTIDAS DE PAGO | C5: UND | D5: CANT | E5: VR UNITARIO | F5: VR TOTAL
A6: 1 | B6: PRELIMINARES. | I6: ACUEDUCTO
A7: 1.1 | B7: Localizacion y replanteo para pavimentacion de vias. | C7: M2 | D7: =+I4*M4 -> 4811.8 | E7: 3911 | F7: =D7*E7 -> 18818950 | J7: LARGO | K7: ANCHO | L7: PROF. EX | M7: PROF. LLEN.
A8: 1.2 | B8: Valla de identificacion de obra area mayor a 4 m2, incluye mantenimiento durante la construccion. | C8: M2 | D8: 8 | E8: 169256 | F8: =D8*E8 -> 1354048 | I8: ALCANT. | J8: =+I4 -> 490 | K8: 0.8 | L8: 2.5 | M8: 2
A9: 1.3 | B9: Cerramiento provisional con guadua y tela de cerramiento h=2 m | C9: M | D9: =+(I4*2)+(M4*2) -> 999.64 | E9: 7071 | F9: =D9*E9 -> 7068454.4 | I9: ACUEDUC. | J9: =+J8*2 -> 980 | K9: 0.3 | L9: 1.2 | M9: 1
A10: 1.4 | B10: Campamento o alquiler de bodega. | C10: Mes | D10: 6 | E10: 500000 | F10: =D10*E10 -> 3000000 | I10: CAJEO | J10: =+J8 -> 490 | K10: =+J4 -> 6.1 | L10: 0.4
A11: 1.5 | B11: Pasacalles informativos, incluye mantenimiento durante la obra. | C11: M2 | D11: 10 | E11: 125600 | F11: =D11*E11 -> 1256000 | I11: ANDENES | J11: =+J8*2 -> 980 | K11: =+L4 -> 3.72 | L11: 0.1
A12: 1.6 | B12: Cubierta provisional en guadua y techo en plastico. | C12: M2 | D12: =+I4*8 -> 3920 | E12: 10500 | F12: =D12*E12 -> 41160000
A13: 2 | B13: DEMOLICIONES.
A14: 2.1 | B14: Demolición pavimento rigido | C14: M2 | D14: =(+I4*J4)*40% -> 1195.6 | E14: 22000 | F14: =D14*E14 -> 26303200 | I14: DIRECCION | L14: ANDEN INZ. | M14: VIA | N14: ANDEN DER. | O14: USUARIOS
A15: 2.2 | B15: Fresado Pavimento flexible | C15: M2 | D15: =+I4*J4 -> 2989 | E15: 3954 | F15: =D15*E15 -> 11818506 | I15: CARRERA 14 ENTRE CALLES 16 Y 17 | L15: 2.6 | M15: 6.1 | N15: 2 | O15: =23+26 -> 49
A16: 2.3 | B16: Demolicion de anden | C16: M2 | D16: =+K4*L4 -> 1822.8 | E16: 11339 | F16: =D16*E16 -> 20668729 | I16: CARRERA 14 ENTRE CALLES 17 Y 18 | L16: 2.4 | M16: 6.1 | N16: 1.5 | O16: =18+15 -> 33
A17: 2.4 | B17: Demolicion de sardinel | C17: M | D17: =+K4*2 -> 980 | E17: 4725 | F17: =D17*E17 -> 4630500 | I17: CARRERA 14 ENTRE CALLES 18 Y 19 | L17: 2 | M17: 6.1 | N17: 1.6 | O17: =18+16 -> 34
A18: 2.5 | B18: Demolición cono cámara | C18: UNI | D18: 6 | E18: 107484 | F18: =D18*E18 -> 644904 | I18: CARRERA 14 ENTRE CALLES 20 Y 21 | L18: 1.6 | M18: 6 | N18: 1.2 | O18: =11+18 -> 29
A19: 2.6 | B19: Demolición cuerpo cámara | C19: ML | D19: =+D18*2 -> 12 | E19: 179140 | F19: =D19*E19 -> 2149680 | I19: CARRERA 14 ENTRE CALLES 21 Y 22 | L19: 2 | M19: 6.1 | N19: 1.7 | O19: =15+16 -> 31
A20: 3 | B20: MOVIMIENTOS DE TIERRA. | I20: PROMEDIO | L20: =+AVERAGE(L15:L19) -> 2.12 | M20: =+AVERAGE(M15:M19) -> 6.08 | N20: =+AVERAGE(N15:N19) -> 1.6 | O20: =+SUM(O15:O19) -> 176
A21: 3.1 | B21: Excavacion en material comun seco de 0-2 mts, manual | C21: M3 | D21: =+(J8*K8*L8)+(J9*K9*L9)+(J10*K10*L10)+(J11*K11*L11) -> 2892.96 | E21: 35739 | F21: =D21*E21 -> 1.033915e+08
A22: 4 | B22: LLENOS.
A23: 4.1 | B23: Lleno compactado con material del sitio manual | C23: M3 | D23: =+(J8*K8*M8)+(J9*K9*M9) -> 1078 | E23: 34430 | F23: =D23*E23 -> 37115540
A24: 4.2 | B24: Lleno compactado con afirmado manual, no incluye transporte | C24: M3 | D24: =+(I4*J4*0.2)+(K4*L4*0.1) -> 780.08 | E24: 82425 | F24: =D24*E24 -> 64298094
A25: 4.3 | B25: Sub base granular, no incluye transporte de material. | C25: M3 | D25: =+I4*J4*0.2 -> 597.8 | E25: 82129 | F25: =D25*E25 -> 49096716
A26: 4.4 | B26: Transporte material > 40 Km (corte, sub-base, base, afirmado) | C26: M3-KM | D26: =SUM(D24:D25)*21 -> 28935.48 | E26: 2200 | F26: =D26*E26 -> 63658056
A27: 4.5 | B27: Cama en arena para cimentacion de tuberia alcantarillado. | C27: M3 | D27: =+(J8*K8*0.05)+(J9*K9*0.05) -> 34.3 | E27: 80200 | F27: =D27*E27 -> 2750860
A28: 5 | B28: LABORES DE ALCANTARILLADO.
A29: 5.1 | B29: Tubería PVC de alcantarillado de pared estructural d = 6", exterior corrugado | C29: M | D29: =+O20*6 -> 1056 | E29: 62300 | F29: =D29*E29 -> 65788800
A30: 5.2 | B30: Tubería PVC de alcantarillado de pared estructural d = 12", exterior corrugado | C30: M | D30: =+J8 -> 490 | E30: 160450 | F30: =D30*E30 -> 78620500
A31: 5.3 | B31: Silla Yee Pvc de pared estructural 315 X 160 | C31: UND | D31: =+O20 -> 176 | E31: 295000 | F31: =D31*E31 -> 51920000
A32: 5.4 | B32: Base y cañuela para cámara de inspección d = 1,20 mts, en concreto de 20,7 Mpa | C32: UND | D32: =+D18 -> 6 | E32: 387283 | F32: =D32*E32 -> 2323698
A33: 5.5 | B33: Cuerpo para cámara de inspección d = 1,20 m, en concreto de 20,7 Mpa, no incluye refuerzo | C33: M | D33: =+D19 -> 12 | E33: 580000 | F33: =D33*E33 -> 6960000
A34: 5.6 | B34: Empalme de tubería a pozo existente incluye demolición y emboquillada | C34: UND | D34: 6 | E34: 189200 | F34: =D34*E34 -> 1135200
A35: 5.7 | B35: Desmonte de tubería de alcantarillado | C35: M | D35: =+D29+D30 -> 1546 | E35: 6719 | F35: =D35*E35 -> 10387574
A36: 5.8 | B36: Manhole en HD vehicular ø0.60m + seguridad vehicular | C36: UND | D36: =+D32 -> 6 | E36: 862337 | F36: =D36*E36 -> 5174022
A37: 5.9 | B37: Manejo de aguas servidas, en teja de zinc o similar. | C37: M | D37: =+D35 -> 1546 | E37: 15200 | F37: =D37*E37 -> 23499200
A38: 6 | B38: ESTRUCTURAS DE CONCRETO.
A39: 6.1 | B39: Caja de inspección de 0,80 x 0,80 x 0,80 m en concreto de 17,2 Mpa, tapa reforzada en concreto de 20,7 Mpa | C39: UND | D39: =+O20 -> 176 | E39: 859959 | F39: =D39*E39 -> 151352784
A40: 6.2 | B40: Sumidero doble en concreto de 20,7 Mpa, incluye reja doble con anticorrosivo | C40: UND | D40: 10 | E40: 1269594 | F40: =D40*E40 -> 12695940
...

Sheet Pavimentos
A1: CONDICIONES ORIGINALES | H1: PAVIMENTACIÓN DE VIAS
H2: DIRECCION | K2: VIA | O2: ANDEN | S2: ANCHO TOTAL
A3: REPOSICION DE REDES EXISTENTES DE ACUEDUCTO Y ALCANTARILLADO Y CAMBIO DE PAVIMENTO ASFALTICO A RIGIDO, ANDENES DE LA CARRERA 10 ENTRE CALLE 7 Y 8 Y DE LA CALLE 26 ENTRE CARRERA 14 Y 15, DEL MUNICIPIO DE SANTA ROSA DE CABAL– DEPARTAMENTO DE RISARALDA, | K3: LARGO | L3: ANCHO | M3: BASE | N3: SUB-BASE | O3: LARGO | P3: ANCHO PRO. | Q3: ANCHO TOTAL | R3: AFIRMA. | U3: Domiciliarias | V3: Camaras
H4: Calle 16 entre Carreras 17 y 15 | K4: 176.5 | L4: 6.8 | M4: 0.15 | N4: 0.25 | O4: =+K4 -> 176.5 | P4: 2 | Q4: =+P4+P4 -> 4 | R4: 0.1 | S4: =+L4+Q4 -> 10.8 | U4: 55 | V4: 3
A5: ÍTEM | B5: PARTIDAS DE PAGO | C5: UND | D5: CANT | E5: VR UNITARIO | F5: VR TOTAL | H5: Calle 10 entre 10 y 11 | K5: 108 | L5: 8 | M5: 0.15 | N5: 0.25 | O5: =+K5 -> 108 | P5: 2.45 | Q5: =+P5+P5 -> 4.9 | R5: 0.1 | S5: =+L5+Q5 -> 12.9 | U5: 32 | V5: 3
A6: 1 | B6: PRELIMINARES.
A7: 1.1 | B7: =+APUS!C82 -> Localización y replanteo para pavimentación de vías (3 líneas, 3 instancias) | C7: M2 | D7: =+(K4*S4)+(K5*S5) -> 3299.4 | E7: =+APUS!F82 -> 0 | F7: =D7*E7 -> 0
A8: 1.2 | B8: =+APUS!C90 -> Valla de identificación de obra área mayor a 4 m2, colocada en cerchas metálica, incluye mantenimiento durante la construcción | C8: M2 | D8: =8*2 -> 16 | E8: =+APUS!F90 -> 0 | F8: =D8*E8 -> 0 | H8: Datos para Exacación y Lleno
A9: 1.3 | B9: Cerramiento provisional con guadua y tela de cerramiento h=2 m | C9: M | D9: =+(K4+L4+K5+L5)*2 -> 598.6 | E9: =+APUS!F98 -> 0 | F9: =D9*E9 -> 0 | I9: LARGO | J9: ANCHO | K9: PROF. EX | L9: PROF. LLEN.
A10: 1.4 | B10: Pasacalles informativos, incluye mantenimiento durante la obra. | C10: M2 | D10: =10*2 -> 20 | E10: =+APUS!F105 -> 0 | F10: =D10*E10 -> 0 | H10: ALCANT. | I10: =+K4+K5 -> 284.5 | J10: 0.8 | K10: 2.5 | L10: 2
A11: 1.5 | B11: Cubierta provisional en guadua y techo en plastico. | C11: M2 | D11: =+(K4*(L4+2))+(K5*(L5+2)) -> 2633.2 | E11: =+APUS!F179 -> 0 | F11: =D11*E11 -> 0 | H11: ACUEDUC. | I11: =+I10*2 -> 569 | J11: 0.3 | K11: 1.2 | L11: 1
A12: 2 | B12: DEMOLICIONES. | H12: CAJEO | I12: =+I10 -> 284.5 | J12: =+(L4+L5)/2 -> 7.4 | K12: 0.4
A13: 2.1 | B13: Demolición pavimento rigido | C13: M2 | D13: =+(K4*L4)+(K5*L5) -> 2064.2 | E13: =+APUS!F271 -> 0 | F13: =D13*E13 -> 0 | H13: ANDENES | I13: =+I10 -> 284.5 | J13: =+(Q4+Q5)/2 -> 4.45 | K13: 0.1
A14: 2.2 | B14: Demolicion de anden | C14: M2 | D14: =+(O4*Q4)+(O5*Q5) -> 1235.2 | E14: =+APUS!F278 -> 0 | F14: =D14*E14 -> 0
A15: 2.3 | B15: Demolicion de sardinel | C15: M | D15: =+(O4*2)+(O5*2) -> 569 | E15: =+APUS!#REF! -> #REF! | F15: =D15*E15 -> #REF!
A16: 2.4 | B16: Demolición cono cámara | C16: UNI | D16: =+V4+V5 -> 6 | E16: =+APUS!F434 -> 0 | F16: =D16*E16 -> 0
A17: 2.5 | B17: Demolición cuerpo cámara | C17: ML | D17: =+D16*3 -> 18 | E17: =+APUS!F439 -> 0 | F17: =D17*E17 -> 0
A18: 3 | B18: MOVIMIENTOS DE TIERRA.
A19: 3.1 | B19: Excavacion en material comun seco de 0-2 mts, manual | C19: M3 | D19: =+((I10*J10*K10)+(I11*J11*K11)+(I12*J12*K12)+(I13*J13*K13))*1.3 -> 2265.3313 | E19: =+APUS!F451 -> 0 | F19: =D19*E19 -> 0
A20: 4 | B20: LLENOS.
A21: 4.1 | B21: Lleno compactado con material del sitio manual | C21: M3 | D21: =+(I10*J10*L10)+(I11*J11*L11) -> 625.9 | E21: =+APUS!F536 -> 0 | F21: =D21*E21 -> 0
A22: 4.2 | B22: Lleno compactado con afirmado manual, no incluye transporte | C22: M3 | D22: =+(O4*Q4*R4)+(O5*Q5*R5) -> 123.52 | E22: =+APUS!F542 -> 0 | F22: =D22*E22 -> 0
A23: 4.3 | B23: =+APUS!C550 -> Sub-base granular | C23: M3 | D23: =+(K4*L4*N4)+(K5*L5*N5) -> 516.05 | E23: =+APUS!F550 -> 0 | F23: =D23*E23 -> 0
A24: 4.4 | B24: =+APUS!#REF! -> #REF! | C24: M3 | D24: =+(K4*L4*M4)+(K5*L5*M5) -> 309.63 | E24: =+APUS!#REF! -> #REF! | F24: =D24*E24 -> #REF!
A25: 4.5 | B25: Transporte material > 40 Km (corte, sub-base, base, afirmado) | C25: M3-KM | D25: =+D22*21 -> 2593.92 | E25: =+APUS!F600 -> 0 | F25: =D25*E25 -> 0
A26: 4.6 | B26: Cama en arena para cimentacion de tuberia alcantarillado. | C26: M3 | D26: =+(I10*J10*0.1)+(I11*J11*0.1) -> 39.83 | E26: =+APUS!F603 -> 0 | F26: =D26*E26 -> 0
A27: 5 | B27: LABORES DE ALCANTARILLADO.
A28: 5.1 | B28: Tubería PVC de alcantarillado de pared estructural d = 6", exterior corrugado | C28: M | D28: =+(U4+U5)*6 -> 522 | E28: =+APUS!#REF! -> #REF! | F28: =D28*E28 -> #REF!
A29: 5.2 | B29: Tubería PVC de alcantarillado de pared estructural d = 12", exterior corrugado | C29: M | D29: =+I10+6 -> 290.5 | E29: =+APUS!F731 -> 0 | F29: =D29*E29 -> 0
A30: 5.3 | B30: Silla Yee Pvc de pared estructural 315 X 160 | C30: UND | D30: =+U4+U5 -> 87 | E30: =+APUS!F737 -> 0 | F30: =D30*E30 -> 0
A31: 5.4 | B31: Base y cañuela para cámara de inspección d = 1,20 mts, en concreto de 20,7 Mpa | C31: UND | D31: =+V4+V5 -> 6 | E31: =+APUS!F742 -> 0 | F31: =D31*E31 -> 0
A32: 5.5 | B32: Cuerpo para cámara de inspección d = 1,20 m, en concreto de 20,7 Mpa, no incluye refuerzo | C32: M | D32: =+D17 -> 18 | E32: =+APUS!#REF! -> #REF! | F32: =D32*E32 -> #REF!
A33: 5.6 | B33: Empalme de tubería a pozo existente incluye demolición y emboquillada | C33: UND | D33: =+D31 -> 6 | E33: =+APUS!#REF! -> #REF! | F33: =D33*E33 -> #REF!
A34: 5.7 | B34: =+APUS!#REF! -> #REF! | C34: M | D34: =+D28+D29 -> 812.5 | E34: =+APUS!#REF! -> #REF! | F34: =D34*E34 -> #REF!
A35: 5.8 | B35: Manhole en HD vehicular ø0.60m + seguridad vehicular | C35: UND | D35: =+D31 -> 6 | E35: =+APUS!#REF! -> #REF! | F35: =D35*E35 -> #REF!
A36: 5.9 | B36: Manejo de aguas servidas, en teja de zinc o similar. | C36: M | D36: =+D34 -> 812.5 | E36: =+APUS!#REF! -> #REF! | F36: =D36*E36 -> #REF!
A37: 6 | B37: ESTRUCTURAS DE CONCRETO.
A38: 6.1 | B38: Caja de inspección de 0,80 x 0,80 x 0,80 m en concreto de 17,2 Mpa, tapa reforzada en concreto de 20,7 Mpa | C38: UND | D38: =+U4+U5 -> 87 | E38: =+APUS!F1143 -> 0 | F38: =D38*E38 -> 0
A39: 6.2 | B39: Sumidero doble en concreto de 20,7 Mpa, incluye reja doble con anticorrosivo | C39: UND | D39: =4*2 -> 8 | E39: =+APUS!F1155 -> 0 | F39: =D39*E39 -> 0
A40: 7 | B40: ACEROS.
...

Sheet Hoja1
A1: PROYECTOS ESTRATÉGICOS | C1: ESTADO
A2: Pavimentación Santa Elena, Los Pinos, cerros de Monserrate | B2: 1673787483 | C2: ADJUDICADO
A3: Proyecto fase I estadio municipal, skate park, cancha sintética, cubierta cancha, pista atlética | B3: 5758283169 | C3: ADJUDICADO
A4: Recinto gastronómico artesanal y experiencial | B4: 3500000000 | C4: Convenio 271-2021
A5: Pavimentación de la calle 8 | B5: 743766994 | C5: Ejecutor EMPOCABAL
A6: Acueducto colmenas | B6: 1500000000 | C6: Radicado
A7: Calle 23 conexión autopista del café con la hermosa | B7: 1802266438 | C7: En revisión regalias
A8: Casa de música y biblioteca | B8: 3300000000 | C8: En formulación
A9: Casa Campesina y San Andresito | B9: 3678696895 | C9: En aprobación de diseños x Depto y Fontur
B10: 3488298680
A11: Cancha bosque | B11: 800000000 | C11: Radicado
A12: Construcción de obras de mitigación por amenaza por perdida de banca vial | B12: 13013776818 | C12: Radicado
A13: Construcción de placas huellas | B13: 3000000000 | C13: Radicado
A14: Construccion de via termales san vicente - termales santa rosa - el jazmin el lembo - guacas el jazmin. | B14: 18000000000 | C14: Radicado
A16: TOTAL PROYECTOS ESTRATEGICOS | B16: =+SUM(B2:B14) -> 60258876477

Sheet RESUMEN
A1: Convenio para la reposicion de redes de acueducto alcantarillado y construccion de pavimentos en el municipio de Santa Rosa de Cabal.
A2: ITEM | B2: DIRECCION VIA | C2: COSTO TOTAL | D2: INTERVENTORIA | E2: VALOR DEFINITIVO
A3: 1.00 | B3: REPOSICION DE REDES EXISTENTES DE ACUEDUCTO Y ALCANTARILLADO Y CAMBIO DE PAVIMENTO, ANDENES DE LA CALLE 12 ENTRE CARRERAS 9 Y 11, DEL MUNICIPIO DE SANTA ROSA DE CABAL– DEPARTAMENTO DE RISARALDA, | C3: ='1.Calle 12 entre 9 y 11'!F75 -> #REF! | D3: ='1.Calle 12 entre 9 y 11'!F77 -> #REF! | E3: =C3+D3 -> #REF!
A4: 2.00 | B4: REPOSICION DE REDES EXISTENTES DE ACUEDUCTO Y ALCANTARILLADO Y CAMBIO DE PAVIMENTO, ANDENES DE LA CALLE 11 ENTRE CARRERAS 15 Y 17, DEL MUNICIPIO DE SANTA ROSA DE CABAL– DEPARTAMENTO DE RISARALDA, | C4: ='2.Calle 11 entre 15 y 17'!F62 -> #REF! | D4: ='2.Calle 11 entre 15 y 17'!F64 -> #REF! | E4: =C4+D4 -> #REF!
A5: 3.00 | B5: REPOSICION DE REDES EXISTENTES DE ACUEDUCTO Y ALCANTARILLADO Y CAMBIO DE PAVIMENTO, ANDENES DE LA CARRERA 12 ENTRE CALLE 30 B Y 34 PUENTE ITALIA, DEL MUNICIPIO DE SANTA ROSA DE CABAL– DEPARTAMENTO DE RISARALDA, | C5: ='3.Cra 12 - Cra 14 la italia'!F62 -> #REF! | D5: ='3.Cra 12 - Cra 14 la italia'!F64 -> #REF! | E5: =C5+D5 -> #REF!
A6: 4.00 | B6: REPOSICION DE REDES EXISTENTES DE ACUEDUCTO Y ALCANTARILLADO Y CAMBIO DE PAVIMENTO, ANDENES DE LA CARRERA 22 CON CALLE 27B | C6: ='4.Carrera 22 con calle 27B'!F60 -> #REF! | D6: ='4.Carrera 22 con calle 27B'!F62 -> #REF! | E6: =C6+D6 -> #REF!
B7: REPOSICION DE REDES EXISTENTES DE ACUEDUCTO Y ALCANTARILLADO Y CAMBIO DE PAVIMENTO, ANDENES DE LA CARRERA 22A CON CALLE 27B | C7: ='4.Carrera 22A con calle 27B '!F60 -> #REF! | D7: ='4.Carrera 22A con calle 27B '!F62 -> #REF! | E7: =C7+D7 -> #REF!
B8: REPOSICION DE REDES EXISTENTES DE ACUEDUCTO Y ALCANTARILLADO Y CAMBIO DE PAVIMENTO, ANDENES DE LA CARRERA 22B CON CALLE 27B | C8: ='4.Carrera 22B con calle 27B'!F60 -> #REF! | D8: ='4.Carrera 22B con calle 27B'!F62 -> #REF! | E8: =C8+D8 -> #REF!
A9: 5.00 | B9: REPOSICION DE REDES EXISTENTES DE ACUEDUCTO Y ALCANTARILLADO Y CAMBIO DE PAVIMENTO, ANDENES DE LA Calle 33 entre Cra 12 y 12bis, DEL MUNICIPIO DE SANTA ROSA DE CABAL– DEPARTAMENTO DE RISARALDA, | C9: ='5.Calle 33 entre cra 12 y 12Bis'!F60 -> #REF! | D9: ='5.Calle 33 entre cra 12 y 12Bis'!F62 -> #REF! | E9: =C9+D9 -> #REF!
A10: 6.00 | B10: REPOSICION DE REDES EXISTENTES DE ACUEDUCTO Y ALCANTARILLADO Y CAMBIO DE PAVIMENTO, ANDENES DE LA CARRERA 10 ENTRE CALLE 7 Y 8, DEL MUNICIPIO DE SANTA ROSA DE CABAL– DEPARTAMENTO DE RISARALDA, | C10: ='6.CARRERA 10 ENTRE CALLE 7 Y 8'!F62 -> #REF! | D10: ='6.CARRERA 10 ENTRE CALLE 7 Y 8'!F64 -> #REF! | E10: =C10+D10 -> #REF!
A11: 7.00 | B11: REPOSICION DE REDES EXISTENTES DE ACUEDUCTO Y ALCANTARILLADO Y CAMBIO DE PAVIMENTO, ANDENES DE LA CALLE 26 ENTRE CARRERA 14 Y 15, DEL MUNICIPIO DE SANTA ROSA DE CABAL– DEPARTAMENTO DE RISARALDA, | C11: ='7.CALLE 26 ENTRE CRA 14 Y 15'!F62 -> #REF! | D11: ='7.CALLE 26 ENTRE CRA 14 Y 15'!F64 -> #REF! | E11: =C11+D11 -> #REF!
A12: 8.00 | B12: REPOSICION DE REDES EXISTENTES DE ACUEDUCTO Y ALCANTARILLADO Y CAMBIO DE PAVIMENTO, ANDENES DE LA CALLES 13 ENTRE CARRERAS 13 Y 14, DEL MUNICIPIO DE SANTA ROSA DE CABAL– DEPARTAMENTO DE RISARALDA, | C12: ='8.CALLE 13 ENTRE 13 Y 14'!F78 -> #REF! | D12: ='8.CALLE 13 ENTRE 13 Y 14'!F80 -> #REF! | E12: =C12+D12 -> #REF!
A13: 9.00 | B13: REPOSICION DE REDES EXISTENTES DE ACUEDUCTO Y ALCANTARILLADO Y CAMBIO DE PAVIMENTO, ANDENES DE LA CALLE 18 ENTRE CARRERA 11 Y 12, DEL MUNICIPIO DE SANTA ROSA DE CABAL– DEPARTAMENTO DE RISARALDA, | C13: ='9.Calle 18, entre 11 y 12'!F62 -> #REF! | D13: ='9.Calle 18, entre 11 y 12'!F64 -> #REF! | E13: =C13+D13 -> #REF!
A14: 10.00 | B14: REPOSICION DE REDES EXISTENTES DE ACUEDUCTO Y ALCANTARILLADO, ELECTRICAS DE ALTA Y MEDIA TENSION Y CAMBIO DE PAVIMENTO DE LA CALLE 12 ENTRE CARRERAS 12 Y 13, DEL MUNICIPIO DE SANTA ROSA DE CABAL– DEPARTAMENTO DE RISARALDA, | C14: ='10.CALLE 12 ENTRE 12 Y 13'!F109 -> #REF! | D14: ='10.CALLE 12 ENTRE 12 Y 13'!F111 -> #REF! | E14: =C14+D14 -> #REF!
A15: 11.00 | B15: REDES DE ACUEDUCTO Y ALCANTARILLADO DE LA CALLE 46 ENTRE CARRERAS 12 Y 13, DEL MUNICIPIO DE SANTA ROSA DE CABAL– DEPARTAMENTO DE RISARALDA, | C15: ='11.CALLE 46 ENTRE 12 Y 13'!F33 -> #REF! | D15: ='11.CALLE 46 ENTRE 12 Y 13'!F35 -> #REF! | E15: =C15+D15 -> #REF! | H15: =G21/'1.Calle 12 entre 9 y 11'!E49 -> #REF!
C17: COSTO OBRA | D17: COSTO INTERVENTORIA | E17: COSTO TOTAL
A18: VALOR TOTAL INTERVENCION VIAS | C18: =SUM(C3:C16) -> #REF! | D18: =SUM(D3:D16) -> #REF! | E18: =SUM(E3:E16) -> #REF!
D19: Ajuste a la decena | E19: -0.16
D20: VALOR TOTAL | E20: =E19+E18 -> #REF! | G20: 8622623210
G21: =G20-E20 -> #REF!
A24: Aprobo: | B24: JOHN HAROL GIRALDO CASTAÑO
B25: Cargo: Sub. Secretario de Obras Públicas
B26: Mat. Profesional. 66202-313953 RIS
O1040: -335544.32

Sheet Calle 10, entre 10 y 11
A1: CONDICIONES ORIGINALES | H1: PAVIMENTACIÓN DE VIAS
H2: DIRECCION | K2: VIA | O2: ANDEN | S2: ANCHO TOTAL
A3: REPOSICION DE REDES EXISTENTES DE ACUEDUCTO Y ALCANTARILLADO Y CAMBIO DE PAVIMENTO ASFALTICO A RIGIDO, ANDENES DE LA CALLE 10 ENTRE CARRERAS 10 Y 11, DEL MUNICIPIO DE SANTA ROSA DE CABAL– DEPARTAMENTO DE RISARALDA, | K3: LARGO | L3: ANCHO | M3: BASE | N3: SUB-BASE | O3: LARGO | P3: ANCHO PRO. | Q3: ANCHO TOTAL | R3: AFIRMA. | U3: Domiciliarias | V3: Camaras
H4: Calle 10 entre Carreras 10 y 11 | K4: 108 | L4: 8 | M4: 0.15 | N4: 0.25 | O4: =+K4 -> 108 | P4: 2.45 | Q4: =+P4+P4 -> 4.9 | R4: 0.1 | S4: =+L4+Q4 -> 12.9 | U4: 32 | V4: 3
A5: ÍTEM | B5: PARTIDAS DE PAGO | C5: UND | D5: CANT | E5: VR UNITARIO | F5: VR TOTAL
A6: 1 | B6: PRELIMINARES.
A7: 1.1 | B7: =+APUS!C82 -> Localización y replanteo para pavimentación de vías (3 líneas, 3 instancias) | C7: M2 | D7: =+(K4*S4) -> 1393.2 | E7: =+APUS!F82 -> 0 | F7: =D7*E7 -> 0 | H7: Datos para Exacación y Lleno
A8: 1.2 | B8: =+APUS!C90 -> Valla de identificación de obra área mayor a 4 m2, colocada en cerchas metálica, incluye mantenimiento durante la construcción | C8: M2 | D8: =8*1 -> 8 | E8: =+APUS!F90 -> 0 | F8: =D8*E8 -> 0 | I8: LARGO | J8: ANCHO | K8: PROF. EX | L8: PROF. LLEN.
A9: 1.3 | B9: Cerramiento provisional con guadua y tela de cerramiento h=2 m | C9: M | D9: =+(K4+L4)*2 -> 232 | E9: =+APUS!F98 -> 0 | F9: =D9*E9 -> 0 | H9: ALCANT. | I9: =K4 -> 108 | J9: 0.8 | K9: 2.5 | L9: 2
A10: 1.4 | B10: Pasacalles informativos, incluye mantenimiento durante la obra. | C10: M2 | D10: =10*1 -> 10 | E10: =+APUS!F105 -> 0 | F10: =D10*E10 -> 0 | H10: ACUEDUC. | I10: =+I9*2 -> 216 | J10: 0.3 | K10: 1.2 | L10: 1
A11: 1.5 | B11: Cubierta provisional en guadua y techo en plastico. | C11: M2 | D11: =+(K4*(L4+2)) -> 1080 | E11: =+APUS!F179 -> 0 | F11: =D11*E11 -> 0 | H11: CAJEO | I11: =+I9 -> 108 | J11: =L4 -> 8 | K11: 0.4
A12: 2 | B12: DEMOLICIONES. | H12: ANDENES | I12: =+I9 -> 108 | J12: =+Q4 -> 4.9 | K12: 0.1
A13: 2.1 | B13: Demolición pavimento rigido | C13: M2 | D13: =+(K4*L4) -> 864 | E13: =+APUS!F271 -> 0 | F13: =D13*E13 -> 0
A14: 2.2 | B14: Demolicion de anden | C14: M2 | D14: =(O4*Q4) -> 529.2 | E14: =+APUS!F278 -> 0 | F14: =D14*E14 -> 0
A15: 2.3 | B15: Demolicion de sardinel | C15: M | D15: =(O4*2) -> 216 | E15: =+APUS!#REF! -> #REF! | F15: =D15*E15 -> #REF!
A16: 2.4 | B16: Demolición cono cámara | C16: UNI | D16: =V4 -> 3 | E16: =+APUS!F434 -> 0 | F16: =D16*E16 -> 0
A17: 2.5 | B17: Demolición cuerpo cámara | C17: ML | D17: =+D16*3 -> 9 | E17: =+APUS!F439 -> 0 | F17: =D17*E17 -> 0
A18: 3 | B18: MOVIMIENTOS DE TIERRA.
A19: 3.1 | B19: Excavacion en material comun seco de 0-2 mts, manual | C19: M3 | D19: =+((I9*J9*K9)+(I10*J10*K10)+(I11*J11*K11)+(I12*J12*K12))*1.3 -> 899.964 | E19: =+APUS!F451 -> 0 | F19: =D19*E19 -> 0
A20: 4 | B20: LLENOS.
A21: 4.1 | B21: Lleno compactado con material del sitio manual | C21: M3 | D21: =+(I9*J9*L9)+(I10*J10*L10) -> 237.6 | E21: =+APUS!F536 -> 0 | F21: =D21*E21 -> 0
A22: 4.2 | B22: Lleno compactado con afirmado manual, no incluye transporte | C22: M3 | D22: =+(O4*Q4*R4) -> 52.92 | E22: =+APUS!F542 -> 0 | F22: =D22*E22 -> 0
A23: 4.3 | B23: =+APUS!C550 -> Sub-base granular | C23: M3 | D23: =(K4*L4*N4) -> 216 | E23: =+APUS!F550 -> 0 | F23: =D23*E23 -> 0
A24: 4.4 | B24: =+APUS!#REF! -> #REF! | C24: M3 | D24: =(K4*L4*M4) -> 129.6 | E24: =+APUS!#REF! -> #REF! | F24: =D24*E24 -> #REF!
A25: 4.5 | B25: Transporte material > 40 Km (corte, sub-base, base, afirmado) | C25: M3-KM | D25: =+D22*21 -> 1111.32 | E25: =+APUS!F600 -> 0 | F25: =D25*E25 -> 0
A26: 4.6 | B26: Cama en arena para cimentacion de tuberia alcantarillado. | C26: M3 | D26: =+(I9*J9*0.1)+(I10*J10*0.1) -> 15.12 | E26: =+APUS!F603 -> 0 | F26: =D26*E26 -> 0
A27: 5 | B27: LABORES DE ALCANTARILLADO.
A28: 5.1 | B28: Tubería PVC de alcantarillado de pared estructural d = 6", exterior corrugado | C28: M | D28: =+(U4)*6 -> 192 | E28: =+APUS!#REF! -> #REF! | F28: =D28*E28 -> #REF!
A29: 5.2 | B29: Tubería PVC de alcantarillado de pared estructural d = 12", exterior corrugado | C29: M | D29: =+I9+6 -> 114 | E29: =+APUS!F731 -> 0 | F29: =D29*E29 -> 0
A30: 5.3 | B30: Silla Yee Pvc de pared estructural 315 X 160 | C30: UND | D30: =U4 -> 32 | E30: =+APUS!F737 -> 0 | F30: =D30*E30 -> 0
A31: 5.4 | B31: Base y cañuela para cámara de inspección d = 1,20 mts, en concreto de 20,7 Mpa | C31: UND | D31: =V4 -> 3 | E31: =+APUS!F742 -> 0 | F31: =D31*E31 -> 0
A32: 5.5 | B32: Cuerpo para cámara de inspección d = 1,20 m, en concreto de 20,7 Mpa, no incluye refuerzo | C32: M | D32: =+D17 -> 9 | E32: =+APUS!#REF! -> #REF! | F32: =D32*E32 -> #REF!
A33: 5.6 | B33: Empalme de tubería a pozo existente incluye demolición y emboquillada | C33: UND | D33: =+D31 -> 3 | E33: =+APUS!#REF! -> #REF! | F33: =D33*E33 -> #REF!
A34: 5.7 | B34: =+APUS!#REF! -> #REF! | C34: M | D34: =+D28+D29 -> 306 | E34: =+APUS!#REF! -> #REF! | F34: =D34*E34 -> #REF!
A35: 5.8 | B35: Manhole en HD vehicular ø0.60m + seguridad vehicular | C35: UND | D35: =+D31 -> 3 | E35: =+APUS!#REF! -> #REF! | F35: =D35*E35 -> #REF!
A36: 5.9 | B36: Manejo de aguas servidas, en teja de zinc o similar. | C36: M | D36: =+D34 -> 306 | E36: =+APUS!#REF! -> #REF! | F36: =D36*E36 -> #REF!
A37: 6 | B37: ESTRUCTURAS DE CONCRETO.
A38: 6.1 | B38: Caja de inspección de 0,80 x 0,80 x 0,80 m en concreto de 17,2 Mpa, tapa reforzada en concreto de 20,7 Mpa | C38: UND | D38: =U4 -> 32 | E38: =+APUS!F1143 -> 0 | F38: =D38*E38 -> 0
A39: 6.2 | B39: Sumidero doble en concreto de 20,7 Mpa, incluye reja doble con anticorrosivo | C39: UND | D39: =4*1 -> 4 | E39: =+APUS!F1155 -> 0 | F39: =D39*E39 -> 0
A40: 7 | B40: ACEROS.
...

Sheet Calle 16, entre 15 y 17
A1: CONDICIONES ORIGINALES | H1: PAVIMENTACIÓN DE VIAS
H2: DIRECCION | K2: VIA | O2: ANDEN | S2: ANCHO TOTAL
A3: REPOSICION DE REDES EXISTENTES DE ACUEDUCTO Y ALCANTARILLADO Y CAMBIO DE PAVIMENTO ASFALTICO A RIGIDO, ANDENES DE LA CALLE 16 ENTRE CARRERAS 15 Y 17, DEL MUNICIPIO DE SANTA ROSA DE CABAL– DEPARTAMENTO DE RISARALDA, | K3: LARGO | L3: ANCHO | M3: BASE | N3: SUB-BASE | O3: LARGO | P3: ANCHO PRO. | Q3: ANCHO TOTAL | R3: AFIRMA. | U3: Domiciliarias | V3: Camaras
H4: Calle 16 entre Carreras 15 y 17 | K4: 176.5 | L4: 6.8 | M4: 0.15 | N4: 0.25 | O4: =+K4 -> 176.5 | P4: 2 | Q4: =+P4+P4 -> 4 | R4: 0.1 | S4: =+L4+Q4 -> 10.8 | U4: 55 | V4: 3
A5: ÍTEM | B5: PARTIDAS DE PAGO | C5: UND | D5: CANT | E5: VR UNITARIO | F5: VR TOTAL
A6: 1 | B6: PRELIMINARES.
A7: 1.1 | B7: =+APUS!C82 -> Localización y replanteo para pavimentación de vías (3 líneas, 3 instancias) | C7: M2 | D7: =+(K4*S4) -> 1906.2 | E7: =+APUS!F82 -> 0 | F7: =D7*E7 -> 0 | H7: Datos para Exacación y Lleno
A8: 1.2 | B8: =+APUS!C90 -> Valla de identificación de obra área mayor a 4 m2, colocada en cerchas metálica, incluye mantenimiento durante la construcción | C8: M2 | D8: =8*1 -> 8 | E8: =+APUS!F90 -> 0 | F8: =D8*E8 -> 0 | I8: LARGO | J8: ANCHO | K8: PROF. EX | L8: PROF. LLEN.
A9: 1.3 | B9: Cerramiento provisional con guadua y tela de cerramiento h=2 m | C9: M | D9: =+(K4+L4)*2 -> 366.6 | E9: =+APUS!F98 -> 0 | F9: =D9*E9 -> 0 | H9: ALCANT. | I9: =K4 -> 176.5 | J9: 0.8 | K9: 2.5 | L9: 2
A10: 1.4 | B10: Pasacalles informativos, incluye mantenimiento durante la obra. | C10: M2 | D10: =10*1 -> 10 | E10: =+APUS!F105 -> 0 | F10: =D10*E10 -> 0 | H10: ACUEDUC. | I10: =+I9*2 -> 353 | J10: 0.3 | K10: 1.2 | L10: 1
A11: 1.5 | B11: Cubierta provisional en guadua y techo en plastico. | C11: M2 | D11: =+(K4*(L4+2)) -> 1553.2 | E11: =+APUS!F179 -> 0 | F11: =D11*E11 -> 0 | H11: CAJEO | I11: =+I9 -> 176.5 | J11: =L4 -> 6.8 | K11: 0.4
A12: 2 | B12: DEMOLICIONES. | H12: ANDENES | I12: =+I9 -> 176.5 | J12: =+Q4 -> 4 | K12: 0.1
A13: 2.1 | B13: Demolición pavimento rigido | C13: M2 | D13: =+(K4*L4) -> 1200.2 | E13: =+APUS!F271 -> 0 | F13: =D13*E13 -> 0
A14: 2.2 | B14: Demolicion de anden | C14: M2 | D14: =(O4*Q4) -> 706 | E14: =+APUS!F278 -> 0 | F14: =D14*E14 -> 0
A15: 2.3 | B15: Demolicion de sardinel | C15: M | D15: =(O4*2) -> 353 | E15: =+APUS!#REF! -> #REF! | F15: =D15*E15 -> #REF!
A16: 2.4 | B16: Demolición cono cámara | C16: UNI | D16: =V4 -> 3 | E16: =+APUS!F434 -> 0 | F16: =D16*E16 -> 0
A17: 2.5 | B17: Demolición cuerpo cámara | C17: ML | D17: =+D16*3 -> 9 | E17: =+APUS!F439 -> 0 | F17: =D17*E17 -> 0
A18: 3 | B18: MOVIMIENTOS DE TIERRA.
A19: 3.1 | B19: Excavacion en material comun seco de 0-2 mts, manual | C19: M3 | D19: =+((I9*J9*K9)+(I10*J10*K10)+(I11*J11*K11)+(I12*J12*K12))*1.3 -> 1339.988 | E19: =+APUS!F451 -> 0 | F19: =D19*E19 -> 0
A20: 4 | B20: LLENOS.
A21: 4.1 | B21: Lleno compactado con material del sitio manual | C21: M3 | D21: =+(I9*J9*L9)+(I10*J10*L10) -> 388.3 | E21: =+APUS!F536 -> 0 | F21: =D21*E21 -> 0
A22: 4.2 | B22: Lleno compactado con afirmado manual, no incluye transporte | C22: M3 | D22: =+(O4*Q4*R4) -> 70.6 | E22: =+APUS!F542 -> 0 | F22: =D22*E22 -> 0
A23: 4.3 | B23: =+APUS!C550 -> Sub-base granular | C23: M3 | D23: =(K4*L4*N4) -> 300.05 | E23: =+APUS!F550 -> 0 | F23: =D23*E23 -> 0
A24: 4.4 | B24: =+APUS!#REF! -> #REF! | C24: M3 | D24: =(K4*L4*M4) -> 180.03 | E24: =+APUS!#REF! -> #REF! | F24: =D24*E24 -> #REF!
A25: 4.5 | B25: Transporte material > 40 Km (corte, sub-base, base, afirmado) | C25: M3-KM | D25: =+D22*21 -> 1482.6 | E25: =+APUS!F600 -> 0 | F25: =D25*E25 -> 0
A26: 4.6 | B26: Cama en arena para cimentacion de tuberia alcantarillado. | C26: M3 | D26: =+(I9*J9*0.1)+(I10*J10*0.1) -> 24.71 | E26: =+APUS!F603 -> 0 | F26: =D26*E26 -> 0
A27: 5 | B27: LABORES DE ALCANTARILLADO.
A28: 5.1 | B28: Tubería PVC de alcantarillado de pared estructural d = 6", exterior corrugado | C28: M | D28: =+(U4)*6 -> 330 | E28: =+APUS!#REF! -> #REF! | F28: =D28*E28 -> #REF!
A29: 5.2 | B29: Tubería PVC de alcantarillado de pared estructural d = 12", exterior corrugado | C29: M | D29: =+I9+6 -> 182.5 | E29: =+APUS!F731 -> 0 | F29: =D29*E29 -> 0
A30: 5.3 | B30: Silla Yee Pvc de pared estructural 315 X 160 | C30: UND | D30: =U4 -> 55 | E30: =+APUS!F737 -> 0 | F30: =D30*E30 -> 0
A31: 5.4 | B31: Base y cañuela para cámara de inspección d = 1,20 mts, en concreto de 20,7 Mpa | C31: UND | D31: =V4 -> 3 | E31: =+APUS!F742 -> 0 | F31: =D31*E31 -> 0
A32: 5.5 | B32: Cuerpo para cámara de inspección d = 1,20 m, en concreto de 20,7 Mpa, no incluye refuerzo | C32: M | D32: =+D17 -> 9 | E32: =+APUS!#REF! -> #REF! | F32: =D32*E32 -> #REF!
A33: 5.6 | B33: Empalme de tubería a pozo existente incluye demolición y emboquillada | C33: UND | D33: =+D31 -> 3 | E33: =+APUS!#REF! -> #REF! | F33: =D33*E33 -> #REF!
A34: 5.7 | B34: =+APUS!#REF! -> #REF! | C34: M | D34: =+D28+D29 -> 512.5 | E34: =+APUS!#REF! -> #REF! | F34: =D34*E34 -> #REF!
A35: 5.8 | B35: Manhole en HD vehicular ø0.60m + seguridad vehicular | C35: UND | D35: =+D31 -> 3 | E35: =+APUS!#REF! -> #REF! | F35: =D35*E35 -> #REF!
A36: 5.9 | B36: Manejo de aguas servidas, en teja de zinc o similar. | C36: M | D36: =+D34 -> 512.5 | E36: =+APUS!#REF! -> #REF! | F36: =D36*E36 -> #REF!
A37: 6 | B37: ESTRUCTURAS DE CONCRETO.
A38: 6.1 | B38: Caja de inspección de 0,80 x 0,80 x 0,80 m en concreto de 17,2 Mpa, tapa reforzada en concreto de 20,7 Mpa | C38: UND | D38: =U4 -> 55 | E38: =+APUS!F1143 -> 0 | F38: =D38*E38 -> 0
A39: 6.2 | B39: Sumidero doble en concreto de 20,7 Mpa, incluye reja doble con anticorrosivo | C39: UND | D39: =4*1 -> 4 | E39: =+APUS!F1155 -> 0 | F39: =D39*E39 -> 0
A40: 7 | B40: ACEROS.
...

Sheet 1.Calle 12 entre 9 y 11
A1: CONDICIONES ORIGINALES | H1: PAVIMENTACIÓN DE VIAS
H2: DIRECCION | K2: VIA | O2: ANDEN | S2: ANCHO TOTAL
A3: REPOSICION DE REDES EXISTENTES DE ACUEDUCTO Y ALCANTARILLADO Y CAMBIO DE PAVIMENTO ASFALTICO A RIGIDO, ANDENES DE LA CALLE 12 ENTRE CARRERAS 9 Y 11, DEL MUNICIPIO DE SANTA ROSA DE CABAL– DEPARTAMENTO DE RISARALDA, | K3: LARGO | L3: ANCHO | M3: BASE | N3: SUB-BASE | O3: LARGO | P3: ANCHO PRO. | Q3: ANCHO TOTAL | R3: AFIRMA. | U3: Domiciliarias | V3: Camaras
H4: Calle 12 entre Carreras 9 y 11 | K4: 200 | L4: 3.5 | M4: 0.15 | N4: 0.25 | O4: =+K4 -> 200 | P4: 2 | Q4: 8 | R4: 0.1 | S4: =+L4+Q4 -> 11.5 | U4: 55 | V4: 5
A5: ÍTEM | B5: PARTIDAS DE PAGO | C5: UND | D5: CANT | E5: VR UNITARIO | F5: VR TOTAL | L5: 3.5 | Q5: 8
A6: 1 | B6: PRELIMINARES.
A7: 1.1 | B7: =+APUS!C82 -> Localización y replanteo para pavimentación de vías (3 líneas, 3 instancias) | C7: M2 | D7: =+(K4*S4) -> 2300 | E7: =APUS!O48 -> 4323 | F7: =D7*E7 -> 9942900 | H7: Datos para Exacación y Lleno
A8: 1.2 | B8: =+APUS!C90 -> Valla de identificación de obra área mayor a 4 m2, colocada en cerchas metálica, incluye mantenimiento durante la construcción | C8: M2 | D8: =8*1 -> 8 | E8: =APUS!O56 -> 212117 | F8: =D8*E8 -> 1696936 | I8: LARGO | J8: ANCHO | K8: PROF. EX | L8: PROF. LLEN.
A9: 1.3 | B9: Cerramiento provisional con guadua y tela de cerramiento h=2 m | C9: M | D9: =+(K4+L4)*2 -> 407 | E9: =APUS!O63 -> 7635 | F9: =D9*E9 -> 3107445 | H9: ALCANT. | I9: =K4 -> 200 | J9: 1.2 | K9: 2.7 | L9: 2
A10: 1.4 | B10: Pasacalles informativos, incluye mantenimiento durante la obra. | C10: M2 | D10: =10*1 -> 10 | E10: =APUS!O70 -> 126325.39 | F10: =D10*E10 -> 1263253.9 | H10: ACUEDUC. | I10: =+I9*2 -> 400 | J10: 0.3 | K10: 1.2 | L10: 1
A11: 1.5 | B11: Cubierta provisional en guadua y techo en plastico. | C11: M2 | D11: =+(K4*(L4+2)) -> 1100 | E11: =APUS!O76 -> 30988.556 | F11: =D11*E11 -> 34087412 | H11: CAJEO | I11: =+I9 -> 200 | J11: =L4 -> 3.5 | K11: 0.5
A12: 2 | B12: DEMOLICIONES. | H12: ANDENES | I12: =+I9 -> 200 | J12: =+Q4 -> 8 | K12: 0.21
A13: 2.1 | B13: Demolición pavimento rigido | C13: M2 | D13: =+(K4*L4) -> 700 | E13: =APUS!O174 -> 13460 | F13: =D13*E13 -> 9422000
A14: 2.2 | B14: Demolicion de anden | C14: M2 | D14: =(O4*Q4) -> 1600 | E14: =APUS!O181 -> 11907 | F14: =D14*E14 -> 19051200
A15: 2.3 | B15: Demolicion de sardinel | C15: M | D15: =(O4*2) -> 400 | E15: =APUS!O187 -> 0 | F15: =D15*E15 -> 0
A16: 2.4 | B16: Demolición cono cámara | C16: UNI | D16: =V4 -> 5 | E16: =APUS!O220 -> 112875 | F16: =D16*E16 -> 564375
A17: 2.5 | B17: Demolición cuerpo cámara | C17: ML | D17: =+D16*3 -> 15 | E17: =APUS!O225 -> 0 | F17: =D17*E17 -> 0
A18: 3 | B18: MOVIMIENTOS DE TIERRA.
A19: 3.1 | B19: Excavacion en material comun seco de 0-2 mts, manual | C19: M3 | D19: =+((I9*J9*K9)+(I10*J10*K10)+(I11*J11*K11)+(I12*J12*K12))*1.3 -> 1921.4 | E19: =APUS!O271 -> 30216 | F19: =D19*E19 -> 58057022
A20: 4 | B20: LLENOS.
A21: 4.1 | B21: Lleno compactado con material del sitio manual | C21: M3 | D21: =+(I9*J9*L9)+(I10*J10*L10) -> 600 | E21: =APUS!O429 -> 24599 | F21: =D21*E21 -> 14759400
A22: 4.2 | B22: Lleno compactado con afirmado manual, no incluye transporte | C22: M3 | D22: =+(O4*Q4*R4) -> 160 | E22: =APUS!O435 -> 59079 | F22: =D22*E22 -> 9452640
A23: 4.3 | B23: =+APUS!C550 -> Sub-base granular | C23: M3 | D23: =(K4*L4*N4) -> 175 | E23: =APUS!O443 -> 67717 | F23: =D23*E23 -> 11850475
A24: 4.4 | B24: =+APUS!#REF! -> #REF! | C24: M3 | D24: =(K4*L4*M4) -> 105 | E24: =APUS!O453 -> 75850 | F24: =D24*E24 -> 7964250
A25: 4.5 | B25: Transporte material > 40 Km (corte, sub-base, base, afirmado) | C25: M3-KM | D25: =+(D22+D23+D24)*21 -> 9240 | E25: =APUS!O535 -> 1833 | F25: =D25*E25 -> 16936920
A26: 4.6 | B26: =+APUS!L538 -> Lleno con arena para tubería (brecha de 0,60 m de ancho e = 0,1 m) | C26: M | D26: =+(I9*J9)+(I10*J10) -> 360 | E26: =APUS!O538 -> 9442 | F26: =D26*E26 -> 3399120
A27: 5 | B27: LABORES DE ALCANTARILLADO.
A28: 5.1 | B28: Tubería PVC de alcantarillado de pared estructural d = 6", exterior corrugado | C28: M | D28: =+(U4)*6 -> 330 | E28: =APUS!#REF! -> #REF! | F28: =D28*E28 -> #REF!
A29: 5.2 | B29: Tubería PVC de alcantarillado de pared estructural d = 12", exterior corrugado | C29: M | D29: =+I9+6 -> 206 | E29: =APUS!#REF! -> #REF! | F29: =D29*E29 -> #REF!
A30: 5.3 | B30: Silla Yee Pvc de pared estructural 315 X 160 | C30: UND | D30: =U4 -> 55 | E30: =APUS!O599 -> 207782.77 | F30: =D30*E30 -> 11428052
A31: 5.4 | B31: Base y cañuela para cámara de inspección d = 1,20 mts, en concreto de 20,7 Mpa | C31: UND | D31: =V4 -> 5 | E31: =APUS!O608 -> 427551 | F31: =D31*E31 -> 2137755
A32: 5.5 | B32: Cuerpo para cámara de inspección d = 1,20 m, en concreto de 20,7 Mpa, no incluye refuerzo | C32: M | D32: =+D17 -> 15 | E32: =APUS!O689 -> 521456 | F32: =D32*E32 -> 7821840
A33: 5.6 | B33: Empalme de tubería a pozo existente incluye demolición y emboquillada | C33: UND | D33: =+D31 -> 5 | E33: =APUS!O697 -> 0 | F33: =D33*E33 -> 0
A34: 5.7 | B34: =+APUS!#REF! -> #REF! | C34: M | D34: =+D28+D29 -> 536 | E34: =APUS!O731 -> 8202 | F34: =D34*E34 -> 4396272
A35: 5.8 | B35: =+APUS!L737 -> Tapa de seguridad en hierro dúctil EN124 Clase D400, tráfico vehicular pesado d=0.60 m | C35: UND | D35: =+D31 -> 5 | E35: =APUS!O737 -> 1513995 | F35: =D35*E35 -> 7569975
A36: 5.9 | B36: Manejo de aguas servidas, en teja de zinc o similar. | C36: M | D36: =+D34 -> 536 | E36: =APUS!O742 -> 22313.073 | F36: =D36*E36 -> 11959807
A37: 6 | B37: ESTRUCTURAS DE CONCRETO.
A38: 6.1 | B38: Caja de inspección de 0,80 x 0,80 x 0,80 m en concreto de 17,2 Mpa, tapa reforzada en concreto de 20,7 Mpa | C38: UND | D38: =U4 -> 55 | E38: =APUS!#REF! -> #REF! | F38: =D38*E38 -> #REF!
A39: 6.2 | B39: Sumidero doble en concreto de 20,7 Mpa, incluye reja doble con anticorrosivo | C39: UND | D39: =4*1 -> 4 | E39: =APUS!O1120 -> 300000 | F39: =D39*E39 -> 1200000
A40: 7 | B40: ACEROS.
...

Sheet 2.Calle 11 entre 15 y 17
A1: CONDICIONES ORIGINALES | H1: PAVIMENTACIÓN DE VIAS
H2: DIRECCION | K2: VIA | O2: ANDEN | S2: ANCHO TOTAL
A3: REPOSICION DE REDES EXISTENTES DE ACUEDUCTO Y ALCANTARILLADO Y CAMBIO DE PAVIMENTO ASFALTICO A RIGIDO, ANDENES DE LA CALLE 11 ENTRE CARRERAS 15 Y 17, DEL MUNICIPIO DE SANTA ROSA DE CABAL– DEPARTAMENTO DE RISARALDA, | K3: LARGO | L3: ANCHO | M3: BASE | N3: SUB-BASE | O3: LARGO | P3: ANCHO PRO. | Q3: ANCHO TOTAL | R3: AFIRMA. | U3: Domiciliarias | V3: Camaras
H4: Calle 11 entre Carreras 15 y 17 | K4: 204.3 | L4: 7 | M4: 0.15 | N4: 0.25 | O4: =+K4 -> 204.3 | P4: 1.2 | Q4: =+P4+P4 -> 2.4 | R4: 0.1 | S4: =+L4+Q4 -> 9.4 | U4: 65 | V4: 5
A5: ÍTEM | B5: PARTIDAS DE PAGO | C5: UND | D5: CANT | E5: VR UNITARIO | F5: VR TOTAL
A6: 1 | B6: PRELIMINARES.
A7: 1.1 | B7: =+APUS!C82 -> Localización y replanteo para pavimentación de vías (3 líneas, 3 instancias) | C7: M2 | D7: =+(K4*S4) -> 1920.42 | E7: =APUS!O48 -> 4323 | F7: =D7*E7 -> 8301975.7 | H7: Datos para Exacación y Lleno
A8: 1.2 | B8: =+APUS!C90 -> Valla de identificación de obra área mayor a 4 m2, colocada en cerchas metálica, incluye mantenimiento durante la construcción | C8: M2 | D8: =8*1 -> 8 | E8: =APUS!O56 -> 212117 | F8: =D8*E8 -> 1696936 | I8: LARGO | J8: ANCHO | K8: PROF. EX | L8: PROF. LLEN.
A9: 1.3 | B9: Cerramiento provisional con guadua y tela de cerramiento h=2 m | C9: M | D9: =+(K4+L4)*2 -> 422.6 | E9: =APUS!O63 -> 7635 | F9: =D9*E9 -> 3226551 | H9: ALCANT. | I9: =K4 -> 204.3 | J9: 1 | K9: 2.5 | L9: 2
A10: 1.4 | B10: Pasacalles informativos, incluye mantenimiento durante la obra. | C10: M2 | D10: =10*1 -> 10 | E10: =APUS!O70 -> 126325.39 | F10: =D10*E10 -> 1263253.9 | H10: ACUEDUC. | I10: =+I9*2 -> 408.6 | J10: 0.3 | K10: 1.2 | L10: 1
A11: 1.5 | B11: Cubierta provisional en guadua y techo en plastico. | C11: M2 | D11: =+(K4*(L4+2)) -> 1838.7 | E11: =APUS!O76 -> 30988.556 | F11: =D11*E11 -> 56978658 | H11: CAJEO | I11: =+I9 -> 204.3 | J11: =L4 -> 7 | K11: 0.5
A12: 2 | B12: DEMOLICIONES. | H12: ANDENES | I12: =+I9 -> 204.3 | J12: =+Q4 -> 2.4 | K12: 0.21
A13: 2.1 | B13: Demolición pavimento rigido | C13: M2 | D13: =+(K4*L4) -> 1430.1 | E13: =APUS!O174 -> 13460 | F13: =D13*E13 -> 19249146
A14: 2.2 | B14: Demolicion de anden | C14: M2 | D14: =(O4*Q4) -> 490.32 | E14: =APUS!O181 -> 11907 | F14: =D14*E14 -> 5838240.2
A15: 2.3 | B15: Demolicion de sardinel | C15: M | D15: =(O4*2) -> 408.6 | E15: =APUS!O187 -> 0 | F15: =D15*E15 -> 0
A16: 2.4 | B16: Demolición cono cámara | C16: UNI | D16: =V4 -> 5 | E16: =APUS!O220 -> 112875 | F16: =D16*E16 -> 564375
A17: 2.5 | B17: Demolición cuerpo cámara | C17: ML | D17: =+D16*3 -> 15 | E17: =APUS!O225 -> 0 | F17: =D17*E17 -> 0
A18: 3 | B18: MOVIMIENTOS DE TIERRA.
A19: 3.1 | B19: Excavacion en material comun seco de 0-2 mts, manual | C19: M3 | D19: =+((I9*J9*K9)+(I10*J10*K10)+(I11*J11*K11)+(I12*J12*K12))*1.3 -> 1918.6222 | E19: =APUS!O271 -> 30216 | F19: =D19*E19 -> 57973087
A20: 4 | B20: LLENOS.
A21: 4.1 | B21: Lleno compactado con material del sitio manual | C21: M3 | D21: =+(I9*J9*L9)+(I10*J10*L10) -> 531.18 | E21: =APUS!O429 -> 24599 | F21: =D21*E21 -> 13066497
A22: 4.2 | B22: Lleno compactado con afirmado manual, no incluye transporte | C22: M3 | D22: =+(O4*Q4*R4) -> 49.032 | E22: =APUS!O435 -> 59079 | F22: =D22*E22 -> 2896761.5
A23: 4.3 | B23: =+APUS!C550 -> Sub-base granular | C23: M3 | D23: =(K4*L4*N4) -> 357.525 | E23: =APUS!O443 -> 67717 | F23: =D23*E23 -> 24210520
A24: 4.4 | B24: =+APUS!#REF! -> #REF! | C24: M3 | D24: =(K4*L4*M4) -> 214.515 | E24: =APUS!O453 -> 75850 | F24: =D24*E24 -> 16270963
A25: 4.5 | B25: Transporte material > 40 Km (corte, sub-base, base, afirmado) | C25: M3-KM | D25: =+(D22+D23+D24)*21 -> 13042.512 | E25: =APUS!O535 -> 1833 | F25: =D25*E25 -> 23906924
A26: 4.6 | B26: =+'1.Calle 12 entre 9 y 11'!B26 -> Lleno con arena para tubería (brecha de 0,60 m de ancho e = 0,1 m) | C26: M | D26: =+(I9*J9)+(I10*J10) -> 326.88 | E26: =APUS!O538 -> 9442 | F26: =D26*E26 -> 3086401
A27: 5 | B27: LABORES DE ALCANTARILLADO.
A28: 5.1 | B28: Tubería PVC de alcantarillado de pared estructural d = 6", exterior corrugado | C28: M | D28: =+(U4)*6 -> 390 | E28: =APUS!#REF! -> #REF! | F28: =D28*E28 -> #REF!
A29: 5.2 | B29: Tubería PVC de alcantarillado de pared estructural d = 12", exterior corrugado | C29: M | D29: =+I9+6 -> 210.3 | E29: =APUS!#REF! -> #REF! | F29: =D29*E29 -> #REF!
A30: 5.3 | B30: Silla Yee Pvc de pared estructural 315 X 160 | C30: UND | D30: =U4 -> 65 | E30: =APUS!O599 -> 207782.77 | F30: =D30*E30 -> 13505880
A31: 5.4 | B31: Base y cañuela para cámara de inspección d = 1,20 mts, en concreto de 20,7 Mpa | C31: UND | D31: =V4 -> 5 | E31: =APUS!O608 -> 427551 | F31: =D31*E31 -> 2137755
A32: 5.5 | B32: Cuerpo para cámara de inspección d = 1,20 m, en concreto de 20,7 Mpa, no incluye refuerzo | C32: M | D32: =+D17 -> 15 | E32: =APUS!O689 -> 521456 | F32: =D32*E32 -> 7821840
A33: 5.6 | B33: Empalme de tubería a pozo existente incluye demolición y emboquillada | C33: UND | D33: =+D31 -> 5 | E33: =APUS!O697 -> 0 | F33: =D33*E33 -> 0
A34: 5.7 | B34: =+APUS!#REF! -> #REF! | C34: M | D34: =+D28+D29 -> 600.3 | E34: =APUS!O731 -> 8202 | F34: =D34*E34 -> 4923660.6
A35: 5.8 | B35: =+APUS!L737 -> Tapa de seguridad en hierro dúctil EN124 Clase D400, tráfico vehicular pesado d=0.60 m | C35: UND | D35: =+D31 -> 5 | E35: =APUS!O737 -> 1513995 | F35: =D35*E35 -> 7569975
A36: 5.9 | B36: Manejo de aguas servidas, en teja de zinc o similar. | C36: M | D36: =+D34 -> 600.3 | E36: =APUS!O742 -> 22313.073 | F36: =D36*E36 -> 13394538
A37: 6 | B37: ESTRUCTURAS DE CONCRETO.
A38: 6.1 | B38: Caja de inspección de 0,80 x 0,80 x 0,80 m en concreto de 17,2 Mpa, tapa reforzada en concreto de 20,7 Mpa | C38: UND | D38: =U4 -> 65 | E38: =APUS!#REF! -> #REF! | F38: =D38*E38 -> #REF!
A39: 6.2 | B39: Sumidero doble en concreto de 20,7 Mpa, incluye reja doble con anticorrosivo | C39: UND | D39: =4*1 -> 4 | E39: =APUS!O1120 -> 300000 | F39: =D39*E39 -> 1200000
A40: 7 | B40: ACEROS.
...

Sheet 3.Cra 12 - Cra 14 la italia
A1: CONDICIONES ORIGINALES | H1: PAVIMENTACIÓN DE VIAS
H2: DIRECCION | K2: VIA | O2: ANDEN | S2: ANCHO TOTAL
A3: PAVIMENTACIÓN VÍA CARRERA 12 ENTRE CALLES 30 B Y LA INTERSECCIÓN CON CARRERA 14 SECTOR LA ITALIA INCLUYE, ANDENES Y REPOCICIÓN DE REDES DE ACUEDUCTO Y ALCANTARILLADO, DEL MUNICIPIO DE SANTA ROSA DE CABAL– DEPARTAMENTO DE RISARALDA, | K3: LARGO | L3: ANCHO | M3: BASE | N3: SUB-BASE | O3: LARGO | P3: ANCHO PRO. | Q3: ANCHO TOTAL | R3: AFIRMA. | U3: Domiciliarias | V3: Cámaras
H4: CARRERA 12 ENTRE CALLES 30 B Y LA INTERSECCIÓN CON CARRERA 14 SECTOR LA ITALIA | K4: 292.2 | L4: 7 | M4: 0.15 | N4: 0.25 | O4: =+K4 -> 292.2 | P4: 1.5 | Q4: =+P4+P4 -> 3 | R4: 0.1 | S4: =+L4+Q4 -> 10 | U4: 45 | V4: 15
A5: ÍTEM | B5: PARTIDAS DE PAGO | C5: UND | D5: CANT | E5: VR UNITARIO | F5: VR TOTAL
A6: 1 | B6: PRELIMINARES.
A7: 1.1 | B7: =+[265]APUS!C3 -> Localización y replanteo para pavimentación de vías (3 líneas, 3 instancias) | C7: M2 | D7: =+(K4*S4) -> 2922 | E7: =APUS!O48 -> 4323 | F7: =D7*E7 -> 12631806 | H7: Datos para Excavación y Lleno
A8: 1.2 | B8: =+[265]APUS!C11 -> Valla de identificación de obra área mayor a 4 m2, colocada en cerchas metálica, incluye mantenimiento durante la construcción | C8: M2 | D8: =8*1 -> 8 | E8: =APUS!O56 -> 212117 | F8: =D8*E8 -> 1696936 | I8: LARGO | J8: ANCHO | K8: PROF. EX | L8: PROF. LLEN.
A9: 1.3 | B9: Cerramiento provisional con guadua y tela de cerramiento h=2 m | C9: M | D9: =+(K4+L4)*2 -> 598.4 | E9: =APUS!O63 -> 7635 | F9: =D9*E9 -> 4568784 | H9: ALCANT. | I9: =K4 -> 292.2 | J9: 1.4 | K9: 2.5 | L9: 2
A10: 1.4 | B10: Pasacalles informativos, incluye mantenimiento durante la obra. | C10: M2 | D10: =10*1 -> 10 | E10: =APUS!O70 -> 126325.39 | F10: =D10*E10 -> 1263253.9 | H10: ACUEDUC. | I10: =+I9*2 -> 584.4 | J10: 0.3 | K10: 1.2 | L10: 1
A11: 1.5 | B11: Cubierta provisional en guadua y techo en plástico. | C11: M2 | D11: =+(K4*(L4+2)) -> 2629.8 | E11: =APUS!O76 -> 30988.556 | F11: =D11*E11 -> 81493705 | H11: CAJEO | I11: =+I9 -> 292.2 | J11: =L4 -> 7 | K11: 0.5
A12: 2 | B12: DEMOLICIONES. | H12: ANDENES | I12: =+I9 -> 292.2 | J12: =+Q4 -> 3 | K12: 0.2
A13: 2.1 | B13: Demolición pavimento rígido | C13: M2 | D13: 0 | E13: =APUS!O174 -> 13460 | F13: =D13*E13 -> 0
A14: 2.2 | B14: Demolición de anden | C14: M2 | D14: 80 | E14: =APUS!O181 -> 11907 | F14: =D14*E14 -> 952560
A15: 2.3 | B15: Demolición de sardinel | C15: M | D15: 12 | E15: =APUS!O187 -> 0 | F15: =D15*E15 -> 0
A16: 2.4 | B16: Demolición cono cámara | C16: UNI | D16: =V4 -> 15 | E16: =APUS!O220 -> 112875 | F16: =D16*E16 -> 1693125
A17: 2.5 | B17: Demolición cuerpo cámara | C17: ML | D17: =+D16*3 -> 45 | E17: =APUS!O225 -> 0 | F17: =D17*E17 -> 0
A18: 3 | B18: MOVIMIENTOS DE TIERRA.
A19: 3.1 | B19: Excavación en material común seco de 0-2 mts, manual | C19: M3 | D19: =+((I9*J9*K9)+(I10*J10*K10)+(I11*J11*K11)+(I12*J12*K12))*1.3 -> 3160.4352 | E19: =APUS!O271 -> 30216 | F19: =D19*E19 -> 95495710
A20: 4 | B20: LLENOS.
A21: 4.1 | B21: Lleno compactado con material del sitio manual | C21: M3 | D21: =+(I9*J9*L9)+(I10*J10*L10) -> 993.48 | E21: =APUS!O429 -> 24599 | F21: =D21*E21 -> 24438615
A22: 4.2 | B22: Lleno compactado con afirmado manual, no incluye transporte | C22: M3 | D22: =+(O4*Q4*R4) -> 87.66 | E22: =APUS!O435 -> 59079 | F22: =D22*E22 -> 5178865.1
A23: 4.3 | B23: =+[265]APUS!C85 -> Sub-base granular | C23: M3 | D23: =(K4*L4*N4) -> 511.35 | E23: =APUS!O443 -> 67717 | F23: =D23*E23 -> 34627088
A24: 4.4 | B24: =+[265]APUS!C96 -> Base granular | C24: M3 | D24: =(K4*L4*M4) -> 306.81 | E24: =APUS!O453 -> 75850 | F24: =D24*E24 -> 23271538
A25: 4.5 | B25: Transporte material > 40 Km (corte, sub-base, base, afirmado) | C25: M3-KM | D25: =+(D22+D23+D24)*21 -> 19022.22 | E25: =APUS!O535 -> 1833 | F25: =D25*E25 -> 34867729
A26: 4.6 | B26: =+'2.Calle 11 entre 15 y 17'!B26 -> Lleno con arena para tubería (brecha de 0,60 m de ancho e = 0,1 m) | C26: ML | D26: =+(I9*J9)+(I10*J10) -> 584.4 | E26: =APUS!O538 -> 9442 | F26: =D26*E26 -> 5517904.8
A27: 5 | B27: LABORES DE ALCANTARILLADO.
A28: 5.1 | B28: Tubería PVC de alcantarillado de pared estructural d = 6", exterior corrugado | C28: M | D28: =+(U4)*6 -> 270 | E28: =APUS!#REF! -> #REF! | F28: =D28*E28 -> #REF!
A29: 5.2 | B29: Tubería PVC de alcantarillado de pared estructural d = 12", exterior corrugado | C29: M | D29: =+I9+6+I9 -> 590.4 | E29: =APUS!#REF! -> #REF! | F29: =D29*E29 -> #REF!
A30: 5.3 | B30: Silla Yee Pvc de pared estructural 315 X 160 | C30: UND | D30: =U4 -> 45 | E30: =APUS!O599 -> 207782.77 | F30: =D30*E30 -> 9350224.5
A31: 5.4 | B31: Base y cañuela para cámara de inspección d = 1,20 mts, en concreto de 20,7 Mpa | C31: UND | D31: =V4 -> 15 | E31: =APUS!O608 -> 427551 | F31: =D31*E31 -> 6413265
A32: 5.5 | B32: Cuerpo para cámara de inspección d = 1,20 m, en concreto de 20,7 Mpa, no incluye refuerzo | C32: M | D32: =+D17 -> 45 | E32: =APUS!O689 -> 521456 | F32: =D32*E32 -> 23465520
A33: 5.6 | B33: Empalme de tubería a pozo existente incluye demolición y emboquillada | C33: UND | D33: =+D31 -> 15 | E33: =APUS!O697 -> 0 | F33: =D33*E33 -> 0
A34: 5.7 | B34: =+[265]APUS!C153 -> Desmonte de tubería de alcantarillado hasta 12" | C34: M | D34: =+D28+D29 -> 860.4 | E34: =APUS!O731 -> 8202 | F34: =D34*E34 -> 7057000.8
A35: 5.8 | B35: =+'2.Calle 11 entre 15 y 17'!B35 -> Tapa de seguridad en hierro dúctil EN124 Clase D400, tráfico vehicular pesado d=0.60 m | C35: UND | D35: =+D31 -> 15 | E35: =APUS!O737 -> 1513995 | F35: =D35*E35 -> 22709925
A36: 5.9 | B36: Manejo de aguas servidas, en teja de zinc o similar. | C36: M | D36: =+K4 -> 292.2 | E36: =APUS!O742 -> 22313.073 | F36: =D36*E36 -> 6519880
A37: 6 | B37: ESTRUCTURAS DE CONCRETO.
A38: 6.1 | B38: Caja de inspección de 0,80 x 0,80 x 0,80 m en concreto de 17,2 Mpa, tapa reforzada en concreto de 20,7 Mpa | C38: UND | D38: =U4 -> 45 | E38: =APUS!#REF! -> #REF! | F38: =D38*E38 -> #REF!
A39: 6.2 | B39: Sumidero doble en concreto de 20,7 Mpa, incluye reja doble con anticorrosivo | C39: UND | D39: 8 | E39: =APUS!O1120 -> 300000 | F39: =D39*E39 -> 2400000
A40: 7 | B40: ACEROS.
...

Sheet 4.Carrera 22 con calle 27B
A1: CONDICIONES ORIGINALES | H1: PAVIMENTACIÓN DE VIAS
H2: DIRECCION | K2: VIA | O2: ANDEN | S2: ANCHO TOTAL
A3: REPOSICION DE REDES EXISTENTES DE ACUEDUCTO Y ALCANTARILLADO Y CAMBIO DE PAVIMENTO ASFALTICO A RIGIDO, ANDENES DE LA Carrera 22 con Calle 27B, DEL MUNICIPIO DE SANTA ROSA DE CABAL– DEPARTAMENTO DE RISARALDA, | K3: LARGO | L3: ANCHO | M3: BASE | N3: SUB-BASE | O3: LARGO | P3: ANCHO PRO. | Q3: ANCHO TOTAL | R3: AFIRMA. | U3: Domiciliarias | V3: Camaras
H4: Carrera 22 con Calle 27B | K4: 80 | L4: 5.4 | M4: 0.15 | N4: 0.25 | O4: =+K4 -> 80 | P4: 0.9 | Q4: =+P4+P4 -> 1.8 | R4: 0.1 | S4: =+L4+Q4 -> 7.2 | U4: 24 | V4: 2
A5: ÍTEM | B5: PARTIDAS DE PAGO | C5: UND | D5: CANT | E5: VR UNITARIO | F5: VR TOTAL
A6: 1 | B6: PRELIMINARES.
A7: 1.1 | B7: =+APUS!C82 -> Localización y replanteo para pavimentación de vías (3 líneas, 3 instancias) | C7: M2 | D7: =+(K4*S4) -> 576 | E7: =APUS!O48 -> 4323 | F7: =D7*E7 -> 2490048 | H7: Datos para Exacación y Lleno
A8: 1.2 | B8: =+APUS!C90 -> Valla de identificación de obra área mayor a 4 m2, colocada en cerchas metálica, incluye mantenimiento durante la construcción | C8: M2 | D8: =8*1 -> 8 | E8: =APUS!O56 -> 212117 | F8: =D8*E8 -> 1696936 | I8: LARGO | J8: ANCHO | K8: PROF. EX | L8: PROF. LLEN.
A9: 1.3 | B9: Cerramiento provisional con guadua y tela de cerramiento h=2 m | C9: M | D9: =+(K4+L4)*2 -> 170.8 | E9: =APUS!O63 -> 7635 | F9: =D9*E9 -> 1304058 | H9: ALCANT. | I9: =K4 -> 80 | J9: 1.2 | K9: 2.5 | L9: 2
A10: 1.4 | B10: Pasacalles informativos, incluye mantenimiento durante la obra. | C10: M2 | D10: =10*1 -> 10 | E10: =APUS!O70 -> 126325.39 | F10: =D10*E10 -> 1263253.9 | H10: ACUEDUC. | I10: =+I9*2 -> 160 | J10: 0.3 | K10: 1.2 | L10: 1
A11: 1.5 | B11: Cubierta provisional en guadua y techo en plastico. | C11: M2 | D11: =+(K4*(L4+2)) -> 592 | E11: =APUS!O76 -> 30988.556 | F11: =D11*E11 -> 18345225 | H11: CAJEO | I11: =+I9 -> 80 | J11: =L4 -> 5.4 | K11: 0.5
A12: 2 | B12: DEMOLICIONES. | H12: ANDENES | I12: =+I9 -> 80 | J12: =+Q4 -> 1.8 | K12: 0.2
A13: 2.2 | B13: Demolicion de anden | C13: M2 | D13: =(O4*Q4) -> 144 | E13: =APUS!O181 -> 11907 | F13: =D13*E13 -> 1714608
A14: 2.4 | B14: Demolición cono cámara | C14: UNI | D14: =V4 -> 2 | E14: =APUS!O220 -> 112875 | F14: =D14*E14 -> 225750
A15: 2.5 | B15: Demolición cuerpo cámara | C15: ML | D15: =+D14*3 -> 6 | E15: =APUS!O225 -> 0 | F15: =D15*E15 -> 0
A16: 3 | B16: MOVIMIENTOS DE TIERRA.
A17: 3.1 | B17: Excavacion en material comun seco de 0-2 mts, manual | C17: M3 | D17: =+((I9*J9*K9)+(I10*J10*K10)+(I11*J11*K11)+(I12*J12*K12))*1.3 -> 705.12 | E17: =APUS!O271 -> 30216 | F17: =D17*E17 -> 21305906
A18: 4 | B18: LLENOS.
A19: 4.1 | B19: Lleno compactado con material del sitio manual | C19: M3 | D19: =+(I9*J9*L9)+(I10*J10*L10) -> 240 | E19: =APUS!O429 -> 24599 | F19: =D19*E19 -> 5903760
A20: 4.2 | B20: Lleno compactado con afirmado manual, no incluye transporte | C20: M3 | D20: =+(O4*Q4*R4) -> 14.4 | E20: =APUS!O435 -> 59079 | F20: =D20*E20 -> 850737.6
A21: 4.3 | B21: =+APUS!C550 -> Sub-base granular | C21: M3 | D21: =(K4*L4*N4) -> 108 | E21: =APUS!O443 -> 67717 | F21: =D21*E21 -> 7313436
A22: 4.4 | B22: =+APUS!#REF! -> #REF! | C22: M3 | D22: =(K4*L4*M4) -> 64.8 | E22: =APUS!O453 -> 75850 | F22: =D22*E22 -> 4915080
A23: 4.5 | B23: Transporte material > 40 Km (corte, sub-base, base, afirmado) | C23: M3-KM | D23: =+(D20+D21+D22)*21 -> 3931.2 | E23: =APUS!O535 -> 1833 | F23: =D23*E23 -> 7205889.6
A24: 4.6 | B24: =+'3.Cra 12 - Cra 14 la italia'!B26 -> Lleno con arena para tubería (brecha de 0,60 m de ancho e = 0,1 m) | C24: M | D24: =+(I9*J9)+(I10*J10) -> 144 | E24: =APUS!O538 -> 9442 | F24: =D24*E24 -> 1359648
A25: 5 | B25: LABORES DE ALCANTARILLADO.
A26: 5.1 | B26: Tubería PVC de alcantarillado de pared estructural d = 6", exterior corrugado | C26: M | D26: =+(U4)*6 -> 144 | E26: =APUS!#REF! -> #REF! | F26: =D26*E26 -> #REF!
A27: 5.2 | B27: Tubería PVC de alcantarillado de pared estructural d = 12", exterior corrugado | C27: M | D27: =+I9+6 -> 86 | E27: =APUS!#REF! -> #REF! | F27: =D27*E27 -> #REF!
A28: 5.3 | B28: Silla Yee Pvc de pared estructural 315 X 160 | C28: UND | D28: =U4 -> 24 | E28: =APUS!O599 -> 207782.77 | F28: =D28*E28 -> 4986786.4
A29: 5.4 | B29: Base y cañuela para cámara de inspección d = 1,20 mts, en concreto de 20,7 Mpa | C29: UND | D29: =V4 -> 2 | E29: =APUS!O608 -> 427551 | F29: =D29*E29 -> 855102
A30: 5.5 | B30: Cuerpo para cámara de inspección d = 1,20 m, en concreto de 20,7 Mpa, no incluye refuerzo | C30: M | D30: =+D15 -> 6 | E30: =APUS!O689 -> 521456 | F30: =D30*E30 -> 3128736
A31: 5.6 | B31: Empalme de tubería a pozo existente incluye demolición y emboquillada | C31: UND | D31: =+D29 -> 2 | E31: =APUS!O697 -> 0 | F31: =D31*E31 -> 0
A32: 5.7 | B32: =+APUS!#REF! -> #REF! | C32: M | D32: =+D26+D27 -> 230 | E32: =APUS!O731 -> 8202 | F32: =D32*E32 -> 1886460
A33: 5.8 | B33: =+'3.Cra 12 - Cra 14 la italia'!B35 -> Tapa de seguridad en hierro dúctil EN124 Clase D400, tráfico vehicular pesado d=0.60 m | C33: UND | D33: =+D29 -> 2 | E33: =APUS!O737 -> 1513995 | F33: =D33*E33 -> 3027990
A34: 5.9 | B34: Manejo de aguas servidas, en teja de zinc o similar. | C34: M | D34: =+D32 -> 230 | E34: =APUS!O742 -> 22313.073 | F34: =D34*E34 -> 5132006.8
A35: 6 | B35: ESTRUCTURAS DE CONCRETO.
A36: 6.1 | B36: Caja de inspección de 0,80 x 0,80 x 0,80 m en concreto de 17,2 Mpa, tapa reforzada en concreto de 20,7 Mpa | C36: UND | D36: =U4 -> 24 | E36: =APUS!#REF! -> #REF! | F36: =D36*E36 -> #REF!
A37: 6.2 | B37: Sumidero doble en concreto de 20,7 Mpa, incluye reja doble con anticorrosivo | C37: UND | D37: =4*1 -> 4 | E37: =APUS!O1120 -> 300000 | F37: =D37*E37 -> 1200000
A38: 7 | B38: ACEROS.
A39: 7.1 | B39: Acero Fy = 60.000 psi d>1/4" | C39: KG | D39: =760*D29 -> 1520 | E39: =APUS!O1200 -> 1 | F39: =D39*E39 -> 1520
A40: 8 | B40: OBRAS FINALES - REPARACIONES Y ACOMETIDAS ACUEDUCTO.
...

Sheet 4.Carrera 22A con calle 27B 
A1: CONDICIONES ORIGINALES | H1: PAVIMENTACIÓN DE VIAS
H2: DIRECCION | K2: VIA | O2: ANDEN | S2: ANCHO TOTAL
A3: REPOSICION DE REDES EXISTENTES DE ACUEDUCTO Y ALCANTARILLADO Y CAMBIO DE PAVIMENTO ASFALTICO A RIGIDO, ANDENES DE LA Carrera 22A con Calle 27B, DEL MUNICIPIO DE SANTA ROSA DE CABAL– DEPARTAMENTO DE RISARALDA, | K3: LARGO | L3: ANCHO | M3: BASE | N3: SUB-BASE | O3: LARGO | P3: ANCHO PRO. | Q3: ANCHO TOTAL | R3: AFIRMA. | U3: Domiciliarias | V3: Camaras
H4: Carrera 22A con Calle 27B | K4: 80 | L4: 4 | M4: 0.15 | N4: 0.25 | O4: =+K4 -> 80 | P4: 0.9 | Q4: =+P4+P4 -> 1.8 | R4: 0.1 | S4: =+L4+Q4 -> 5.8 | U4: 24 | V4: 2
A5: ÍTEM | B5: PARTIDAS DE PAGO | C5: UND | D5: CANT | E5: VR UNITARIO | F5: VR TOTAL
A6: 1 | B6: PRELIMINARES.
A7: 1.1 | B7: =+APUS!C82 -> Localización y replanteo para pavimentación de vías (3 líneas, 3 instancias) | C7: M2 | D7: =+(K4*S4) -> 464 | E7: =APUS!O48 -> 4323 | F7: =D7*E7 -> 2005872 | H7: Datos para Exacación y Lleno
A8: 1.2 | B8: =+APUS!C90 -> Valla de identificación de obra área mayor a 4 m2, colocada en cerchas metálica, incluye mantenimiento durante la construcción | C8: M2 | D8: =8*1 -> 8 | E8: =APUS!O56 -> 212117 | F8: =D8*E8 -> 1696936 | I8: LARGO | J8: ANCHO | K8: PROF. EX | L8: PROF. LLEN.
A9: 1.3 | B9: Cerramiento provisional con guadua y tela de cerramiento h=2 m | C9: M | D9: =+(K4+L4)*2 -> 168 | E9: =APUS!O63 -> 7635 | F9: =D9*E9 -> 1282680 | H9: ALCANT. | I9: =K4 -> 80 | J9: 1.2 | K9: 2.5 | L9: 2
A10: 1.4 | B10: Pasacalles informativos, incluye mantenimiento durante la obra. | C10: M2 | D10: =10*1 -> 10 | E10: =APUS!O70 -> 126325.39 | F10: =D10*E10 -> 1263253.9 | H10: ACUEDUC. | I10: =+I9*2 -> 160 | J10: 0.3 | K10: 1 | L10: 1
A11: 1.5 | B11: Cubierta provisional en guadua y techo en plastico. | C11: M2 | D11: =+(K4*(L4+2)) -> 480 | E11: =APUS!O76 -> 30988.556 | F11: =D11*E11 -> 14874507 | H11: CAJEO | I11: =+I9 -> 80 | J11: =L4 -> 4 | K11: 0.47
A12: 2 | B12: DEMOLICIONES. | H12: ANDENES | I12: =+I9 -> 80 | J12: =+Q4 -> 1.8 | K12: 0.2
A13: 2.2 | B13: Demolicion de anden | C13: M2 | D13: =(O4*Q4) -> 144 | E13: =APUS!O181 -> 11907 | F13: =D13*E13 -> 1714608
A14: 2.4 | B14: Demolición cono cámara | C14: UNI | D14: =V4 -> 2 | E14: =APUS!O220 -> 112875 | F14: =D14*E14 -> 225750
A15: 2.5 | B15: Demolición cuerpo cámara | C15: ML | D15: =+D14*3 -> 6 | E15: =APUS!O225 -> 0 | F15: =D15*E15 -> 0
A16: 3 | B16: MOVIMIENTOS DE TIERRA.
A17: 3.1 | B17: Excavacion en material comun seco de 0-2 mts, manual | C17: M3 | D17: =+((I9*J9*K9)+(I10*J10*K10)+(I11*J11*K11)+(I12*J12*K12))*1.3 -> 607.36 | E17: =APUS!O271 -> 30216 | F17: =D17*E17 -> 18351990
A18: 4 | B18: LLENOS.
A19: 4.1 | B19: Lleno compactado con material del sitio manual | C19: M3 | D19: =+(I9*J9*L9)+(I10*J10*L10) -> 240 | E19: =APUS!O429 -> 24599 | F19: =D19*E19 -> 5903760
A20: 4.2 | B20: Lleno compactado con afirmado manual, no incluye transporte | C20: M3 | D20: =+(O4*Q4*R4) -> 14.4 | E20: =APUS!O435 -> 59079 | F20: =D20*E20 -> 850737.6
A21: 4.3 | B21: =+APUS!C550 -> Sub-base granular | C21: M3 | D21: =(K4*L4*N4) -> 80 | E21: =APUS!O443 -> 67717 | F21: =D21*E21 -> 5417360
A22: 4.4 | B22: =+APUS!#REF! -> #REF! | C22: M3 | D22: =(K4*L4*M4) -> 48 | E22: =APUS!O453 -> 75850 | F22: =D22*E22 -> 3640800
A23: 4.5 | B23: Transporte material > 40 Km (corte, sub-base, base, afirmado) | C23: M3-KM | D23: =+(D20+D21+D22)*21 -> 2990.4 | E23: =APUS!O535 -> 1833 | F23: =D23*E23 -> 5481403.2
A24: 4.6 | B24: =+'4.Carrera 22 con calle 27B'!B24 -> Lleno con arena para tubería (brecha de 0,60 m de ancho e = 0,1 m) | C24: M | D24: =+(I9*J9)+(I10*J10) -> 144 | E24: =APUS!O538 -> 9442 | F24: =D24*E24 -> 1359648
A25: 5 | B25: LABORES DE ALCANTARILLADO.
A26: 5.1 | B26: Tubería PVC de alcantarillado de pared estructural d = 6", exterior corrugado | C26: M | D26: =+(U4)*6 -> 144 | E26: =APUS!#REF! -> #REF! | F26: =D26*E26 -> #REF!
A27: 5.2 | B27: Tubería PVC de alcantarillado de pared estructural d = 12", exterior corrugado | C27: M | D27: =+I9+6 -> 86 | E27: =APUS!#REF! -> #REF! | F27: =D27*E27 -> #REF!
A28: 5.3 | B28: Silla Yee Pvc de pared estructural 315 X 160 | C28: UND | D28: =U4 -> 24 | E28: =APUS!O599 -> 207782.77 | F28: =D28*E28 -> 4986786.4
A29: 5.4 | B29: Base y cañuela para cámara de inspección d = 1,20 mts, en concreto de 20,7 Mpa | C29: UND | D29: =V4 -> 2 | E29: =APUS!O608 -> 427551 | F29: =D29*E29 -> 855102
A30: 5.5 | B30: Cuerpo para cámara de inspección d = 1,20 m, en concreto de 20,7 Mpa, no incluye refuerzo | C30: M | D30: =+D15 -> 6 | E30: =APUS!O689 -> 521456 | F30: =D30*E30 -> 3128736
A31: 5.6 | B31: Empalme de tubería a pozo existente incluye demolición y emboquillada | C31: UND | D31: =+D29 -> 2 | E31: =APUS!O697 -> 0 | F31: =D31*E31 -> 0
A32: 5.7 | B32: =+APUS!#REF! -> #REF! | C32: M | D32: =+D26+D27 -> 230 | E32: =APUS!O731 -> 8202 | F32: =D32*E32 -> 1886460
A33: 5.8 | B33: =+'4.Carrera 22 con calle 27B'!B33 -> Tapa de seguridad en hierro dúctil EN124 Clase D400, tráfico vehicular pesado d=0.60 m | C33: UND | D33: =+D29 -> 2 | E33: =APUS!O737 -> 1513995 | F33: =D33*E33 -> 3027990
