Workbook

Sheet Resumen
A1: No. | B1: Proponente | C1: CALIFICACIÓN | D1: Promoción a la industria nacional (100) | E1: Factor Técnico (100) | F1: Acreditación personal en condición de discapacidad | G1: Acreditación MIPYMES | H1: OBSERVACIÓN
A2: 1 | B2: JAVIER DE JESUS GARCIA PAREJA | C2: HÁBIL | D2: 100 | E2: 100 | F2: CUMPLE | G2: CUMPLE
A3: 2 | B3: LRAMBIENTAL | C3: HÁBIL | D3: 100 | E3: 100 | F3: CUMPLE | G3: CUMPLE
A4: 3 | B4: DIEGO MARTINEZ | C4: HÁBIL | D4: 100 | E4: 100 | F4: CUMPLE | G4: CUMPLE
A5: 4 | B5: JOHN ESNEIDER CARDONA GUTIERREZ | C5: HÁBIL | D5: 100 | E5: 100 | F5: NO CUMPLE | G5: CUMPLE
A6: 5 | B6: JORGE HERNAN LOPEZ CARVAJAL | C6: HÁBIL | D6: 100 | E6: 100 | F6: CUMPLE | G6: CUMPLE
A7: 6 | B7: JACKSON MORENO RACINES | C7: HÁBIL | D7: 100 | E7: 100 | F7: NO CUMPLE | G7: CUMPLE
A8: 7 | B8: JEMAG INGENERIA S.A.S | C8: HÁBIL | D8: 100 | E8: 100 | F8: CUMPLE | G8: NO CUMPLE
A9: 8 | B9: FEXSA INGENERIA Y SERICIOS S.A.S | C9: HÁBIL | D9: 100 | E9: 100 | F9: NO CUMPLE | G9: CUMPLE
A10: 9 | B10: MARY RUBY GALVEZ MUÑOZ | C10: HÁBIL | D10: 100 | E10: 100 | F10: NO CUMPLE | G10: CUMPLE
A11: 10 | B11: JOHN JAIRO ZULUAGA GIRALDO | C11: HÁBIL | D11: 100 | E11: 100 | F11: NO CUMPLE | G11: CUMPLE

Sheet Formulario
E1: PRESUPUESTO PARA “INTERVENCION SITIO CRITICO, k7+000 VIA QUIEBRA DEL BILLAR- EL CHUZO -MALPASO, MUNICIPIO DE MANIZALES, DEPARTAMENTO DE CALDAS”.
A2: MODULO No 1
A3: No | B3: ITEM DE PAGO | C3: ESPECIFICACIONES | E3: Descripción | F3: Unidad | G3: cantidad | H3: Costo Directo | I3: Valor Total
C4: ESPECIFICACION GENERAL | D4: ESPECIFICACION PARTICULAR
A5: 1 | B5: 200.1 | C5: 200 | E5: Rocería y limpieza | F5: M2 | G5: 300 | H5: 634 | I5: =+ROUND(H5*G5,0) -> 190200
A6: 2 | B6: 600,1,1 | C6: 600 | E6: Excavaciones varias sin clasificar | F6: m3 | G6: 120 | H6: 26015 | I6: =+ROUND(H6*G6,0) -> 3121800
A7: 3 | B7: 610.2 | C7: 610 | E7: Llenos con material seleccionado | F7: m3 | G7: 60 | H7: 45011 | I7: =+ROUND(H7*G7,0) -> 2700660
A8: 4 | B8: 630.4 | C8: 630 | E8: Concreto clase D para muros | F8: m3 | G8: 36 | H8: 550127 | I8: =+ROUND(H8*G8,0) -> 19804572
A9: 5 | B9: 640.1 | C9: 640 | E9: Acero de refuerzo Fy 4200 | F9: Kg | G9: 1600 | H9: 4044 | I9: =+ROUND(H9*G9,0) -> 6470400
A10: 6 | B10: 630.6 | C10: 630 | E10: Enrocados con ligante de concreto | F10: m3 | G10: 54 | H10: 269679 | I10: =+ROUND(H10*G10,0) -> 14562666
A11: 7 | D11: 1P | E11: Canales en madera, polipropileno y geotextil NT | F11: ml | G11: 60 | H11: 29685 | I11: =+ROUND(H11*G11,0) -> 1781100
A12: 8 | B12: 673.2 | C12: 673 | E12: Material filtrante | F12: m3 | G12: 75 | H12: 93553 | I12: =+ROUND(H12*G12,0) -> 7016475
A13: 9 | B13: 643,1,2 | C13: 643 | E13: Geotextil | F13: m2 | G13: 360 | H13: 9658 | I13: =+ROUND(H13*G13,0) -> 3476880
A14: 10 | B14: 663.1 | C14: 663 | E14: Tubería de pvc D=65mm para filtros | F14: ml | G14: 120 | H14: 16426 | I14: =+ROUND(H14*G14,0) -> 1971120
A15: 11 | B15: 674.2 | C15: 674 | E15: Drenes Horizontales L> 10mts | F15: ml | G15: 60 | H15: 186313 | I15: =+ROUND(H15*G15,0) -> 11178780
A16: 12 | B16: 674.1 | C16: 674 | E16: Drenes Horizontales L< 10mts | F16: ml | G16: 40 | H16: 78735 | I16: =+ROUND(H16*G16,0) -> 3149400
E17: TOTAL COSTO DIRECTO. | I17: =SUM(I5:I16) -> 75424053
E18: ADMINISTRACION | F18: % | G18: 23 | H18: =+I17 -> 75424053 | I18: =+ROUND(G18*H18/100,0) -> 17347532
E19: UTILIDAD | F19: % | G19: 5 | H19: =+I17 -> 75424053 | I19: =+ROUND(G19*H19/100,0) -> 3771203
E20: TOTAL COSTOS INDIRECTOS. | I20: =ROUND(I18+I19,0) -> 21118735
A21: TOTAL COSTOS DE OBRA | I21: =+I20+I17 -> 96542788
A23: NOTA 1: El control de tráfico temporal y la señalización provisional necesarios para la ejecución de las obras será por cuenta y riesgo del contratista
A24: NOTA 2: Se debe tener en cuenta que el PRECIO UNITARIO incluye el valor de A.U
A25: NOTA 3: Si el valor del A.U. presentado es menor al ochenta y cinco por ciento (85%) o mayor al ciento diez por ciento (110%) del Valor Oficial del Porcentaje de A.U., establecido en el formulario No 1 "presupuesto oficial", la propuesta será rechazada
A26: NOTA 4: Cuando la fracción decimal del peso sea igual o superior a 5 se aproximara por exceso al número entero siguiente del peso y cuando la fracción decimal del peso sea inferior a 5 se aproximará por defecto al número entero del peso.
A27: NOTA 5: El A.U. y su discriminación deben estar en porcentaje (%).
A29: ELABORO: ANDRES FELIPE ZULUAGA RAMIREZ
A30: M.P. 63202207978
A33: DISTANCIA DE ACARREO MATERIALES CRUDOS DE RÍO | F33: 15
A34: DISTANCIA DE ACARREO SOBRANTES AL BOTADERO | F34: 5

Sheet Informe
C1: 1 | D1: 2 | E1: 3 | F1: 4 | G1: 5 | H1: 6 | I1: 7 | J1: 8 | K1: 9 | L1: 10 | M1: 11 | N1: 12 | O1: 13 | P1: 14 | Q1: 15 | R1: 16 | S1: 17 | T1: 18 | U1: 19 | V1: 20 | W1: 21 | X1: 22 | Y1: 23 | Z1: 24 | AA1: 25 | AB1: 26 | AC1: 27 | AD1: 28 | AE1: 29 | AF1: 30 | AG1: 31 | AH1: 32 | AI1: 33 | AJ1: 34 | AK1: 35 | AL1: 36 | AM1: 37 | AN1: 38 | AO1: 39 | AP1: 40
C2: 1 | G2: 2 | K2: 3 | O2: 4 | S2: 5 | W2: 6 | AA2: 7 | AE2: 8 | AI2: 9 | AM2: 10
C3: =VLOOKUP(C2,Resumen!$A:$G,2,FALSE) -> JAVIER DE JESUS GARCIA PAREJA | G3: =VLOOKUP(G2,Resumen!$A:$G,2,FALSE) -> LRAMBIENTAL | K3: =VLOOKUP(K2,Resumen!$A:$G,2,FALSE) -> DIEGO MARTINEZ | O3: =VLOOKUP(O2,Resumen!$A:$G,2,FALSE) -> JOHN ESNEIDER CARDONA GUTIERREZ | S3: =VLOOKUP(S2,Resumen!$A:$G,2,FALSE) -> JORGE HERNAN LOPEZ CARVAJAL | W3: =VLOOKUP(W2,Resumen!$A:$G,2,FALSE) -> JACKSON MORENO RACINES | AA3: =VLOOKUP(AA2,Resumen!$A:$G,2,FALSE) -> JEMAG INGENERIA S.A.S | AE3: =VLOOKUP(AE2,Resumen!$A:$G,2,FALSE) -> FEXSA INGENERIA Y SERICIOS S.A.S | AI3: =VLOOKUP(AI2,Resumen!$A:$G,2,FALSE) -> MARY RUBY GALVEZ MUÑOZ | AM3: =VLOOKUP(AM2,Resumen!$A:$G,2,FALSE) -> JOHN JAIRO ZULUAGA GIRALDO
A4: No. | B4: DESCRIPCIÓN | C4: Cant | D4: Un | E4: Precio Unitario | F4: Valor Total | G4: Cant | H4: Un | I4: Precio Unitario | J4: Valor Total | K4: Cant | L4: Un | M4: Precio Unitario | N4: Valor Total | O4: Cant | P4: Un | Q4: Precio Unitario | R4: Valor Total | S4: Cant | T4: Un | U4: Precio Unitario | V4: Valor Total | W4: Cant | X4: Un | Y4: Precio Unitario | Z4: Valor Total | AA4: Cant | AB4: Un | AC4: Precio Unitario | AD4: Valor Total | AE4: Cant | AF4: Un | AG4: Precio Unitario | AH4: Valor Total | AI4: Cant | AJ4: Un | AK4: Precio Unitario | AL4: Valor Total | AM4: Cant | AN4: Un | AO4: Precio Unitario | AP4: Valor Total
A5: 1 | B5: =+Formulario!E5 -> Rocería y limpieza | C5: 300 | D5: M2 | E5: 634 | F5: =C5*E5 -> 190200 | G5: 300 | H5: M2 | I5: 568 | J5: =G5*I5 -> 170400 | K5: 300 | L5: M2 | M5: 627 | N5: =K5*M5 -> 188100 | O5: 300 | P5: M2 | Q5: 612 | R5: =O5*Q5 -> 183600 | S5: 300 | T5: M2 | U5: 625 | V5: =S5*U5 -> 187500 | W5: 300 | X5: M2 | Y5: 590 | Z5: =W5*Y5 -> 177000 | AA5: 300 | AB5: M2 | AC5: 618 | AD5: =AA5*AC5 -> 185400 | AE5: 300 | AF5: M2 | AG5: 586 | AH5: =AE5*AG5 -> 175800 | AI5: 300 | AJ5: M2 | AK5: 620 | AL5: =AI5*AK5 -> 186000 | AM5: 300 | AN5: M2 | AO5: 625 | AP5: =AM5*AO5 -> 187500
A6: 2 | B6: =+Formulario!E6 -> Excavaciones varias sin clasificar | C6: 120 | D6: m3 | E6: 26015 | F6: =C6*E6 -> 3121800 | G6: 120 | H6: m3 | I6: 23309 | J6: =G6*I6 -> 2797080 | K6: 120 | L6: m3 | M6: 25716 | N6: =K6*M6 -> 3085920 | O6: 120 | P6: m3 | Q6: 25099 | R6: =O6*Q6 -> 3011880 | S6: 120 | T6: m3 | U6: 25653 | V6: =S6*U6 -> 3078360 | W6: 120 | X6: m3 | Y6: 24194 | Z6: =W6*Y6 -> 2903280 | AA6: 120 | AB6: m3 | AC6: 25346 | AD6: =AA6*AC6 -> 3041520 | AE6: 120 | AF6: m3 | AG6: 24064 | AH6: =AE6*AG6 -> 2887680 | AI6: 120 | AJ6: m3 | AK6: 25435 | AL6: =AI6*AK6 -> 3052200 | AM6: 120 | AN6: m3 | AO6: 25650 | AP6: =AM6*AO6 -> 3078000
A7: 3 | B7: =+Formulario!E7 -> Llenos con material seleccionado | C7: 60 | D7: m3 | E7: 45011 | F7: =C7*E7 -> 2700660 | G7: 60 | H7: m3 | I7: 40330 | J7: =G7*I7 -> 2419800 | K7: 60 | L7: m3 | M7: 44494 | N7: =K7*M7 -> 2669640 | O7: 60 | P7: m3 | Q7: 43427 | R7: =O7*Q7 -> 2605620 | S7: 60 | T7: m3 | U7: 44385 | V7: =S7*U7 -> 2663100 | W7: 60 | X7: m3 | Y7: 41860 | Z7: =W7*Y7 -> 2511600 | AA7: 60 | AB7: m3 | AC7: 43854 | AD7: =AA7*AC7 -> 2631240 | AE7: 60 | AF7: m3 | AG7: 41635 | AH7: =AE7*AG7 -> 2498100 | AI7: 60 | AJ7: m3 | AK7: 44007 | AL7: =AI7*AK7 -> 2640420 | AM7: 60 | AN7: m3 | AO7: 44379 | AP7: =AM7*AO7 -> 2662740
A8: 4 | B8: =+Formulario!E8 -> Concreto clase D para muros | C8: 36 | D8: m3 | E8: 540000 | F8: =C8*E8 -> 19440000 | G8: 36 | H8: m3 | I8: 492914 | J8: =G8*I8 -> 17744904 | K8: 36 | L8: m3 | M8: 543808 | N8: =K8*M8 -> 19577088 | O8: 36 | P8: m3 | Q8: 530763 | R8: =O8*Q8 -> 19107468 | S8: 36 | T8: m3 | U8: 542480 | V8: =S8*U8 -> 19529280 | W8: 36 | X8: m3 | Y8: 511618 | Z8: =W8*Y8 -> 18418248 | AA8: 36 | AB8: m3 | AC8: 535989 | AD8: =AA8*AC8 -> 19295604 | AE8: 36 | AF8: m3 | AG8: 508867 | AH8: =AE8*AG8 -> 18319212 | AI8: 36 | AJ8: m3 | AK8: 537859 | AL8: =AI8*AK8 -> 19362924 | AM8: 36 | AN8: m3 | AO8: 542407 | AP8: =AM8*AO8 -> 19526652
A9: 5 | B9: =+Formulario!E9 -> Acero de refuerzo Fy 4200 | C9: 1600 | D9: Kg | E9: 4044 | F9: =C9*E9 -> 6470400 | G9: 1600 | H9: Kg | I9: 3623 | J9: =G9*I9 -> 5796800 | K9: 1600 | L9: Kg | M9: 3998 | N9: =K9*M9 -> 6396800 | O9: 1600 | P9: Kg | Q9: 3902 | R9: =O9*Q9 -> 6243200 | S9: 1600 | T9: Kg | U9: 3988 | V9: =S9*U9 -> 6380800 | W9: 1600 | X9: Kg | Y9: 3761 | Z9: =W9*Y9 -> 6017600 | AA9: 1600 | AB9: Kg | AC9: 3940 | AD9: =AA9*AC9 -> 6304000 | AE9: 1600 | AF9: Kg | AG9: 3741 | AH9: =AE9*AG9 -> 5985600 | AI9: 1600 | AJ9: Kg | AK9: 3954 | AL9: =AI9*AK9 -> 6326400 | AM9: 1600 | AN9: Kg | AO9: 3987 | AP9: =AM9*AO9 -> 6379200
A10: 6 | B10: =+Formulario!E10 -> Enrocados con ligante de concreto | C10: 54 | D10: m3 | E10: 265400 | F10: =C10*E10 -> 14331600 | G10: 54 | H10: m3 | I10: 241632 | J10: =G10*I10 -> 13048128 | K10: 54 | L10: m3 | M10: 266581 | N10: =K10*M10 -> 14395374 | O10: 54 | P10: m3 | Q10: 260186 | R10: =O10*Q10 -> 14050044 | S10: 54 | T10: m3 | U10: 265930 | V10: =S10*U10 -> 14360220 | W10: 54 | X10: m3 | Y10: 250801 | Z10: =W10*Y10 -> 13543254 | AA10: 54 | AB10: m3 | AC10: 262748 | AD10: =AA10*AC10 -> 14188392 | AE10: 54 | AF10: m3 | AG10: 249453 | AH10: =AE10*AG10 -> 13470462 | AI10: 54 | AJ10: m3 | AK10: 263665 | AL10: =AI10*AK10 -> 14237910 | AM10: 54 | AN10: m3 | AO10: 265894 | AP10: =AM10*AO10 -> 14358276
A11: 7 | B11: =+Formulario!E11 -> Canales en madera, polipropileno y geotextil NT | C11: 60 | D11: ml | E11: 29685 | F11: =C11*E11 -> 1781100 | G11: 60 | H11: ml | I11: 26598 | J11: =G11*I11 -> 1595880 | K11: 60 | L11: ml | M11: 29344 | N11: =K11*M11 -> 1760640 | O11: 60 | P11: ml | Q11: 28640 | R11: =O11*Q11 -> 1718400 | S11: 60 | T11: ml | U11: 29272 | V11: =S11*U11 -> 1756320 | W11: 60 | X11: ml | Y11: 27607 | Z11: =W11*Y11 -> 1656420 | AA11: 60 | AB11: ml | AC11: 28922 | AD11: =AA11*AC11 -> 1735320 | AE11: 60 | AF11: ml | AG11: 27459 | AH11: =AE11*AG11 -> 1647540 | AI11: 60 | AJ11: ml | AK11: 29023 | AL11: =AI11*AK11 -> 1741380 | AM11: 60 | AN11: ml | AO11: 29268 | AP11: =AM11*AO11 -> 1756080
A12: 8 | B12: =+Formulario!E12 -> Material filtrante | C12: 75 | D12: m3 | E12: 93553 | F12: =C12*E12 -> 7016475 | G12: 75 | H12: m3 | I12: 83823 | J12: =G12*I12 -> 6286725 | K12: 75 | L12: m3 | M12: 92478 | N12: =K12*M12 -> 6935850 | O12: 75 | P12: m3 | Q12: 90260 | R12: =O12*Q12 -> 6769500 | S12: 75 | T12: m3 | U12: 92253 | V12: =S12*U12 -> 6918975 | W12: 75 | X12: m3 | Y12: 87004 | Z12: =W12*Y12 -> 6525300 | AA12: 75 | AB12: m3 | AC12: 91149 | AD12: =AA12*AC12 -> 6836175 | AE12: 75 | AF12: m3 | AG12: 86537 | AH12: =AE12*AG12 -> 6490275 | AI12: 75 | AJ12: m3 | AK12: 91467 | AL12: =AI12*AK12 -> 6860025 | AM12: 75 | AN12: m3 | AO12: 92240 | AP12: =AM12*AO12 -> 6918000
A13: 9 | B13: =+Formulario!E13 -> Geotextil | C13: 360 | D13: m2 | E13: 9658 | F13: =C13*E13 -> 3476880 | G13: 360 | H13: m2 | I13: 8654 | J13: =G13*I13 -> 3115440 | K13: 360 | L13: m2 | M13: 9547 | N13: =K13*M13 -> 3436920 | O13: 360 | P13: m2 | Q13: 9318 | R13: =O13*Q13 -> 3354480 | S13: 360 | T13: m2 | U13: 9524 | V13: =S13*U13 -> 3428640 | W13: 360 | X13: m2 | Y13: 8982 | Z13: =W13*Y13 -> 3233520 | AA13: 360 | AB13: m2 | AC13: 9410 | AD13: =AA13*AC13 -> 3387600 | AE13: 360 | AF13: m2 | AG13: 8934 | AH13: =AE13*AG13 -> 3216240 | AI13: 360 | AJ13: m2 | AK13: 9443 | AL13: =AI13*AK13 -> 3399480 | AM13: 360 | AN13: m2 | AO13: 9522 | AP13: =AM13*AO13 -> 3427920
A14: 10 | B14: =+Formulario!E14 -> Tubería de pvc D=65mm para filtros | C14: 120 | D14: ml | E14: 16426 | F14: =C14*E14 -> 1971120 | G14: 120 | H14: ml | I14: 14718 | J14: =G14*I14 -> 1766160 | K14: 120 | L14: ml | M14: 16237 | N14: =K14*M14 -> 1948440 | O14: 120 | P14: ml | Q14: 15848 | R14: =O14*Q14 -> 1901760 | S14: 120 | T14: ml | U14: 16198 | V14: =S14*U14 -> 1943760 | W14: 120 | X14: ml | Y14: 15276 | Z14: =W14*Y14 -> 1833120 | AA14: 120 | AB14: ml | AC14: 16004 | AD14: =AA14*AC14 -> 1920480 | AE14: 120 | AF14: ml | AG14: 15194 | AH14: =AE14*AG14 -> 1823280 | AI14: 120 | AJ14: ml | AK14: 16060 | AL14: =AI14*AK14 -> 1927200 | AM14: 120 | AN14: ml | AO14: 16195 | AP14: =AM14*AO14 -> 1943400
A15: 11 | B15: =+Formulario!E15 -> Drenes Horizontales L> 10mts | C15: 60 | D15: ml | E15: 180000 | F15: =C15*E15 -> 10800000 | G15: 60 | H15: ml | I15: 166936 | J15: =G15*I15 -> 10016160 | K15: 60 | L15: ml | M15: 184173 | N15: =K15*M15 -> 11050380 | O15: 60 | P15: ml | Q15: 179755 | R15: =O15*Q15 -> 10785300 | S15: 60 | T15: ml | U15: 183723 | V15: =S15*U15 -> 11023380 | W15: 60 | X15: ml | Y15: 173271 | Z15: =W15*Y15 -> 10396260 | AA15: 60 | AB15: ml | AC15: 181525 | AD15: =AA15*AC15 -> 10891500 | AE15: 60 | AF15: ml | AG15: 172340 | AH15: =AE15*AG15 -> 10340400 | AI15: 60 | AJ15: ml | AK15: 182158 | AL15: =AI15*AK15 -> 10929480 | AM15: 60 | AN15: ml | AO15: 183698 | AP15: =AM15*AO15 -> 11021880
A16: 12 | B16: =+Formulario!E16 -> Drenes Horizontales L< 10mts | C16: 40 | D16: ml | E16: 78735 | F16: =C16*E16 -> 3149400 | G16: 40 | H16: ml | I16: 70547 | J16: =G16*I16 -> 2821880 | K16: 40 | L16: ml | M16: 77831 | N16: =K16*M16 -> 3113240 | O16: 40 | P16: ml | Q16: 75964 | R16: =O16*Q16 -> 3038560 | S16: 40 | T16: ml | U16: 77641 | V16: =S16*U16 -> 3105640 | W16: 40 | X16: ml | Y16: 73224 | Z16: =W16*Y16 -> 2928960 | AA16: 40 | AB16: ml | AC16: 76712 | AD16: =AA16*AC16 -> 3068480 | AE16: 40 | AF16: ml | AG16: 72830 | AH16: =AE16*AG16 -> 2913200 | AI16: 40 | AJ16: ml | AK16: 76979 | AL16: =AI16*AK16 -> 3079160 | AM16: 40 | AN16: ml | AO16: 77630 | AP16: =AM16*AO16 -> 3105200
C17: =SUM(F5:F16) -> 74449635 | G17: =SUM(J5:J16) -> 67579357 | K17: =SUM(N5:N16) -> 74558392 | O17: =SUM(R5:R16) -> 72769812 | S17: =SUM(V5:V16) -> 74375975 | W17: =SUM(Z5:Z16) -> 70144562 | AA17: =SUM(AD5:AD16) -> 73485711 | AE17: =SUM(AH5:AH16) -> 69767789 | AI17: =SUM(AL5:AL16) -> 73742579 | AM17: =SUM(AP5:AP16) -> 74364848
C18: 23% | D18: =ROUND(C18*C17,0) -> 17123416 | G18: 23% | H18: =ROUND(G18*G17,0) -> 15543252 | K18: 0.23 | L18: =ROUND(K18*K17,0) -> 17148430 | O18: 23% | P18: =ROUND(O18*O17,0) -> 16737057 | S18: 23% | T18: =ROUND(S18*S17,0) -> 17106474 | W18: 23% | X18: =ROUND(W18*W17,0) -> 16133249 | AA18: 23% | AB18: =ROUND(AA18*AA17,0) -> 16901714 | AE18: 23% | AF18: =ROUND(AE18*AE17,0) -> 16046591 | AI18: 23% | AJ18: =ROUND(AI18*AI17,0) -> 16960793 | AM18: 23% | AN18: =ROUND(AM18*AM17,0) -> 17103915
C19: 5% | D19: =ROUND(C19*C17,0) -> 3722482 | G19: 5% | H19: =ROUND(G19*G17,0) -> 3378968 | K19: 0.05 | L19: =ROUND(K19*K17,0) -> 3727920 | O19: 5% | P19: =ROUND(O19*O17,0) -> 3638491 | S19: 5% | T19: =ROUND(S19*S17,0) -> 3718799 | W19: 5% | X19: =ROUND(W19*W17,0) -> 3507228 | AA19: 5% | AB19: =ROUND(AA19*AA17,0) -> 3674286 | AE19: 5% | AF19: =ROUND(AE19*AE17,0) -> 3488389 | AI19: 5% | AJ19: =ROUND(AI19*AI17,0) -> 3687129 | AM19: 5% | AN19: =ROUND(AM19*AM17,0) -> 3718242
C20: =C17+D18+D19 -> 95295533 | G20: =G17+H18+H19 -> 86501577 | K20: =K17+L18+L19 -> 95434742 | O20: =O17+P18+P19 -> 93145360 | S20: =S17+T18+T19 -> 95201248 | W20: =W17+X18+X19 -> 89785039 | AA20: =AA17+AB18+AB19 -> 94061711 | AE20: =AE17+AF18+AF19 -> 89302769 | AI20: =AI17+AJ18+AJ19 -> 94390501 | AM20: =AM17+AN18+AN19 -> 95187005

Sheet Control
C1: 1 | D1: 2 | E1: 3 | F1: =E1+2 -> 5 | G1: =F1+1 -> 6 | H1: =G1+1 -> 7 | I1: =H1+2 -> 9 | J1: =I1+1 -> 10 | K1: =J1+1 -> 11 | L1: =K1+2 -> 13 | M1: =L1+1 -> 14 | N1: =M1+1 -> 15 | O1: =N1+2 -> 17 | P1: =O1+1 -> 18 | Q1: =P1+1 -> 19 | R1: =Q1+2 -> 21 | S1: =R1+1 -> 22 | T1: =S1+1 -> 23 | U1: =T1+2 -> 25 | V1: =U1+1 -> 26 | W1: =V1+1 -> 27 | X1: =W1+2 -> 29 | Y1: =X1+1 -> 30 | Z1: =Y1+1 -> 31 | AA1: =Z1+2 -> 33 | AB1: =AA1+1 -> 34 | AC1: =AB1+1 -> 35 | AD1: =AC1+2 -> 37 | AE1: =AD1+1 -> 38 | AF1: =AE1+1 -> 39
C2: 1 | F2: 2 | I2: 3 | L2: 4 | O2: 5 | R2: 6 | U2: 7 | X2: 8 | AA2: 9 | AD2: 10
C3: =VLOOKUP(C2,Resumen!$A:$G,2,FALSE) -> JAVIER DE JESUS GARCIA PAREJA | F3: =VLOOKUP(F2,Resumen!$A:$G,2,FALSE) -> LRAMBIENTAL | I3: =VLOOKUP(I2,Resumen!$A:$G,2,FALSE) -> DIEGO MARTINEZ | L3: =VLOOKUP(L2,Resumen!$A:$G,2,FALSE) -> JOHN ESNEIDER CARDONA GUTIERREZ | O3: =VLOOKUP(O2,Resumen!$A:$G,2,FALSE) -> JORGE HERNAN LOPEZ CARVAJAL | R3: =VLOOKUP(R2,Resumen!$A:$G,2,FALSE) -> JACKSON MORENO RACINES | U3: =VLOOKUP(U2,Resumen!$A:$G,2,FALSE) -> JEMAG INGENERIA S.A.S | X3: =VLOOKUP(X2,Resumen!$A:$G,2,FALSE) -> FEXSA INGENERIA Y SERICIOS S.A.S | AA3: =VLOOKUP(AA2,Resumen!$A:$G,2,FALSE) -> MARY RUBY GALVEZ MUÑOZ | AD3: =VLOOKUP(AD2,Resumen!$A:$G,2,FALSE) -> JOHN JAIRO ZULUAGA GIRALDO
A4: No. | B4: DESCRIPCIÓN | C4: Cant | D4: Un | E4: Precio Unitario | F4: Cant | G4: Un | H4: Precio Unitario | I4: Cant | J4: Un | K4: Precio Unitario | L4: Cant | M4: Un | N4: Precio Unitario | O4: Cant | P4: Un | Q4: Precio Unitario | R4: Cant | S4: Un | T4: Precio Unitario | U4: Cant | V4: Un | W4: Precio Unitario | X4: Cant | Y4: Un | Z4: Precio Unitario | AA4: Cant | AB4: Un | AC4: Precio Unitario | AD4: Cant | AE4: Un | AF4: Precio Unitario
A5: 1 | B5: =+Informe!B5 -> Rocería y limpieza | C5: =IF(VLOOKUP($A5,Formulario!$A:$I,7,FALSE)=HLOOKUP(C$1,Informe!$A:$AP,ROW($A5),FALSE),"ADMISIBLE","NO ADMISIBLE") -> ADMISIBLE | D5: =IF(VLOOKUP($A5,Formulario!$A:$I,6,FALSE)=HLOOKUP(D$1,Informe!$A:$AP,ROW($A5),FALSE),"ADMISIBLE","NO ADMISIBLE") -> ADMISIBLE | E5: =IF(VLOOKUP($A5,Formulario!$A:$I,8,FALSE)<HLOOKUP(E$1,Informe!$A:$AP,ROW($A5),FALSE),"NO ADMISIBLE","ADMISIBLE") -> ADMISIBLE | F5: =IF(VLOOKUP($A5,Formulario!$A:$I,7,FALSE)=HLOOKUP(F$1,Informe!$A:$AP,ROW($A5),FALSE),"ADMISIBLE","NO ADMISIBLE") -> ADMISIBLE | G5: =IF(VLOOKUP($A5,Formulario!$A:$I,6,FALSE)=HLOOKUP(G$1,Informe!$A:$AP,ROW($A5),FALSE),"ADMISIBLE","NO ADMISIBLE") -> ADMISIBLE | H5: =IF(VLOOKUP($A5,Formulario!$A:$I,8,FALSE)<HLOOKUP(H$1,Informe!$A:$AP,ROW($A5),FALSE),"NO ADMISIBLE","ADMISIBLE") -> ADMISIBLE | I5: =IF(VLOOKUP($A5,Formulario!$A:$I,7,FALSE)=HLOOKUP(I$1,Informe!$A:$AP,ROW($A5),FALSE),"ADMISIBLE","NO ADMISIBLE") -> ADMISIBLE | J5: =IF(VLOOKUP($A5,Formulario!$A:$I,6,FALSE)=HLOOKUP(J$1,Informe!$A:$AP,ROW($A5),FALSE),"ADMISIBLE","NO ADMISIBLE") -> ADMISIBLE | K5: =IF(VLOOKUP($A5,Formulario!$A:$I,8,FALSE)<HLOOKUP(K$1,Informe!$A:$AP,ROW($A5),FALSE),"NO ADMISIBLE","ADMISIBLE") -> ADMISIBLE | L5: =IF(VLOOKUP($A5,Formulario!$A:$I,7,FALSE)=HLOOKUP(L$1,Informe!$A:$AP,ROW($A5),FALSE),"ADMISIBLE","NO ADMISIBLE") -> ADMISIBLE | M5: =IF(VLOOKUP($A5,Formulario!$A:$I,6,FALSE)=HLOOKUP(M$1,Informe!$A:$AP,ROW($A5),FALSE),"ADMISIBLE","NO ADMISIBLE") -> ADMISIBLE | N5: =IF(VLOOKUP($A5,Formulario!$A:$I,8,FALSE)<HLOOKUP(N$1,Informe!$A:$AP,ROW($A5),FALSE),"NO ADMISIBLE","ADMISIBLE") -> ADMISIBLE | O5: =IF(VLOOKUP($A5,Formulario!$A:$I,7,FALSE)=HLOOKUP(O$1,Informe!$A:$AP,ROW($A5),FALSE),"ADMISIBLE","NO ADMISIBLE") -> ADMISIBLE | P5: =IF(VLOOKUP($A5,Formulario!$A:$I,6,FALSE)=HLOOKUP(P$1,Informe!$A:$AP,ROW($A5),FALSE),"ADMISIBLE","NO ADMISIBLE") -> ADMISIBLE | Q5: =IF(VLOOKUP($A5,Formulario!$A:$I,8,FALSE)<HLOOKUP(Q$1,Informe!$A:$AP,ROW($A5),FALSE),"NO ADMISIBLE","ADMISIBLE") -> ADMISIBLE | R5: =IF(VLOOKUP($A5,Formulario!$A:$I,7,FALSE)=HLOOKUP(R$1,Informe!$A:$AP,ROW($A5),FALSE),"ADMISIBLE","NO ADMISIBLE") -> ADMISIBLE | S5: =IF(VLOOKUP($A5,Formulario!$A:$I,6,FALSE)=HLOOKUP(S$1,Informe!$A:$AP,ROW($A5),FALSE),"ADMISIBLE","NO ADMISIBLE") -> ADMISIBLE | T5: =IF(VLOOKUP($A5,Formulario!$A:$I,8,FALSE)<HLOOKUP(T$1,Informe!$A:$AP,ROW($A5),FALSE),"NO ADMISIBLE","ADMISIBLE") -> ADMISIBLE | U5: =IF(VLOOKUP($A5,Formulario!$A:$I,7,FALSE)=HLOOKUP(U$1,Informe!$A:$AP,ROW($A5),FALSE),"ADMISIBLE","NO ADMISIBLE") -> ADMISIBLE | V5: =IF(VLOOKUP($A5,Formulario!$A:$I,6,FALSE)=HLOOKUP(V$1,Informe!$A:$AP,ROW($A5),FALSE),"ADMISIBLE","NO ADMISIBLE") -> ADMISIBLE | W5: =IF(VLOOKUP($A5,Formulario!$A:$I,8,FALSE)<HLOOKUP(W$1,Informe!$A:$AP,ROW($A5),FALSE),"NO ADMISIBLE","ADMISIBLE") -> ADMISIBLE | X5: =IF(VLOOKUP($A5,Formulario!$A:$I,7,FALSE)=HLOOKUP(X$1,Informe!$A:$AP,ROW($A5),FALSE),"ADMISIBLE","NO ADMISIBLE") -> ADMISIBLE | Y5: =IF(VLOOKUP($A5,Formulario!$A:$I,6,FALSE)=HLOOKUP(Y$1,Informe!$A:$AP,ROW($A5),FALSE),"ADMISIBLE","NO ADMISIBLE") -> ADMISIBLE | Z5: =IF(VLOOKUP($A5,Formulario!$A:$I,8,FALSE)<HLOOKUP(Z$1,Informe!$A:$AP,ROW($A5),FALSE),"NO ADMISIBLE","ADMISIBLE") -> ADMISIBLE | AA5: =IF(VLOOKUP($A5,Formulario!$A:$I,7,FALSE)=HLOOKUP(AA$1,Informe!$A:$AP,ROW($A5),FALSE),"ADMISIBLE","NO ADMISIBLE") -> ADMISIBLE | AB5: =IF(VLOOKUP($A5,Formulario!$A:$I,6,FALSE)=HLOOKUP(AB$1,Informe!$A:$AP,ROW($A5),FALSE),"ADMISIBLE","NO ADMISIBLE") -> ADMISIBLE | AC5: =IF(VLOOKUP($A5,Formulario!$A:$I,8,FALSE)<HLOOKUP(AC$1,Informe!$A:$AP,ROW($A5),FALSE),"NO ADMISIBLE","ADMISIBLE") -> ADMISIBLE | AD5: =IF(VLOOKUP($A5,Formulario!$A:$I,7,FALSE)=HLOOKUP(AD$1,Informe!$A:$AP,ROW($A5),FALSE),"ADMISIBLE","NO ADMISIBLE") -> ADMISIBLE | AE5: =IF(VLOOKUP($A5,Formulario!$A:$I,6,FALSE)=HLOOKUP(AE$1,Informe!$A:$AP,ROW($A5),FALSE),"ADMISIBLE","NO ADMISIBLE") -> ADMISIBLE | AF5: =IF(VLOOKUP($A5,Formulario!$A:$I,8,FALSE)<HLOOKUP(AF$1,Informe!$A:$AP,ROW($A5),FALSE),"NO ADMISIBLE","ADMISIBLE") -> ADMISIBLE
A6: 2 | B6: =+Informe!B6 -> Excavaciones varias sin clasificar | C6: =IF(VLOOKUP($A6,Formulario!$A:$I,7,FALSE)=HLOOKUP(C$1,Informe!$A:$AP,ROW($A6),FALSE),"ADMISIBLE","NO ADMISIBLE") -> ADMISIBLE | D6: =IF(VLOOKUP($A6,Formulario!$A:$I,6,FALSE)=HLOOKUP(D$1,Informe!$A:$AP,ROW($A6),FALSE),"ADMISIBLE","NO ADMISIBLE") -> ADMISIBLE | E6: =IF(VLOOKUP($A6,Formulario!$A:$I,8,FALSE)<HLOOKUP(E$1,Informe!$A:$AP,ROW($A6),FALSE),"NO ADMISIBLE","ADMISIBLE") -> ADMISIBLE | F6: =IF(VLOOKUP($A6,Formulario!$A:$I,7,FALSE)=HLOOKUP(F$1,Informe!$A:$AP,ROW($A6),FALSE),"ADMISIBLE","NO ADMISIBLE") -> ADMISIBLE | G6: =IF(VLOOKUP($A6,Formulario!$A:$I,6,FALSE)=HLOOKUP(G$1,Informe!$A:$AP,ROW($A6),FALSE),"ADMISIBLE","NO ADMISIBLE") -> ADMISIBLE | H6: =IF(VLOOKUP($A6,Formulario!$A:$I,8,FALSE)<HLOOKUP(H$1,Informe!$A:$AP,ROW($A6),FALSE),"NO ADMISIBLE","ADMISIBLE") -> ADMISIBLE | I6: =IF(VLOOKUP($A6,Formulario!$A:$I,7,FALSE)=HLOOKUP(I$1,Informe!$A:$AP,ROW($A6),FALSE),"ADMISIBLE","NO ADMISIBLE") -> ADMISIBLE | J6: =IF(VLOOKUP($A6,Formulario!$A:$I,6,FALSE)=HLOOKUP(J$1,Informe!$A:$AP,ROW($A6),FALSE),"ADMISIBLE","NO ADMISIBLE") -> ADMISIBLE | K6: =IF(VLOOKUP($A6,Formulario!$A:$I,8,FALSE)<HLOOKUP(K$1,Informe!$A:$AP,ROW($A6),FALSE),"NO ADMISIBLE","ADMISIBLE") -> ADMISIBLE | L6: =IF(VLOOKUP($A6,Formulario!$A:$I,7,FALSE)=HLOOKUP(L$1,Informe!$A:$AP,ROW($A6),FALSE),"ADMISIBLE","NO ADMISIBLE") -> ADMISIBLE | M6: =IF(VLOOKUP($A6,Formulario!$A:$I,6,FALSE)=HLOOKUP(M$1,Informe!$A:$AP,ROW($A6),FALSE),"ADMISIBLE","NO ADMISIBLE") -> ADMISIBLE | N6: =IF(VLOOKUP($A6,Formulario!$A:$I,8,FALSE)<HLOOKUP(N$1,Informe!$A:$AP,ROW($A6),FALSE),"NO ADMISIBLE","ADMISIBLE") -> ADMISIBLE | O6: =IF(VLOOKUP($A6,Formulario!$A:$I,7,FALSE)=HLOOKUP(O$1,Informe!$A:$AP,ROW($A6),FALSE),"ADMISIBLE","NO ADMISIBLE") -> ADMISIBLE | P6: =IF(VLOOKUP($A6,Formulario!$A:$I,6,FALSE)=HLOOKUP(P$1,Informe!$A:$AP,ROW($A6),FALSE),"ADMISIBLE","NO ADMISIBLE") -> ADMISIBLE | Q6: =IF(VLOOKUP($A6,Formulario!$A:$I,8,FALSE)<HLOOKUP(Q$1,Informe!$A:$AP,ROW($A6),FALSE),"NO ADMISIBLE","ADMISIBLE") -> ADMISIBLE | R6: =IF(VLOOKUP($A6,Formulario!$A:$I,7,FALSE)=HLOOKUP(R$1,Informe!$A:$AP,ROW($A6),FALSE),"ADMISIBLE","NO ADMISIBLE") -> ADMISIBLE | S6: =IF(VLOOKUP($A6,Formulario!$A:$I,6,FALSE)=HLOOKUP(S$1,Informe!$A:$AP,ROW($A6),FALSE),"ADMISIBLE","NO ADMISIBLE") -> ADMISIBLE | T6: =IF(VLOOKUP($A6,Formulario!$A:$I,8,FALSE)<HLOOKUP(T$1,Informe!$A:$AP,ROW($A6),FALSE),"NO ADMISIBLE","ADMISIBLE") -> ADMISIBLE | U6: =IF(VLOOKUP($A6,Formulario!$A:$I,7,FALSE)=HLOOKUP(U$1,Informe!$A:$AP,ROW($A6),FALSE),"ADMISIBLE","NO ADMISIBLE") -> ADMISIBLE | V6: =IF(VLOOKUP($A6,Formulario!$A:$I,6,FALSE)=HLOOKUP(V$1,Informe!$A:$AP,ROW($A6),FALSE),"ADMISIBLE","NO ADMISIBLE") -> ADMISIBLE | W6: =IF(VLOOKUP($A6,Formulario!$A:$I,8,FALSE)<HLOOKUP(W$1,Informe!$A:$AP,ROW($A6),FALSE),"NO ADMISIBLE","ADMISIBLE") -> ADMISIBLE | X6: =IF(VLOOKUP($A6,Formulario!$A:$I,7,FALSE)=HLOOKUP(X$1,Informe!$A:$AP,ROW($A6),FALSE),"ADMISIBLE","NO ADMISIBLE") -> ADMISIBLE | Y6: =IF(VLOOKUP($A6,Formulario!$A:$I,6,FALSE)=HLOOKUP(Y$1,Informe!$A:$AP,ROW($A6),FALSE),"ADMISIBLE","NO ADMISIBLE") -> ADMISIBLE | Z6: =IF(VLOOKUP($A6,Formulario!$A:$I,8,FALSE)<HLOOKUP(Z$1,Informe!$A:$AP,ROW($A6),FALSE),"NO ADMISIBLE","ADMISIBLE") -> ADMISIBLE | AA6: =IF(VLOOKUP($A6,Formulario!$A:$I,7,FALSE)=HLOOKUP(AA$1,Informe!$A:$AP,ROW($A6),FALSE),"ADMISIBLE","NO ADMISIBLE") -> ADMISIBLE | AB6: =IF(VLOOKUP($A6,Formulario!$A:$I,6,FALSE)=HLOOKUP(AB$1,Informe!$A:$AP,ROW($A6),FALSE),"ADMISIBLE","NO ADMISIBLE") -> ADMISIBLE | AC6: =IF(VLOOKUP($A6,Formulario!$A:$I,8,FALSE)<HLOOKUP(AC$1,Informe!$A:$AP,ROW($A6),FALSE),"NO ADMISIBLE","ADMISIBLE") -> ADMISIBLE | AD6: =IF(VLOOKUP($A6,Formulario!$A:$I,7,FALSE)=HLOOKUP(AD$1,Informe!$A:$AP,ROW($A6),FALSE),"ADMISIBLE","NO ADMISIBLE") -> ADMISIBLE | AE6: =IF(VLOOKUP($A6,Formulario!$A:$I,6,FALSE)=HLOOKUP(AE$1,Informe!$A:$AP,ROW($A6),FALSE),"ADMISIBLE","NO ADMISIBLE") -> ADMISIBLE | AF6: =IF(VLOOKUP($A6,Formulario!$A:$I,8,FALSE)<HLOOKUP(AF$1,Informe!$A:$AP,ROW($A6),FALSE),"NO ADMISIBLE","ADMISIBLE") -> ADMISIBLE
A7: 3 | B7: =+Informe!B7 -> Llenos con material seleccionado | C7: =IF(VLOOKUP($A7,Formulario!$A:$I,7,FALSE)=HLOOKUP(C$1,Informe!$A:$AP,ROW($A7),FALSE),"ADMISIBLE","NO ADMISIBLE") -> ADMISIBLE | D7: =IF(VLOOKUP($A7,Formulario!$A:$I,6,FALSE)=HLOOKUP(D$1,Informe!$A:$AP,ROW($A7),FALSE),"ADMISIBLE","NO ADMISIBLE") -> ADMISIBLE | E7: =IF(VLOOKUP($A7,Formulario!$A:$I,8,FALSE)<HLOOKUP(E$1,Informe!$A:$AP,ROW($A7),FALSE),"NO ADMISIBLE","ADMISIBLE") -> ADMISIBLE | F7: =IF(VLOOKUP($A7,Formulario!$A:$I,7,FALSE)=HLOOKUP(F$1,Informe!$A:$AP,ROW($A7),FALSE),"ADMISIBLE","NO ADMISIBLE") -> ADMISIBLE | G7: =IF(VLOOKUP($A7,Formulario!$A:$I,6,FALSE)=HLOOKUP(G$1,Informe!$A:$AP,ROW($A7),FALSE),"ADMISIBLE","NO ADMISIBLE") -> ADMISIBLE | H7: =IF(VLOOKUP($A7,Formulario!$A:$I,8,FALSE)<HLOOKUP(H$1,Informe!$A:$AP,ROW($A7),FALSE),"NO ADMISIBLE","ADMISIBLE") -> ADMISIBLE | I7: =IF(VLOOKUP($A7,Formulario!$A:$I,7,FALSE)=HLOOKUP(I$1,Informe!$A:$AP,ROW($A7),FALSE),"ADMISIBLE","NO ADMISIBLE") -> ADMISIBLE | J7: =IF(VLOOKUP($A7,Formulario!$A:$I,6,FALSE)=HLOOKUP(J$1,Informe!$A:$AP,ROW($A7),FALSE),"ADMISIBLE","NO ADMISIBLE") -> ADMISIBLE | K7: =IF(VLOOKUP($A7,Formulario!$A:$I,8,FALSE)<HLOOKUP(K$1,Informe!$A:$AP,ROW($A7),FALSE),"NO ADMISIBLE","ADMISIBLE") -> ADMISIBLE | L7: =IF(VLOOKUP($A7,Formulario!$A:$I,7,FALSE)=HLOOKUP(L$1,Informe!$A:$AP,ROW($A7),FALSE),"ADMISIBLE","NO ADMISIBLE") -> ADMISIBLE | M7: =IF(VLOOKUP($A7,Formulario!$A:$I,6,FALSE)=HLOOKUP(M$1,Informe!$A:$AP,ROW($A7),FALSE),"ADMISIBLE","NO ADMISIBLE") -> ADMISIBLE | N7: =IF(VLOOKUP($A7,Formulario!$A:$I,8,FALSE)<HLOOKUP(N$1,Informe!$A:$AP,ROW($A7),FALSE),"NO ADMISIBLE","ADMISIBLE") -> ADMISIBLE | O7: =IF(VLOOKUP($A7,Formulario!$A:$I,7,FALSE)=HLOOKUP(O$1,Informe!$A:$AP,ROW($A7),FALSE),"ADMISIBLE","NO ADMISIBLE") -> ADMISIBLE | P7: =IF(VLOOKUP($A7,Formulario!$A:$I,6,FALSE)=HLOOKUP(P$1,Informe!$A:$AP,ROW($A7),FALSE),"ADMISIBLE","NO ADMISIBLE") -> ADMISIBLE | Q7: =IF(VLOOKUP($A7,Formulario!$A:$I,8,FALSE)<HLOOKUP(Q$1,Informe!$A:$AP,ROW($A7),FALSE),"NO ADMISIBLE","ADMISIBLE") -> ADMISIBLE | R7: =IF(VLOOKUP($A7,Formulario!$A:$I,7,FALSE)=HLOOKUP(R$1,Informe!$A:$AP,ROW($A7),FALSE),"ADMISIBLE","NO ADMISIBLE") -> ADMISIBLE | S7: =IF(VLOOKUP($A7,Formulario!$A:$I,6,FALSE)=HLOOKUP(S$1,Informe!$A:$AP,ROW($A7),FALSE),"ADMISIBLE","NO ADMISIBLE") -> ADMISIBLE | T7: =IF(VLOOKUP($A7,Formulario!$A:$I,8,FALSE)<HLOOKUP(T$1,Informe!$A:$AP,ROW($A7),FALSE),"NO ADMISIBLE","ADMISIBLE") -> ADMISIBLE | U7: =IF(VLOOKUP($A7,Formulario!$A:$I,7,FALSE)=HLOOKUP(U$1,Informe!$A:$AP,ROW($A7),FALSE),"ADMISIBLE","NO ADMISIBLE") -> ADMISIBLE | V7: =IF(VLOOKUP($A7,Formulario!$A:$I,6,FALSE)=HLOOKUP(V$1,Informe!$A:$AP,ROW($A7),FALSE),"ADMISIBLE","NO ADMISIBLE") -> ADMISIBLE | W7: =IF(VLOOKUP($A7,Formulario!$A:$I,8,FALSE)<HLOOKUP(W$1,Informe!$A:$AP,ROW($A7),FALSE),"NO ADMISIBLE","ADMISIBLE") -> ADMISIBLE | X7: =IF(VLOOKUP($A7,Formulario!$A:$I,7,FALSE)=HLOOKUP(X$1,Informe!$A:$AP,ROW($A7),FALSE),"ADMISIBLE","NO ADMISIBLE") -> ADMISIBLE | Y7: =IF(VLOOKUP($A7,Formulario!$A:$I,6,FALSE)=HLOOKUP(Y$1,Informe!$A:$AP,ROW($A7),FALSE),"ADMISIBLE","NO ADMISIBLE") -> ADMISIBLE | Z7: =IF(VLOOKUP($A7,Formulario!$A:$I,8,FALSE)<HLOOKUP(Z$1,Informe!$A:$AP,ROW($A7),FALSE),"NO ADMISIBLE","ADMISIBLE") -> ADMISIBLE | AA7: =IF(VLOOKUP($A7,Formulario!$A:$I,7,FALSE)=HLOOKUP(AA$1,Informe!$A:$AP,ROW($A7),FALSE),"ADMISIBLE","NO ADMISIBLE") -> ADMISIBLE | AB7: =IF(VLOOKUP($A7,Formulario!$A:$I,6,FALSE)=HLOOKUP(AB$1,Informe!$A:$AP,ROW($A7),FALSE),"ADMISIBLE","NO ADMISIBLE") -> ADMISIBLE | AC7: =IF(VLOOKUP($A7,Formulario!$A:$I,8,FALSE)<HLOOKUP(AC$1,Informe!$A:$AP,ROW($A7),FALSE),"NO ADMISIBLE","ADMISIBLE") -> ADMISIBLE | AD7: =IF(VLOOKUP($A7,Formulario!$A:$I,7,FALSE)=HLOOKUP(AD$1,Informe!$A:$AP,ROW($A7),FALSE),"ADMISIBLE","NO ADMISIBLE") -> ADMISIBLE | AE7: =IF(VLOOKUP($A7,Formulario!$A:$I,6,FALSE)=HLOOKUP(AE$1,Informe!$A:$AP,ROW($A7),FALSE),"ADMISIBLE","NO ADMISIBLE") -> ADMISIBLE | AF7: =IF(VLOOKUP($A7,Formulario!$A:$I,8,FALSE)<HLOOKUP(AF$1,Informe!$A:$AP,ROW($A7),FALSE),"NO ADMISIBLE","ADMISIBLE") -> ADMISIBLE
A8: 4 | B8: =+Informe!B8 -> Concreto clase D para muros | C8: =IF(VLOOKUP($A8,Formulario!$A:$I,7,FALSE)=HLOOKUP(C$1,Informe!$A:$AP,ROW($A8),FALSE),"ADMISIBLE","NO ADMISIBLE") -> ADMISIBLE | D8: =IF(VLOOKUP($A8,Formulario!$A:$I,6,FALSE)=HLOOKUP(D$1,Informe!$A:$AP,ROW($A8),FALSE),"ADMISIBLE","NO ADMISIBLE") -> ADMISIBLE | E8: =IF(VLOOKUP($A8,Formulario!$A:$I,8,FALSE)<HLOOKUP(E$1,Informe!$A:$AP,ROW($A8),FALSE),"NO ADMISIBLE","ADMISIBLE") -> ADMISIBLE | F8: =IF(VLOOKUP($A8,Formulario!$A:$I,7,FALSE)=HLOOKUP(F$1,Informe!$A:$AP,ROW($A8),FALSE),"ADMISIBLE","NO ADMISIBLE") -> ADMISIBLE | G8: =IF(VLOOKUP($A8,Formulario!$A:$I,6,FALSE)=HLOOKUP(G$1,Informe!$A:$AP,ROW($A8),FALSE),"ADMISIBLE","NO ADMISIBLE") -> ADMISIBLE | H8: =IF(VLOOKUP($A8,Formulario!$A:$I,8,FALSE)<HLOOKUP(H$1,Informe!$A:$AP,ROW($A8),FALSE),"NO ADMISIBLE","ADMISIBLE") -> ADMISIBLE | I8: =IF(VLOOKUP($A8,Formulario!$A:$I,7,FALSE)=HLOOKUP(I$1,Informe!$A:$AP,ROW($A8),FALSE),"ADMISIBLE","NO ADMISIBLE") -> ADMISIBLE | J8: =IF(VLOOKUP($A8,Formulario!$A:$I,6,FALSE)=HLOOKUP(J$1,Informe!$A:$AP,ROW($A8),FALSE),"ADMISIBLE","NO ADMISIBLE") -> ADMISIBLE | K8: =IF(VLOOKUP($A8,Formulario!$A:$I,8,FALSE)<HLOOKUP(K$1,Informe!$A:$AP,ROW($A8),FALSE),"NO ADMISIBLE","ADMISIBLE") -> ADMISIBLE | L8: =IF(VLOOKUP($A8,Formulario!$A:$I,7,FALSE)=HLOOKUP(L$1,Informe!$A:$AP,ROW($A8),FALSE),"ADMISIBLE","NO ADMISIBLE") -> ADMISIBLE | M8: =IF(VLOOKUP($A8,Formulario!$A:$I,6,FALSE)=HLOOKUP(M$1,Informe!$A:$AP,ROW($A8),FALSE),"ADMISIBLE","NO ADMISIBLE") -> ADMISIBLE | N8: =IF(VLOOKUP($A8,Formulario!$A:$I,8,FALSE)<HLOOKUP(N$1,Informe!$A:$AP,ROW($A8),FALSE),"NO ADMISIBLE","ADMISIBLE") -> ADMISIBLE | O8: =IF(VLOOKUP($A8,Formulario!$A:$I,7,FALSE)=HLOOKUP(O$1,Informe!$A:$AP,ROW($A8),FALSE),"ADMISIBLE","NO ADMISIBLE") -> ADMISIBLE | P8: =IF(VLOOKUP($A8,Formulario!$A:$I,6,FALSE)=HLOOKUP(P$1,Informe!$A:$AP,ROW($A8),FALSE),"ADMISIBLE","NO ADMISIBLE") -> ADMISIBLE | Q8: =IF(VLOOKUP($A8,Formulario!$A:$I,8,FALSE)<HLOOKUP(Q$1,Informe!$A:$AP,ROW($A8),FALSE),"NO ADMISIBLE","ADMISIBLE") -> ADMISIBLE | R8: =IF(VLOOKUP($A8,Formulario!$A:$I,7,FALSE)=HLOOKUP(R$1,Informe!$A:$AP,ROW($A8),FALSE),"ADMISIBLE","NO ADMISIBLE") -> ADMISIBLE | S8: =IF(VLOOKUP($A8,Formulario!$A:$I,6,FALSE)=HLOOKUP(S$1,Informe!$A:$AP,ROW($A8),FALSE),"ADMISIBLE","NO ADMISIBLE") -> ADMISIBLE | T8: =IF(VLOOKUP($A8,Formulario!$A:$I,8,FALSE)<HLOOKUP(T$1,Informe!$A:$AP,ROW($A8),FALSE),"NO ADMISIBLE","ADMISIBLE") -> ADMISIBLE | U8: =IF(VLOOKUP($A8,Formulario!$A:$I,7,FALSE)=HLOOKUP(U$1,Informe!$A:$AP,ROW($A8),FALSE),"ADMISIBLE","NO ADMISIBLE") -> ADMISIBLE | V8: =IF(VLOOKUP($A8,Formulario!$A:$I,6,FALSE)=HLOOKUP(V$1,Informe!$A:$AP,ROW($A8),FALSE),"ADMISIBLE","NO ADMISIBLE") -> ADMISIBLE | W8: =IF(VLOOKUP($A8,Formulario!$A:$I,8,FALSE)<HLOOKUP(W$1,Informe!$A:$AP,ROW($A8),FALSE),"NO ADMISIBLE","ADMISIBLE") -> ADMISIBLE | X8: =IF(VLOOKUP($A8,Formulario!$A:$I,7,FALSE)=HLOOKUP(X$1,Informe!$A:$AP,ROW($A8),FALSE),"ADMISIBLE","NO ADMISIBLE") -> ADMISIBLE | Y8: =IF(VLOOKUP($A8,Formulario!$A:$I,6,FALSE)=HLOOKUP(Y$1,Informe!$A:$AP,ROW($A8),FALSE),"ADMISIBLE","NO ADMISIBLE") -> ADMISIBLE | Z8: =IF(VLOOKUP($A8,Formulario!$A:$I,8,FALSE)<HLOOKUP(Z$1,Informe!$A:$AP,ROW($A8),FALSE),"NO ADMISIBLE","ADMISIBLE") -> ADMISIBLE | AA8: =IF(VLOOKUP($A8,Formulario!$A:$I,7,FALSE)=HLOOKUP(AA$1,Informe!$A:$AP,ROW($A8),FALSE),"ADMISIBLE","NO ADMISIBLE") -> ADMISIBLE | AB8: =IF(VLOOKUP($A8,Formulario!$A:$I,6,FALSE)=HLOOKUP(AB$1,Informe!$A:$AP,ROW($A8),FALSE),"ADMISIBLE","NO ADMISIBLE") -> ADMISIBLE | AC8: =IF(VLOOKUP($A8,Formulario!$A:$I,8,FALSE)<HLOOKUP(AC$1,Informe!$A:$AP,ROW($A8),FALSE),"NO ADMISIBLE","ADMISIBLE") -> ADMISIBLE | AD8: =IF(VLOOKUP($A8,Formulario!$A:$I,7,FALSE)=HLOOKUP(AD$1,Informe!$A:$AP,ROW($A8),FALSE),"ADMISIBLE","NO ADMISIBLE") -> ADMISIBLE | AE8: =IF(VLOOKUP($A8,Formulario!$A:$I,6,FALSE)=HLOOKUP(AE$1,Informe!$A:$AP,ROW($A8),FALSE),"ADMISIBLE","NO ADMISIBLE") -> ADMISIBLE | AF8: =IF(VLOOKUP($A8,Formulario!$A:$I,8,FALSE)<HLOOKUP(AF$1,Informe!$A:$AP,ROW($A8),FALSE),"NO ADMISIBLE","ADMISIBLE") -> ADMISIBLE
A9: 5 | B9: =+Informe!B9 -> Acero de refuerzo Fy 4200 | C9: =IF(VLOOKUP($A9,Formulario!$A:$I,7,FALSE)=HLOOKUP(C$1,Informe!$A:$AP,ROW($A9),FALSE),"ADMISIBLE","NO ADMISIBLE") -> ADMISIBLE | D9: =IF(VLOOKUP($A9,Formulario!$A:$I,6,FALSE)=HLOOKUP(D$1,Informe!$A:$AP,ROW($A9),FALSE),"ADMISIBLE","NO ADMISIBLE") -> ADMISIBLE | E9: =IF(VLOOKUP($A9,Formulario!$A:$I,8,FALSE)<HLOOKUP(E$1,Informe!$A:$AP,ROW($A9),FALSE),"NO ADMISIBLE","ADMISIBLE") -> ADMISIBLE | F9: =IF(VLOOKUP($A9,Formulario!$A:$I,7,FALSE)=HLOOKUP(F$1,Informe!$A:$AP,ROW($A9),FALSE),"ADMISIBLE","NO ADMISIBLE") -> ADMISIBLE | G9: =IF(VLOOKUP($A9,Formulario!$A:$I,6,FALSE)=HLOOKUP(G$1,Informe!$A:$AP,ROW($A9),FALSE),"ADMISIBLE","NO ADMISIBLE") -> ADMISIBLE | H9: =IF(VLOOKUP($A9,Formulario!$A:$I,8,FALSE)<HLOOKUP(H$1,Informe!$A:$AP,ROW($A9),FALSE),"NO ADMISIBLE","ADMISIBLE") -> ADMISIBLE | I9: =IF(VLOOKUP($A9,Formulario!$A:$I,7,FALSE)=HLOOKUP(I$1,Informe!$A:$AP,ROW($A9),FALSE),"ADMISIBLE","NO ADMISIBLE") -> ADMISIBLE | J9: =IF(VLOOKUP($A9,Formulario!$A:$I,6,FALSE)=HLOOKUP(J$1,Informe!$A:$AP,ROW($A9),FALSE),"ADMISIBLE","NO ADMISIBLE") -> ADMISIBLE | K9: =IF(VLOOKUP($A9,Formulario!$A:$I,8,FALSE)<HLOOKUP(K$1,Informe!$A:$AP,ROW($A9),FALSE),"NO ADMISIBLE","ADMISIBLE") -> ADMISIBLE | L9: =IF(VLOOKUP($A9,Formulario!$A:$I,7,FALSE)=HLOOKUP(L$1,Informe!$A:$AP,ROW($A9),FALSE),"ADMISIBLE","NO ADMISIBLE") -> ADMISIBLE | M9: =IF(VLOOKUP($A9,Formulario!$A:$I,6,FALSE)=HLOOKUP(M$1,Informe!$A:$AP,ROW($A9),FALSE),"ADMISIBLE","NO ADMISIBLE") -> ADMISIBLE | N9: =IF(VLOOKUP($A9,Formulario!$A:$I,8,FALSE)<HLOOKUP(N$1,Informe!$A:$AP,ROW($A9),FALSE),"NO ADMISIBLE","ADMISIBLE") -> ADMISIBLE | O9: =IF(VLOOKUP($A9,Formulario!$A:$I,7,FALSE)=HLOOKUP(O$1,Informe!$A:$AP,ROW($A9),FALSE),"ADMISIBLE","NO ADMISIBLE") -> ADMISIBLE | P9: =IF(VLOOKUP($A9,Formulario!$A:$I,6,FALSE)=HLOOKUP(P$1,Informe!$A:$AP,ROW($A9),FALSE),"ADMISIBLE","NO ADMISIBLE") -> ADMISIBLE | Q9: =IF(VLOOKUP($A9,Formulario!$A:$I,8,FALSE)<HLOOKUP(Q$1,Informe!$A:$AP,ROW($A9),FALSE),"NO ADMISIBLE","ADMISIBLE") -> ADMISIBLE | R9: =IF(VLOOKUP($A9,Formulario!$A:$I,7,FALSE)=HLOOKUP(R$1,Informe!$A:$AP,ROW($A9),FALSE),"ADMISIBLE","NO ADMISIBLE") -> ADMISIBLE | S9: =IF(VLOOKUP($A9,Formulario!$A:$I,6,FALSE)=HLOOKUP(S$1,Informe!$A:$AP,ROW($A9),FALSE),"ADMISIBLE","NO ADMISIBLE") -> ADMISIBLE | T9: =IF(VLOOKUP($A9,Formulario!$A:$I,8,FALSE)<HLOOKUP(T$1,Informe!$A:$AP,ROW($A9),FALSE),"NO ADMISIBLE","ADMISIBLE") -> ADMISIBLE | U9: =IF(VLOOKUP($A9,Formulario!$A:$I,7,FALSE)=HLOOKUP(U$1,Informe!$A:$AP,ROW($A9),FALSE),"ADMISIBLE","NO ADMISIBLE") -> ADMISIBLE | V9: =IF(VLOOKUP($A9,Formulario!$A:$I,6,FALSE)=HLOOKUP(V$1,Informe!$A:$AP,ROW($A9),FALSE),"ADMISIBLE","NO ADMISIBLE") -> ADMISIBLE | W9: =IF(VLOOKUP($A9,Formulario!$A:$I,8,FALSE)<HLOOKUP(W$1,Informe!$A:$AP,ROW($A9),FALSE),"NO ADMISIBLE","ADMISIBLE") -> ADMISIBLE | X9: =IF(VLOOKUP($A9,Formulario!$A:$I,7,FALSE)=HLOOKUP(X$1,Informe!$A:$AP,ROW($A9),FALSE),"ADMISIBLE","NO ADMISIBLE") -> ADMISIBLE | Y9: =IF(VLOOKUP($A9,Formulario!$A:$I,6,FALSE)=HLOOKUP(Y$1,Informe!$A:$AP,ROW($A9),FALSE),"ADMISIBLE","NO ADMISIBLE") -> ADMISIBLE | Z9: =IF(VLOOKUP($A9,Formulario!$A:$I,8,FALSE)<HLOOKUP(Z$1,Informe!$A:$AP,ROW($A9),FALSE),"NO ADMISIBLE","ADMISIBLE") -> ADMISIBLE | AA9: =IF(VLOOKUP($A9,Formulario!$A:$I,7,FALSE)=HLOOKUP(AA$1,Informe!$A:$AP,ROW($A9),FALSE),"ADMISIBLE","NO ADMISIBLE") -> ADMISIBLE | AB9: =IF(VLOOKUP($A9,Formulario!$A:$I,6,FALSE)=HLOOKUP(AB$1,Informe!$A:$AP,ROW($A9),FALSE),"ADMISIBLE","NO ADMISIBLE") -> ADMISIBLE | AC9: =IF(VLOOKUP($A9,Formulario!$A:$I,8,FALSE)<HLOOKUP(AC$1,Informe!$A:$AP,ROW($A9),FALSE),"NO ADMISIBLE","ADMISIBLE") -> ADMISIBLE | AD9: =IF(VLOOKUP($A9,Formulario!$A:$I,7,FALSE)=HLOOKUP(AD$1,Informe!$A:$AP,ROW($A9),FALSE),"ADMISIBLE","NO ADMISIBLE") -> ADMISIBLE | AE9: =IF(VLOOKUP($A9,Formulario!$A:$I,6,FALSE)=HLOOKUP(AE$1,Informe!$A:$AP,ROW($A9),FALSE),"ADMISIBLE","NO ADMISIBLE") -> ADMISIBLE | AF9: =IF(VLOOKUP($A9,Formulario!$A:$I,8,FALSE)<HLOOKUP(AF$1,Informe!$A:$AP,ROW($A9),FALSE),"NO ADMISIBLE","ADMISIBLE") -> ADMISIBLE
A10: 6 | B10: =+Informe!B10 -> Enrocados con ligante de concreto | C10: =IF(VLOOKUP($A10,Formulario!$A:$I,7,FALSE)=HLOOKUP(C$1,Informe!$A:$AP,ROW($A10),FALSE),"ADMISIBLE","NO ADMISIBLE") -> ADMISIBLE | D10: =IF(VLOOKUP($A10,Formulario!$A:$I,6,FALSE)=HLOOKUP(D$1,Informe!$A:$AP,ROW($A10),FALSE),"ADMISIBLE","NO ADMISIBLE") -> ADMISIBLE | E10: =IF(VLOOKUP($A10,Formulario!$A:$I,8,FALSE)<HLOOKUP(E$1,Informe!$A:$AP,ROW($A10),FALSE),"NO ADMISIBLE","ADMISIBLE") -> ADMISIBLE | F10: =IF(VLOOKUP($A10,Formulario!$A:$I,7,FALSE)=HLOOKUP(F$1,Informe!$A:$AP,ROW($A10),FALSE),"ADMISIBLE","NO ADMISIBLE") -> ADMISIBLE | G10: =IF(VLOOKUP($A10,Formulario!$A:$I,6,FALSE)=HLOOKUP(G$1,Informe!$A:$AP,ROW($A10),FALSE),"ADMISIBLE","NO ADMISIBLE") -> ADMISIBLE | H10: =IF(VLOOKUP($A10,Formulario!$A:$I,8,FALSE)<HLOOKUP(H$1,Informe!$A:$AP,ROW($A10),FALSE),"NO ADMISIBLE","ADMISIBLE") -> ADMISIBLE | I10: =IF(VLOOKUP($A10,Formulario!$A:$I,7,FALSE)=HLOOKUP(I$1,Informe!$A:$AP,ROW($A10),FALSE),"ADMISIBLE","NO ADMISIBLE") -> ADMISIBLE | J10: =IF(VLOOKUP($A10,Formulario!$A:$I,6,FALSE)=HLOOKUP(J$1,Informe!$A:$AP,ROW($A10),FALSE),"ADMISIBLE","NO ADMISIBLE") -> ADMISIBLE | K10: =IF(VLOOKUP($A10,Formulario!$A:$I,8,FALSE)<HLOOKUP(K$1,Informe!$A:$AP,ROW($A10),FALSE),"NO ADMISIBLE","ADMISIBLE") -> ADMISIBLE | L10: =IF(VLOOKUP($A10,Formulario!$A:$I,7,FALSE)=HLOOKUP(L$1,Informe!$A:$AP,ROW($A10),FALSE),"ADMISIBLE","NO ADMISIBLE") -> ADMISIBLE | M10: =IF(VLOOKUP($A10,Formulario!$A:$I,6,FALSE)=HLOOKUP(M$1,Informe!$A:$AP,ROW($A10),FALSE),"ADMISIBLE","NO ADMISIBLE") -> ADMISIBLE | N10: =IF(VLOOKUP($A10,Formulario!$A:$I,8,FALSE)<HLOOKUP(N$1,Informe!$A:$AP,ROW($A10),FALSE),"NO ADMISIBLE","ADMISIBLE") -> ADMISIBLE | O10: =IF(VLOOKUP($A10,Formulario!$A:$I,7,FALSE)=HLOOKUP(O$1,Informe!$A:$AP,ROW($A10),FALSE),"ADMISIBLE","NO ADMISIBLE") -> ADMISIBLE | P10: =IF(VLOOKUP($A10,Formulario!$A:$I,6,FALSE)=HLOOKUP(P$1,Informe!$A:$AP,ROW($A10),FALSE),"ADMISIBLE","NO ADMISIBLE") -> ADMISIBLE | Q10: =IF(VLOOKUP($A10,Formulario!$A:$I,8,FALSE)<HLOOKUP(Q$1,Informe!$A:$AP,ROW($A10),FALSE),"NO ADMISIBLE","ADMISIBLE") -> ADMISIBLE | R10: =IF(VLOOKUP($A10,Formulario!$A:$I,7,FALSE)=HLOOKUP(R$1,Informe!$A:$AP,ROW($A10),FALSE),"ADMISIBLE","NO ADMISIBLE") -> ADMISIBLE | S10: =IF(VLOOKUP($A10,Formulario!$A:$I,6,FALSE)=HLOOKUP(S$1,Informe!$A:$AP,ROW($A10),FALSE),"ADMISIBLE","NO ADMISIBLE") -> ADMISIBLE | T10: =IF(VLOOKUP($A10,Formulario!$A:$I,8,FALSE)<HLOOKUP(T$1,Informe!$A:$AP,ROW($A10),FALSE),"NO ADMISIBLE","ADMISIBLE") -> ADMISIBLE | U10: =IF(VLOOKUP($A10,Formulario!$A:$I,7,FALSE)=HLOOKUP(U$1,Informe!$A:$AP,ROW($A10),FALSE),"ADMISIBLE","NO ADMISIBLE") -> ADMISIBLE | V10: =IF(VLOOKUP($A10,Formulario!$A:$I,6,FALSE)=HLOOKUP(V$1,Informe!$A:$AP,ROW($A10),FALSE),"ADMISIBLE","NO ADMISIBLE") -> ADMISIBLE | W10: =IF(VLOOKUP($A10,Formulario!$A:$I,8,FALSE)<HLOOKUP(W$1,Informe!$A:$AP,ROW($A10),FALSE),"NO ADMISIBLE","ADMISIBLE") -> ADMISIBLE | X10: =IF(VLOOKUP($A10,Formulario!$A:$I,7,FALSE)=HLOOKUP(X$1,Informe!$A:$AP,ROW($A10),FALSE),"ADMISIBLE","NO ADMISIBLE") -> ADMISIBLE | Y10: =IF(VLOOKUP($A10,Formulario!$A:$I,6,FALSE)=HLOOKUP(Y$1,Informe!$A:$AP,ROW($A10),FALSE),"ADMISIBLE","NO ADMISIBLE") -> ADMISIBLE | Z10: =IF(VLOOKUP($A10,Formulario!$A:$I,8,FALSE)<HLOOKUP(Z$1,Informe!$A:$AP,ROW($A10),FALSE),"NO ADMISIBLE","ADMISIBLE") -> ADMISIBLE | AA10: =IF(VLOOKUP($A10,Formulario!$A:$I,7,FALSE)=HLOOKUP(AA$1,Informe!$A:$AP,ROW($A10),FALSE),"ADMISIBLE","NO ADMISIBLE") -> ADMISIBLE | AB10: =IF(VLOOKUP($A10,Formulario!$A:$I,6,FALSE)=HLOOKUP(AB$1,Informe!$A:$AP,ROW($A10),FALSE),"ADMISIBLE","NO ADMISIBLE") -> ADMISIBLE | AC10: =IF(VLOOKUP($A10,Formulario!$A:$I,8,FALSE)<HLOOKUP(AC$1,Informe!$A:$AP,ROW($A10),FALSE),"NO ADMISIBLE","ADMISIBLE") -> ADMISIBLE | AD10: =IF(VLOOKUP($A10,Formulario!$A:$I,7,FALSE)=HLOOKUP(AD$1,Informe!$A:$AP,ROW($A10),FALSE),"ADMISIBLE","NO ADMISIBLE") -> ADMISIBLE | AE10: =IF(VLOOKUP($A10,Formulario!$A:$I,6,FALSE)=HLOOKUP(AE$1,Informe!$A:$AP,ROW($A10),FALSE),"ADMISIBLE","NO ADMISIBLE") -> ADMISIBLE | AF10: =IF(VLOOKUP($A10,Formulario!$A:$I,8,FALSE)<HLOOKUP(AF$1,Informe!$A:$AP,ROW($A10),FALSE),"NO ADMISIBLE","ADMISIBLE") -> ADMISIBLE
A11: 7 | B11: =+Informe!B11 -> Canales en madera, polipropileno y geotextil NT | C11: =IF(VLOOKUP($A11,Formulario!$A:$I,7,FALSE)=HLOOKUP(C$1,Informe!$A:$AP,ROW($A11),FALSE),"ADMISIBLE","NO ADMISIBLE") -> ADMISIBLE | D11: =IF(VLOOKUP($A11,Formulario!$A:$I,6,FALSE)=HLOOKUP(D$1,Informe!$A:$AP,ROW($A11),FALSE),"ADMISIBLE","NO ADMISIBLE") -> ADMISIBLE | E11: =IF(VLOOKUP($A11,Formulario!$A:$I,8,FALSE)<HLOOKUP(E$1,Informe!$A:$AP,ROW($A11),FALSE),"NO ADMISIBLE","ADMISIBLE") -> ADMISIBLE | F11: =IF(VLOOKUP($A11,Formulario!$A:$I,7,FALSE)=HLOOKUP(F$1,Informe!$A:$AP,ROW($A11),FALSE),"ADMISIBLE","NO ADMISIBLE") -> ADMISIBLE | G11: =IF(VLOOKUP($A11,Formulario!$A:$I,6,FALSE)=HLOOKUP(G$1,Informe!$A:$AP,ROW($A11),FALSE),"ADMISIBLE","NO ADMISIBLE") -> ADMISIBLE | H11: =IF(VLOOKUP($A11,Formulario!$A:$I,8,FALSE)<HLOOKUP(H$1,Informe!$A:$AP,ROW($A11),FALSE),"NO ADMISIBLE","ADMISIBLE") -> ADMISIBLE | I11: =IF(VLOOKUP($A11,Formulario!$A:$I,7,FALSE)=HLOOKUP(I$1,Informe!$A:$AP,ROW($A11),FALSE),"ADMISIBLE","NO ADMISIBLE") -> ADMISIBLE | J11: =IF(VLOOKUP($A11,Formulario!$A:$I,6,FALSE)=HLOOKUP(J$1,Informe!$A:$AP,ROW($A11),FALSE),"ADMISIBLE","NO ADMISIBLE") -> ADMISIBLE | K11: =IF(VLOOKUP($A11,Formulario!$A:$I,8,FALSE)<HLOOKUP(K$1,Informe!$A:$AP,ROW($A11),FALSE),"NO ADMISIBLE","ADMISIBLE") -> ADMISIBLE | L11: =IF(VLOOKUP($A11,Formulario!$A:$I,7,FALSE)=HLOOKUP(L$1,Informe!$A:$AP,ROW($A11),FALSE),"ADMISIBLE","NO ADMISIBLE") -> ADMISIBLE | M11: =IF(VLOOKUP($A11,Formulario!$A:$I,6,FALSE)=HLOOKUP(M$1,Informe!$A:$AP,ROW($A11),FALSE),"ADMISIBLE","NO ADMISIBLE") -> ADMISIBLE | N11: =IF(VLOOKUP($A11,Formulario!$A:$I,8,FALSE)<HLOOKUP(N$1,Informe!$A:$AP,ROW($A11),FALSE),"NO ADMISIBLE","ADMISIBLE") -> ADMISIBLE | O11: =IF(VLOOKUP($A11,Formulario!$A:$I,7,FALSE)=HLOOKUP(O$1,Informe!$A:$AP,ROW($A11),FALSE),"ADMISIBLE","NO ADMISIBLE") -> ADMISIBLE | P11: =IF(VLOOKUP($A11,Formulario!$A:$I,6,FALSE)=HLOOKUP(P$1,Informe!$A:$AP,ROW($A11),FALSE),"ADMISIBLE","NO ADMISIBLE") -> ADMISIBLE | Q11: =IF(VLOOKUP($A11,Formulario!$A:$I,8,FALSE)<HLOOKUP(Q$1,Informe!$A:$AP,ROW($A11),FALSE),"NO ADMISIBLE","ADMISIBLE") -> ADMISIBLE | R11: =IF(VLOOKUP($A11,Formulario!$A:$I,7,FALSE)=HLOOKUP(R$1,Informe!$A:$AP,ROW($A11),FALSE),"ADMISIBLE","NO ADMISIBLE") -> ADMISIBLE | S11: =IF(VLOOKUP($A11,Formulario!$A:$I,6,FALSE)=HLOOKUP(S$1,Informe!$A:$AP,ROW($A11),FALSE),"ADMISIBLE","NO ADMISIBLE") -> ADMISIBLE | T11: =IF(VLOOKUP($A11,Formulario!$A:$I,8,FALSE)<HLOOKUP(T$1,Informe!$A:$AP,ROW($A11),FALSE),"NO ADMISIBLE","ADMISIBLE") -> ADMISIBLE | U11: =IF(VLOOKUP($A11,Formulario!$A:$I,7,FALSE)=HLOOKUP(U$1,Informe!$A:$AP,ROW($A11),FALSE),"ADMISIBLE","NO ADMISIBLE") -> ADMISIBLE | V11: =IF(VLOOKUP($A11,Formulario!$A:$I,6,FALSE)=HLOOKUP(V$1,Informe!$A:$AP,ROW($A11),FALSE),"ADMISIBLE","NO ADMISIBLE") -> ADMISIBLE | W11: =IF(VLOOKUP($A11,Formulario!$A:$I,8,FALSE)<HLOOKUP(W$1,Informe!$A:$AP,ROW($A11),FALSE),"NO ADMISIBLE","ADMISIBLE") -> ADMISIBLE | X11: =IF(VLOOKUP($A11,Formulario!$A:$I,7,FALSE)=HLOOKUP(X$1,Informe!$A:$AP,ROW($A11),FALSE),"ADMISIBLE","NO ADMISIBLE") -> ADMISIBLE | Y11: =IF(VLOOKUP($A11,Formulario!$A:$I,6,FALSE)=HLOOKUP(Y$1,Informe!$A:$AP,ROW($A11),FALSE),"ADMISIBLE","NO ADMISIBLE") -> ADMISIBLE | Z11: =IF(VLOOKUP($A11,Formulario!$A:$I,8,FALSE)<HLOOKUP(Z$1,Informe!$A:$AP,ROW($A11),FALSE),"NO ADMISIBLE","ADMISIBLE") -> ADMISIBLE | AA11: =IF(VLOOKUP($A11,Formulario!$A:$I,7,FALSE)=HLOOKUP(AA$1,Informe!$A:$AP,ROW($A11),FALSE),"ADMISIBLE","NO ADMISIBLE") -> ADMISIBLE | AB11: =IF(VLOOKUP($A11,Formulario!$A:$I,6,FALSE)=HLOOKUP(AB$1,Informe!$A:$AP,ROW($A11),FALSE),"ADMISIBLE","NO ADMISIBLE") -> ADMISIBLE | AC11: =IF(VLOOKUP($A11,Formulario!$A:$I,8,FALSE)<HLOOKUP(AC$1,Informe!$A:$AP,ROW($A11),FALSE),"NO ADMISIBLE","ADMISIBLE") -> ADMISIBLE | AD11: =IF(VLOOKUP($A11,Formulario!$A:$I,7,FALSE)=HLOOKUP(AD$1,Informe!$A:$AP,ROW($A11),FALSE),"ADMISIBLE","NO ADMISIBLE") -> ADMISIBLE | AE11: =IF(VLOOKUP($A11,Formulario!$A:$I,6,FALSE)=HLOOKUP(AE$1,Informe!$A:$AP,ROW($A11),FALSE),"ADMISIBLE","NO ADMISIBLE") -> ADMISIBLE | AF11: =IF(VLOOKUP($A11,Formulario!$A:$I,8,FALSE)<HLOOKUP(AF$1,Informe!$A:$AP,ROW($A11),FALSE),"NO ADMISIBLE","ADMISIBLE") -> ADMISIBLE
A12: 8 | B12: =+Informe!B12 -> Material filtrante | C12: =IF(VLOOKUP($A12,Formulario!$A:$I,7,FALSE)=HLOOKUP(C$1,Informe!$A:$AP,ROW($A12),FALSE),"ADMISIBLE","NO ADMISIBLE") -> ADMISIBLE | D12: =IF(VLOOKUP($A12,Formulario!$A:$I,6,FALSE)=HLOOKUP(D$1,Informe!$A:$AP,ROW($A12),FALSE),"ADMISIBLE","NO ADMISIBLE") -> ADMISIBLE | E12: =IF(VLOOKUP($A12,Formulario!$A:$I,8,FALSE)<HLOOKUP(E$1,Informe!$A:$AP,ROW($A12),FALSE),"NO ADMISIBLE","ADMISIBLE") -> ADMISIBLE | F12: =IF(VLOOKUP($A12,Formulario!$A:$I,7,FALSE)=HLOOKUP(F$1,Informe!$A:$AP,ROW($A12),FALSE),"ADMISIBLE","NO ADMISIBLE") -> ADMISIBLE | G12: =IF(VLOOKUP($A12,Formulario!$A:$I,6,FALSE)=HLOOKUP(G$1,Informe!$A:$AP,ROW($A12),FALSE),"ADMISIBLE","NO ADMISIBLE") -> ADMISIBLE | H12: =IF(VLOOKUP($A12,Formulario!$A:$I,8,FALSE)<HLOOKUP(H$1,Informe!$A:$AP,ROW($A12),FALSE),"NO ADMISIBLE","ADMISIBLE") -> ADMISIBLE | I12: =IF(VLOOKUP($A12,Formulario!$A:$I,7,FALSE)=HLOOKUP(I$1,Informe!$A:$AP,ROW($A12),FALSE),"ADMISIBLE","NO ADMISIBLE") -> ADMISIBLE | J12: =IF(VLOOKUP($A12,Formulario!$A:$I,6,FALSE)=HLOOKUP(J$1,Informe!$A:$AP,ROW($A12),FALSE),"ADMISIBLE","NO ADMISIBLE") -> ADMISIBLE | K12: =IF(VLOOKUP($A12,Formulario!$A:$I,8,FALSE)<HLOOKUP(K$1,Informe!$A:$AP,ROW($A12),FALSE),"NO ADMISIBLE","ADMISIBLE") -> ADMISIBLE | L12: =IF(VLOOKUP($A12,Formulario!$A:$I,7,FALSE)=HLOOKUP(L$1,Informe!$A:$AP,ROW($A12),FALSE),"ADMISIBLE","NO ADMISIBLE") -> ADMISIBLE | M12: =IF(VLOOKUP($A12,Formulario!$A:$I,6,FALSE)=HLOOKUP(M$1,Informe!$A:$AP,ROW($A12),FALSE),"ADMISIBLE","NO ADMISIBLE") -> ADMISIBLE | N12: =IF(VLOOKUP($A12,Formulario!$A:$I,8,FALSE)<HLOOKUP(N$1,Informe!$A:$AP,ROW($A12),FALSE),"NO ADMISIBLE","ADMISIBLE") -> ADMISIBLE | O12: =IF(VLOOKUP($A12,Formulario!$A:$I,7,FALSE)=HLOOKUP(O$1,Informe!$A:$AP,ROW($A12),FALSE),"ADMISIBLE","NO ADMISIBLE") -> ADMISIBLE | P12: =IF(VLOOKUP($A12,Formulario!$A:$I,6,FALSE)=HLOOKUP(P$1,Informe!$A:$AP,ROW($A12),FALSE),"ADMISIBLE","NO ADMISIBLE") -> ADMISIBLE | Q12: =IF(VLOOKUP($A12,Formulario!$A:$I,8,FALSE)<HLOOKUP(Q$1,Informe!$A:$AP,ROW($A12),FALSE),"NO ADMISIBLE","ADMISIBLE") -> ADMISIBLE | R12: =IF(VLOOKUP($A12,Formulario!$A:$I,7,FALSE)=HLOOKUP(R$1,Informe!$A:$AP,ROW($A12),FALSE),"ADMISIBLE","NO ADMISIBLE") -> ADMISIBLE | S12: =IF(VLOOKUP($A12,Formulario!$A:$I,6,FALSE)=HLOOKUP(S$1,Informe!$A:$AP,ROW($A12),FALSE),"ADMISIBLE","NO ADMISIBLE") -> ADMISIBLE | T12: =IF(VLOOKUP($A12,Formulario!$A:$I,8,FALSE)<HLOOKUP(T$1,Informe!$A:$AP,ROW($A12),FALSE),"NO ADMISIBLE","ADMISIBLE") -> ADMISIBLE | U12: =IF(VLOOKUP($A12,Formulario!$A:$I,7,FALSE)=HLOOKUP(U$1,Informe!$A:$AP,ROW($A12),FALSE),"ADMISIBLE","NO ADMISIBLE") -> ADMISIBLE | V12: =IF(VLOOKUP($A12,Formulario!$A:$I,6,FALSE)=HLOOKUP(V$1,Informe!$A:$AP,ROW($A12),FALSE),"ADMISIBLE","NO ADMISIBLE") -> ADMISIBLE | W12: =IF(VLOOKUP($A12,Formulario!$A:$I,8,FALSE)<HLOOKUP(W$1,Informe!$A:$AP,ROW($A12),FALSE),"NO ADMISIBLE","ADMISIBLE") -> ADMISIBLE | X12: =IF(VLOOKUP($A12,Formulario!$A:$I,7,FALSE)=HLOOKUP(X$1,Informe!$A:$AP,ROW($A12),FALSE),"ADMISIBLE","NO ADMISIBLE") -> ADMISIBLE | Y12: =IF(VLOOKUP($A12,Formulario!$A:$I,6,FALSE)=HLOOKUP(Y$1,Informe!$A:$AP,ROW($A12),FALSE),"ADMISIBLE","NO ADMISIBLE") -> ADMISIBLE | Z12: =IF(VLOOKUP($A12,Formulario!$A:$I,8,FALSE)<HLOOKUP(Z$1,Informe!$A:$AP,ROW($A12),FALSE),"NO ADMISIBLE","ADMISIBLE") -> ADMISIBLE | AA12: =IF(VLOOKUP($A12,Formulario!$A:$I,7,FALSE)=HLOOKUP(AA$1,Informe!$A:$AP,ROW($A12),FALSE),"ADMISIBLE","NO ADMISIBLE") -> ADMISIBLE | AB12: =IF(VLOOKUP($A12,Formulario!$A:$I,6,FALSE)=HLOOKUP(AB$1,Informe!$A:$AP,ROW($A12),FALSE),"ADMISIBLE","NO ADMISIBLE") -> ADMISIBLE | AC12: =IF(VLOOKUP($A12,Formulario!$A:$I,8,FALSE)<HLOOKUP(AC$1,Informe!$A:$AP,ROW($A12),FALSE),"NO ADMISIBLE","ADMISIBLE") -> ADMISIBLE | AD12: =IF(VLOOKUP($A12,Formulario!$A:$I,7,FALSE)=HLOOKUP(AD$1,Informe!$A:$AP,ROW($A12),FALSE),"ADMISIBLE","NO ADMISIBLE") -> ADMISIBLE | AE12: =IF(VLOOKUP($A12,Formulario!$A:$I,6,FALSE)=HLOOKUP(AE$1,Informe!$A:$AP,ROW($A12),FALSE),"ADMISIBLE","NO ADMISIBLE") -> ADMISIBLE | AF12: =IF(VLOOKUP($A12,Formulario!$A:$I,8,FALSE)<HLOOKUP(AF$1,Informe!$A:$AP,ROW($A12),FALSE),"NO ADMISIBLE","ADMISIBLE") -> ADMISIBLE
A13: 9 | B13: =+Informe!B13 -> Geotextil | C13: =IF(VLOOKUP($A13,Formulario!$A:$I,7,FALSE)=HLOOKUP(C$1,Informe!$A:$AP,ROW($A13),FALSE),"ADMISIBLE","NO ADMISIBLE") -> ADMISIBLE | D13: =IF(VLOOKUP($A13,Formulario!$A:$I,6,FALSE)=HLOOKUP(D$1,Informe!$A:$AP,ROW($A13),FALSE),"ADMISIBLE","NO ADMISIBLE") -> ADMISIBLE | E13: =IF(VLOOKUP($A13,Formulario!$A:$I,8,FALSE)<HLOOKUP(E$1,Informe!$A:$AP,ROW($A13),FALSE),"NO ADMISIBLE","ADMISIBLE") -> ADMISIBLE | F13: =IF(VLOOKUP($A13,Formulario!$A:$I,7,FALSE)=HLOOKUP(F$1,Informe!$A:$AP,ROW($A13),FALSE),"ADMISIBLE","NO ADMISIBLE") -> ADMISIBLE | G13: =IF(VLOOKUP($A13,Formulario!$A:$I,6,FALSE)=HLOOKUP(G$1,Informe!$A:$AP,ROW($A13),FALSE),"ADMISIBLE","NO ADMISIBLE") -> ADMISIBLE | H13: =IF(VLOOKUP($A13,Formulario!$A:$I,8,FALSE)<HLOOKUP(H$1,Informe!$A:$AP,ROW($A13),FALSE),"NO ADMISIBLE","ADMISIBLE") -> ADMISIBLE | I13: =IF(VLOOKUP($A13,Formulario!$A:$I,7,FALSE)=HLOOKUP(I$1,Informe!$A:$AP,ROW($A13),FALSE),"ADMISIBLE","NO ADMISIBLE") -> ADMISIBLE | J13: =IF(VLOOKUP($A13,Formulario!$A:$I,6,FALSE)=HLOOKUP(J$1,Informe!$A:$AP,ROW($A13),FALSE),"ADMISIBLE","NO ADMISIBLE") -> ADMISIBLE | K13: =IF(VLOOKUP($A13,Formulario!$A:$I,8,FALSE)<HLOOKUP(K$1,Informe!$A:$AP,ROW($A13),FALSE),"NO ADMISIBLE","ADMISIBLE") -> ADMISIBLE | L13: =IF(VLOOKUP($A13,Formulario!$A:$I,7,FALSE)=HLOOKUP(L$1,Informe!$A:$AP,ROW($A13),FALSE),"ADMISIBLE","NO ADMISIBLE") -> ADMISIBLE | M13: =IF(VLOOKUP($A13,Formulario!$A:$I,6,FALSE)=HLOOKUP(M$1,Informe!$A:$AP,ROW($A13),FALSE),"ADMISIBLE","NO ADMISIBLE") -> ADMISIBLE | N13: =IF(VLOOKUP($A13,Formulario!$A:$I,8,FALSE)<HLOOKUP(N$1,Informe!$A:$AP,ROW($A13),FALSE),"NO ADMISIBLE","ADMISIBLE") -> ADMISIBLE | O13: =IF(VLOOKUP($A13,Formulario!$A:$I,7,FALSE)=HLOOKUP(O$1,Informe!$A:$AP,ROW($A13),FALSE),"ADMISIBLE","NO ADMISIBLE") -> ADMISIBLE | P13: =IF(VLOOKUP($A13,Formulario!$A:$I,6,FALSE)=HLOOKUP(P$1,Informe!$A:$AP,ROW($A13),FALSE),"ADMISIBLE","NO ADMISIBLE") -> ADMISIBLE | Q13: =IF(VLOOKUP($A13,Formulario!$A:$I,8,FALSE)<HLOOKUP(Q$1,Informe!$A:$AP,ROW($A13),FALSE),"NO ADMISIBLE","ADMISIBLE") -> ADMISIBLE | R13: =IF(VLOOKUP($A13,Formulario!$A:$I,7,FALSE)=HLOOKUP(R$1,Informe!$A:$AP,ROW($A13),FALSE),"ADMISIBLE","NO ADMISIBLE") -> ADMISIBLE | S13: =IF(VLOOKUP($A13,Formulario!$A:$I,6,FALSE)=HLOOKUP(S$1,Informe!$A:$AP,ROW($A13),FALSE),"ADMISIBLE","NO ADMISIBLE") -> ADMISIBLE | T13: =IF(VLOOKUP($A13,Formulario!$A:$I,8,FALSE)<HLOOKUP(T$1,Informe!$A:$AP,ROW($A13),FALSE),"NO ADMISIBLE","ADMISIBLE") -> ADMISIBLE | U13: =IF(VLOOKUP($A13,Formulario!$A:$I,7,FALSE)=HLOOKUP(U$1,Informe!$A:$AP,ROW($A13),FALSE),"ADMISIBLE","NO ADMISIBLE") -> ADMISIBLE | V13: =IF(VLOOKUP($A13,Formulario!$A:$I,6,FALSE)=HLOOKUP(V$1,Informe!$A:$AP,ROW($A13),FALSE),"ADMISIBLE","NO ADMISIBLE") -> ADMISIBLE | W13: =IF(VLOOKUP($A13,Formulario!$A:$I,8,FALSE)<HLOOKUP(W$1,Informe!$A:$AP,ROW($A13),FALSE),"NO ADMISIBLE","ADMISIBLE") -> ADMISIBLE | X13: =IF(VLOOKUP($A13,Formulario!$A:$I,7,FALSE)=HLOOKUP(X$1,Informe!$A:$AP,ROW($A13),FALSE),"ADMISIBLE","NO ADMISIBLE") -> ADMISIBLE | Y13: =IF(VLOOKUP($A13,Formulario!$A:$I,6,FALSE)=HLOOKUP(Y$1,Informe!$A:$AP,ROW($A13),FALSE),"ADMISIBLE","NO ADMISIBLE") -> ADMISIBLE | Z13: =IF(VLOOKUP($A13,Formulario!$A:$I,8,FALSE)<HLOOKUP(Z$1,Informe!$A:$AP,ROW($A13),FALSE),"NO ADMISIBLE","ADMISIBLE") -> ADMISIBLE | AA13: =IF(VLOOKUP($A13,Formulario!$A:$I,7,FALSE)=HLOOKUP(AA$1,Informe!$A:$AP,ROW($A13),FALSE),"ADMISIBLE","NO ADMISIBLE") -> ADMISIBLE | AB13: =IF(VLOOKUP($A13,Formulario!$A:$I,6,FALSE)=HLOOKUP(AB$1,Informe!$A:$AP,ROW($A13),FALSE),"ADMISIBLE","NO ADMISIBLE") -> ADMISIBLE | AC13: =IF(VLOOKUP($A13,Formulario!$A:$I,8,FALSE)<HLOOKUP(AC$1,Informe!$A:$AP,ROW($A13),FALSE),"NO ADMISIBLE","ADMISIBLE") -> ADMISIBLE | AD13: =IF(VLOOKUP($A13,Formulario!$A:$I,7,FALSE)=HLOOKUP(AD$1,Informe!$A:$AP,ROW($A13),FALSE),"ADMISIBLE","NO ADMISIBLE") -> ADMISIBLE | AE13: =IF(VLOOKUP($A13,Formulario!$A:$I,6,FALSE)=HLOOKUP(AE$1,Informe!$A:$AP,ROW($A13),FALSE),"ADMISIBLE","NO ADMISIBLE") -> ADMISIBLE | AF13: =IF(VLOOKUP($A13,Formulario!$A:$I,8,FALSE)<HLOOKUP(AF$1,Informe!$A:$AP,ROW($A13),FALSE),"NO ADMISIBLE","ADMISIBLE") -> ADMISIBLE
A14: 10 | B14: =+Informe!B14 -> Tubería de pvc D=65mm para filtros | C14: =IF(VLOOKUP($A14,Formulario!$A:$I,7,FALSE)=HLOOKUP(C$1,Informe!$A:$AP,ROW($A14),FALSE),"ADMISIBLE","NO ADMISIBLE") -> ADMISIBLE | D14: =IF(VLOOKUP($A14,Formulario!$A:$I,6,FALSE)=HLOOKUP(D$1,Informe!$A:$AP,ROW($A14),FALSE),"ADMISIBLE","NO ADMISIBLE") -> ADMISIBLE | E14: =IF(VLOOKUP($A14,Formulario!$A:$I,8,FALSE)<HLOOKUP(E$1,Informe!$A:$AP,ROW($A14),FALSE),"NO ADMISIBLE","ADMISIBLE") -> ADMISIBLE | F14: =IF(VLOOKUP($A14,Formulario!$A:$I,7,FALSE)=HLOOKUP(F$1,Informe!$A:$AP,ROW($A14),FALSE),"ADMISIBLE","NO ADMISIBLE") -> ADMISIBLE | G14: =IF(VLOOKUP($A14,Formulario!$A:$I,6,FALSE)=HLOOKUP(G$1,Informe!$A:$AP,ROW($A14),FALSE),"ADMISIBLE","NO ADMISIBLE") -> ADMISIBLE | H14: =IF(VLOOKUP($A14,Formulario!$A:$I,8,FALSE)<HLOOKUP(H$1,Informe!$A:$AP,ROW($A14),FALSE),"NO ADMISIBLE","ADMISIBLE") -> ADMISIBLE | I14: =IF(VLOOKUP($A14,Formulario!$A:$I,7,FALSE)=HLOOKUP(I$1,Informe!$A:$AP,ROW($A14),FALSE),"ADMISIBLE","NO ADMISIBLE") -> ADMISIBLE | J14: =IF(VLOOKUP($A14,Formulario!$A:$I,6,FALSE)=HLOOKUP(J$1,Informe!$A:$AP,ROW($A14),FALSE),"ADMISIBLE","NO ADMISIBLE") -> ADMISIBLE | K14: =IF(VLOOKUP($A14,Formulario!$A:$I,8,FALSE)<HLOOKUP(K$1,Informe!$A:$AP,ROW($A14),FALSE),"NO ADMISIBLE","ADMISIBLE") -> ADMISIBLE | L14: =IF(VLOOKUP($A14,Formulario!$A:$I,7,FALSE)=HLOOKUP(L$1,Informe!$A:$AP,ROW($A14),FALSE),"ADMISIBLE","NO ADMISIBLE") -> ADMISIBLE | M14: =IF(VLOOKUP($A14,Formulario!$A:$I,6,FALSE)=HLOOKUP(M$1,Informe!$A:$AP,ROW($A14),FALSE),"ADMISIBLE","NO ADMISIBLE") -> ADMISIBLE | N14: =IF(VLOOKUP($A14,Formulario!$A:$I,8,FALSE)<HLOOKUP(N$1,Informe!$A:$AP,ROW($A14),FALSE),"NO ADMISIBLE","ADMISIBLE") -> ADMISIBLE | O14: =IF(VLOOKUP($A14,Formulario!$A:$I,7,FALSE)=HLOOKUP(O$1,Informe!$A:$AP,ROW($A14),FALSE),"ADMISIBLE","NO ADMISIBLE") -> ADMISIBLE | P14: =IF(VLOOKUP($A14,Formulario!$A:$I,6,FALSE)=HLOOKUP(P$1,Informe!$A:$AP,ROW($A14),FALSE),"ADMISIBLE","NO ADMISIBLE") -> ADMISIBLE | Q14: =IF(VLOOKUP($A14,Formulario!$A:$I,8,FALSE)<HLOOKUP(Q$1,Informe!$A:$AP,ROW($A14),FALSE),"NO ADMISIBLE","ADMISIBLE") -> ADMISIBLE | R14: =IF(VLOOKUP($A14,Formulario!$A:$I,7,FALSE)=HLOOKUP(R$1,Informe!$A:$AP,ROW($A14),FALSE),"ADMISIBLE","NO ADMISIBLE") -> ADMISIBLE | S14: =IF(VLOOKUP($A14,Formulario!$A:$I,6,FALSE)=HLOOKUP(S$1,Informe!$A:$AP,ROW($A14),FALSE),"ADMISIBLE","NO ADMISIBLE") -> ADMISIBLE | T14: =IF(VLOOKUP($A14,Formulario!$A:$I,8,FALSE)<HLOOKUP(T$1,Informe!$A:$AP,ROW($A14),FALSE),"NO ADMISIBLE","ADMISIBLE") -> ADMISIBLE | U14: =IF(VLOOKUP($A14,Formulario!$A:$I,7,FALSE)=HLOOKUP(U$1,Informe!$A:$AP,ROW($A14),FALSE),"ADMISIBLE","NO ADMISIBLE") -> ADMISIBLE | V14: =IF(VLOOKUP($A14,Formulario!$A:$I,6,FALSE)=HLOOKUP(V$1,Informe!$A:$AP,ROW($A14),FALSE),"ADMISIBLE","NO ADMISIBLE") -> ADMISIBLE | W14: =IF(VLOOKUP($A14,Formulario!$A:$I,8,FALSE)<HLOOKUP(W$1,Informe!$A:$AP,ROW($A14),FALSE),"NO ADMISIBLE","ADMISIBLE") -> ADMISIBLE | X14: =IF(VLOOKUP($A14,Formulario!$A:$I,7,FALSE)=HLOOKUP(X$1,Informe!$A:$AP,ROW($A14),FALSE),"ADMISIBLE","NO ADMISIBLE") -> ADMISIBLE | Y14: =IF(VLOOKUP($A14,Formulario!$A:$I,6,FALSE)=HLOOKUP(Y$1,Informe!$A:$AP,ROW($A14),FALSE),"ADMISIBLE","NO ADMISIBLE") -> ADMISIBLE | Z14: =IF(VLOOKUP($A14,Formulario!$A:$I,8,FALSE)<HLOOKUP(Z$1,Informe!$A:$AP,ROW($A14),FALSE),"NO ADMISIBLE","ADMISIBLE") -> ADMISIBLE | AA14: =IF(VLOOKUP($A14,Formulario!$A:$I,7,FALSE)=HLOOKUP(AA$1,Informe!$A:$AP,ROW($A14),FALSE),"ADMISIBLE","NO ADMISIBLE") -> ADMISIBLE | AB14: =IF(VLOOKUP($A14,Formulario!$A:$I,6,FALSE)=HLOOKUP(AB$1,Informe!$A:$AP,ROW($A14),FALSE),"ADMISIBLE","NO ADMISIBLE") -> ADMISIBLE | AC14: =IF(VLOOKUP($A14,Formulario!$A:$I,8,FALSE)<HLOOKUP(AC$1,Informe!$A:$AP,ROW($A14),FALSE),"NO ADMISIBLE","ADMISIBLE") -> ADMISIBLE | AD14: =IF(VLOOKUP($A14,Formulario!$A:$I,7,FALSE)=HLOOKUP(AD$1,Informe!$A:$AP,ROW($A14),FALSE),"ADMISIBLE","NO ADMISIBLE") -> ADMISIBLE | AE14: =IF(VLOOKUP($A14,Formulario!$A:$I,6,FALSE)=HLOOKUP(AE$1,Informe!$A:$AP,ROW($A14),FALSE),"ADMISIBLE","NO ADMISIBLE") -> ADMISIBLE | AF14: =IF(VLOOKUP($A14,Formulario!$A:$I,8,FALSE)<HLOOKUP(AF$1,Informe!$A:$AP,ROW($A14),FALSE),"NO ADMISIBLE","ADMISIBLE") -> ADMISIBLE
