Workbook

Sheet Analisis de historicos  x IPC
B2: ANALISIS DEL PRESUPUESTO POR HISTORICOS DE CONTRATOS DE LA ENTIDAD
B3: OBJETO: “REALIZAR LOS INFORMES DE CUMPLIMIENTO AMBIENTAL - ICAs DE CONFORMIDAD CON LOS INSTRUMENTOS AMBIENTALES VIGENTES DE LOS AEROPUERTOS A CARGO DE LA AEROCIVIL"
B5: Historicos a valor presente febrero 2023 | K5: AÑO | L5: IPC
B6: AÑO | C6: No. Contrato | D6: No de aeropuertos | E6: Valor de contrato incluido IVA | F6: Valor x aeropuerto sin IVA | G6: Valor presente x aeropuerto febrero 2023 SIN IVA | H6: Valor presente febrero 2023 CON IVA, EXP LETICIA, SAN AN PROV | K6: 2018 | L6: 0.0318 | M6: =(L6/100*100)+1 -> 1.0318
B7: 2018 | C7: 18000707 H3 | D7: 29 | E7: 1040479645 | F7: 30656069 | G7: =N11 -> 39932854 | H7: =ROUND((((G7*26)*1.19))+(G7*3),0) -> 1355321050 | K7: 2019 | L7: 0.038 | M7: =(L7/100*100)+1 -> 1.038
B8: 2019 | C8: 19000619 H3 | D8: 29 | E8: 991916592 | F8: 29225592 | G8: =N21 -> 36675821 | H8: =ROUND((((G8*26)*1.19))+(G8*3),0) -> 1244777364 | K8: 2020 | L8: 0.0161 | M8: =(L8/100*100)+1 -> 1.0161
B9: 2020 | C9: 20000637 H3 | D9: 27 | E9: 995104600 | F9: 31530565 | G9: =N29 -> 38941424 | H9: =ROUND((((G9*24)*1.19))+(G9*3),0) -> 1228991342 | K9: 2021 | L9: 0.0562 | M9: =(L9/100*100)+1 -> 1.0562
B10: 2021 | C10: 21000594 H3 | D10: 30 | E10: 1100043852 | F10: 31313517 | G10: =N37 -> 36615567 | H10: =ROUND((((G10*27)*1.19))+(G10*3),0) -> 1286304861 | K10: 2022 | L10: 0.1312 | M10: =(L10/100*100)+1 -> 1.1312
B11: 2022 | C11: 22000983 H3 | D11: 29 | E11: 1475365046 | F11: 43469801 | G11: =N46 -> 44934733 | H11: =ROUND((((G11*26)*1.19))+(G11*3),0) -> 1525084848 | K11: 2023 (febrero) | L11: 0.0337 | M11: =(L11/100*100)+1 -> 1.0337 | N11: =F7*(M7*M8*M9*M10*M11) -> 39932854 | O11: =ROUND((((N11*26)*1.19))+(N11*3),0) -> 1355321050
F13: PROMEDIO | G13: =AVERAGE(G7:G11) -> 39420080 | H13: =ROUND((((G13*26)*1.19))+(G13*3),0) -> 1337917506
E15: PRESPUESTO ESTIMADO X HISTORICOS | G15: =H13 -> 1337917506 | K15: AÑO | L15: IPC
K16: 2018 | L16: 0.0318 | M16: =(L16/100*100)+1 -> 1.0318
B17: ss | K17: 2019 | L17: 0.038 | M17: =(L17/100*100)+1 -> 1.038
B18: 22 | K18: 2020 | L18: 0.0161 | M18: =(L18/100*100)+1 -> 1.0161
C19: 1475365046 | K19: 2021 | L19: 0.0562 | M19: =(L19/100*100)+1 -> 1.0562
C20: 1774027840 | E20: =C19/C20 -> 0.83164706 | F20: =100%-E20 -> 0.16835294 | K20: 2022 | L20: 0.1312 | M20: =(L20/100*100)+1 -> 1.1312
K21: 2023 (febrero) | L21: 0.0337 | M21: =(L21/100*100)+1 -> 1.0337 | N21: =F8*(M18*M19*M20*M21) -> 36675821 | O21: =ROUND((((N21*26)*1.19))+(N21*3),0) -> 1244777364
K23: AÑO | L23: IPC
F24: =C25/C19 -> 0.90683828 | K24: 2018 | L24: 0.0318 | M24: =(L24/100*100)+1 -> 1.0318
C25: 1337917506 | F25: =100%-F24 -> 0.093161716 | K25: 2019 | L25: 0.038 | M25: =(L25/100*100)+1 -> 1.038
C26: 1774027840 | K26: 2020 | L26: 0.0161 | M26: =(L26/100*100)+1 -> 1.0161
K27: 2021 | L27: 0.0562 | M27: =(L27/100*100)+1 -> 1.0562
K28: 2022 | L28: 0.1312 | M28: =(L28/100*100)+1 -> 1.1312
K29: 2023 (febrero) | L29: 0.0337 | M29: =(L29/100*100)+1 -> 1.0337 | N29: =F9*(M27*M28*M29) -> 38941424 | O29: =ROUND((((N29*26)*1.19))+(N29*3),0) -> 1321671931
K31: AÑO | L31: IPC
K32: 2018 | L32: 0.0318 | M32: =(L32/100*100)+1 -> 1.0318
K33: 2019 | L33: 0.038 | M33: =(L33/100*100)+1 -> 1.038
K34: 2020 | L34: 0.0161 | M34: =(L34/100*100)+1 -> 1.0161
K35: 2021 | L35: 0.0562 | M35: =(L35/100*100)+1 -> 1.0562
K36: 2022 | L36: 0.1312 | M36: =(L36/100*100)+1 -> 1.1312
K37: 2023 (febrero) | L37: 0.0337 | M37: =(L37/100*100)+1 -> 1.0337 | N37: =F10*(M36*M37) -> 36615567 | O37: =ROUND((((N37*27)*1.19))+(N37*3),0) -> 1286304861
K40: AÑO | L40: IPC
K41: 2018 | L41: 0.0318 | M41: =(L41/100*100)+1 -> 1.0318
K42: 2019 | L42: 0.038 | M42: =(L42/100*100)+1 -> 1.038
K43: 2020 | L43: 0.0161 | M43: =(L43/100*100)+1 -> 1.0161
K44: 2021 | L44: 0.0562 | M44: =(L44/100*100)+1 -> 1.0562
K45: 2022 | L45: 0.1312 | M45: =(L45/100*100)+1 -> 1.1312
K46: 2023 (febrero) | L46: 0.0337 | M46: =(L46/100*100)+1 -> 1.0337 | N46: =F11*(M46) -> 44934733 | O46: =ROUND((((N46*27)*1.19))+(N46*3),0) -> 1578557181
M62: Total
M63: =+J41+L55 -> 0
M64: =+J42+L56 -> 0
M65: =+J43+L57 -> 0
M66: =+J44+L58 -> 0
M67: =+J45+L59 -> 0

Sheet DvSTAND Valores atipicos
C1: EVALUACION DE LAS COTIZACIONES: METODO DESVIACIÓN ESTANDAR
B3: No. | C3: EMPRESA COTIZANTE | D3: ENTREGABLE 1 | E3: ENTREGABLE 2 | F3: ENTREGABLE 3
B4: 1 | C4: CONSGA | D4: 1388965200 | E4: 995838450 | F4: 422850000
B5: =B4+1 -> 2 | C5: GEOSIGMA | D5: 618150325 | E5: 450976123 | F5: 450976123
B6: =B5+1 -> 3 | C6: INCOPLAN | D6: 571000000 | E6: 571000000 | F6: 322000000
B7: =B6+1 -> 4 | C7: TER-SAS | D7: 528350000 | E7: 528350000 | F7: 477210000
B8: =B7+1 -> 5 | C8: ACI | D8: 566733985 | E8: 566733985 | F8: 392935563
B9: =B8+1 -> 6 | C9: MCS | D9: 986300000 | E9: 986300000 | F9: 98000000
B10: =B9+1 -> 7 | C10: SIMA | D10: 538150062 | E10: 538150062 | F10: 461271482
B11: 8
B12: 9
C13: Promedio | D13: =AVERAGE(D4:D12) -> 7.4252137e+08 | E13: =AVERAGE(E4:E12) -> 6.6247837e+08 | F13: =AVERAGE(F4:F12) -> 3.7503474e+08 | H13: =AVERAGE(H4:H12) -> #DIV/0!
C14: Desviación Estándar | D14: =_xlfn.STDEV.P(D4:D12) -> 3.0254719e+08 | E14: =_xlfn.STDEV.P(E4:E12) -> 2.1101991e+08 | F14: =_xlfn.STDEV.P(F4:F12) -> 1.2294675e+08 | H14: =_xlfn.STDEV.P(H4:H12) -> #DIV/0!
C17: Limite superior | D17: =D13+D14 -> 1.0450686e+09 | E17: =E13+E14 -> 8.7349828e+08 | F17: =F13+F14 -> 4.9798149e+08 | G17: =G13+G14 -> 0 | H17: =H13+H14 -> #DIV/0!
C18: Limite Inferior | D18: =D13-D14 -> 4.3997418e+08 | E18: =E13-E14 -> 4.5145846e+08 | F18: =F13-F14 -> 2.5208799e+08 | G18: =G13-G14 -> 0 | H18: =H13-H14 -> #DIV/0!
C20: RESULTADO FINAL UNA VEZ DESCARTADO AQUELLOS VALORES QUE ESTAN POR ENCIMA Y POR DEBAJO DE LOS LIMITES
B22: No. | C22: EMPRESA COTIZANTE | D22: ENTREGABLE 1 | E22: ENTREGABLE 2 | F22: ENTREGABLE 3
B23: 1 | C23: CONSGA | F23: 422850000
B24: =B23+1 -> 2 | C24: GEOSIGMA | D24: 618150325 | E24: 450976123 | F24: 450976123
B25: =B24+1 -> 3 | C25: INCOPLAN | D25: 571000000 | E25: 571000000 | F25: 322000000
B26: =B25+1 -> 4 | C26: TER-SAS | D26: 528350000 | E26: 528350000 | F26: 477210000
B27: =B26+1 -> 5 | C27: ACI | D27: 566733985 | E27: 566733985 | F27: 392935563
B28: =B27+1 -> 6 | C28: MCS
B29: =B28+1 -> 7 | C29: SIMA | D29: 538150062 | E29: 538150062 | F29: 461271482
B30: 8
B31: 9
C32: Promedio | D32: =AVERAGE(D23:D31) -> 5.6447687e+08 | E32: =AVERAGE(E23:E31) -> 531042034 | F32: =AVERAGE(F23:F31) -> 4.2120719e+08 | G32: =AVERAGE(G23:G31) -> #DIV/0! | H32: =AVERAGE(H23:H31) -> #DIV/0!
C33: Desviación Estándar | D33: =_xlfn.STDEV.P(D23:D31) -> 31390244 | E33: =_xlfn.STDEV.P(E23:E31) -> 43217764 | F33: =_xlfn.STDEV.P(F23:F31) -> 52076389 | G33: =_xlfn.STDEV.P(G23:G31) -> #DIV/0! | H33: =_xlfn.STDEV.P(H23:H31) -> #DIV/0!
C35: Limite superior | D35: =D32+D33 -> 5.9586712e+08 | E35: =E32+E33 -> 5.742598e+08 | F35: =F32+F33 -> 4.7328358e+08 | G35: =G32+G33 -> #DIV/0! | H35: =H32+H33 -> #DIV/0!
C36: Limite inferior | D36: =D32-D33 -> 5.3308663e+08 | E36: =E32-E33 -> 4.8782427e+08 | F36: =F32-F33 -> 3.6913081e+08 | G36: =G32-G33 -> #DIV/0! | H36: =H32-H33 -> #DIV/0!
C38: Promedio Final | D38: =AVERAGE(D23:D31) -> 5.6447687e+08 | E38: =AVERAGE(E23:E31) -> 531042034 | F38: =AVERAGE(F23:F31) -> 4.2120719e+08 | G38: =AVERAGE(G23:G31) -> #DIV/0! | H38: =AVERAGE(H23:H31) -> #DIV/0!
C40: MEDIANA

Sheet Resultado Cotizacion 2023
D1: FORMATO
D2: FORMATO 7 PROPUESTA ECONOMICA
D3: Clave: GCON-1.0-12-112 | E3: Versión: 03 | H3: Fecha de aprobación: 28/12/2020
A4: OBJETO: “REALIZAR LOS INFORMES DE CUMPLIMIENTO AMBIENTAL - ICAs DE CONFORMIDAD CON LOS INSTRUMENTOS AMBIENTALES VIGENTES DE LOS AEROPUERTOS A CARGO DE LA AEROCIVIL"
G5: SMMLV | H5: =H18/1160000 -> 1529.3343
G6: Condiciones Originales
A7: ITEM | B7: DESCRPCION | E7: Unidad | F7: Cantidad | G7: Valor Unitario | H7: Valor total
A8: 1.0 | B8: COSTOS
A9: 1.1. | B9: ENTREGABLE 1: Informe General; Informe por aeropuerto de la primera visita, incluye icas del primer semestre | E9: Global | F9: 1 | G9: ='DvSTAND Valores atipicos'!D38 -> 5.6447687e+08 | H9: =ROUND(F9*G9,0) -> 564476874
A10: 1.2 | B10: ENTREGABLE 2: Informe General; Informe por aeropuerto de la segunda visita | E10: Global | F10: 1 | G10: ='DvSTAND Valores atipicos'!E38 -> 531042034 | H10: =ROUND(F10*G10,0) -> 531042034
A11: 1.3. | B11: ENTREGABLE 3: Informe final entrega ICA por cada aeropuerto | E11: Global | F11: 1 | G11: ='DvSTAND Valores atipicos'!F38 -> 4.2120719e+08 | H11: =ROUND(F11*G11,0) -> 421207195
B12: SUB-TOTAL Entregables (A) | H12: =ROUND(SUM(H9:H11),0) -> 1516726103
B14: VALOR POR AEROPUERTO (A) /numero total de aeropuertos son 28) B | H14: =ROUND((H12/28),0) -> 54168789
B15: VALOR DE AEROPUERTOS EXENTOS DE IVA (3) (Leticia, San Andres y Providencia) C | H15: =ROUND((H14*3),0) -> 162506367
B16: VALOR DE LOS 25 AEROPUERTOS D | H16: =ROUND((H14*25),0) -> 1354219725
B17: IVA DE LOS 25 AEROPUERTOS (SE EXCLUYEN AEROPUERTOS EXENTOS DE IVA (Leticia, San Andres y Providencia) E | H17: =ROUND((H16*0.19),0) -> 257301748
B18: COSTO TOTAL (SUMATORIA C+ D + E) | H18: =ROUND((H15+H16+H17),0) -> 1774027840

Sheet Comparacion Historico vs Co (2)
D2: COMPARACION COTIZACIONES RECIBIDAS AÑO 2023 VS HISTORICO
E4: valor por aeropuerto sin iva | F4: Valor presupuesto por cotizaciones 28 aeropuertos METODO DESVIACION ESTANDAR (MDST) | G4: Valor Presente año 2023 proyecto con 28 aeropuertos beneficiados, tomando el valor por aeropuerto del historico ultimos 5 años (Incluye IVA 19%) | H4: Valor proyecto presupuesto año 2023 (promedio entre Historico y MDST)
B5: No. | C5: EMPRESA COTIZANTE | D5: Valor Cotizado INCLUYE IVA
B6: 1 | C6: CONSGA | D6: 3283952049 | E6: 100273345
B7: 2 | C7: GEOSIGMA | D7: 1777977130 | E7: 54289378
B8: 3 | C8: INCOPLAN | D8: 1712357134 | E8: 52285714
B9: 4 | C9: TER-SAS | D9: 1794126875 | E9: 54782500
B10: 5 | C10: ACI | D10: 1795346993 | E10: 54514412
B11: 6 | C11: MCS | D11: 2421862500 | E11: 73950000
B12: 6 | C12: SIMA | D12: 1798409658 | E12: 54913272
B13: 7
B15: 8
D16: =AVERAGE(D6:D15) -> 2.0834332e+09 | E16: =AVERAGE(E6:E15) -> 63572660 | F16: ='Resultado Cotizacion 2023'!H18 -> 1774027840 | G16: ='Analisis de historicos x IPC'!G15 -> 1337917506 | H16: =AVERAGE(F16:G16) -> 1555972673
G18: =F16-G16 -> 436110334
C20: HISTORICO | D20: =G16 -> 1337917506 | F20: =F16/1160000 -> 1529.3343 | G20: =G16/1160000 -> 1153.3772 | H20: =H16/1160000 -> 1341.3558 | I20: SMMLV
C21: Promedio | D21: =AVERAGE(D20:D22) -> 1555972673 | K21: 1555972673 | L21: 1555972673 | N21: 1774027840 | P21: 1555972673 | R21: 1774027840 | T21: 1337917506
C22: COTIZACIONES Mod DESVEST | D22: =F16 -> 1774027840 | K22: 1337917506 | L22: 1774027840 | N22: 1337917506 | P22: 1475365046 | R22: 1475365046 | T22: 1475365046
K24: =K21-K22 -> 218055167 | L24: =L21-L22 -> -218055167 | N24: =N21-N22 -> 436110334 | P24: =P21-P22 -> 80607627 | R24: =R21-R22 -> 298662794 | T24: =T21-T22 -> -137447540
K26: =K22/K21 -> 0.85985926 | L26: =L21/L22 -> 0.8770847 | N26: =N22/N21 -> 0.7541694 | P26: =P22/P21 -> 0.9481947 | R26: =R22/R21 -> 0.83164706 | T26: =T22/T21 -> 1.1027324
K27: =K26*1 -> 0.85985926 | L27: =L26*1 -> 0.8770847 | N27: =N26*1 -> 0.7541694 | P27: =P26*1 -> 0.9481947 | R27: =R26*1 -> 0.83164706 | T27: =T26*1 -> 1.1027324
K28: =1-K27 -> 0.14014074 | L28: =1-L27 -> 0.1229153 | N28: =1-N27 -> 0.2458306 | P28: =1-P27 -> 0.051805297 | R28: =1-R27 -> 0.16835294 | T28: =1-T27 -> -0.10273245
K29: =SUM(K27:K28) -> 1 | L29: =SUM(L27:L28) -> 1 | N29: =SUM(N27:N28) -> 1 | P29: =SUM(P27:P28) -> 1 | R29: =SUM(R27:R28) -> 1 | T29: =SUM(T27:T28) -> 1

Sheet Rubro presupuestal
A1: No. | B1: RUBRO PRESUPUESTAL | C1: AEROPUERTOS | D1: REGIONAL O TRONCAL | E1: subtotal | F1: IVA | G1: VALOR TOTAL
A2: 1 | B2: C-2403-0600-25-0-2403086-02 | C2: Guaymaral | D2: Ciudad Región | E2: 47510616 | F2: 9027017 | G2: =E2+F2 -> 56537633
A3: =A2+1 -> 2 | B3: C-2403-0600-28-0-2403086-02 | C3: Riohacha | D3: Troncal | E3: 47510616 | F3: 9027017 | G3: =E3+F3 -> 56537633
A4: =A3+1 -> 3 | B4: C-2403-0600-35-0-2403086-02 | C4: Cúcuta | D4: Troncal | E4: 47510616 | F4: 9027017 | G4: =E4+F4 -> 56537633
A5: =A4+1 -> 4 | B5: C-2403-0600-36-0-2403086-02 | C5: Bucaramanga | D5: Troncal | E5: 47510616 | F5: 9027017 | G5: =E5+F5 -> 56537633
A6: =A5+1 -> 5 | B6: C-2403-0600-40-0-2403086-02 | C6: Barrancabermeja | D6: Troncal | E6: 47510616 | F6: 9027017 | G6: =E6+F6 -> 56537633
A7: =A6+1 -> 6 | B7: C-2403-0600-41-0-2403086-02 | C7: Valledupar | D7: Troncal | E7: 47510616 | F7: 9027017 | G7: =E7+F7 -> 56537633
A8: =A7+1 -> 7 | B8: C-2403-0600-31-0-2403086-02 | C8: Pasto | D8: Troncal | E8: 47510616 | F8: 9027017 | G8: =E8+F8 -> 56537633
A9: =A8+1 -> 8 | B9: C-2403-0600-34-0-2403086-02 | C9: Ipiales | D9: Troncal | E9: 47510616 | F9: 9027017 | G9: =E9+F9 -> 56537633
A10: =A9+1 -> 9 | B10: C-2403-0600-39-0-2403086-02 | C10: Popayán | D10: Troncal | E10: 47510616 | F10: 9027017 | G10: =E10+F10 -> 56537633
A11: =A10+1 -> 10 | B11: C-2403-0600-29-0-2403086-02 | C11: Cartagena | D11: Troncal | E11: 47510616 | F11: 9027017 | G11: =E11+F11 -> 56537633
A12: =A11+1 -> 11 | B12: C-2403-0600-30-0-2403086-02 | C12: Santa Marta | D12: Troncal | E12: 47510616 | F12: 9027017 | G12: =E12+F12 -> 56537633
A13: =A12+1 -> 12 | B13: C-2403-0600-44-0-2403086-02 | C13: Armenia | D13: Troncal | E13: 47510616 | F13: 9027017 | G13: =E13+F13 -> 56537633
A14: =A13+1 -> 13 | B14: C-2403-0600-45-0-2403086-02 | C14: Yopal | D14: Troncal | E14: 47510616 | F14: 9027017 | G14: =E14+F14 -> 56537633
... A16: =A15+1 -> 15 | B16: C-2403-0600-46-0-2403086-02 | C16: Ibagué | D16: Regional Cundinamarca | E16: 47510616 | F16: 9027017 | G16: =E16+F16 -> 56537633
A17: =A16+1 -> 16 | C17: Neiva | E17: 47510616 | F17: 9027017 | G17: =E17+F17 -> 56537633
A18: =A17+1 -> 17 | C18: Florencia | E18: 47510616 | F18: 9027017 | G18: =E18+F18 -> 56537633
A19: =A18+1 -> 18 | C19: Puerto Asís | E19: 47510616 | F19: 9027017 | G19: =E19+F19 -> 56537633
A20: =A19+1 -> 19 | C20: Puerto Carreño | E20: 47510616 | F20: 9027017 | G20: =E20+F20 -> 56537633
A21: =A20+1 -> 20 | B21: C-2403-0600-47-0-2403086-02 | C21: Arauca | E21: 47510616 | F21: 9027017 | G21: =E21+F21 -> 56537633
A22: =A21+1 -> 21 | C22: Ocaña | E22: 47510616 | F22: 9027017 | G22: =E22+F22 -> 56537633
A23: =A22+1 -> 22 | B23: C-2403-0600-43-0-2403086-02 | C23: Mitú | D23: Regional Meta: | E23: 47510616 | F23: 9027017 | G23: =E23+F23 -> 56537633
A24: =A23+1 -> 23 | C24: Villavicencio | E24: 47510616 | F24: 9027017 | G24: =E24+F24 -> 56537633
A25: =A24+1 -> 24 | B25: C-2403-0600-42-0-2403086-02 | C25: Guapi | D25: Regional Valle: | E25: 47510616 | F25: 9027017 | G25: =E25+F25 -> 56537633
A26: =A25+1 -> 25 | C26: Tumaco | E26: 47510616 | F26: 9027017 | G26: =E26+F26 -> 56537633
A27: =A26+1 -> 26 | B27: C-2403-0600-33-0-2403086-02 | C27: San Andres | D27: Troncal | E27: 47510616 | G27: =E27+F27 -> 47510616
A28: =A27+1 -> 27 | B28: C-2403-0600-33-0-2403086-02 | C28: Providencia | D28: Troncal | E28: 47510616 | G28: =E28+F28 -> 47510616
A29: =A28+1 -> 28 | B29: C-2403-0600-37-0-2403086-02 | C29: Leticia | D29: Troncal | E29: 47510616 | G29: =E29+F29 -> 47510616
E30: =SUM(E2:E29) -> 1330297248 | F30: =SUM(F2:F29) -> 225675425 | G30: =SUM(G2:G29) -> 1555972673
