Workbook
Name _________PJ50: #REF!
Name ________MA2: #REF!
Name ________MA2: #REF!
Name ________PJ50: #REF!
Name _______AFC1: [1]INV!$A$25:$D$28
Name _______AFC3: [1]INV!$F$25:$I$28
Name _______AFC5: [1]INV!$K$25:$N$28
Name _______BGC1: [1]INV!$A$5:$D$8
Name _______BGC3: [1]INV!$F$5:$I$8
Name _______BGC5: [1]INV!$K$5:$N$8
Name _______CAC1: [1]INV!$A$19:$D$22
Name _______CAC3: [1]INV!$F$19:$I$22
Name _______CAC5: [1]INV!$K$19:$N$22
Name _______MA2: #REF!
Name _______MA2: #REF!
Name _______PJ50: #REF!
Name _______SBC1: [1]INV!$A$12:$D$15
Name _______SBC3: [1]INV!$F$12:$I$15
Name _______SBC5: [1]INV!$K$12:$N$15
Name ______AFC1: [1]INV!$A$25:$D$28
Name ______AFC3: [1]INV!$F$25:$I$28
Name ______AFC5: [1]INV!$K$25:$N$28
Name ______BGC1: [1]INV!$A$5:$D$8
Name ______BGC3: [1]INV!$F$5:$I$8
Name ______BGC5: [1]INV!$K$5:$N$8
Name ______CAC1: [1]INV!$A$19:$D$22
Name ______CAC3: [1]INV!$F$19:$I$22
Name ______CAC5: [1]INV!$K$19:$N$22
Name ______MA2: #REF!
Name ______MA2: #REF!
Name ______PJ50: #REF!
Name ______SBC1: [1]INV!$A$12:$D$15
Name ______SBC3: [1]INV!$F$12:$I$15
Name ______SBC5: [1]INV!$K$12:$N$15
Name _____AFC1: [1]INV!$A$25:$D$28
Name _____AFC3: [1]INV!$F$25:$I$28
Name _____AFC5: [1]INV!$K$25:$N$28
Name _____BGC1: [1]INV!$A$5:$D$8
Name _____BGC3: [1]INV!$F$5:$I$8
Name _____BGC5: [1]INV!$K$5:$N$8
Name _____CAC1: [1]INV!$A$19:$D$22
Name _____CAC3: [1]INV!$F$19:$I$22
Name _____CAC5: [1]INV!$K$19:$N$22
Name _____MA2: #REF!
Name _____MA2: #REF!
Name _____PJ50: #REF!
Name _____pj51: #REF!
Name _____SBC1: [1]INV!$A$12:$D$15
Name _____SBC3: [1]INV!$F$12:$I$15
Name _____SBC5: [1]INV!$K$12:$N$15
Name ____AFC1: [1]INV!$A$25:$D$28
Name ____AFC3: [1]INV!$F$25:$I$28
Name ____AFC5: [1]INV!$K$25:$N$28
Name ____BGC1: [1]INV!$A$5:$D$8
Name ____BGC3: [1]INV!$F$5:$I$8
Name ____BGC5: [1]INV!$K$5:$N$8
Name ____CAC1: [1]INV!$A$19:$D$22
Name ____CAC3: [1]INV!$F$19:$I$22
Name ____CAC5: [1]INV!$K$19:$N$22
Name ____MA2: #REF!

Sheet ppto oficial
A2: MINISTERIO DE TRANSPORTE
A3: INSTITUTO NACIONAL DE VÍAS
A4: DEPENDENCIA: TERRITORIAL CASANARE
A6: IP-DT-CAS-015-2019
A7: SUMINISTRO MEZCLA MINIMA CUANTIA VIA 6605
A9: FORMULARIO 1
A11: PRESUPUESTO OFICIAL
A13: No. | C13: ITEM DE PAGO | D13: ESPECIFICACIONES | F13: DESCRIPCIÓN | G13: UND | H13: CANTIDAD | I13: VALOR UNITARIO | J13: VALOR TOTAL
D14: GRAL | E14: PART
A15: 1 | D15: 450-13 | E15: 450.10 P | F15: SUMINISTRO DE MEZCLA DENSA EN CALIENTE TIPO MSC-25 PARA BACHEO (INCLUYE, TRANSPORTE, EQUIPO DE COMPACTACIÓN, CORTADORA DE PAVIMENTO Y CARGADOR, ) | G15: M3 | H15: 91 | I15: =+'450.10'!N88 -> 756285 | J15: =ROUND(H15*I15,0) -> 68821935
F17: SUBTOTAL | J17: =SUM(J15:J15) -> 68821935
A18: OBRAS COMPLEMENTARIAS Y/O PAGA | G18: NO MODIFICAR SO PENA DE RECHAZO
F19: SUBTOTAL | J19: =J17 -> 68821935
F20: IVA (19% ) | J20: =ROUND(J15*0.19,0) -> 13076168
F21: VALOR TOTAL | J21: =SUM(J19:J20) -> 81898103

Sheet oferta
A2: MINISTERIO DE TRANSPORTE
A3: INSTITUTO NACIONAL DE VÍAS
A4: DEPENDENCIA: TERRITORIAL CASANARE
A6: =+'ppto oficial'!A6:J6 -> IP-DT-CAS-015-2019
A7: =+'ppto oficial'!A7:J7 -> SUMINISTRO MEZCLA MINIMA CUANTIA VIA 6605
A10: FORMULARIO
A12: OFERTA ECONOMICA
A14: No. | C14: ITEM DE PAGO | D14: ESPECIFICACIONES | F14: DESCRIPCIÓN | G14: UND | H14: CANTIDAD | I14: VALOR UNITARIO | J14: VALOR TOTAL
D15: GRAL | E15: PART
A16: 1 | D16: 450-13 | E16: 450.10P | F16: =+'ppto oficial'!F15 -> SUMINISTRO DE MEZCLA DENSA EN CALIENTE TIPO MSC-25 PARA BACHEO (INCLUYE, TRANSPORTE, EQUIPO DE COMPACTACIÓN, CORTADORA DE PAVIMENTO Y CARGADOR, ) | G16: M3 | H16: =+'ppto oficial'!H15 -> 91
F18: SUBTOTAL
A19: OBRAS COMPLEMENTARIAS Y/O PAGA | G19: NO MODIFICAR SO PENA DE RECHAZO
F20: SUBTOTAL
F21: =+'ppto oficial'!F20 -> IVA (19% )
F22: VALOR TOTAL
B26: RAZON SOCIAL DEL INTERESADO _____________________________
B29: REPRESENTANTE LEGAL DEL INTERESADO (nombre y firma): _____________________________

Sheet 450.10
K1: CÓDIGO | L1: MINFRA-MN-FR-14
C2: INSTITUTO NACIONAL DE VIAS
C3: PROCESO MISIONAL INFRAESTRUCTURA VIAL | K3: VERSIÓN | L3: 1
C4: DIRECCION TECNICA
C5: ANALISIS DE PRECIOS UNITARIOS | K5: PÁGINA | L5: 1 | M5: DE | N5: 1
K9: FECHA
B11: UNIDAD EJECUTORA: | K11: DIRECCIÓN TERRITORIAL: | L11: CASANARE
B18: CONTRATO No. | E18: DE
B19: OBJETO DEL CONTRATO
E20: =+'ppto oficial'!A7 -> SUMINISTRO MEZCLA MINIMA CUANTIA VIA 6605
B22: CONTRATISTA
B24: INTERVENTOR
B27: FECHA CIERRE DE LICITACIÓN Y/O SELECCIÓN ABREVIADA
B29: DATOS ESPECÍFICOS
B30: ITEM | C30: DESCRIPCIÓN | L30: UNIDAD | N30: CANTIDAD
A31: Unidad | B31: 450.10P | C31: Suministro de mezcla asfáltica en caliente tipo MSC-25 para bacheo con mano de obra de microempresas. | L31: m3
B33: I. EQUIPO
B35: DESCRIPCIÓN | I35: TIPO | K35: TARIFA/HORA | L35: RENDIMIENTO | N35: Vr. UNITARIO
A36: C0010960 | B36: Vibrocompactador, tipo benitìn, | K36: 41749 | M36: 3 | N36: =K36/M36 -> 13916.333
B37: Cortadora de pavimento, máxima profundidad de corte 160 m.m., capacidad de disco desde 12" hasta 18" de diámetro; peso operacional 135 kg., y 13,5 hp de potencia. | K37: 18937.5 | M37: 0.5 | N37: =K37/M37 -> 37875
B38: Retroexcavadora sobre llantas, motor 62HP, Profundidad de excavación de 5.41 metros. | K38: 128608 | M38: 10 | N38: =K38/M38 -> 12860.8
B39: Volqueta 6 m3 | K39: 81250 | L39: 6 | N39: =K39/L39 -> 13541.667
B43: SUBTOTAL $ | N43: =SUM(N36:N42) -> 78193.8
B45: II. MATERIALES
B47: DESCRIPCIÓN | J47: UNIDAD | K47: CANTIDAD | L47: PRECIO UNIT. | N47: Vr. UNITARIO
B48: Mezcla semidensa en caliente MSC-25 | J48: m3 | K48: 1.25 | L48: 428400 | N48: =K48*L48 -> 535500
B49: Emulsión CRR-1 | J49: Lt. | K49: 1 | L49: 8387 | M49: 1 | N49: =K49*L49 -> 8387
B50: Disco de 3,5 mm. X 25 seg diamantado 16" | J50: UNIDAD | K50: 0.003 | L50: 1260000 | M50: 0.003 | N50: =K50*L50 -> 3780
B51: Agua para corte | J51: Lt. | K51: 20 | L51: 58 | N51: =K51*L51 -> 1160
B54: SUBTOTAL $ | N54: =SUM(N48:N53) -> 548827
B56: III. TRANSPORTES
B58: MATERIAL | H58: UNIDAD | I58: CANTIDAD (1) | J58: DISTANCIA (2) | K58: (1) * (2) | L58: TARIFA | N58: Vr. UNITARIO
B59: =+B48 -> Mezcla semidensa en caliente MSC-25 | H59: m3/km. | I59: 1.25 | J59: 72 | K59: =I59*J59 -> 90 | L59: 1343 | N59: =K59*L59 -> 120870 | P59: =131/2 -> 65.5
B60: Material proveniente de la excavación para la reparación del pavimento. | H60: m3/km. | I60: 1.25 | J60: 5 | K60: =I60*J60 -> 6.25 | L60: 1343 | N60: =K60*L60 -> 8393.75
B65: SUBTOTAL $ | N65: =SUM(N59:N64) -> 129263.75
B67: IV. MANO DE OBRA
B69: TRABAJADOR | I69: JORNAL | J69: PRESTACIONES (%) | K69: JORNAL TOTAL | L69: RENDIMIENTO | N69: Vr. UNITARIO
B76: SUBTOTAL $
B78: TOTAL COSTO DIRECTO $ | N78: =N43+N54+N65+N76 -> 756284.55
B80: V. COSTOS INDIRECTOS
...
