Workbook
Name CANTIDAD: #REF!
Name CANTIDAD: #REF!
Name CANTIDAD: #REF!
Name CANTIDAD: #REF!
Name CANTIDAD: #REF!
Name CANTIDAD: #REF!
Name CANTIDAD: #REF!
Name CANTIDAD: #REF!
Name CANTIDAD: #REF!
Name EQUIPO: '[1]EQ-TRANS'!$A$6:$G$90
Name EQUIPO: '[1]EQ-TRANS'!$A$6:$G$90
Name EQUIPO: '[1]EQ-TRANS'!$A$6:$G$90
Name EQUIPO: #REF!
Name EQUIPO: #REF!
Name EQUIPO: '[1]EQ-TRANS'!$A$6:$G$90
Name ITEM: '[1]T-APU'!$A$8:$F$68
Name ITEM: '[1]T-APU'!$A$8:$F$68
Name ITEM: '[1]T-APU'!$A$8:$F$68
Name ITEM: #REF!
Name ITEM: #REF!
Name ITEM: '[1]T-APU'!$A$8:$F$68
Name MANO: [1]AMO!$K$14:$O$44
Name MANO: [1]AMO!$K$14:$O$44
Name MANO: [1]AMO!$K$14:$O$44
Name MANO: #REF!
Name MANO: #REF!
Name MANO: [1]AMO!$K$14:$O$44
Name RRRRR: #REF!
Name RRRRR: #REF!
Name RRRRR: #REF!
Name RRRRR: #REF!
Name RRRRR: #REF!
Name RRRRR: #REF!
Name TABLA_MATERIALES: [1]MAT!$A$6:$G$163
Name TABLA_MATERIALES: [1]MAT!$A$6:$G$163
Name TABLA_MATERIALES: [1]MAT!$A$6:$G$163
Name TABLA_MATERIALES: #REF!
Name TABLA_MATERIALES: #REF!
Name TABLA_MATERIALES: [1]MAT!$A$6:$G$163
Name unit: #REF!
Name unit: #REF!
Name unit: #REF!
Name unit: #REF!
Name unit: #REF!
Name unit: #REF!
Name unit: #REF!
Name unit: #REF!
Name unit: #REF!

Sheet VERIFICACIÓN DOC PUBLICADOS 
B1: FONDO DE PREVENCIÓN Y ATENCIÓN DE EMERGENCIAS FOPAE LP-004-2011 "ADECUACIÓN DE PREDIOS UBICADOS EN ZONAS DE ALTO RIESGO NO MITIGABLE EN DIFERENTES LOCALIDADES DEL DISTRITO CAPITAL"
B3: PROPONENTE | D3: PARTICIPACIÓN CONSORCIO | E3: ANEXO 4 EXPERIENCIA DEL PROPONENTE | F3: ANEXO 7 CONTRATOS VIGENTES O ADJUDICADOS O EN CONSTRUCCIÓN | G3: ANEXO 8 PROPUESTA ECONOMICA | H3: ANEXO 9 HOJAS DE VIDA DEL PERSONAL | J3: RUP (CAMARA DE COMERCIO) | K3: PROTECCIÓN A LA INDUSTRIA NACIONAL | L3: INCENTIVO PARA AQUELLOS OFERENTES QUE EMPLEEN PERSONAL PROVENIENTE DE LA POBLACIÓN VULNERABLE DE BOGOTÁ | M3: RUP Actividad 1: Constructores Especialidad 2: Obras Sanitarias y Ambientales Grupo 06: Protección y Control de Erosiones Grupo 07: Recuperación Ecológica y Morfológica Grupo 08: Empradización Grupo 09: Revegetalización o Conformación Grupo 12: Manejo y Control Ambiental Especialidad 4: Edificaciones y Obras de Urbanismo Grupo 03: Remodelaciones, conservación y mantenimiento. | N3: EXPERIENCIA PROBABLE El proponente debe acreditar mediante el RUP mínimo 200 puntos. | O3: Capacidad residual del proponente (Mínimo 1631 SMMLV ) Para CONSORCIO O UNION TEMPORAL Uno de los integrantes deberá tener como mínimo el sesenta por ciento (60%) de la Capacidad Residual total de contratación exigida como Constructor. | P3: Capacidad Técnica (Mínimo 100 PUNTOS) Para CONSORCIO o UNION TEMPORAL la capacidad técnica del Registro Único de Proponentes, se sumarán y su resultado deberá ser igual o superior a 100 puntos | Q3: HABILITADO | R3: OBSERVACIONES (Describe las razones por las cuales resultan inhabilitados los proponentes)
H4: DIRECTOR DE OBRA | I4: RESIDENTE DE OBRA
G5: NO ES SUBSANABLE | H5: NO ES SUBSANABLE | I5: NO ES SUBSANABLE | K5: NO ES SUBSANABLE | L5: NO ES SUBSANABLE | M5: CUMPLE/NO CUMPLE | N5: CUMPLE/NO CUMPLE | O5: CUMPLE/NO CUMPLE | P5: CUMPLE/NO CUMPLE | Q5: SI/NO
B6: 1 | C6: RODRIGO ARIAS CHAUSTRE | D6: 1
B7: 2 | C7: CONSORCIO INTER-GNG | D7: =+D8+D9 -> 1
C8: GNG INGENIERIA S.A.S. | D8: 0.5
C9: INTER INGENIERIA S.A.S. | D9: 0.5

Sheet CONSOLIDADO 
B1: =+TECNICA!A1 -> “INTERVENTORÍA TÉCNICA, ADMINISTRATIVA Y FINANCIERA PARA EL PLANTEAMIENTO Y EVALUACIÓN DE ALTERNATIVAS DE MITIGACIÓN DEL RIESGO PARA EL BARRIO LA GRAN COLOMBIA DE LA LOCALIDAD DE SAN CRISTÓBAL”
Y2: =+P2 -> 0
B3: RESUMEN EVALUACIÓN DE PROPUESTAS DESPUÉS DE OBSERVACIONES
Y4: =+P4 -> 0
B5: PROPONENTE | E5: EVALUACION JURIDICA | F5: EVALUACION FINANCIERA | G5: EVALUACION TECNICA | H5: EXPERIENCIA ADICIONAL ESPECIFICA DEL PROPONENTE | I5: FORMACIÓN Y EXPERIENCIA ADICIONAL DEL PERSONAL CLAVE | J5: INCENTIVO A LA INDUSTRIA NACIONAL | K5: TOTAL PUNTAJE (MAX 1000 PUNTOS)
H7: 450 PUNTOS | I7: 450 PUNTOS | J7: 100 PUNTOS
B8: 1 | D8: =+TECNICA!B8 -> GEODINAMICA INGENIERIA SA | G8: =TECNICA!J8 -> 91 | H8: =TECNICA!F8 -> 50 | I8: =TECNICA!G8 -> 30 | J8: =TECNICA!H8 -> 10 | K8: =H8+I8+J8 -> 90
B9: 2 | D9: =+TECNICA!B9 -> JAM | G9: =TECNICA!J9 -> 70 | H9: =TECNICA!F9 -> 50 | I9: =TECNICA!G9 -> 9 | J9: =TECNICA!H9 -> 10 | K9: =H9+I9+J9 -> 69
B10: 3 | D10: =+TECNICA!B10 -> CONSORCIO INTERVENTORÍA LA GRAN COLOMBIA | G10: =TECNICA!J10 -> 85.5 | H10: =TECNICA!F10 -> 50 | I10: =TECNICA!G10 -> 24.5 | J10: =TECNICA!H10 -> 10 | K10: =J10+I10+H10 -> 84.5
B11: 4 | D11: =+TECNICA!#REF! -> #REF! | G11: =TECNICA!#REF! -> #REF! | H11: =TECNICA!#REF! -> #REF! | I11: =TECNICA!#REF! -> #REF! | J11: =TECNICA!#REF! -> #REF! | K11: =J11+I11+H11 -> #REF!
B12: 5 | D12: =+TECNICA!#REF! -> #REF! | G12: =TECNICA!#REF! -> #REF! | H12: =TECNICA!#REF! -> #REF! | I12: =TECNICA!#REF! -> #REF! | J12: =TECNICA!#REF! -> #REF! | K12: =J12+I12+H12 -> #REF!
B13: 6 | D13: =+TECNICA!#REF! -> #REF! | H13: =TECNICA!#REF! -> #REF! | I13: =TECNICA!#REF! -> #REF! | J13: =TECNICA!#REF! -> #REF! | K13: =J13+I13+H13 -> #REF!
B14: 7 | D14: =+TECNICA!#REF! -> #REF! | H14: =TECNICA!#REF! -> #REF! | I14: =TECNICA!#REF! -> #REF! | J14: =TECNICA!#REF! -> #REF! | K14: =J14+I14+H14 -> #REF!
B15: 8 | D15: =TECNICA!#REF! -> #REF! | H15: =TECNICA!#REF! -> #REF! | I15: =TECNICA!#REF! -> #REF! | J15: =TECNICA!#REF! -> #REF! | K15: NO CUMPLE
B16: 9 | D16: =TECNICA!#REF! -> #REF! | H16: =TECNICA!#REF! -> #REF! | I16: =TECNICA!#REF! -> #REF! | J16: =TECNICA!#REF! -> #REF! | K16: NO CUMPLE

Sheet TECNICA
A1: “INTERVENTORÍA TÉCNICA, ADMINISTRATIVA Y FINANCIERA PARA EL PLANTEAMIENTO Y EVALUACIÓN DE ALTERNATIVAS DE MITIGACIÓN DEL RIESGO PARA EL BARRIO LA GRAN COLOMBIA DE LA LOCALIDAD DE SAN CRISTÓBAL”
X2: =+O2 -> 0
A3: RESUMEN EVALUACIÓN TÉCNICA DE PROPUESTAS DESPUES DE OBSERVACIONES
X4: =+O4 -> 0
A5: PROPONENTE | C5: EXPERIENCIA GENERAL PROPONENTE CUMPLE/ NO CUMPLE | D5: EXPERIENCIA ESPECIFICA PROPONENTE CUMPLE/ NO CUMPLE | E5: PROFESIONALES FORMACION Y EXPERIENCIA ESPECIFICA - CUMPLE/ NO CUMPLE | F5: EXPERIENCIA ADICIONAL ESPECIFICA DEL PROPONENTE | G5: FORMACIÓN Y EXPERIENCIA ADICIONAL DEL PERSONAL CLAVE | H5: INCENTIVO A LA INDUSTRIA NACIONAL | I5: INCENTIVO EN FAVOR DE PERSONAS CON DISCAPACIDAD | J5: TOTAL PUNTAJE (MAX 100 PUNTOS)
F7: 50 PUNTOS | G7: 39 PUNTOS | H7: 10 PUNTOS | I7: 1 PUNTO
A8: 1 | B8: GEODINAMICA INGENIERIA SA | C8: =IF('Exp General'!AF10="HABILITADO", "CUMPLE", "NO CUMPLE") -> CUMPLE | D8: =IF('Exp Especifica'!AF11="HABILITADO", "CUMPLE", "NO CUMPLE") -> CUMPLE | E8: CUMPLE | F8: =+'Exp ADICI'!I9 -> 50 | G8: ='1'!H20+'1'!H46 -> 30 | H8: ='IND NACIONAL'!D9 -> 10 | I8: ='Inc Discapacidad'!D9 -> 1 | J8: =IF(C8=" NO CUMPLE", "NO CUMPLE", IF(D8="NO CUMPLE", "NO CUMPLE",IF(E8="NO CUMPLE","NO CUMPLE",F8+G8+H8+I8))) -> 91
A9: 2 | B9: JAM | C9: =IF('Exp General'!AF11="HABILITADO", "CUMPLE", "NO CUMPLE") -> CUMPLE | D9: =IF('Exp Especifica'!AF12="HABILITADO", "CUMPLE", "NO CUMPLE") -> CUMPLE | E9: CUMPLE | F9: =+'Exp ADICI'!I10 -> 50 | G9: =+'2'!H20+'2'!H46+'2'!H73 -> 9 | H9: ='IND NACIONAL'!D10 -> 10 | I9: ='Inc Discapacidad'!D10 -> 1 | J9: =IF(C9=" NO CUMPLE", "NO CUMPLE", IF(D9="NO CUMPLE", "NO CUMPLE",IF(E9="NO CUMPLE", "NO CUMPLE", F9+G9+H9+I9))) -> 70
A10: 3 | B10: CONSORCIO INTERVENTORÍA LA GRAN COLOMBIA | C10: =IF('Exp General'!AF12="HABILITADO", "CUMPLE", "NO CUMPLE") -> CUMPLE | D10: =IF('Exp Especifica'!AF13="HABILITADO", "CUMPLE", "NO CUMPLE") -> CUMPLE | E10: CUMPLE | F10: ='Exp ADICI'!I11 -> 50 | G10: =+'3'!H20+'3'!H46+'3'!H73 -> 24.5 | H10: ='IND NACIONAL'!D11 -> 10 | I10: ='Inc Discapacidad'!D11 -> 1 | J10: =IF(C10=" NO CUMPLE", "NO CUMPLE", IF(D10="NO CUMPLE", "NO CUMPLE", IF(E10="NO CUMPLE", "NO CUMPLE", F10+G10+H10+I10))) -> 85.5
B13: COMITÉ TECNICO EVALUADOR: | C13: 21 de agosto de 2019
B16: Diana Carolina Moreno | E16: Leidy Katherine Rodriguez | H16: Victor Javier Barrantes

Sheet Exp General
A1: =+TECNICA!A1 -> “INTERVENTORÍA TÉCNICA, ADMINISTRATIVA Y FINANCIERA PARA EL PLANTEAMIENTO Y EVALUACIÓN DE ALTERNATIVAS DE MITIGACIÓN DEL RIESGO PARA EL BARRIO LA GRAN COLOMBIA DE LA LOCALIDAD DE SAN CRISTÓBAL”
A2: EVALUACIÓN EXPERIENCIA GENERAL DEL PROPONENTE DESPUES DE OBSERVACIONES
B4: Presupuesto Oficial = | C4: 109658130 | D4: =+C4/828116 -> 132.4188 | E4: SMMLV
H7: Exp. Específica: Director de Consultoría propuesto debe demostrar una experiencia Específica en mínimo dos (2) proyectos en los que haya desempeñado labores de Director de Consultoría o Coordinador de Proyecto en la ejecución de estudios y diseños para obras civiles de estabilización de taludes.
A8: PROPONENTE | C8: CONTRATOS TENIDOS EN CUENTA PARA LA EVALUACIÓN | D8: CONTRATO 1 | F8: Entidad Contratante | G8: No del Contrato en el RUP y folio | H8: FORMA DE EJECUCIÓN | J8: % Consorcio o UT | K8: CONTRATOS clasificados 80101600 y/o 81101500 | L8: Valor en SMMLV Año de finalización del contrato, de acuerdo al porcentaje de participación cuando aplique | M8: CONTRATO 2 | O8: Entidad Contratante | P8: No del Contrato en el RUP y folio | Q8: CONTRATOS clasificados 80101600 y/o 81101500 | R8: FORMA DE EJECUCIÓN | T8: % Consorcio o UT | U8: Valor en SMMLV Año de finalización del contrato, de acuerdo al porcentaje de participación cuando aplique | V8: CONTRATO3 | X8: Entidad Contratante | Y8: No del Contrato en el RUP y folio | Z8: CONTRATOS clasificados 80101600 y/o 81101500 | AA8: FORMA DE EJECUCIÓN | AC8: =$T$8 -> % Consorcio o UT | AD8: Valor en SMMLV Año de finalización del contrato, de acuerdo al porcentaje de participación cuando aplique | AE8: VALOR TOTAL EN SMMLV | AF8: CRITERIO DE ADMISIBILIDAD | AG8: OBSERVACIONES
C9: La experiencia debe ser acreditada en máximo TRES (3) CONTRATOS de interventoría a contratos de consultoría cuya sumatoria debe ser igual o superior al presupuesto oficial designado (132.42 SMMLV) expresado en salarios SMMLV, los contratos presentados para acreditar la experiencia deben estar clasificados hasta el tercer nivel en alguno de los clasificadores 80101600 y/o 81101500 descritos en el cuadro anterior. NOTA 2: Para efectos de verificar la anterior información el proponente deberá presentar máximo TRES (3) certificaciones las cuales deben por lo menos contener la información que más adelante se informa. Es necesario señalar que sólo se verificarán las certificaciones de conformidad con la experiencia de los contratos que se encuentren reportados en el RUP y clasificados en alguno de los siguientes códigos UNSPSC 80101600 y/o 81101500. La sumatoria del valor total de los contratos presentados debe ser igual o superior al 100% del presupuesto oficial en SMMLV. NOTA 3: Los contratos presentados se evaluarán en el orden en que se encuentren relacionadas en el Anexo de Experiencia y solo hasta el número máximo de contratos solicitados para la experiencia (Máximo 3). Si el proponente presenta más de los contratos exigidos, estos no se tendrán en cuenta para la evaluación. | E9: Contratista | H9: IND. | I9: U.T o CONS. | N9: Contratista | R9: IND. | S9: U.T o CONS. | W9: CONTRATISTA | AA9: IND. | AB9: U.T o CONS. | AF9: HABILITADO - NO HABILITADO
A10: 1 | B10: =+TECNICA!B8 -> GEODINAMICA INGENIERIA SA | D10: REALIZAR LA INTERVENTORÍA PARA "ELABORACIÓN DE ESTUDIOS TÉCNICOS DE LA URBANIZACIÓN ZARAZOTA DE LA LOCALIDAD DE RAFAEL URIBE URIBE | E10: GEODINÁMICA INGENIERÍA S.A | F10: IDIGER | G10: Contrato 56, Folio 91 | H10: X | K10: SI | L10: 92.7 | M10: INTERVENTORIA TECNICA Y ADMINISTRATIVA A LOS DISEÑOS DETALLADOS, PRESUPUESTOS Y ESPECIFICACIONES TÉCNICAS DE LAS OBRAS DE MITIGACIÓN DE RIESGO EN LOS ASENTAMIENTOS DE BETANIA 1, BETANIA II Y LA UNIÓN DE LA LOCALIDAD DE SUMAPAZ EN BOGOTÁ D.C. | N10: GEODINÁMICA INGENIERÍA S.A | O10: DIRECCION DE PREVENCION Y ATENCION DE EMERGENCIAS | P10: CONTRATO 24, FOLIO 61 | Q10: SI | R10: X | U10: 23.63 | V10: REALIZAR LA INTERVENTORÍA DE LOS ESTUDIOS Y DISEÑOS DETALLADOS DE OBRAS DE MITIGACIÓN DEL SECTOR CASA LOMA DE LA LOCALIDAD DE CIUDAD BOLÍVAR CIUDAD DE BOGOTÁ | W10: GEODINÁMICA INGENIERÍA S.A | X10: FONDO DE PREVENCIÓN Y ATENCIÓN DE EMEREGENCIAS | Y10: CONTRATO 80, FOLIO 111 | Z10: SI | AA10: X | AD10: 62.02 | AE10: =+U10+L10+AD10 -> 178.35 | AF10: =IF(AE10>$D$4, "HABILITADO", "NO HABILITADO") -> HABILITADO
A11: 2 | B11: =+TECNICA!B9 -> JAM | D11: INTERVENTORÍA PARA LA ELABORACIÓN DE LOS ESTUDIOS Y DISEÑOS DE LAS ÁREAS AFECTADAS POR EL FENÓMENO DE LA NIÑA 2010 - 2011 EN LA CUENCA DEL RÍO FONCE, MUNICIPIOS DE ENCINO, COROMORO, CHARALÁ, OCAMONTE, PARAMO, VALLE DE SAN JOSÉ, ONZAGA, SAN JOAQUÍN, MOGOTES, SAN GIL, PINCHOTE Y BARICHARA DEPARTAMENTO DE SANTANDER | E11: JAM INGENIERIA Y MEDIO AMBIENTE E U | F11: FONDO DE ADPATACIÓN | G11: Contrato 30, Folio 18 | H11: X | K11: SI | L11: 498.38 | AE11: =+U11+L11+AD11 -> 498.38 | AF11: =IF(AE11>$D$4, "HABILITADO", "NO HABILITADO") -> HABILITADO
A12: 3 | B12: =+TECNICA!B10 -> CONSORCIO INTERVENTORÍA LA GRAN COLOMBIA | D12: Realizar la interventoría técnica, administrativa y financiera al contrato de consultoría que tiene por objeto la Delimitación, caracterización biofísica y descripción del componente social de ciento cincuenta (150) humedales identificados y priorizados en la jurisdicción de la CAR, incluyendo la determinación de la cota de máxima inundación y su correspondiente área de protección.” | E12: GEOCING SAS - CONSORCIO HUMEDALES 2015 | F12: CAR | G12: 142 FOLIO 129 | I12: x | J12: 0.5 | K12: SI | L12: =1752.53*J12 -> 876.265 | AE12: =+U12+L12+AD12 -> 876.265 | AF12: =IF(AE12>$D$4, "HABILITADO", "NO HABILITADO") -> HABILITADO
B14: COMITÉ TECNICO EVALUADO | D14: =+TECNICA!C13 -> 21 de agosto de 2019
D17: Diana Carolina Moreno | F17: Leidy Katherine Rodriguez | K17: Victor Javier Barrantes
C22: SMMLV
B23: 2017 | C23: 737717
B24: 16 | C24: 689455
B25: 15 | C25: 644350
B26: 14 | C26: 616000
B27: 13 | C27: 589500
B28: 12 | C28: 566700
B29: 11 | C29: 535600
B30: 10 | C30: 515000
B31: 9 | C31: 496900
B32: 8 | C32: 461500
B33: 7 | C33: 433700
B34: 6 | C34: 408000
... B39: 1 | C39: 286000
AE564: 0

Sheet Exp Especifica
A1: =+TECNICA!A1 -> “INTERVENTORÍA TÉCNICA, ADMINISTRATIVA Y FINANCIERA PARA EL PLANTEAMIENTO Y EVALUACIÓN DE ALTERNATIVAS DE MITIGACIÓN DEL RIESGO PARA EL BARRIO LA GRAN COLOMBIA DE LA LOCALIDAD DE SAN CRISTÓBAL”
A3: EVALUACIÓN EXPERIENCIA ESPECÍFICA DEL PROPONENTE DESPUES DE OBSERVACIONES
B5: Presupuesto Oficial = | C5: =+'Exp General'!C4 -> 109658130 | D5: =+'Exp General'!D4 -> 132.4188 | E5: SMMLV | F5: =D5*40% -> 52.967521
H8: Exp. Específica: Director de Consultoría propuesto debe demostrar una experiencia Específica en mínimo dos (2) proyectos en los que haya desempeñado labores de Director de Consultoría o Coordinador de Proyecto en la ejecución de estudios y diseños para obras civiles de estabilización de taludes.
A9: PROPONENTE | C9: CONTRATOS TENIDOS EN CUENTA PARA LA EVALUACIÓN | D9: CONTRATO 1 | F9: Entidad Contratante | G9: No del Contrato en el RUP y folio | H9: FORMA DE EJECUCIÓN | J9: % Consorcio o UT | K9: CONTRATOS ejecutados y terminados, ítems o actividades incluyan, INTERVENTORÍA A ACONTRATOS DE CONSULTORÍA A ESTUDIOS DE RIESGO | L9: Valor en SMMLV Año de finalización del contrato, de acuerdo al porcentaje de participación cuando aplique | M9: CONTRATO 2 | O9: Entidad Contratante | P9: No del Contrato en el RUP y folio | Q9: CONTRATOS ejecutados y terminados, ítems o actividades incluyan, INTERVENTORÍA A ACONTRATOS DE CONSULTORÍA A ESTUDIOS DE RIESGO | R9: FORMA DE EJECUCIÓN | T9: % Consorcio o UT | U9: Valor en SMMLV Año de finalización del contrato, de acuerdo al porcentaje de participación cuando aplique | V9: CONTRATO3 | X9: Entidad Contratante | Y9: No del Contrato en el RUP y folio | Z9: CONTRATOS ejecutados y terminados, ítems o actividades incluyan, INTERVENTORÍA A ACONTRATOS DE CONSULTORÍA A ESTUDIOS DE RIESGO | AA9: FORMA DE EJECUCIÓN | AC9: =$T$9 -> % Consorcio o UT | AD9: Valor en SMMLV Año de finalización del contrato, de acuerdo al porcentaje de participación cuando aplique | AE9: VALOR TOTAL EN SMMLV | AF9: CRITERIO DE ADMISIBILIDAD | AG9: OBSERVACIONES
C10: El proponente deberá acreditar máximo TRES (3) contratos de INTERVENTORÍA A CONTRATOS DE CONSULTORÍA A ESTUDIOS DE RIESGO, celebrado con entidad pública o privada, cuya sumatoria debe ser igual o superior al presupuesto oficial designado (132.42 SMMLV) expresado en salarios SMMLV NOTA 1: El proponente podrá acreditar con una o varias certificaciones (máximo 3) la anterior experiencia, teniendo en cuenta los salarios mínimos exigidos. NOTA 2: Para efectos de verificar la anterior información el proponente deberá presentar máximo TRES (3) certificaciones las cuales deben por lo menos contener la información que más adelante se informa. Es necesario señalar que sólo se verificarán las certificaciones de conformidad con la experiencia de los contratos que se encuentren reportados en el RUP y clasificados en alguno de los siguientes códigos UNSPSC 80101600 y/o 81101500. NOTA 3: Los contratos presentados se evaluarán en el orden en que se encuentren relacionadas en el Anexo de Experiencia y solo hasta el número máximo de contratos solicitados para la experiencia (Máximo 3). Si el proponente presenta más de los contratos exigidos, estos no se tendrán en cuenta para la evaluación. | E10: Contratista | H10: IND. | I10: U.T o CONS. | N10: Contratista | R10: IND. | S10: U.T o CONS. | W10: CONTRATISTA | AA10: IND. | AB10: U.T o CONS. | AF10: HABILITADO - NO HABILITADO
A11: 1 | B11: =+TECNICA!B8 -> GEODINAMICA INGENIERIA SA | D11: REALIZAR LA INTERVENTORÍA PARA "ELABORACIÓN DE ESTUDIOS TÉCNICOS DE LA URBANIZACIÓN ZARAZOTA DE LA LOCALIDAD DE RAFAEL URIBE URIBE | E11: GEODINÁMICA INGENIERÍA S.A | F11: IDIGER | G11: Contrato 56, Folio 91 | H11: X | K11: SI | L11: 92.7 | M11: INTERVENTORIA TECNICA Y ADMINISTRATIVA A LOS DISEÑOS DETALLADOS, PRESUPUESTOS Y ESPECIFICACIONES TÉCNICAS DE LAS OBRAS DE MITIGACIÓN DE RIESGO EN LOS ASENTAMIENTOS DE BETANIA 1, BETANIA II Y LA UNIÓN DE LA LOCALIDAD DE SUMAPAZ EN BOGOTÁ D.C. | N11: GEODINÁMICA INGENIERÍA S.A | O11: DIRECCION DE PREVENCION Y ATENCION DE EMERGENCIAS | P11: CONTRATO 24, FOLIO 61 | Q11: SI | R11: X | U11: 23.63 | V11: REALIZAR LA INTERVENTORÍA DE LOS ESTUDIOS Y DISEÑOS DETALLADOS DE OBRAS DE MITIGACIÓN DEL SECTOR CASA LOMA DE LA LOCALIDAD DE CIUDAD BOLÍVAR CIUDAD DE BOGOTÁ | W11: GEODINÁMICA INGENIERÍA S.A | X11: FONDO DE PREVENCIÓN Y ATENCIÓN DE EMEREGENCIAS | Y11: CONTRATO 80, FOLIO 111 | Z11: SI | AA11: X | AD11: 62.02 | AE11: =+U11+L11+AD11 -> 178.35 | AF11: =IF(AE11>$D$5, "HABILITADO", "NO HABILITADO") -> HABILITADO
A12: 2 | B12: =+TECNICA!B9 -> JAM | D12: INTERVENTORÍA TÉCNICA Y ADMINISTRATIVA AL ESTUDIO DE RIESGO POR PROCESOS DE REMOCIÓN EN MASA, EVALUACIÓN DE ALTERNATIVAS Y DISEÑO DE MEDIDAS DE MITIGACIÓN, EN LOS BARRIOS DIVINO NIÑO Y CERROS DEL SUR, INCLUIDA LA PARTE BAJA DE LAS MICROCUENCAS LA TROMPETA Y EL INFIERNO DE LA LOCALIDAD DE CIUDAD BOLIVAR DE LA CIUDAD DE BOGOTA, D. C | E12: JAM INGENIERIA Y MEDIO AMBIENTE E U | F12: FONDO DE PREVENCION Y ATENCION DE EMERGENCIAS FOPAE | G12: Contrato 27, folio 16 | H12: X | K12: SI | L12: 200.97 | AE12: =+U12+L12+AD12 -> 200.97 | AF12: =IF(AE12>$D$5, "HABILITADO", "NO HABILITADO") -> HABILITADO
A13: 3 | B13: =+TECNICA!B10 -> CONSORCIO INTERVENTORÍA LA GRAN COLOMBIA | D13: CONTRATAR LA INTERVENTORÍA INTEGRAL AL CONTRATO DE CONSULTORÍA CUYO OBJETO ES: “AJUSTE DE LOS ESTUDIOS DE AMENAZA, VULNERABILIDAD Y RIESGO Y DE LOS MUNICIPIOS PRIORIZADOS | E13: Consorcio INTER AVR | F13: Gobernación de cundinamarca | G13: 228 folio 268 | I13: x | J13: 0.5 | L13: =383.99*J13 -> 191.995 | AE13: =+U13+L13+AD13 -> 191.995 | AF13: =IF(AE13>$D$5, "HABILITADO", "NO HABILITADO") -> HABILITADO
B15: COMITÉ TECNICO EVALUADO | D15: =+TECNICA!C13 -> 21 de agosto de 2019
D18: Diana Carolina Moreno | F18: Leidy Katherine Rodriguez | K18: Victor Javier Barrantes
C23: SMMLV
B24: 2017 | C24: 737717
B25: 16 | C25: 689455
B26: 15 | C26: 644350
B27: 14 | C27: 616000
B28: 13 | C28: 589500
B29: 12 | C29: 566700
B30: 11 | C30: 535600
B31: 10 | C31: 515000
B32: 9 | C32: 496900
B33: 8 | C33: 461500
B34: 7 | C34: 433700
B35: 6 | C35: 408000
... B40: 1 | C40: 286000
AE565: 0

Sheet Exp ADICI
A2: =+'Exp Especifica'!A1:AG1 -> “INTERVENTORÍA TÉCNICA, ADMINISTRATIVA Y FINANCIERA PARA EL PLANTEAMIENTO Y EVALUACIÓN DE ALTERNATIVAS DE MITIGACIÓN DEL RIESGO PARA EL BARRIO LA GRAN COLOMBIA DE LA LOCALIDAD DE SAN CRISTÓBAL” | U2: =+L2 -> 0
A4: EVALUACIÓN EXPERIENCIA ADICIONAL DEL PROPONENTE DESPUES DE OBSERVACIONES | U4: =+L4 -> 0
A7: PROPONENTE | C7: Se asignarán 50 puntos a los proponentes que acrediten UN (1) contrato de INTERVENTORÍA A CONTRATOS DE CONSULTORÍA celebrado con entidad pública o privada, que incluya todas las siguientes actividades: • Determinación del modelo geológico – geotécnico. • Análisis de estabilidad. - Diseños de obras de estabilización Los contratos presentados deben igualmente estar registrados en el RUP en alguno de los códigos de la clasificación de bienes y servicios UNSPSC siguientes: 80101600 y/o 81101500 y serán revisados según el orden en que el proponente los establezca en el anexo correspondiente. | D7: No. RUP Y FOLIO RUP | E7: Contratista | F7: Entidad Contratante | G7: CONTRATO DE INTERVENTORÍA A CONTRATOS DE CONSULTORÍA que incluyan mínimo las siguientes actividades:  Determinación del modelo geológico – geotécnico  Análisis de estabilidad.  Diseños de obras de estabilización | H7: CUMPLE / NO CUMPLE | I7: PUNTOS (SI CUMPLE 50 PUNTOS, SI NO CUMPLE 0 PUNTOS) | J7: OBSERVACIONES
C8: DESCRIPCIÓN CTO.
A9: 1 | B9: =+TECNICA!B8 -> GEODINAMICA INGENIERIA SA | C9: INTERVENTORIA TECNICA Y ADMINISTRATIVA A LOS DISEÑOS DETALLADOS, PRESUPUESTOS Y ESPECIFICACIONES TÉCNICAS DE LAS OBRAS DE MITIGACIÓN DE RIESGO EN LOS ASENTAMIENTOS DE BETANIA 1, BETANIA II Y LA UNIÓN DE LA LOCALIDAD DE SUMAPAZ EN BOGOTÁ D.C. | D9: CONTRATO 24, FOLIO 61 | E9: GEODINÁMICA INGENIERÍA S.A | F9: DIRECCION DE PREVENCION Y ATENCION DE EMERGENCIAS | G9: SI | H9: CUMPLE | I9: =IF(H9="CUMPLE",50,0) -> 50
A10: 2 | B10: =+TECNICA!B9 -> JAM | C10: INTERVENTORÍA TÉCNICA Y ADMINISTRATIVA AL ESTUDIO DE RIESGO POR PROCESOS DE REMOCIÓN EN MASA, EVALUACIÓN DE ALTERNATIVAS Y DISEÑO DE MEDIDAS DE MITIGACIÓN, EN LOS BARRIOS DIVINO NIÑO Y CERROS DEL SUR, INCLUIDA LA PARTE BAJA DE LAS MICROCUENCAS LA TROMPETA Y EL INFIERNO DE LA LOCALIDAD DE CIUDAD BOLIVAR DE LA CIUDAD DE BOGOTA, D. C. | D10: Contrato 27, folio 16 | E10: JAM INGENIERIA Y MEDIO AMBIENTE E U | F10: FONDO DE PREVENCION Y ATENCION DE EMERGENCIAS FOPAE | G10: SI | H10: CUMPLE | I10: =IF(H10="CUMPLE",50,0) -> 50
A11: 3 | B11: =+TECNICA!B10 -> CONSORCIO INTERVENTORÍA LA GRAN COLOMBIA | C11: INTERVENTORÍA TÉCNICA Y ADMINISTRATIVA A LA ELABORACIÓN DE LOS DISEÑOS DETALLADOS, PRESUPUESTOS Y ESPECIFICACIONES TÉCNICAS PARA LA CONSTRUCCIÓN DE LAS OBRAS DE MITIGACIÓN DE RIESGO REQUERIDAS EN EL SECTOR DE ALTOS DE LA ESTANCIA DE LA LOCALIDAD CIUDAD BOLÍVAR, EN LA CIUDAD DE BOGOTÁ, D.C.” | D11: 32 folio 142 | E11: GEOCING | F11: FOPAE | G11: SI | H11: CUMPLE | I11: =IF(H11="CUMPLE",50,0) -> 50
B14: COMITÉ TECNICO EVALUADOR: | C14: =+TECNICA!C13 -> 21 de agosto de 2019
B17: Diana Carolina Moreno | D17: Leidy Katherine Rodriguez | G17: Victor Javier Barrantes

Sheet 1
B1: “INTERVENTORÍA TÉCNICA, ADMINISTRATIVA Y FINANCIERA PARA EL PLANTEAMIENTO Y EVALUACIÓN DE ALTERNATIVAS DE MITIGACIÓN DEL RIESGO PARA EL BARRIO LA GRAN COLOMBIA DE LA LOCALIDAD DE SAN CRISTÓBAL”
B2: EXPERIENCIA PROFESIONALES DESPUÉS DE OBSERVACIONES | V2: =+M2 -> 0
B3: PROPONENTE: | C3: =+'Exp ADICI'!B9 -> GEODINAMICA INGENIERIA SA
B4: DIRECTOR | V4: =+M4 -> 0
B5: EXPERIENCIA MÍNIMA GENERAL | C5: AÑOS | D5: 6 | E5: FECHA DE MATRICULA PROFESIONAL | F5: 32828 | G5: EN AÑOS | H5: =IF(G6>=D5, "CUMPLE", "NO CUMPLE") -> CUMPLE
B6: PROFESIÓN | C6: INGENIERO CIVIL – ESPECIALISTA EN GEOTECNIA | E6: FECHA CIERRE PROCESO | F6: 43677 | G6: =+(F6-F5)/365 -> 29.723288 | H6: Profesión: Ing. Civil, Geólogo o Ing. Geólogo- Especialización y/o Maestría con énfasis en Geotecnia y/o Doctorado en Geotecnia. Igual o mayor de seis (6) años, contados desde la fecha de la matricula profesional certificada en el COPNIA y hasta el cierre del presente proceso.
B7: NOMBRE DEL PROFESIONAL | C7: MAURICIO HERNÁN CAMARGO CHÁVEZ
B9: FORMACIÓN EXPERIENCIA MÍNIMA HABILITANTE | H9: El Director de Consultoría propuesto debe demostrar una Experiencia en mínimo dos (2) proyectos en los que haya desempeñado labores de Director de Interventoría en la ejecución de Estudios de riesgo
B10: OBJETO CONTRATO | C10: CONTRATANTE | D10: CARGO | E10: Estudios de riesgo | G10: NUMERO DE PROYECTOS HÁBILES
B11: REALIZAR LA INTERVENTORÍA DE LOS ESTUDIOS Y DISEÑOS DETALLADOS DE OBRAS DE MITIGACIÓN DEL SECTOR CASA LOMA DE LA LOCALIDAD DE CIUDAD BOLÍVAR CIUDAD DE BOGOTÁ | C11: Fondo de preveción y atención de emergencias | D11: DIRECTOR | E11: SI | G11: 1
B12: REALIZAR LA INTERVENTORÍA PARA "ELABORACIÓN DE ESTUDIOS TÉCNICOS DE LA URBANIZACIÓN ZARAZOTA DE LA LOCALIDAD DE RAFAEL URIBE URIBE, | C12: Instituto distrital de gestión de riesgos y cambio climático | D12: DIRECTOR | E12: SI | G12: 1
G13: =SUM(G11:G12) -> 2 | I13: =+H13 -> 0
F14: CUMPLE/NO CUMPLE | H14: =IF(G13=2, "CUMPLE", "NO CUMPLE") -> CUMPLE
B15: EXPERIENCIA PROFESIONAL DIRECTOR Y/O COORDINADOR QUE OTORGA PUNTAJE (20 PUNTOS) | H15: El Director de Consultoría y/o Interventoría propuesto debe demostrar una Experiencia Específica en mínimo dos (2) proyectos en los que haya desempeñado labores de Director de Consultoría y/o Interventoría que haya incluido actividades de Estudios de riesgo que contenga análisis de estabilidad SE ASIGANARÁ 20 PUNTOS POR EL CONTRATO
B16: OBJETO DEL CONTRATO | C16: CONTRATANTE | D16: CARGO | E16: Estudios de riesgo que contenga análisis de estabilidad ?(SI/NO) | G16: NUMERO DE PROYECTOS HÁBILES | H16: CUMPLE/NO CUMPLE
B17: ESTUDIO DE AMENAZA, VULNERABILIDAD Y RIESGO POR PROCESOS DE REMOCIÓN EN MASA Y DISEÑO DETALLADO DE OBRAS DE MITIGACIÓN EN EL PREDIO LA ESPERANZA Y AREAS AFERENTES DEL PROYECTO EN EL MUNICIPIO DE ÚTICA | C17: INSTITUTO DE INFRAESTRUCTURA Y CONCESIONES DE CUNDINAMARCA ICCU | D17: DIRECTOR | E17: SI | G17: 1 | H17: =IF(G17=1, "CUMPLE 10", "NO CUMPLE") -> CUMPLE 10
B18: REALIZAR EL ESTUDIO DETALLADO DE AMENAZA VULNERABILIDAD Y RIESGO POR MOVIMIENTOS EN MASA Y DISEÑO DE MEDIDAS DE MITIGACIÓN EN EL BARRIO LOS LACHES EN LA LOCALIDAD DE SANTAFÉ EN BOGOTÁ C, EN EL MARCO DEL CONVENIO INTERADMINISTRATIVO 317 DE 2017 | C18: Instituto distrital de gestión de riesgos y cambio climático | D18: DIRECTOR | E18: SI | G18: 1 | H18: =IF(G18=1, "CUMPLE 10", "NO CUMPLE") -> CUMPLE 10
B19: total experiencia adicional | G19: =G17+G18 -> 2
B20: PUNTAJE TOTAL OBTENIDO | H20: =IF(G19=2,"20",IF(G19=1,"10","0")) -> 20
B22: COMITÉ TECNICO EVALUADOR: | C22: =+'Exp ADICI'!C14 -> 21 de agosto de 2019
B25: Diana Carolina Moreno | D25: Leidy Katherine Rodriguez | G25: Victor Javier Barrantes
B27: =+B1 -> “INTERVENTORÍA TÉCNICA, ADMINISTRATIVA Y FINANCIERA PARA EL PLANTEAMIENTO Y EVALUACIÓN DE ALTERNATIVAS DE MITIGACIÓN DEL RIESGO PARA EL BARRIO LA GRAN COLOMBIA DE LA LOCALIDAD DE SAN CRISTÓBAL”
B28: EXPERIENCIA INGENIERO ESPECIALISTA EN GEOTECNIA
B30: PROPONENTE: | C30: =C3 -> GEODINAMICA INGENIERIA SA
B31: EXPERIENCIA MÍNIMA GENERAL | C31: AÑOS | D31: 4 | E31: FECHA DE MATRICULA PROFESIONAL | F31: 37819 | G31: EN AÑOS | H31: =IF(G32>=D31, "CUMPLE", "NO CUMPLE") -> CUMPLE
B32: PROFESIÓN | C32: INGENIERO CIVIL – ESPECIALISTA EN GEOTECNIA | E32: FECHA CIERRE PROCESO | F32: 43677 | G32: =+(F32-F31)/365 -> 16.049315 | H32: Título de pregrado: Profesional En ingeniería civil con Especialización y/o Maestría con énfasis en Geotecnia y/o Doctorado en Geotecnia. Igual o mayor a cuatro (4) años de experiencia específica, contados desde la fecha de la matricula profesional certificada en el COPNIA y hasta el cierre del presente proceso.
B33: NOMBRE DEL PROFESIONAL | C33: EDGAR OSORIO
B35: EXPERIENCIA ESPECIFICA | H35: El Especialista en Geotecnia propuesto debe demostrar una experiencia en al menos dos (2) proyectos como Especialista en Geotecnia en Estudios de riesgo
B36: OBJETO CONTRATO | C36: CONTRATANTE | D36: CARGO | E36: Estudios de riesgo | G36: EXPERIENCIA ACREDITADA
B37: REALIZAR EL ESTUDIO DE RIESGO POR REMOCIÓN EN MASA Y DISEÑOS DE MITIGACIÓN PARA EL PARQUE ZONAL DIANA TURBAY | C37: CONSTRUCTORA SIGNUM | D37: INGENIERO GEOTECNISTA | E37: SI | G37: 1
B38: “ELABORACIÓN DE LOS ESTUDIOS DE AVR BÁSICOS (I ETAPA) DEL ÁREA URBANA PARA LA INCORPORACIÓN DE LA GESTIÓN EN LA REVISIÓN GENERAL DEL OET DEL MUNICIPIO DE NATAGAIMA I (HUILA)” | C38: ARQUITECTURA Y PLANEACIÓN S.A.S | D38: ESPECIALISTA EN GEOTECNIA | E38: SI | G38: 1
B39: TOTAL EXPERIENCIA ESPECIFICA | G39: =SUM(G37:G38) -> 2 | K39: =15/2 -> 7.5
F40: CUMPLE/NO CUMPLE | H40: =IF(G39=2, "CUMPLE", "NO CUMPLE") -> CUMPLE
B41: EXPERIENCIA PROFESIONAL ESPECIALISTA EN GEOTÉCNIA QUE OTORGA PUNTAJE (10 PUNTOS) | H41: El Ingeniero Especialista en Geotecnia propuesto debe demostrar una Experiencia Específica en mínimo dos (2) proyectos en los que haya desempeñado labores de Especialista en Geotecnia de estudios de riesgo que contenga análisis de estabilidad SE ASIGNARÁ 10 PUNTOS POR EL CONTRATO
B42: OBJETO DEL CONTRATO | C42: CONTRATANTE | D42: CARGO | E42: Estudios de riesgo que contenga análisis de estabilidad? (SI/NO) | G42: No. DE PROYECTOS | H42: CUMPLE/NO CUMPLE
B43: ELABORACIÓN DE LOS ESTUDIOS DE AVR BÁSICOS DE LAS ÁREAS URBANA Y RURAL PARA LA INCORPORACIÓN DE LA GESTIÓN EN LA REVISIÓN GENERAL DEL OET DEL MUNICIPIO DE TELLO (HUILA) | C43: ARQUITECTURA Y PLANEACIÓN S.A.S | D43: ESPECIALISTA EN GEOTECNIA | E43: SI | G43: 1 | H43: =IF(G43=1, "CUMPLE 5", "NO CUMPLE") -> CUMPLE 5
B44: ELABORACIÓN DE LOS ESTUDIOS DE AVR BÁSICOS DE LAS ÁREAS URBANA Y RURAL PARA LA INCORPORACIÓN DE LA GESTIÓN EN LA REVISIÓN GENERAL DEL OET DEL MUNICIPIO DE TARQUI (HUILA) | C44: ARQUITECTURA Y PLANEACIÓN S.A.S | D44: ESPECIALISTA EN GEOTECNIA | E44: SI | G44: 1 | H44: =IF(G44=1, "CUMPLE 5", "NO CUMPLE") -> CUMPLE 5
B45: SUB-TOTAL EXPERIENCIA ESPECIFICA QUE OTORGA PUNTAJE | G45: =G43+G44 -> 2
B46: PUNTAJE TOTAL OBTENIDO | H46: =IF(G45=2,"10",IF(G45=1,"5","0")) -> 10
B48: COMITÉ TECNICO EVALUADOR: | C48: =C22 -> 21 de agosto de 2019
...

Sheet 2
B1: “INTERVENTORÍA TÉCNICA, ADMINISTRATIVA Y FINANCIERA PARA EL PLANTEAMIENTO Y EVALUACIÓN DE ALTERNATIVAS DE MITIGACIÓN DEL RIESGO PARA EL BARRIO LA GRAN COLOMBIA DE LA LOCALIDAD DE SAN CRISTÓBAL”
B2: EXPERIENCIA PROFESIONALES DESPUÉS DE OBSERVACIONES | V2: =+M2 -> 0
B3: PROPONENTE: | C3: =+TECNICA!B9 -> JAM
B4: DIRECTOR | V4: =+M4 -> 0
B5: EXPERIENCIA MÍNIMA GENERAL | C5: AÑOS | D5: 6 | E5: FECHA DE MATRICULA PROFESIONAL | F5: 32744 | G5: EN AÑOS | H5: =IF(G6>=D5, "CUMPLE", "NO CUMPLE") -> CUMPLE
B6: PROFESIÓN | C6: Ing Civil - Magister en Geotecnia | E6: FECHA CIERRE PROCESO | F6: 43677 | G6: =+(F6-F5)/365 -> 29.953425 | H6: Profesión: Ing. Civil, Geólogo o Ing. Geólogo- Especialización y/o Maestría con énfasis en Geotecnia y/o Doctorado en Geotecnia. Igual o mayor de seis (6) años, contados desde la fecha de la matricula profesional certificada en el COPNIA y hasta el cierre del presente proceso.
B7: NOMBRE DEL PROFESIONAL | C7: JAVIER ANTONIO MILLAN LOPEZ
B9: FORMACIÓN EXPERIENCIA MÍNIMA HABILITANTE | H9: El Director de Consultoría propuesto debe demostrar una Experiencia en mínimo dos (2) proyectos en los que haya desempeñado labores de Director de Interventoría en la ejecución de Estudios de riesgo
B10: OBJETO CONTRATO | C10: CONTRATANTE | D10: CARGO | E10: Estudios de riesgo | G10: NUMERO DE PROYECTOS HÁBILES
B11: INTERVENTORÍA INTEGRAL A LA CONSULTORÍA PARA REALIZAR EL ESTUDIO DETALLADO DE AMENAZA, VULNERABILIDAD Y RIESGO POR FENÓMENOS DE REMOCIÓN EN MASA EN LOS BARRIOS LA INDEPENDENCIA, BOSQUE NORTE Y NUEVA COLOMBIA EN EL MUNICIPIO DE BUCARAMANGA SANTANDER” CM 013 8,5 | C11: JAM | D11: DIRECTOR | E11: NO (Se presenta autocertificación, teniendo en cuenta el literal 2.5.3.3.1, Nota 1 del documento ocmplementario debe anexar copia del contrato de vinculación)
B12: INTERVENTORÍA TÉCNICA Y ADMINISTRATIVA AL ESTUDIO DE RIESGO POR PROCESOS DE REMOCIÓN EN MASA, EVALUACIÓN DE ALTERNATIVASYDISEÑODEMEDIDASDEMITIGACIÓN,ENLOSBARRIOS DIVINO NIÑO Y CERROS DEL SUR, INCLUIDA LA PARTE BAJA DE LAS MICROCUENCAS LA TROMPETA Y EL INFIERNO DE LA LOCALIDAD DE CIUDAD BOLIVAR DE LA CIUDAD DE BOGOTA, D. C. | C12: JAM | D12: DIRECTOR | E12: NO (Se presenta autocertificación, teniendo en cuenta el literal 2.5.3.3.1, Nota 1 del documento ocmplementario debe anexar copia del contrato de vinculación)
G13: =SUM(G11:G12) -> 0 | I13: =+H13 -> 0
F14: CUMPLE/NO CUMPLE | H14: =IF(G13=2, "CUMPLE", "NO CUMPLE") -> NO CUMPLE
B15: EXPERIENCIA PROFESIONAL DIRECTOR Y/O COORDINADOR QUE OTORGA PUNTAJE (20 PUNTOS) | H15: El Director de Consultoría y/o Interventoría propuesto debe demostrar una Experiencia Específica en mínimo dos (2) proyectos en los que haya desempeñado labores de Director de Consultoría y/o Interventoría que haya incluido actividades de Estudios de riesgo que contenga análisis de estabilidad SE ASIGANARÁ 20 PUNTOS POR EL CONTRATO
B16: OBJETO DEL CONTRATO | C16: CONTRATANTE | D16: CARGO | E16: Estudios de riesgo que contenga análisis de estabilidad ?(SI/NO) | G16: NUMERO DE PROYECTOS HÁBILES | H16: CUMPLE/NO CUMPLE
B17: ELABORACIÓN DE LOS ESTUDIOS DE RIESGO POR FENÓMENOS DE REMOCIÓN EN MASA Y EVALUACIÓN DE ALTERNATIVAS DE MITIGACIÓN Y DISEÑOS DETALLADOS DE LAS OBRAS RECOMENDADAS PARA ESTABILIZAR LOS ESCARPES DEL BARRIO MIRADOR DE MARROCOS, DE LA LOCALIDAD RAFAEL URIBE URIBE EN BOGOTÁ D. C. | C17: JAM | D17: DIRECTOR | E17: NO (Se presenta autocertificación, teniendo en cuenta el literal 2.5.3.3.1, Nota 1 del documento complementario debe anexar copia del contrato de vinculación) | H17: =IF(G17=1, "CUMPLE 10", "NO CUMPLE") -> NO CUMPLE
B18: ESTUDIOS DE RIESGOS POR FENÓMENOS DE REMOCIÓN EN MASA, EVALUACIÓN DE ALTERNATIVAS DE MITIGACIÓN Y DISEÑOS Y DISEÑOS DETALLADOS DE OBRAS DE MITIGACIÓN EN EL POLIGONO 4-020 FOPAE, EN EL BARRIO SANTA RITA SURORIENTALDE LA LOCALIDAD DE SAN CRISTOBAL DE LA CIUDAD DE BOGOTA D. C. | C18: JAM | D18: DIRECTOR | E18: NO (Se presenta autocertificación, teniendo en cuenta el literal 2.5.3.3.1, Nota 1 del documento ocmplementario debe anexar copia del contrato de vinculación) | H18: =IF(G18=1, "CUMPLE 10", "NO CUMPLE") -> NO CUMPLE
B19: total experiencia adicional | G19: =G17+G18 -> 0
B20: PUNTAJE TOTAL OBTENIDO | H20: =IF(G19=2,"20",IF(G19=1,"10","0")) -> 0
B22: COMITÉ TECNICO EVALUADOR: | C22: =+'Exp ADICI'!C14 -> 21 de agosto de 2019
B25: Diana Carolina Moreno | D25: Leidy Katherine Rodriguez | G25: Victor Javier Barrantes
B27: =+B1 -> “INTERVENTORÍA TÉCNICA, ADMINISTRATIVA Y FINANCIERA PARA EL PLANTEAMIENTO Y EVALUACIÓN DE ALTERNATIVAS DE MITIGACIÓN DEL RIESGO PARA EL BARRIO LA GRAN COLOMBIA DE LA LOCALIDAD DE SAN CRISTÓBAL”
B28: EXPERIENCIA INGENIERO ESPECIALISTA EN GEOTECNIA
B30: PROPONENTE: | C30: =C3 -> JAM
B31: EXPERIENCIA MÍNIMA GENERAL | C31: AÑOS | D31: 4 | E31: FECHA DE MATRICULA PROFESIONAL | F31: 36186 | G31: EN AÑOS | H31: =IF(G32>=D31, "CUMPLE", "NO CUMPLE") -> CUMPLE
B32: PROFESIÓN | C32: Ing Civil - Magister en Geotecnia | E32: FECHA CIERRE PROCESO | F32: 43677 | G32: =+(F32-F31)/365 -> 20.523288 | H32: Título de pregrado: Profesional En ingeniería civil con Especialización y/o Maestría con énfasis en Geotecnia y/o Doctorado en Geotecnia. Igual o mayor a cuatro (4) años de experiencia específica, contados desde la fecha de la matricula profesional certificada en el COPNIA y hasta el cierre del presente proceso.
B33: NOMBRE DEL PROFESIONAL | C33: DIEGO ALEXANDER REYES VELANDIA
B35: EXPERIENCIA ESPECIFICA | H35: El Especialista en Geotecnia propuesto debe demostrar una experiencia en al menos dos (2) proyectos como Especialista en Geotecnia en Estudios de riesgo
B36: OBJETO CONTRATO | C36: CONTRATANTE | D36: CARGO | E36: Estudios de riesgo | G36: EXPERIENCIA ACREDITADA
B37: DEFINIR Y PROPONER LA METODOLOGIA PARA LA EVALUACIÓN, ZONIFICACIÓN Y REDUCCIÓN DE RIESGOS POR FENÓMENOS DE REMOCIÓN EN MASA CON APLICACIÓN AUNA ZONA PILOTO LOCALIZADA EN LA CUENCA DE LA QUEBRADA LAS CAMELIAS- MUNICIPIO DE MANIZALES. | C37: JAM | D37: GEOTECNISTA | E37: NO (Se presenta autocertificación, teniendo en cuenta el literal 2.5.3.3.1, Nota 1 del documento ocmplementario debe anexar copia del contrato de vinculación, adicionalmente debe aclarar si se presento estudios de riesgos) | G37: 0
B38: ADELANTAR EL ESTUDIO DE RIESGO, REVISAR Y/O AJUSTAR EL ESTUDIO URBANÍSTICO Y ELABORAR LAS PROPUESTAS DEL PROYECTO DE REGLAMENTACIÓN ESPECÍFICA PARA EL BARRIO ANTONIO NAVARRO LOCALIZADO EN EL MUNICIPIO DE VILLA DEL ROSADO, DEPARTAMENTO NORTE DE SANTANDER, EN EL MARCO DE LAS DIRECTRICES ESTABLECIDAS EN EL ACUERDO NO. 043 DE 2000,PLAN BÁSICO DE ORDENAMIENTO TERRITORIAL Y DEMÁS NORMASRELACIONADAS;ADICIONALMENTEDEBO REALIZARSEELCENSODELAPOBLACIÓN. E.AS OBLIGACIONES, PRODUCTOS Y/O INFORMES SE ENCUENTRAN DETALLADOS EN LOS TÉRMINOS DE REFERENCIA QUE SE ANEXAN Y HACEN PARLE INTEGRAL DE ESTE CONTRATO | C38: JAVIER ANTONIO MILLAN | D38: GEOTECNISTA | E38: NO (Se presenta autocertificación, teniendo en cuenta el literal 2.5.3.3.1, Nota 1 del documento ocmplementario debe anexar copia del contrato de vinculación) | G38: 0
B39: TOTAL EXPERIENCIA ESPECIFICA | G39: =SUM(G37:G38) -> 0 | K39: =15/2 -> 7.5
F40: CUMPLE/NO CUMPLE | H40: =IF(G39=2, "CUMPLE", "NO CUMPLE") -> NO CUMPLE
B41: EXPERIENCIA PROFESIONAL ESPECIALISTA EN GEOTÉCNIA QUE OTORGA PUNTAJE (10 PUNTOS) | H41: El Ingeniero Especialista en Geotecnia propuesto debe demostrar una Experiencia Específica en mínimo dos (2) proyectos en los que haya desempeñado labores de Especialista en Geotecnia de estudios de riesgo que contenga análisis de estabilidad SE ASIGNARÁ 10 PUNTOS POR EL CONTRATO
B42: OBJETO DEL CONTRATO | C42: CONTRATANTE | D42: CARGO | E42: Estudios de riesgo que contenga análisis de estabilidad? (SI/NO) | G42: No. DE PROYECTOS | H42: CUMPLE/NO CUMPLE
B43: ELABORACIÓN DE LOS ESTUDIOS DE RIESGO POR FENÓMENOS DE REMOCIÓN EN MASA Y EVALUACIÓN DE ALTERNATIVAS DE MITIGACIÓN Y DISEÑOS DETALLADOS DE LAS OBRAS RECOMENDADAS PARA ESTABILIZAR LOS ESCARPES DEL BARRIO MIRADOR DE MARROCOS, DE LA LOCALIDAD RAFAEL URIBE URIBE EN BOGOTÁ D. C. | C43: JAM | D43: GEOTECNISTA | E43: NO (Se presenta autocertificación, teniendo en cuenta el literal 2.5.3.3.1, Nota 1 del documento complementario debe anexar copia del contrato de vinculación) | H43: =IF(G43=1, "CUMPLE 5", "NO CUMPLE") -> NO CUMPLE
B44: ESTUDIO DE RIESGO POR REMOCIÓN EN MASA E INUNDACIÓN,ASÍ COMO LOS DISEÑOS DE LAS OBRAS DE MITIGACIÓN REQUERIDAS PARA EL PARQUE ZONAL LOS LACHES, UBICADO EN LA CALLE 5 CARRERA 6b ESTE DE BOGOTÁ | C44: JAM | D44: GEOTECNISTA | E44: NO (Se presenta autocertificación, teniendo en cuenta el literal 2.5.3.3.1, Nota 1 del documento complementario debe anexar copia del contrato de vinculación, adicionalmente en la certificación presentada no se puede evidenciar que se desarrollo análisi de estabilidad) | H44: =IF(G44=1, "CUMPLE 5", "NO CUMPLE") -> NO CUMPLE
B45: SUB-TOTAL EXPERIENCIA ESPECIFICA QUE OTORGA PUNTAJE | G45: =G43+G44 -> 0
B46: PUNTAJE TOTAL OBTENIDO | H46: =IF(G45=2,"10",IF(G45=1,"5","0")) -> 0
B48: COMITÉ TECNICO EVALUADOR: | C48: =C22 -> 21 de agosto de 2019
...

Sheet 3
B1: “INTERVENTORÍA TÉCNICA, ADMINISTRATIVA Y FINANCIERA PARA EL PLANTEAMIENTO Y EVALUACIÓN DE ALTERNATIVAS DE MITIGACIÓN DEL RIESGO PARA EL BARRIO LA GRAN COLOMBIA DE LA LOCALIDAD DE SAN CRISTÓBAL”
B2: EXPERIENCIA PROFESIONALES DESPUÉS DE OBSERVACIONES | V2: =+M2 -> 0
B3: PROPONENTE: | C3: =+TECNICA!B10 -> CONSORCIO INTERVENTORÍA LA GRAN COLOMBIA
B4: DIRECTOR | V4: =+M4 -> 0
B5: EXPERIENCIA MÍNIMA GENERAL | C5: AÑOS | D5: 6 | E5: FECHA DE MATRICULA PROFESIONAL | F5: 34200 | G5: EN AÑOS | H5: =IF(G6>=D5, "CUMPLE", "NO CUMPLE") -> CUMPLE
B6: PROFESIÓN | C6: Ingenieri Civil Magister en Ingenieria Civil enfasis en getocnia | E6: FECHA CIERRE PROCESO | F6: 43677 | G6: =+(F6-F5)/365 -> 25.964384 | H6: Profesión: Ing. Civil, Geólogo o Ing. Geólogo- Especialización y/o Maestría con énfasis en Geotecnia y/o Doctorado en Geotecnia. Igual o mayor de seis (6) años, contados desde la fecha de la matricula profesional certificada en el COPNIA y hasta el cierre del presente proceso.
B7: NOMBRE DEL PROFESIONAL | C7: FLABIO FEDERICO SOLER SIERRA
B9: FORMACIÓN EXPERIENCIA MÍNIMA HABILITANTE | H9: El Director de Consultoría propuesto debe demostrar una Experiencia en mínimo dos (2) proyectos en los que haya desempeñado labores de Director de Interventoría en la ejecución de Estudios de riesgo
B10: OBJETO CONTRATO | C10: CONTRATANTE | D10: CARGO | E10: Estudios de riesgo | G10: NUMERO DE PROYECTOS HÁBILES
B11: CONTRATAR LA INTERVENTORÍA INTEGRAL AL CONTRATO DE CONSULTORÍA CUYO OBJETO ES: “AJUSTE DE LOS ESTUDIOS DE AMENAZA, VULNERABILIDAD Y RIESGO Y DE LOS MUNICIPIOS PRIORIZADOS | C11: GEOCING | D11: DIRECTOR | E11: SI | G11: 1
B12: INTERVENTORÍA PARA LA FACTIBILIDAD, ESTUDIOS Y DISEÑOS PARA LAS OBRAS DE MITIGACIÓNDE RIESGOS REQUERIDAS EN SITIOS INESTABLES EN BOGOTÁ D.C. | C12: GEOCING | D12: DIRECTOR | E12: SI | G12: 1
G13: =SUM(G11:G12) -> 2 | I13: =+H13 -> 0
F14: CUMPLE/NO CUMPLE | H14: =IF(G13=2, "CUMPLE", "NO CUMPLE") -> CUMPLE
B15: EXPERIENCIA PROFESIONAL DIRECTOR Y/O COORDINADOR QUE OTORGA PUNTAJE (20 PUNTOS) | H15: El Director de Consultoría y/o Interventoría propuesto debe demostrar una Experiencia Específica en mínimo dos (2) proyectos en los que haya desempeñado labores de Director de Consultoría y/o Interventoría que haya incluido actividades de Estudios de riesgo que contenga análisis de estabilidad SE ASIGANARÁ 20 PUNTOS POR EL CONTRATO
B16: OBJETO DEL CONTRATO | C16: CONTRATANTE | D16: CARGO | E16: Estudios de riesgo que contenga análisis de estabilidad ?(SI/NO) | G16: NUMERO DE PROYECTOS HÁBILES | H16: CUMPLE/NO CUMPLE
B17: CONSULTORÍA PARA LA EJECUCIÓN DEL ESTUDIO DE RIESGO POR REMOCIÓN EN MASA, EVALUACIÓN DE ALTERNATIVAS DE MITIGACIÓN Y DISEÑOS DETALLADOS DE LAS OBRAS DE PROTECCIÓN Y CONTROL EN EL BARRIO SAN RAFAEL DE LA LOCALIDAD DE CIUDAD BOLIVAR, EN LA CIUDAD DE BOGOTÁ D.C. | C17: GEOCING | D17: DIRECTOR | E17: SI | G17: 1 | H17: =IF(G17=1, "CUMPLE 10", "NO CUMPLE") -> CUMPLE 10
B18: ESTUDIO DE RIESGOS POR FENÓMENOS DE REMOCIÓN EN MASA PARA EL BARRIO MORALBA DE LA LOCALIDAD DE SAN CRISTÓBAL, EN BOGOTA D.C. | C18: GEOCING | D18: DIRECTOR | E18: SI | G18: 1 | H18: =IF(G18=1, "CUMPLE 10", "NO CUMPLE") -> CUMPLE 10
B19: total experiencia adicional | G19: =G17+G18 -> 2
B20: PUNTAJE TOTAL OBTENIDO | H20: =IF(G19=2,"20",IF(G19=1,"10","0")) -> 20
B22: COMITÉ TECNICO EVALUADOR: | C22: =+'Exp ADICI'!C14 -> 21 de agosto de 2019
B25: Diana Carolina Moreno | D25: Leidy Katherine Rodriguez | G25: Victor Javier Barrantes
B27: =+B1 -> “INTERVENTORÍA TÉCNICA, ADMINISTRATIVA Y FINANCIERA PARA EL PLANTEAMIENTO Y EVALUACIÓN DE ALTERNATIVAS DE MITIGACIÓN DEL RIESGO PARA EL BARRIO LA GRAN COLOMBIA DE LA LOCALIDAD DE SAN CRISTÓBAL”
B28: EXPERIENCIA INGENIERO ESPECIALISTA EN GEOTECNIA
B30: PROPONENTE: | C30: =C3 -> CONSORCIO INTERVENTORÍA LA GRAN COLOMBIA
B31: EXPERIENCIA MÍNIMA GENERAL | C31: AÑOS | D31: 6 | E31: FECHA DE MATRICULA PROFESIONAL | F31: 37944 | G31: EN AÑOS | H31: =IF(G32>=D31, "CUMPLE", "NO CUMPLE") -> CUMPLE
B32: PROFESIÓN | C32: Ingeniero Civil Magister en Ingenieria Geotecnia | E32: FECHA CIERRE PROCESO | F32: 43677 | G32: =+(F32-F31)/365 -> 15.706849 | H32: Título de pregrado: Profesional En ingeniería civil con Especialización y/o Maestría con énfasis en Geotecnia y/o Doctorado en Geotecnia. Igual o mayor a cuatro (4) años de experiencia específica, contados desde la fecha de la matricula profesional certificada en el COPNIA y hasta el cierre del presente proceso.
B33: NOMBRE DEL PROFESIONAL | C33: GONZALEZ MORANTES LUIS ALFREDO
B35: EXPERIENCIA ESPECIFICA | H35: El Especialista en Geotecnia propuesto debe demostrar una experiencia en al menos dos (2) proyectos como Especialista en Geotecnia en Estudios de riesgo
B36: OBJETO CONTRATO | C36: CONTRATANTE | D36: CARGO | E36: Estudios de riesgo | G36: EXPERIENCIA ACREDITADA
B37: ELABORAR LOS ESTUDIOS DETALLADOS DE RIESGO POR FENÓMENOS NATURALES DE LOS ASENTAMIENTOS Y/O BARRIOS PRECARIOS QUE A CONTINUACIÓN SE RELACIONAN, TOMANDO COMO REFERENTE LOS REQUISITOS Y PARÁMETROS ESTABLECIDOS EN LA RESOLUCIÓN MUNICIPAL NO. 1260 DE 2011, CON EL PROPÓSITO DE ZONIFICAR LAS AMENAZAS NATURALES, EVALUAR LA VULNERABILIDAD DE LAS EDIFICACIONES Y DETERMINAR EL NIVEL DE RIESGO EN TÉRMINOS DE LA FACTIBILIDAD PARA SU MITIGACIÓN, COMO REQUISITO PARA ESTABLECER LA PROCEDENCIA PARA LA LEGALIZACIÓN URBANÍSTICA DEL RESPECTIVO ASENTAMIENTO, CONFORME LO DISPUESTO EN EL ARTÍCULO 123 DEL DECRETO NACIONAL NO. 564 DE 2006, O LA NORMA QUE LO ADICIONE, MODIFIQUE O SUSTITUYA | C37: GEOCING | D37: Especialista en Geotecnia | E37: SI | G37: 1
B38: ESTUDIO DE AMENAZAS, VULNERABILIDAD Y RIESGO POR FENOMENOS NATURALES Y ANTROPICOS EN LOS MUNICIPIOS DEL DEPARTAMENTO DE ARAUCA. ORINOQUIA COLOMBIANA, COMO INSTRUMENTO PARA LA TOMA DE DECISIONES Y AJUSTE DE LOS PLANES DE ORDENAMIENTO TERRITORIAL | C38: GEOCING | D38: Especialista en Geotecnia | E38: SI | G38: 1
B39: TOTAL EXPERIENCIA ESPECIFICA | G39: =SUM(G37:G38) -> 2 | K39: =15/2 -> 7.5
F40: CUMPLE/NO CUMPLE | H40: =IF(G39=2, "CUMPLE", "NO CUMPLE") -> CUMPLE
B41: EXPERIENCIA PROFESIONAL ESPECIALISTA EN GEOTÉCNIA QUE OTORGA PUNTAJE (10 PUNTOS) | H41: El Ingeniero Especialista en Geotecnia propuesto debe demostrar una Experiencia Específica en mínimo dos (2) proyectos en los que haya desempeñado labores de Especialista en Geotecnia de estudios de riesgo que contenga análisis de estabilidad SE ASIGNARÁ 10 PUNTOS POR EL CONTRATO
B42: OBJETO DEL CONTRATO | C42: CONTRATANTE | D42: CARGO | E42: Estudios de riesgo que contenga análisis de estabilidad? (SI/NO) | G42: No. DE PROYECTOS | H42: CUMPLE/NO CUMPLE
B43: INTERVENCIONES INTEGRALES PARA MITIGACION DE RIESGOS EN MASA EN LAS LOCALIDADES DE CIUDAD BOLIVAR, RAFAEL URIBE URIBE, SAN CRISTOBAL, SANTA FE, USME, Y USAQUEN DE LA CIUDAD DE BOGOTA (INCLUYE ESTUDIO, DISEÑOS, CONSTRUCCION DE OBRAS) | C43: GEOCING | D43: Especialista en Geotecnia | E43: NO (En la certificación aportada no se puede verificar la realización de las actividades solicitadas) | H43: =IF(G43=1, "CUMPLE 5", "NO CUMPLE") -> NO CUMPLE
B44: CONSULTORIA A PRECIO GLOBAL CON AJUSTES PARA REALIZAR LOS ESTUDIOS Y DISEÑOS PARA OBRAS DE ESTABILIZACION GEOTECNICA EN EL INTERCAMBIADOR VIAL (PUENTE) DE LA CALLE 63 POR AVENIDA CIRCUNVALAR EN BOGOTA D.C. | C44: GEOCING | D44: Especialista en Geotecnia | E44: NO (En la certificación aportada no se puede verificar la realización de las actividades solicitadas) | H44: =IF(G44=1, "CUMPLE 5", "NO CUMPLE") -> NO CUMPLE
B45: SUB-TOTAL EXPERIENCIA ESPECIFICA QUE OTORGA PUNTAJE | G45: =G43+G44 -> 0
B46: PUNTAJE TOTAL OBTENIDO | H46: =IF(G45=2,"10",IF(G45=1,"5","0")) -> 0
B48: COMITÉ TECNICO EVALUADOR: | C48: =C22 -> 21 de agosto de 2019
...

Sheet IND NACIONAL
A1: =+TECNICA!A1 -> “INTERVENTORÍA TÉCNICA, ADMINISTRATIVA Y FINANCIERA PARA EL PLANTEAMIENTO Y EVALUACIÓN DE ALTERNATIVAS DE MITIGACIÓN DEL RIESGO PARA EL BARRIO LA GRAN COLOMBIA DE LA LOCALIDAD DE SAN CRISTÓBAL”
V2: =+M2 -> 0
A3: INCENTIVO A LA INDUSTRIA NACIONAL
V4: =+M4 -> 0
A5: PROPONENTE | C5: PROTECCIÓN A LA INDUSTRIA NACIONAL | D5: PUNTAJE OTORGADO (MAX 10 PUNTOS) | E5: OBSERVACIONES
C8: (Si / No )
A9: 1 | B9: =+TECNICA!B8 -> GEODINAMICA INGENIERIA SA | C9: SI | D9: 10
A10: 2 | B10: =+TECNICA!B9 -> JAM | C10: SI | D10: 10
A11: 3 | B11: =+TECNICA!B10 -> CONSORCIO INTERVENTORÍA LA GRAN COLOMBIA | C11: SI | D11: 10
B13: COMITÉ TECNICO EVALUADOR: | C13: =+'Exp ADICI'!C14 -> 21 de agosto de 2019
B15: Diana Carolina Moreno | C15: Leidy Katherine Rodriguez | E15: Victor Javier Barrantes

Sheet Inc Discapacidad
A1: ='IND NACIONAL'!A1:E1 -> “INTERVENTORÍA TÉCNICA, ADMINISTRATIVA Y FINANCIERA PARA EL PLANTEAMIENTO Y EVALUACIÓN DE ALTERNATIVAS DE MITIGACIÓN DEL RIESGO PARA EL BARRIO LA GRAN COLOMBIA DE LA LOCALIDAD DE SAN CRISTÓBAL”
A3: INCENTIVO EN FAVOR DE PERSONAS CON DISCAPACIDAD
A5: PROPONENTE | C5: INCENTIVO EN FAVOR DE PERSONAS CON DISCAPACIDADL | D5: PUNTAJE OTORGADO (MAX 1 PUNTO) | E5: OBSERVACIONES
C8: (Si / No )
A9: 1 | B9: =TECNICA!B8 -> GEODINAMICA INGENIERIA SA | C9: SI | D9: 1
A10: 2 | B10: =TECNICA!B9 -> JAM | C10: SI | D10: 1
A11: 3 | B11: =TECNICA!B10 -> CONSORCIO INTERVENTORÍA LA GRAN COLOMBIA | C11: SI | D11: 1
B13: COMITÉ TECNICO EVALUADOR: | C13: ='IND NACIONAL'!C13 -> 21 de agosto de 2019
B15: Diana Moreno Moreno | C15: Leidy Katherine Rodriguez | E15: Victor Javier Barrantes
D19: =6966000/30*22 -> 5108400

Sheet PROFESIONALES
A1: =+TECNICA!A1 -> “INTERVENTORÍA TÉCNICA, ADMINISTRATIVA Y FINANCIERA PARA EL PLANTEAMIENTO Y EVALUACIÓN DE ALTERNATIVAS DE MITIGACIÓN DEL RIESGO PARA EL BARRIO LA GRAN COLOMBIA DE LA LOCALIDAD DE SAN CRISTÓBAL”
C3: RESUMEN PROFESIONALES
B5: PROPONENTE | C5: DIRECTOR | D5: ESPECIALISTA EN GEOTECNIA | E5: GEOLOGO
A6: 1 | B6: =TECNICA!B8 -> GEODINAMICA INGENIERIA SA | C6: =+'1'!C7:D7 -> MAURICIO HERNÁN CAMARGO CHÁVEZ | D6: ='1'!C33 -> EDGAR OSORIO | E6: =+'1'!C59 -> LUIS GUILLERMO RUBIANO
A7: 2 | B7: =TECNICA!B9 -> JAM | C7: =+'2'!C7:D7 -> JAVIER ANTONIO MILLAN LOPEZ | D7: =+'2'!C33 -> DIEGO ALEXANDER REYES VELANDIA | E7: =+'2'!C59 -> VICTOR HUGO DIAZ HERRERA
A8: 3 | B8: =TECNICA!B10 -> CONSORCIO INTERVENTORÍA LA GRAN COLOMBIA | C8: =+'3'!C7:D7 -> FLABIO FEDERICO SOLER SIERRA | D8: =+'3'!C33 -> GONZALEZ MORANTES LUIS ALFREDO | E8: =+'3'!C59 -> HENIO MELITON PINZON BURGOS
B10: COMITÉ TECNICO EVALUADOR: | C10: ='Inc Discapacidad'!C13 -> 21 de agosto de 2019
B12: ='Inc Discapacidad'!B15 -> Diana Moreno Moreno | C12: ='Inc Discapacidad'!C15:D15 -> Leidy Katherine Rodriguez | E12: ='Inc Discapacidad'!E15 -> Victor Javier Barrantes
