Workbook

Sheet TOTAL
A1: Nit | B1: Razón social de la sociedad | C1: Clasificación Industrial Internacional Uniforme Versión 4 A.C | D1: Fecha Corte | E1: Punto Entrada | F1: Periodo | G1: Activos corrientes totales | H1: Total de activos | I1: Pasivos corrientes totales | J1: Total pasivos | K1: Patrimonio total | L1: Costos financieros | M1: Ganancia (pérdida)
A2: 800015615 | B2: =VLOOKUP(A2,[1]Carátula!A2:D2552,4,FALSE) -> MARPICO S.A. | C2: =VLOOKUP(A2,[1]Carátula!A2:F2552,6,FALSE) -> G4690 - Comercio al por mayor no especializado | D2: 43830 | E2: 10 NIIF Plenas - Individuales | F2: Periodo Actual | G2: 101525816 | H2: 139283970 | I2: 48288916 | J2: 57803989 | K2: 81479981 | L2: 1294220 | M2: 3420485
A3: 900466209 | B3: =VLOOKUP(A3,[1]Carátula!A3:D2553,4,FALSE) -> PORSCHE COLOMBIA S.A.S. | C3: =VLOOKUP(A3,[1]Carátula!A3:F2553,6,FALSE) -> G4511 - Comercio de vehículos automotores nuevos | D3: 43830 | E3: 10 NIIF Plenas - Individuales | F3: Periodo Actual | G3: 311279234 | H3: 351010703 | I3: 249827187 | J3: 259974733 | K3: 91035970 | L3: 12142239 | M3: 11359863
A4: 890904459 | B4: =VLOOKUP(A4,[1]Carátula!A4:D2554,4,FALSE) -> ACEROS MAPA S.A | C4: =VLOOKUP(A4,[1]Carátula!A4:F2554,6,FALSE) -> G4663 - Comercio al por mayor de materiales de construcción, artículos de ferretería, pinturas, productos de vidrio, equipo y materiales de fontanería y calefacción | D4: 43830 | E4: 10 NIIF Plenas - Individuales | F4: Periodo Actual | G4: 75310494 | H4: 80221412 | I4: 30490102 | J4: 40810103 | K4: 39411309 | L4: 1796569 | M4: 3205130
A5: 830040872 | B5: =VLOOKUP(A5,[1]Carátula!A5:D2555,4,FALSE) -> ACTIVIDADES DE INSTALACION Y SERVICIOS COBRA S.A. | C5: =VLOOKUP(A5,[1]Carátula!A5:F2555,6,FALSE) -> F4321 - Instalaciones eléctricas | D5: 43830 | E5: 10 NIIF Plenas - Individuales | F5: Periodo Actual | G5: 47618551 | H5: 49978113 | I5: 40774800 | J5: 47553819 | K5: 2424294 | M5: 2264852
A6: 892000709 | B6: =VLOOKUP(A6,[1]Carátula!A6:D2556,4,FALSE) -> SEMILLANO SAS | C6: =VLOOKUP(A6,[1]Carátula!A6:F2556,6,FALSE) -> A0112 - Cultivo de arroz | D6: 43830 | E6: 10 NIIF Plenas - Individuales | F6: Periodo Actual | G6: 10550843 | H6: 47125306 | I6: 4299700 | J6: 14406813 | K6: 32718493 | L6: 967985 | M6: 173955
A7: 817000808 | B7: =VLOOKUP(A7,[1]Carátula!A7:D2557,4,FALSE) -> TECNOSUR S.A.S. | C7: =VLOOKUP(A7,[1]Carátula!A7:F2557,6,FALSE) -> C1709 - Fabricación de otros artículos de papel y cartón | D7: 43830 | E7: 10 NIIF Plenas - Individuales | F7: Periodo Actual | G7: 141806142 | H7: 441212689 | I7: 90075280 | J7: 104112092 | K7: 337100597 | L7: 10991387 | M7: 45118210
A8: 890304375 | B8: =VLOOKUP(A8,[1]Carátula!A8:D2558,4,FALSE) -> INDUGRÁFICAS S.A.S. | C8: =VLOOKUP(A8,[1]Carátula!A8:F2558,6,FALSE) -> C1812 - Actividades de servicios relacionados con la impresión | D8: 43830 | E8: 10 NIIF Plenas - Individuales | F8: Periodo Actual | G8: 12356485 | H8: 16724227 | I8: 3126727 | J8: 5074394 | K8: 11649833 | L8: 602971 | M8: 1881852
A9: 817003055 | B9: =VLOOKUP(A9,[1]Carátula!A9:D2559,4,FALSE) -> TECNOFAR TQ S.A.S. | C9: =VLOOKUP(A9,[1]Carátula!A9:F2559,6,FALSE) -> C2100 - Fabricación de productos farmacéuticos, sustancias químicas medicinales y productos botánicos de uso farmacéutico | D9: 43830 | E9: 10 NIIF Plenas - Individuales | F9: Periodo Actual | G9: 111993174 | H9: 399242799 | I9: 54976403 | J9: 83243618 | K9: 315999181 | L9: 1567826 | M9: 88320309
A10: 890302608 | B10: =VLOOKUP(A10,[1]Carátula!A10:D2560,4,FALSE) -> COLOMBIANA DE ADEHESIVOS COLDESIVOS S.A.S. | C10: =VLOOKUP(A10,[1]Carátula!A10:F2560,6,FALSE) -> C2221 - Fabricación de formas básicas de plástico | D10: 43830 | E10: 10 NIIF Plenas - Individuales | F10: Periodo Actual | G10: 13051508 | H10: 14096221 | I10: 3102814 | J10: 3794317 | K10: 10301904 | L10: 289369 | M10: 560270
A11: 805003416 | B11: =VLOOKUP(A11,[1]Carátula!A11:D2561,4,FALSE) -> ADHESIVOS INTERNACIONALES ADHINTER S.A.S. | C11: =VLOOKUP(A11,[1]Carátula!A11:F2561,6,FALSE) -> C2100 - Fabricación de productos farmacéuticos, sustancias químicas medicinales y productos botánicos de uso farmacéutico | D11: 43830 | E11: 10 NIIF Plenas - Individuales | F11: Periodo Actual | G11: 17140322 | H11: 19097395 | I11: 9810308 | J11: 10557160 | K11: 8540235 | L11: 961921 | M11: 2532671
A12: 830127761 | B12: =VLOOKUP(A12,[1]Carátula!A12:D2562,4,FALSE) -> UNIQUE COLECTION S.A.S. | C12: =VLOOKUP(A12,[1]Carátula!A12:F2562,6,FALSE) -> A0125 - Cultivo de flor de corte | D12: 43830 | E12: 10 NIIF Plenas - Individuales | F12: Periodo Actual | G12: 3612419 | H12: 29843579 | I12: 2173872 | J12: 8422147 | K12: 21421432 | M12: -207211
A13: 890401427 | B13: =VLOOKUP(A13,[1]Carátula!A13:D2563,4,FALSE) -> COMPAÑÍA HOTELERA DE CARTAGENA DE INDIAS S.A. | C13: =VLOOKUP(A13,[1]Carátula!A13:F2563,6,FALSE) -> I5511 - Alojamiento en hoteles | D13: 43646 | E13: 10 NIIF Plenas - Individuales | F13: Periodo Actual | G13: 28237167 | H13: 143033261 | I13: 35401615 | J13: 49817060 | K13: 93216201 | M13: 3541758
A14: 890401427 | B14: =VLOOKUP(A14,[1]Carátula!A14:D2564,4,FALSE) -> COMPAÑÍA HOTELERA DE CARTAGENA DE INDIAS S.A. | C14: =VLOOKUP(A14,[1]Carátula!A14:F2564,6,FALSE) -> I5511 - Alojamiento en hoteles | D14: 43830 | E14: 10 NIIF Plenas - Individuales | F14: Periodo Actual | G14: 32226071 | H14: 150855977 | I14: 16437514 | J14: 57037880 | K14: 93818097 | M14: 3777771
A15: 800081105 | B15: =VLOOKUP(A15,[1]Carátula!A15:D2565,4,FALSE) -> AGROPECUARIA LOS SAMANES SA | C15: =VLOOKUP(A15,[1]Carátula!A15:F2565,6,FALSE) -> A0141 - Cría de ganado bovino y bufalino | D15: 43830 | E15: 10 NIIF Plenas - Individuales | F15: Periodo Actual | G15: 782165 | H15: 13063503 | I15: 426700 | J15: 4349566 | K15: 8713937 | L15: 147500 | M15: 462132
A16: 830031687 | B16: =VLOOKUP(A16,[1]Carátula!A16:D2566,4,FALSE) -> POLUX SUMINISTROS SAS | C16: =VLOOKUP(A16,[1]Carátula!A16:F2566,6,FALSE) -> G4651 - Comercio al por mayor de computadores, equipo periférico y programas de informática | D16: 43830 | E16: 10 NIIF Plenas - Individuales | F16: Periodo Actual | G16: 20689427 | H16: 29762263 | I16: 14638967 | J16: 27247093 | K16: 2515170 | L16: 5400286 | M16: -2184830
A17: 811045607 | B17: =VLOOKUP(A17,[1]Carátula!A17:D2567,4,FALSE) -> INVERSIONES EURO SA | C17: =VLOOKUP(A17,[1]Carátula!A17:F2567,6,FALSE) -> C1011 - Procesamiento y conservación de carne y productos cárnicos | D17: 43830 | E17: 10 NIIF Plenas - Individuales | F17: Periodo Actual | G17: 50656388 | H17: 137551337 | I17: 57286302 | J17: 101360665 | K17: 36190672 | L17: 6935685 | M17: 2332007
A18: 890201111 | B18: =VLOOKUP(A18,[1]Carátula!A18:D2568,4,FALSE) -> CONSERVAS COLOMBINA S.A. LA CONSTANCIA | C18: =VLOOKUP(A18,[1]Carátula!A18:F2568,6,FALSE) -> N8211 - Actividades combinadas de servicios administrativos de oficina | D18: 43830 | E18: 10 NIIF Plenas - Individuales | F18: Periodo Actual | G18: 4302946 | H18: 23462566 | I18: 8886623 | J18: 9182896 | K18: 14279670 | L18: 20202 | M18: 1396374
A19: 900327961 | B19: =VLOOKUP(A19,[1]Carátula!A19:D2569,4,FALSE) -> EXTRACTORA SICARARE SAS | C19: =VLOOKUP(A19,[1]Carátula!A19:F2569,6,FALSE) -> C1030 - Elaboración de aceites y grasas de origen vegetal y animal | D19: 43830 | E19: 10 NIIF Plenas - Individuales | F19: Periodo Actual | G19: 6100098 | H19: 46877118 | I19: 13899280 | J19: 18686596 | K19: 28190522 | L19: 1356634 | M19: 533252
A20: 890300329 | B20: =VLOOKUP(A20,[1]Carátula!A20:D2570,4,FALSE) -> BRITILANA BENREY S.A. | C20: =VLOOKUP(A20,[1]Carátula!A20:F2570,6,FALSE) -> L6810 - Actividades inmobiliarias realizadas con bienes propios o arrendados | D20: 43830 | E20: 10 NIIF Plenas - Individuales | F20: Periodo Actual | G20: 4220510 | H20: 28044026 | I20: 917869 | J20: 3915551 | K20: 24128475 | L20: 42984 | M20: 644419
A21: 800011002 | B21: =VLOOKUP(A21,[1]Carátula!A21:D2571,4,FALSE) -> TECNAS SA | C21: =VLOOKUP(A21,[1]Carátula!A21:F2571,6,FALSE) -> C1089 - Elaboración de otros productos alimenticios n.c.p. | D21: 43830 | E21: 10 NIIF Plenas - Individuales | F21: Periodo Actual | G21: 52572005 | H21: 93057113 | I21: 32790091 | J21: 60122894 | K21: 32934219 | L21: 5622403 | M21: 5111336
A22: 817000790 | B22: =VLOOKUP(A22,[1]Carátula!A22:D2572,4,FALSE) -> FORSA S.A | C22: =VLOOKUP(A22,[1]Carátula!A22:F2572,6,FALSE) -> C2511 - Fabricación de productos metálicos para uso estructural | D22: 43830 | E22: 10 NIIF Plenas - Individuales | F22: Periodo Actual | G22: 46527059 | H22: 89645494 | I22: 44277934 | J22: 61468833 | K22: 28176661 | L22: 4537932 | M22: 6083232
A23: 900169906 | B23: =VLOOKUP(A23,[1]Carátula!A23:D2573,4,FALSE) -> PALMAS SICARAREE SAS | C23: =VLOOKUP(A23,[1]Carátula!A23:F2573,6,FALSE) -> A0126 - Cultivo de palma para aceite (palma africana) y otros frutos oleaginosos | D23: 43830 | E23: 10 NIIF Plenas - Individuales | F23: Periodo Actual | G23: 5544269 | H23: 132293212 | I23: 11167205 | J23: 40927128 | K23: 91366084 | L23: 2224387 | M23: -2821303
A24: 900476207 | B24: =VLOOKUP(A24,[1]Carátula!A24:D2574,4,FALSE) -> UNION EUROPEA SAS | C24: =VLOOKUP(A24,[1]Carátula!A24:F2574,6,FALSE) -> G4771 - Comercio al por menor de prendas de vestir y sus accesorios (incluye artículos de piel) en establecimientos especializados | D24: 43830 | E24: 10 NIIF Plenas - Individuales | F24: Periodo Actual | G24: 3221382 | H24: 13988662 | I24: 2022915 | J24: 10099802 | K24: 3888860 | L24: 537575 | M24: 194866
A25: 800151545 | B25: =VLOOKUP(A25,[1]Carátula!A25:D2575,4,FALSE) -> IMPORTADORA ELECTRONICA S,.A IMPORTRONIC S.A. | C25: =VLOOKUP(A25,[1]Carátula!A25:F2575,6,FALSE) -> G4652 - Comercio al por mayor de equipo, partes y piezas electrónicos y de telecomunicaciones | D25: 43830 | E25: 10 NIIF Plenas - Individuales | F25: Periodo Actual | G25: 8209694 | H25: 9669885 | I25: 656517 | J25: 802105 | K25: 8867780 | L25: 0 | M25: 723324
A26: 860507991 | B26: =VLOOKUP(A26,[1]Carátula!A26:D2576,4,FALSE) -> SANTIAGO OIL COMPANY | C26: =VLOOKUP(A26,[1]Carátula!A26:F2576,6,FALSE) -> B0722 - Extracción de oro y otros metales preciosos | D26: 43830 | E26: 10 NIIF Plenas - Individuales | F26: Periodo Actual | G26: 5977364 | H26: 9807953 | I26: 2723518 | J26: 6138714 | K26: 3669239 | L26: 4972993 | M26: 6282967
... A29: 830023542 | B29: =VLOOKUP(A29,[1]Carátula!A29:D2579,4,FALSE) -> CAMARGO CORREA INFRA PROJETOS S.A SUCURSAL COLOMBIA | C29: =VLOOKUP(A29,[1]Carátula!A29:F2579,6,FALSE) -> F4290 - Construcción de otras obras de ingeniería civil | D29: 43830 | E29: 10 NIIF Plenas - Individuales | F29: Periodo Actual | G29: 127815638 | H29: 147210976 | I29: 75127213 | J29: 75127213 | K29: 72083763 | L29: 2547168 | M29: 52946463
A30: 830050369 | B30: =VLOOKUP(A30,[1]Carátula!A30:D2580,4,FALSE) -> COMERCIAL FOX SAS | C30: =VLOOKUP(A30,[1]Carátula!A30:F2580,6,FALSE) -> G4664 - Comercio al por mayor de productos químicos básicos, cauchos y plásticos en formas primarias y productos químicos de uso agropecuario | D30: 43830 | E30: 10 NIIF Plenas - Individuales | F30: Periodo Actual | G30: 10182147 | H30: 14700063 | I30: 5806181 | J30: 9404351 | K30: 5295712 | M30: 416599
A31: 900268802 | B31: =VLOOKUP(A31,[1]Carátula!A31:D2581,4,FALSE) -> VITIS OLEI SAS | C31: =VLOOKUP(A31,[1]Carátula!A31:F2581,6,FALSE) -> A0126 - Cultivo de palma para aceite (palma africana) y otros frutos oleaginosos | D31: 43830 | E31: 10 NIIF Plenas - Individuales | F31: Periodo Actual | G31: 2296258 | H31: 31048523 | I31: 4341777 | J31: 11400566 | K31: 19647957 | L31: 246427 | M31: 64405
A32: 890931708 | B32: =VLOOKUP(A32,[1]Carátula!A32:D2582,4,FALSE) -> EXTRUSIONES S.A | C32: =VLOOKUP(A32,[1]Carátula!A32:F2582,6,FALSE) -> C2219 - Fabricación de formas básicas de caucho y otros productos de caucho n.c.p. | D32: 43830 | E32: 10 NIIF Plenas - Individuales | F32: Periodo Actual | G32: 10609609 | H32: 19883218 | I32: 4079428 | J32: 6198333 | K32: 13684885 | L32: 1159392 | M32: 2349216
A33: 817000705 | B33: =VLOOKUP(A33,[1]Carátula!A33:D2583,4,FALSE) -> COLOMBINA DEL CAUCA S.A | C33: =VLOOKUP(A33,[1]Carátula!A33:F2583,6,FALSE) -> C1081 - Elaboración de productos de panadería | D33: 43830 | E33: 10 NIIF Plenas - Individuales | F33: Periodo Actual | G33: 108579156 | H33: 269431998 | I33: 76237859 | J33: 142988698 | K33: 126443300 | L33: 3129555 | M33: 45015914
A34: 900611617 | B34: =VLOOKUP(A34,[1]Carátula!A34:D2584,4,FALSE) -> AMBIOCOM S.A.S | C34: =VLOOKUP(A34,[1]Carátula!A34:F2584,6,FALSE) -> C2011 - Fabricación de sustancias y productos químicos básicos | D34: 43830 | E34: 10 NIIF Plenas - Individuales | F34: Periodo Actual | G34: 8234882 | H34: 38788647 | I34: 7958490 | J34: 31527544 | K34: 7261103 | L34: 2270783 | M34: -1073194
A35: 800060704 | B35: =VLOOKUP(A35,[1]Carátula!A35:D2585,4,FALSE) -> KAMEX INTERNATIONAL SAS | C35: =VLOOKUP(A35,[1]Carátula!A35:F2585,6,FALSE) -> C3250 - Fabricación de instrumentos, aparatos y materiales médicos y odontológicos (incluido mobiliario) | D35: 43830 | E35: 10 NIIF Plenas - Individuales | F35: Periodo Actual | G35: 20041440 | H35: 35584657 | I35: 9284278 | J35: 15994571 | K35: 19590086 | L35: 2074123 | M35: 133446
A36: 900887433 | B36: =VLOOKUP(A36,[1]Carátula!A36:D2586,4,FALSE) -> CNPX SAS | C36: =VLOOKUP(A36,[1]Carátula!A36:F2586,6,FALSE) -> M7010 - Actividades de administración empresarial | D36: 43830 | E36: 10 NIIF Plenas - Individuales | F36: Periodo Actual | G36: 3995354 | H36: 70573880 | I36: 769140 | J36: 769140 | K36: 69804740 | L36: 606659 | M36: -5721253
A37: 900580854 | B37: =VLOOKUP(A37,[1]Carátula!A37:D2587,4,FALSE) -> FARO INVESTMENTS SAS | C37: =VLOOKUP(A37,[1]Carátula!A37:F2587,6,FALSE) -> L6810 - Actividades inmobiliarias realizadas con bienes propios o arrendados | D37: 43830 | E37: 10 NIIF Plenas - Individuales | F37: Periodo Actual | G37: 4153063 | H37: 29763618 | I37: 741605 | J37: 3975059 | K37: 25788559 | L37: 140 | M37: 690809
A38: 900736003 | B38: =VLOOKUP(A38,[1]Carátula!A38:D2588,4,FALSE) -> ZONA FRANCA PIR SAS | C38: =VLOOKUP(A38,[1]Carátula!A38:F2588,6,FALSE) -> C1081 - Elaboración de productos de panadería | D38: 43830 | E38: 10 NIIF Plenas - Individuales | F38: Periodo Actual | G38: 13651279 | H38: 122616967 | I38: 38531406 | J38: 70152000 | K38: 52464967 | L38: 3798846 | M38: 1334408
A39: 890926803 | B39: =VLOOKUP(A39,[1]Carátula!A39:D2589,4,FALSE) -> ESTUDIO DE MODA SAS | C39: =VLOOKUP(A39,[1]Carátula!A39:F2589,6,FALSE) -> C1410 - Confección de prendas de vestir, excepto prendas de piel | D39: 43830 | E39: 10 NIIF Plenas - Individuales | F39: Periodo Actual | G39: 86858738 | H39: 127333219 | I39: 42380959 | J39: 74306972 | K39: 53026247 | L39: 11410700 | M39: 4639853
A40: 900229147 | B40: =VLOOKUP(A40,[1]Carátula!A40:D2590,4,FALSE) -> GRUPO MCM COLOMBIA S.A.S. | C40: =VLOOKUP(A40,[1]Carátula!A40:F2590,6,FALSE) -> K6494 - Otras actividades de distribución de fondos | D40: 43830 | E40: 10 NIIF Plenas - Individuales | F40: Periodo Actual | G40: 24729433 | H40: 326591855 | I40: 17747338 | J40: 230869866 | K40: 95721989 | M40: 8972299
A41: 900229139 | B41: =VLOOKUP(A41,[1]Carátula!A41:D2591,4,FALSE) -> MOSJAK S.A.S | C41: =VLOOKUP(A41,[1]Carátula!A41:F2591,6,FALSE) -> K6494 - Otras actividades de distribución de fondos | D41: 43830 | E41: 10 NIIF Plenas - Individuales | F41: Periodo Actual | G41: 1936 | H41: 19987168 | I41: 47529 | J41: 47529 | K41: 19939639 | M41: -22912
A42: 900229144 | B42: =VLOOKUP(A42,[1]Carátula!A42:D2592,4,FALSE) -> VIGORIS S.A.S. | C42: =VLOOKUP(A42,[1]Carátula!A42:F2592,6,FALSE) -> K6494 - Otras actividades de distribución de fondos | D42: 43830 | E42: 10 NIIF Plenas - Individuales | F42: Periodo Actual | G42: 1418 | H42: 19986650 | I42: 49072 | J42: 49072 | K42: 19937578 | M42: -22926
...

Sheet DATOS
A1: Nit | B1: Razón social de la sociedad | C1: Clasificación Industrial Internacional Uniforme Versión 4 A.C | D1: Fecha Corte | E1: Punto Entrada | F1: Periodo | G1: Activos corrientes totales | H1: Total de activos | I1: Pasivos corrientes totales | J1: Total pasivos | K1: Patrimonio total | L1: Costos financieros | M1: Ganancia (pérdida)
A2: 800015615 | B2: MARPICO S.A. | C2: G4690 - Comercio al por mayor no especializado | D2: 43830 | E2: 10 NIIF Plenas - Individuales | F2: Periodo Actual | G2: 101525816 | H2: 139283970 | I2: 48288916 | J2: 57803989 | K2: 81479981 | L2: 1294220 | M2: 3420485
A3: 800203758 | B3: CHT COLOMBIANA LTDA | C3: G4690 - Comercio al por mayor no especializado | D3: 43830 | E3: 10 NIIF Plenas - Individuales | F3: Periodo Actual | G3: 40315306 | H3: 44849751 | I3: 15385500 | J3: 15441370 | K3: 29408381 | L3: 137525 | M3: 5942322
A4: 800093056 | B4: BIC COLOMBIA SAS | C4: G4690 - Comercio al por mayor no especializado | D4: 43830 | E4: 10 NIIF Plenas - Individuales | F4: Periodo Actual | G4: 11407583 | H4: 11407583 | I4: 11699068 | J4: 11699068 | K4: -291485 | L4: 1200634 | M4: -9660659
A5: 900348431 | B5: AUSTRAL IMPORT COLOMBIA SAS | C5: G4690 - Comercio al por mayor no especializado | D5: 43830 | E5: 10 NIIF Plenas - Individuales | F5: Periodo Actual | G5: 12177934 | H5: 20502415 | I5: 6770653 | J5: 28239726 | K5: -7737311 | L5: 5345249 | M5: -3819613
A6: 860051688 | B6: PRODUCTOS DE SEGURIDAD SA EN REORGANIZACION | C6: C3290 - Otras industrias manufactureras n.c.p. | D6: 43830 | E6: 10 NIIF Plenas - Individuales | F6: Periodo Actual | G6: 19070680 | H6: 31301235 | I6: 2809959 | J6: 16314142 | K6: 14987093 | L6: 579225 | M6: 345383
A7: 805024696 | B7: LINCE COMERCIAL SAS | C7: G4690 - Comercio al por mayor no especializado | D7: 43830 | E7: 10 NIIF Plenas - Individuales | F7: Periodo Actual | G7: 32224342 | H7: 36403273 | I7: 22624665 | J7: 30348844 | K7: 6054429 | M7: 947585
A8: 811043026 | B8: ESSENTIALL S.A.S. | C8: G4690 - Comercio al por mayor no especializado | D8: 43830 | E8: 10 NIIF Plenas - Individuales | F8: Periodo Actual | G8: 14433325 | H8: 16053335 | I8: 9037689 | J8: 9327640 | K8: 6725695 | L8: 575139 | M8: 2967774
A9: 890101279 | B9: CONTINENTE SAS | C9: G4690 - Comercio al por mayor no especializado | D9: 43830 | E9: 10 NIIF Plenas - Individuales | F9: Periodo Actual | G9: 150202611 | H9: 182390115 | I9: 111761644 | J9: 119080036 | K9: 63310079 | L9: 5562831 | M9: 2050870
A10: 830054377 | B10: PROVEER SURAMERICANA LTDA | C10: G4690 - Comercio al por mayor no especializado | D10: 43830 | E10: 10 NIIF Plenas - Individuales | F10: Periodo Actual | G10: 7133685 | H10: 10495737 | I10: 4302403 | J10: 5288084 | K10: 5207653 | L10: 175485 | M10: 834262
A11: 890201311 | B11: LEN IMPORTACIONES LTDA | C11: G4690 - Comercio al por mayor no especializado | D11: 43830 | E11: 10 NIIF Plenas - Individuales | F11: Periodo Actual | G11: 102533034 | H11: 125158657 | I11: 46979239 | J11: 48119073 | K11: 77039584 | L11: 2311723 | M11: 8499758
A12: 817002589 | B12: METECNO DE COLOMBIA S.A. | C12: C3290 - Otras industrias manufactureras n.c.p. | D12: 43830 | E12: 10 NIIF Plenas - Individuales | F12: Periodo Actual | G12: 34353657 | H12: 78927691 | I12: 31580158 | J12: 39008414 | K12: 39919277 | L12: 6939535 | M12: -1770000
A13: 890914614 | B13: VOESTALPINE HIGH PERFORMANCE METALS COLOMBIA S.A. | C13: G4690 - Comercio al por mayor no especializado | D13: 43830 | E13: 10 NIIF Plenas - Individuales | F13: Periodo Actual | G13: 14750403 | H13: 24334742 | I13: 17206796 | J13: 17981367 | K13: 6353375 | L13: 1145704 | M13: -1020048
A14: 900235610 | B14: COMPAÑIA LATINOAMERICANA DE SEGURIDAD INDUSTRIAL SAS | C14: C3290 - Otras industrias manufactureras n.c.p. | D14: 43830 | E14: 10 NIIF Plenas - Individuales | F14: Periodo Actual | G14: 19189215 | H14: 37978274 | I14: 735504 | J14: 848110 | K14: 37130164 | L14: 915645 | M14: 5048917
A15: 830044180 | B15: FINART SAS | C15: C3290 - Otras industrias manufactureras n.c.p. | D15: 43830 | E15: 10 NIIF Plenas - Individuales | F15: Periodo Actual | G15: 21380692 | H15: 24424705 | I15: 12208271 | J15: 12208271 | K15: 12216434 | L15: 530857 | M15: 1912723
A16: 860013809 | B16: PRODENVASES SAS | C16: C3290 - Otras industrias manufactureras n.c.p. | D16: 43830 | E16: 10 NIIF Plenas - Individuales | F16: Periodo Actual | G16: 56438222 | H16: 104301886 | I16: 53912778 | J16: 71153712 | K16: 33148174 | L16: 3114287 | M16: 3420065
A17: 901153631 | B17: PREMIUM CANS SAS | C17: C3290 - Otras industrias manufactureras n.c.p. | D17: 43830 | E17: 10 NIIF Plenas - Individuales | F17: Periodo Actual | G17: 7124842 | H17: 13429024 | I17: 7092830 | J17: 13828462 | K17: -399438 | L17: 811555 | M17: -1211668
A18: 805023269 | B18: TESA TAPE COLOMBIA LIMITADA | C18: G4690 - Comercio al por mayor no especializado | D18: 43830 | E18: 10 NIIF Plenas - Individuales | F18: Periodo Actual | G18: 27403616 | H18: 29864387 | I18: 18978784 | J18: 18978784 | K18: 10885603 | L18: 1739444 | M18: 1577220
A19: 890915475 | B19: EMPAQUETADURAS Y EMPAQUES S.A. | C19: G4690 - Comercio al por mayor no especializado | D19: 43830 | E19: 10 NIIF Plenas - Individuales | F19: Periodo Actual | G19: 68562224 | H19: 110523650 | I19: 40812070 | J19: 68542725 | K19: 41980925 | L19: 4211887 | M19: 5888833
A20: 900059238 | B20: MAKRO SUPERMAYORISTA S.A.S | C20: G4690 - Comercio al por mayor no especializado | D20: 43830 | E20: 10 NIIF Plenas - Individuales | F20: Periodo Actual | G20: 300775994 | H20: 1221079379 | I20: 498833282 | J20: 545206251 | K20: 675873128 | M20: -30022071
A21: 900293899 | B21: SOMFY COLOMBIA SAS | C21: G4690 - Comercio al por mayor no especializado | D21: 43830 | E21: 10 NIIF Plenas - Individuales | F21: Periodo Actual | G21: 2787486 | H21: 3003124 | I21: 4147656 | J21: 4147656 | K21: -1144532 | L21: 1575 | M21: -181677
A22: 890301918 | B22: PEPSI COLA COLOMBIA LTDA | C22: G4690 - Comercio al por mayor no especializado | D22: 43830 | E22: 10 NIIF Plenas - Individuales | F22: Periodo Actual | G22: 109704649 | H22: 112296800 | I22: 59350441 | J22: 59350441 | K22: 52946359 | L22: 11901258 | M22: 6010948
A23: 900132203 | B23: CARESTREAM HEALTH COLOMBIA LTDA | C23: G4690 - Comercio al por mayor no especializado | D23: 43830 | E23: 10 NIIF Plenas - Individuales | F23: Periodo Actual | G23: 21926001 | H23: 22492336 | I23: 6007986 | J23: 6870661 | K23: 15621675 | L23: 222246 | M23: -1344680
A24: 900158401 | B24: AGFA HEALTHCARE COLOMBIA LTDA | C24: G4690 - Comercio al por mayor no especializado | D24: 43830 | E24: 10 NIIF Plenas - Individuales | F24: Periodo Actual | G24: 12883448 | H24: 16675929 | I24: 6115421 | J24: 6435035 | K24: 10240894 | L24: 137359 | M24: 2010396
A25: 900156826 | B25: OFIXPRES SAS | C25: G4690 - Comercio al por mayor no especializado | D25: 43830 | E25: 10 NIIF Plenas - Individuales | F25: Periodo Actual | G25: 51551119 | H25: 58714869 | I25: 24814804 | J25: 26907943 | K25: 31806926 | L25: 137106 | M25: 39713
A26: 890905360 | B26: HA BICICLETAS SA | C26: G4690 - Comercio al por mayor no especializado | D26: 43830 | E26: 10 NIIF Plenas - Individuales | F26: Periodo Actual | G26: 391418156 | H26: 410498078 | I26: 58223934 | J26: 64628793 | K26: 345869285 | L26: 2985075 | M26: 57499766
A27: 900963642 | B27: BECKMAN COULTER COLOMBIA S.A. S. | C27: G4690 - Comercio al por mayor no especializado | D27: 43830 | E27: 10 NIIF Plenas - Individuales | F27: Periodo Actual | G27: 20943058 | H27: 45273564 | I27: 25922209 | J27: 25922209 | K27: 19351355 | L27: 920514 | M27: -3721642
A28: 830047819 | B28: Coca-Cola Bebidas de Colombia | C28: G4690 - Comercio al por mayor no especializado | D28: 43830 | E28: 10 NIIF Plenas - Individuales | F28: Periodo Actual | G28: 142208083 | H28: 187203748 | I28: 106818454 | J28: 157434929 | K28: 29768819 | M28: 6739909
A29: 800008151 | B29: ELECTRICOS IMPORTADOS SA EIMPSA | C29: G4690 - Comercio al por mayor no especializado | D29: 43830 | E29: 10 NIIF Plenas - Individuales | F29: Periodo Actual | G29: 20746580 | H29: 34043692 | I29: 18632716 | J29: 22883456 | K29: 11160236 | L29: 737277 | M29: -142536
A30: 860029978 | B30: SC JOHNSON & SON COLOMBIANA S.A. | C30: G4690 - Comercio al por mayor no especializado | D30: 43830 | E30: 10 NIIF Plenas - Individuales | F30: Periodo Actual | G30: 62844436 | H30: 68255149 | I30: 34984577 | J30: 35495808 | K30: 32759341 | L30: 4594448 | M30: 4090278
A31: 830143035 | B31: ICU MEDICAL COLOMBIA LIMITADA | C31: G4690 - Comercio al por mayor no especializado | D31: 43830 | E31: 10 NIIF Plenas - Individuales | F31: Periodo Actual | G31: 41234397 | H31: 128334646 | I31: 36006324 | J31: 37251888 | K31: 91082758 | L31: 1198205 | M31: 1345599
A32: 830095934 | B32: INVESTA HOLDING SAS | C32: C3290 - Otras industrias manufactureras n.c.p. | D32: 43830 | E32: 10 NIIF Plenas - Individuales | F32: Periodo Actual | G32: 548853 | H32: 33247850 | I32: 167869 | J32: 399567 | K32: 32848283 | L32: 9 | M32: -25176
A33: 860008445 | B33: TECNIALAMBRE SA | C33: C3290 - Otras industrias manufactureras n.c.p. | D33: 43830 | E33: 10 NIIF Plenas - Individuales | F33: Periodo Actual | G33: 10444178 | H33: 22493831 | I33: 9510903 | J33: 16043697 | K33: 6450134 | L33: 1668456 | M33: 302543
A34: 860002595 | B34: NEWELL BRANDS DE COLOMBIA SAS | C34: G4690 - Comercio al por mayor no especializado | D34: 43830 | E34: 10 NIIF Plenas - Individuales | F34: Periodo Actual | G34: 187215000 | H34: 200063511 | I34: 71136082 | J34: 72719173 | K34: 127344338 | L34: 21906996 | M34: 3415287
A35: 800130144 | B35: BURICA SA | C35: G4690 - Comercio al por mayor no especializado | D35: 43830 | E35: 10 NIIF Plenas - Individuales | F35: Periodo Actual | G35: 11888299 | H35: 30984757 | I35: 4611633 | J35: 12079479 | K35: 18905278 | M35: 1201406
A36: 900053261 | B36: ILUMAX SA | C36: G4690 - Comercio al por mayor no especializado | D36: 43830 | E36: 10 NIIF Plenas - Individuales | F36: Periodo Actual | G36: 14251008 | H36: 14700089 | I36: 6766505 | J36: 6893866 | K36: 7806223 | L36: 88186 | M36: 97384
A37: 890304345 | B37: ELECTRICOS DEL VALLE | C37: G4690 - Comercio al por mayor no especializado | D37: 43830 | E37: 10 NIIF Plenas - Individuales | F37: Periodo Actual | G37: 25914001 | H37: 34436213 | I37: 20382986 | J37: 24018269 | K37: 10417944 | L37: 728243 | M37: 1659383
A38: 900136900 | B38: MARCEGAGLIA COLOMBIA SAS | C38: C3290 - Otras industrias manufactureras n.c.p. | D38: 43830 | E38: 10 NIIF Plenas - Individuales | F38: Periodo Actual | G38: 9577992 | H38: 17347107 | I38: 5534151 | J38: 10727186 | K38: 6619921 | L38: 632897 | M38: -2606836
A39: 800166656 | B39: SUMICAL DE ANTIOQUIA SAS | C39: G4690 - Comercio al por mayor no especializado | D39: 43830 | E39: 10 NIIF Plenas - Individuales | F39: Periodo Actual | G39: 3391370 | H39: 3467367 | I39: 1517847 | J39: 1527973 | K39: 1939394 | L39: 15665 | M39: 271376
A40: 830032559 | B40: FLINT INK DE COLOMBIA LTDA | C40: G4690 - Comercio al por mayor no especializado | D40: 43830 | E40: 10 NIIF Plenas - Individuales | F40: Periodo Actual | G40: 13736469 | H40: 15600322 | I40: 4765818 | J40: 5703966 | K40: 9896356 | L40: 451538 | M40: -44236
...

Sheet ESTADISTICA
C2: Activos corrientes totales | D2: Total de activos | E2: Pasivos corrientes totales | F2: Total pasivos | G2: Patrimonio total
C3: =+DATOS!G377 -> 7405629854 | D3: 11679410656 | E3: 4636852662 | F3: 6182571896 | G3: 5496838760
E5: Ganancia (pérdida) por actividades de operación | F5: Costos financieros
E6: 319180665 | F6: 348158651
C8: INDICADOR | D8: RESULTADO DE LA MUESTRA
C9: LIQUIDEZ | D9: =+E3/C3 -> 0.62612536
C10: ENDEUDAMIENTO | D10: =+F3/D3 -> 0.5293565
C11: RAZON COBERTURA DE INTERESES | D11: 0
C12: RENTABILDIAD DEL PATRIMONIO | D12: =+E6/G3 -> 0.058066223
C13: RENTABILIDAD DEL ACTIVO | D13: =+E6/D3 -> 0.027328491
