Workbook
Name SUBA: '[1]SUB APU'!$A$1:$D$65536

Sheet COTIZACIÓN PROVEEDOR 1
C2: NOMBRE EMPRESA | J2: FECHA
C4: DEPARTAMENTO, MUNICIPIO | J4: TELÉFONO
C6: NOMBRE CONTACTO | J6: E-MAIL
B8: ITEM | C8: COTIZACIÓN | F8: PRESUPUESTO OFICIAL
F9: VALOR UNITARIO | K9: COSTO FINAL
C10: DETALLE | D10: UNIDAD MEDIDA | E10: CANTIDAD SOLICITADA | F10: VALOR UNITARIO BRUTO | G10: % DESCUENTO | H10: VALOR UNITARIO CON DESCUENTO | I10: % IVA | J10: VALOR UNITARIO DESPUES DE DCTO E IVA | K10: SUBTOTAL ANTES DE DCTO E IVA | L10: COSTO TOTAL DESPUES DE DCTO E IVA
H11: =+F11*(1-G11) -> 0 | J11: =+H11*(1+I11) -> 0 | K11: =+F11*E11 -> 0 | L11: =+E11*J11 -> 0
H12: =+F12*(1-G12) -> 0 | J12: =+H12*(1+I12) -> 0 | K12: =+F12*E12 -> 0 | L12: =+E12*J12 -> 0
H13: =+F13*(1-G13) -> 0 | J13: =+H13*(1+I13) -> 0 | K13: =+F13*E13 -> 0 | L13: =+E13*J13 -> 0
H14: =+F14*(1-G14) -> 0 | J14: =+H14*(1+I14) -> 0 | K14: =+F14*E14 -> 0 | L14: =+E14*J14 -> 0
H15: =+F15*(1-G15) -> 0 | J15: =+H15*(1+I15) -> 0 | K15: =+F15*E15 -> 0 | L15: =+E15*J15 -> 0
H16: =+F16*(1-G16) -> 0 | J16: =+H16*(1+I16) -> 0 | K16: =+F16*E16 -> 0 | L16: =+E16*J16 -> 0
H17: =+F17*(1-G17) -> 0 | J17: =+H17*(1+I17) -> 0 | K17: =+F17*E17 -> 0 | L17: =+E17*J17 -> 0
H18: =+F18*(1-G18) -> 0 | J18: =+H18*(1+I18) -> 0 | K18: =+F18*E18 -> 0 | L18: =+E18*J18 -> 0
H19: =+F19*(1-G19) -> 0 | J19: =+H19*(1+I19) -> 0 | K19: =+F19*E19 -> 0 | L19: =+E19*J19 -> 0
H20: =+F20*(1-G20) -> 0 | J20: =+H20*(1+I20) -> 0 | K20: =+F20*E20 -> 0 | L20: =+E20*J20 -> 0
H21: =+F21*(1-G21) -> 0 | J21: =+H21*(1+I21) -> 0 | K21: =+F21*E21 -> 0 | L21: =+E21*J21 -> 0
H22: =+F22*(1-G22) -> 0 | J22: =+H22*(1+I22) -> 0 | K22: =+F22*E22 -> 0 | L22: =+E22*J22 -> 0
... H27: =+F27*(1-G27) -> 0 | J27: =+H27*(1+I27) -> 0 | K27: =+F27*E27 -> 0 | L27: =+E27*J27 -> 0
B28: SUBTOTAL | K28: =SUM(K11:K27) -> 0 | L28: =SUM(L11:L27) -> 0

Sheet COTIZACIÓN PROVEEDOR N1
C2: NOMBRE EMPRESA | H2: FECHA
C4: DEPARTAMENTO, MUNICIPIO | H4: TELÉFONO
C6: NOMBRE CONTACTO | H6: E-MAIL
B8: ITEM | C8: COTIZACIÓN | F8: PRESUPUESTO OFICIAL
F9: VALOR UNITARIO | I9: COSTO FINAL
C10: DETALLE | D10: UNIDAD MEDIDA | E10: CANTIDAD SOLICITADA | F10: VALOR UNITARIO BRUTO | G10: % IVA | H10: VALOR UNITARIO INCLUIDO IVA | I10: SUBTOTAL ANTES IVA | J10: COSTO TOTAL INCLUÍDO IVA
F11: =+H11/(1+G11) -> 0 | I11: =+F11*E11 -> 0 | J11: =+E11*H11 -> 0
F12: =+H12/(1+G12) -> 0 | I12: =+F12*E12 -> 0 | J12: =+E12*H12 -> 0
F13: =+H13/(1+G13) -> 0 | I13: =+F13*E13 -> 0 | J13: =+E13*H13 -> 0
F14: =+H14/(1+G14) -> 0 | I14: =+F14*E14 -> 0 | J14: =+E14*H14 -> 0
F15: =+H15/(1+G15) -> 0 | I15: =+F15*E15 -> 0 | J15: =+E15*H15 -> 0
F16: =+H16/(1+G16) -> 0 | I16: =+F16*E16 -> 0 | J16: =+E16*H16 -> 0
F17: =+H17/(1+G17) -> 0 | I17: =+F17*E17 -> 0 | J17: =+E17*H17 -> 0
F18: =+H18/(1+G18) -> 0 | I18: =+F18*E18 -> 0 | J18: =+E18*H18 -> 0
F19: =+H19/(1+G19) -> 0 | I19: =+F19*E19 -> 0 | J19: =+E19*H19 -> 0
F20: =+H20/(1+G20) -> 0 | I20: =+F20*E20 -> 0 | J20: =+E20*H20 -> 0
F21: =+H21/(1+G21) -> 0 | I21: =+F21*E21 -> 0 | J21: =+E21*H21 -> 0
F22: =+H22/(1+G22) -> 0 | I22: =+F22*E22 -> 0 | J22: =+E22*H22 -> 0
... F27: =+H27/(1+G27) -> 0 | I27: =+F27*E27 -> 0 | J27: =+E27*H27 -> 0
B28: TOTAL | I28: =SUM(I11:I27) -> 0 | J28: =SUM(J11:J27) -> 0

Sheet Cotizaciones
A1: Fecha | B1: Municipio | C1: Cotizaciones / Empresa | D1: Contacto | E1: Teléfon | F1: E-mail | G1: ITEM | H1: INSUMO/HERRAMIENTA/EQUIPO | I1: UNIDAD | J1: CANTIDAD | K1: VALOR UNITARIO BRUTO | L1: % IVA | M1: VALOR UNITARIO INCLUIDO IVA | N1: SUBTOTAL ANTES IVA | O1: COSTO TOTAL INCLUÍDO IVA
A2: 45051 | B2: Ibague - Tolima | C2: Organiagro SAS | D2: Sandra Milena Vanegas | E2: 3185314863 | F2: licitaciones.organiagrosas1@gmail.com | G2: 1 | H2: ABONO ORGANICO. TIPO GALLINAZA COMPOSTADA. | I2: Bulto x 50 kg | J2: 30 | K2: =M2/(1+L2) -> 30450 | L2: 0 | M2: 30450 | N2: =J2*K2 -> 913500 | O2: =J2*M2 -> 913500
A3: 45051 | B3: Ibague - Tolima | C3: Organiagro SAS | D3: Sandra Milena Vanegas | E3: 3185314863 | F3: licitaciones.organiagrosas1@gmail.com | G3: 2 | H3: Alambre de púas calibre 14. PRESENTACIÓN: Rollos de 400 metros | I3: Rollo x 400 m | J3: 1 | K3: =M3/(1+L3) -> 553235.29 | L3: 0.19 | M3: 658350 | N3: =J3*K3 -> 553235.29 | O3: =J3*M3 -> 658350
A4: 45051 | B4: Ibague - Tolima | C4: Organiagro SAS | D4: Sandra Milena Vanegas | E4: 3185314863 | F4: licitaciones.organiagrosas1@gmail.com | G4: 3 | H4: ALAMBRE DULCE GALVANIZADO, CALIBRE 12 | I4: Rollo X 25 kg | J4: 5 | K4: =M4/(1+L4) -> 304411.76 | L4: 0.19 | M4: 362250 | N4: =J4*K4 -> 1522058.8 | O4: =J4*M4 -> 1811250
A5: 45051 | B5: Ibague - Tolima | C5: Organiagro SAS | D5: Sandra Milena Vanegas | E5: 3185314863 | F5: licitaciones.organiagrosas1@gmail.com | G5: 4 | H5: Alicate diablo | I5: Unidad | J5: 1 | K5: =M5/(1+L5) -> 84705.882 | L5: 0.19 | M5: 100800 | N5: =J5*K5 -> 84705.882 | O5: =J5*M5 -> 100800
A6: 45055 | B6: Bogota | C6: Mundo Campo | D6: https://mundocampo.com.co/producto/finca-mojarra-crecimiento-30-2-5-mm/ | E6: 317-8292992 | F6: auxmercadeo@agrovelca.com | G6: 5 | H6: Alimento concentrado mojarra 30% | I6: Bulto x 40 kg | J6: 11 | K6: =M6/(1+L6) -> 184166.67 | L6: 0.05 | M6: 193375 | N6: =J6*K6 -> 2025833.3 | O6: =J6*M6 -> 2127125 | P6: precios consultados en linea, y ajustados hacia arriba con porcentaje del 25% por operación logistica comercial (fletes, gestion de adquisicion, compra y distribucion a sitio definitivo, etc).
A7: 45051 | B7: Ibague - Tolima | C7: Organiagro SAS | D7: Sandra Milena Vanegas | E7: 3185314863 | F7: licitaciones.organiagrosas1@gmail.com | G7: 6 | H7: ALIMENTO PECUARIO COMPLETO PARA PECES DE 25 -25% PROTEÍNA | I7: Bulto x 40 kg | J7: 5 | K7: =M7/(1+L7) -> 245000 | L7: 0.05 | M7: 257250 | N7: =J7*K7 -> 1225000 | O7: =J7*M7 -> 1286250
A8: 45051 | B8: Ibague - Tolima | C8: Organiagro SAS | D8: Sandra Milena Vanegas | E8: 3185314863 | F8: licitaciones.organiagrosas1@gmail.com | G8: 7 | H8: ALIMENTO PECUARIO COMPLETO PARA PECES DE 34% PROTEÍNA | I8: Bulto x 40 kg | J8: 5 | K8: =M8/(1+L8) -> 198000 | L8: 0.05 | M8: 207900 | N8: =J8*K8 -> 990000 | O8: =J8*M8 -> 1039500
A9: 45051 | B9: Ibague - Tolima | C9: Organiagro SAS | D9: Sandra Milena Vanegas | E9: 3185314863 | F9: licitaciones.organiagrosas1@gmail.com | G9: 8 | H9: ALIMENTO PECUARIO COMPLETO PARA PECES DE 38-45% PROTEÍNA | I9: Bulto x 40 kg | J9: 2 | K9: =M9/(1+L9) -> 278000 | L9: 0.05 | M9: 291900 | N9: =J9*K9 -> 556000 | O9: =J9*M9 -> 583800
A10: 45051 | B10: Ibague - Tolima | C10: Organiagro SAS | D10: Sandra Milena Vanegas | E10: 3185314863 | F10: licitaciones.organiagrosas1@gmail.com | G10: 9 | H10: Azadon con cabo | I10: Unidad | J10: 25 | K10: =M10/(1+L10) -> 64000 | L10: 0.05 | M10: 67200 | N10: =J10*K10 -> 1600000 | O10: =J10*M10 -> 1680000
A11: 45051 | B11: Ibague - Tolima | C11: Organiagro SAS | D11: Sandra Milena Vanegas | E11: 3185314863 | F11: licitaciones.organiagrosas1@gmail.com | G11: 10 | H11: Bandejas en aluminio troqueladas medidas 45*65 | I11: Unidad | J11: 6 | K11: =M11/(1+L11) -> 591176.47 | L11: 0.19 | M11: 703500 | N11: =J11*K11 -> 3547058.8 | O11: =J11*M11 -> 4221000
A12: 45055 | B12: Cali - Valle del Cauca | C12: Badecol | D12: https://www.badecol.com/products/bascula-inalambrica-industrial-capac-300kg | E12: 3154927497 / 3182422423 | F12: ventas@badecol.com comercial@badecol.com | G12: 11 | H12: BASCULA DIGITAL INALAMBRICA INDUSTRIAL CAPACIDAD 150 KG - Capacidad: 150kg, División: 20g, Unidades de peso: lb y Kg - Batería interna recargable de 12V y autonomía de 8horas - Dimensión plataforma: 30 x 40 (150 kg) - Display: LCD - Display de tres pantallas con 7 dígitos cada uno - Función Indicador: Liquidador - Sistema de Tara para disminuir recipientes | I12: Unidad | J12: 3 | K12: =M12/(1+L12) -> 350000 | L12: 0.19 | M12: =333200*1.25 -> 416500 | N12: =J12*K12 -> 1050000 | O12: =J12*M12 -> 1249500 | P12: precios consultados en linea, y ajustados hacia arriba con porcentaje del 25% por operación logistica comercial (fletes, gestion de adquisicion, compra y distribucion a sitio definitivo, etc).
A13: 45051 | B13: Ibague - Tolima | C13: Organiagro SAS | D13: Sandra Milena Vanegas | E13: 3185314863 | F13: licitaciones.organiagrosas1@gmail.com | G13: 12 | H13: BATEA PARA ENFRIAMIENTO DE MIEL DE CAÑA FABRICADA EN ACERO INOXIDABLE 316 | I13: Unidad | J13: 1 | K13: =M13/(1+L13) -> 2436974.8 | L13: 0.19 | M13: 2900000 | N13: =J13*K13 -> 2436974.8 | O13: =J13*M13 -> 2900000 | P13: No se tendra e cuenta esta cotizacion ya que relaciona un valor que duplica el valor analizado con los fabricantes directos de esta tecnologia en Antioquia , empresa JM Estrada
A14: 45051 | B14: Ibague - Tolima | C14: Organiagro SAS | D14: Sandra Milena Vanegas | E14: 3185314863 | F14: licitaciones.organiagrosas1@gmail.com | G14: 13 | H14: BINOCULARES PROFESIONALES 20X50 OBSERVACIÓN DE AVES: Modelo X002B Visión clara: binocular de 20 x 50, con un aumento de 20x, este binocular puede acercar el sujeto 20 veces más, diámetro de lente de 50 mm objeto que permite que pase más luz, y es muy claro para los detalles, incluso si está en condiciones de poca luz.Medidas del producto: alto 17.5 cm, ancho 19 cm, fondo 6 cm. Alcance aproximado entre 700 y 900 metros. Prisma Bak-4 Visión amplia e imagen clara. No tiene visión nocturna. Contenido: 1 Binoculares 20x50 negros, paño limpieza, correa, estuche y manual. | I14: Unidad | J14: 10 | K14: =M14/(1+L14) -> 326470.59 | L14: 0.19 | M14: 388500 | N14: =J14*K14 -> 3264705.9 | O14: =J14*M14 -> 3885000
A15: 45051 | B15: Ibague - Tolima | C15: Organiagro SAS | D15: Sandra Milena Vanegas | E15: 3185314863 | F15: licitaciones.organiagrosas1@gmail.com | G15: 14 | H15: Bolsa para vivero Bolsa 8cm x 16cm Cal. 1,5 con fuelle incluido paquete por 100 unidades | I15: Paquete x 100 unidades | J15: 19 | K15: =M15/(1+L15) -> 4500 | L15: 0.19 | M15: 5355 | N15: =J15*K15 -> 85500 | O15: =J15*M15 -> 101745
A16: 45051 | B16: Ibague - Tolima | C16: Organiagro SAS | D16: Sandra Milena Vanegas | E16: 3185314863 | F16: licitaciones.organiagrosas1@gmail.com | G16: 15 | H16: Bolsa para vivero Bolsa x 100 unidades 8x12 con fuelle calibre 1.5 | I16: Paquete x 100 unidades | J16: 605 | K16: =M16/(1+L16) -> 4500 | L16: 0.19 | M16: 5355 | N16: =J16*K16 -> 2722500 | O16: =J16*M16 -> 3239775
A17: 45051 | B17: Ibague - Tolima | C17: Organiagro SAS | D17: Sandra Milena Vanegas | E17: 3185314863 | F17: licitaciones.organiagrosas1@gmail.com | G17: 16 | H17: Bolsa platanera rollo x 80 metros - Bolsas plásticas para plátano convenientemente plegadas, tipo Lay Flat, de fácil apertura e instalación. - Presentación: Bolsa Cortada. - Bolsa en Rollo (con o sin precorte). Ancho*: 91,44 cm (36 pulgadas). - 94,00 cm (37 pulgadas). Largo*: 140 cm (55,1 pulgadas). - 145 cm (57,1 pulgadas). Espesor*: Desde 0,30 hasta 0,60 milésimas de pulgada. - Perforación: 4 mm. - 6 mm. | I17: Rollo x 80 m | J17: 6 | K17: =M17/(1+L17) -> 247058.82 | L17: 0.19 | M17: 294000 | N17: =J17*K17 -> 1482352.9 | O17: =J17*M17 -> 1764000 | P17: No se usaran estas cotizaciones por no corersponder al producto solicitado
A18: 45051 | B18: Ibague - Tolima | C18: Organiagro SAS | D18: Sandra Milena Vanegas | E18: 3185314863 | F18: licitaciones.organiagrosas1@gmail.com | G18: 17 | H18: BOLSAS DE POLIETILENO NEGRAS CON FUELLE PARA SEMILLERO, DE 10 X 15 CM, CALIBRE 2 | I18: Paquete x 100 unidades | J18: 10 | K18: =M18/(1+L18) -> 7323.5294 | L18: 0.19 | M18: 8715 | N18: =J18*K18 -> 73235.294 | O18: =J18*M18 -> 87150
A19: 45051 | B19: Ibague - Tolima | C19: Organiagro SAS | D19: Sandra Milena Vanegas | E19: 3185314863 | F19: licitaciones.organiagrosas1@gmail.com | G19: 18 | H19: bultos de cemento gris | I19: Bulto x 50 kg | J19: 8 | K19: =M19/(1+L19) -> 43235.294 | L19: 0.19 | M19: 51450 | N19: =J19*K19 -> 345882.35 | O19: =J19*M19 -> 411600
A20: 45051 | B20: Ibague - Tolima | C20: Organiagro SAS | D20: Sandra Milena Vanegas | E20: 3185314863 | F20: licitaciones.organiagrosas1@gmail.com | G20: 19 | H20: CABUYA COSECHERA VERDE REF. 6X1X1500 METROS | I20: Rollo x 1500 m | J20: 30 | K20: =M20/(1+L20) -> 40588.235 | L20: 0.19 | M20: 48300 | N20: =J20*K20 -> 1217647.1 | O20: =J20*M20 -> 1449000
A21: 45051 | B21: Ibague - Tolima | C21: Organiagro SAS | D21: Sandra Milena Vanegas | E21: 3185314863 | F21: licitaciones.organiagrosas1@gmail.com | G21: 20 | H21: CAL AGRÍCOLA, CARBONATO DE CALCIO, ENMIENDA INORGÁNICA DE SUELOS POLVO SECO USO AGRÍCOLA. CALCIO SOLUBLE EN HCL (CaO 48%). Presentación de Bulto por 50 kilogramos. | I21: Bulto x 50 kg | J21: 44 | K21: =M21/(1+L21) -> 28350 | L21: 0 | M21: 28350 | N21: =J21*K21 -> 1247400 | O21: =J21*M21 -> 1247400
A22: 45051 | B22: Ibague - Tolima | C22: Organiagro SAS | D22: Sandra Milena Vanegas | E22: 3185314863 | F22: licitaciones.organiagrosas1@gmail.com | G22: 21 | H22: CAL DOLOMITA 16% ENMIENDA INORGÁNICA DE SUELOS POLVO SECO USO AGRÍCOLA. CALCIO SOLUBLE EN HCl (CaCO3 36%), MAGNESIO SOLUBLE EN HCl (MgO 16%). Presentación de Bulto por 50 kilogramos. | I22: Bulto x 50 kg | J22: 30 | K22: =M22/(1+L22) -> 32550 | L22: 0 | M22: 32550 | N22: =J22*K22 -> 976500 | O22: =J22*M22 -> 976500
A23: 45051 | B23: Ibague - Tolima | C23: Organiagro SAS | D23: Sandra Milena Vanegas | E23: 3185314863 | F23: licitaciones.organiagrosas1@gmail.com | G23: 22 | H23: CAL DOLOMITA ACONDICIONADOR INORGÁNICO DE SUELOS, EN POLVO SECO, PARA USO AGRÍCOLA PARA SU ENMIENDA SACO DE POLIPROPILENO CON BOLSA INTERIOR Y LICENCIA ICA. CaO 39% y 12% de MgO | I23: Bulto x 50 kg | J23: 16 | K23: =M23/(1+L23) -> 32550 | L23: 0 | M23: 32550 | N23: =J23*K23 -> 520800 | O23: =J23*M23 -> 520800
A24: 45051 | B24: Ibague - Tolima | C24: Organiagro SAS | D24: Sandra Milena Vanegas | E24: 3185314863 | F24: licitaciones.organiagrosas1@gmail.com | G24: 23 | H24: CAL TRIPLE 30 | I24: Bulto x 50 kg | J24: 39 | K24: =M24/(1+L24) -> 39900 | L24: 0 | M24: 39900 | N24: =J24*K24 -> 1556100 | O24: =J24*M24 -> 1556100
A25: 45051 | B25: Ibague - Tolima | C25: Organiagro SAS | D25: Sandra Milena Vanegas | E25: 3185314863 | F25: licitaciones.organiagrosas1@gmail.com | G25: 24 | H25: CAL TRIPLE 30 MENORES | I25: Bulto x 50 kg | J25: 44 | K25: =M25/(1+L25) -> 39900 | L25: 0 | M25: 39900 | N25: =J25*K25 -> 1755600 | O25: =J25*M25 -> 1755600
A26: 45051 | B26: Ibague - Tolima | C26: Organiagro SAS | D26: Sandra Milena Vanegas | E26: 3185314863 | F26: licitaciones.organiagrosas1@gmail.com | G26: 25 | H26: CAMPING: Camping para4 personas. Tipo IGLU. Disponibles para 3 y 6 personas. Facil y rapida de armar. Super liviana y ligera para llevar a cualquir parte. Material impermeable ideal para la lluvia y la nieve. Medidas 2 mts. x 2 mts. x 1,40 mts. | I26: Unidad | J26: 4 | K26: =M26/(1+L26) -> 527731.09 | L26: 0.19 | M26: 628000 | N26: =J26*K26 -> 2110924.4 | O26: =J26*M26 -> 2512000 | P26: Nose tendra en cuenta esta cotizacion por que supera el valor promedio establecido con otros valores
A27: 45051 | B27: Ibague - Tolima | C27: Organiagro SAS | D27: Sandra Milena Vanegas | E27: 3185314863 | F27: licitaciones.organiagrosas1@gmail.com | G27: 26 | H27: Canastillas plásticas para el transporte de material vegetal capacidad 60x40x13 cm | I27: Unidad | J27: 18 | K27: =M27/(1+L27) -> 29117.647 | L27: 0.19 | M27: 34650 | N27: =J27*K27 -> 524117.65 | O27: =J27*M27 -> 623700
A28: 45051 | B28: Ibague - Tolima | C28: Organiagro SAS | D28: Sandra Milena Vanegas | E28: 3185314863 | F28: licitaciones.organiagrosas1@gmail.com | G28: 27 | H28: CANASTILLAS FRUVER PLASTICA DE 60x40x25 | I28: Unidad | J28: 132 | K28: =M28/(1+L28) -> 34411.765 | L28: 0.19 | M28: 40950 | N28: =J28*K28 -> 4542352.9 | O28: =J28*M28 -> 5405400
A29: 45051 | B29: Ibague - Tolima | C29: Organiagro SAS | D29: Sandra Milena Vanegas | E29: 3185314863 | F29: licitaciones.organiagrosas1@gmail.com | G29: 28 | H29: CANASTILLAS FRUVER PLASTICA DE 60x40x18 | I29: Unidad | J29: 26 | K29: =M29/(1+L29) -> 34411.765 | L29: 0.19 | M29: 40950 | N29: =J29*K29 -> 894705.88 | O29: =J29*M29 -> 1064700
A30: 45051 | B30: Ibague - Tolima | C30: Organiagro SAS | D30: Sandra Milena Vanegas | E30: 3185314863 | F30: licitaciones.organiagrosas1@gmail.com | G30: 29 | H30: CANASTO RECOLECTOR CANASTA EN POLIETILENO DE ALTA DENSIDAD 100% VIRGEN, ERGONICOMO, CON UV PROTECCIÓN RAYOS ULTAVIOLETA PARA RECOLECCIÓN DE CAFÉ Y FRUTOS. | I30: Unidad | J30: 30 | K30: =M30/(1+L30) -> 47647.059 | L30: 0.19 | M30: 56700 | N30: =J30*K30 -> 1429411.8 | O30: =J30*M30 -> 1701000
A31: 45051 | B31: Ibague - Tolima | C31: Organiagro SAS | D31: Sandra Milena Vanegas | E31: 3185314863 | F31: licitaciones.organiagrosas1@gmail.com | G31: 30 | H31: Caneca 30 Litros Con Tapa Y Zuncho Metalico. Nueva Caneca 30litros con Tapa y Zuncho Metalico Polietileno 100% atoxico. Tapa de cierre Hermético con precinto de seguridad y aro metálico, fáciles de usar, fáciles de apilar, reutilizables. | I31: unidad | J31: 10 | K31: =M31/(1+L31) -> 105882.35 | L31: 0.19 | M31: 126000 | N31: =J31*K31 -> 1058823.5 | O31: =J31*M31 -> 1260000
A32: 45051 | B32: Ibague - Tolima | C32: Organiagro SAS | D32: Sandra Milena Vanegas | E32: 3185314863 | F32: licitaciones.organiagrosas1@gmail.com | G32: 31 | H32: caneca de plastico de 30 galones | I32: Unidad | J32: 6 | K32: =M32/(1+L32) -> 105882.35 | L32: 0.19 | M32: 126000 | N32: =J32*K32 -> 635294.12 | O32: =J32*M32 -> 756000
A33: 45051 | B33: Ibague - Tolima | C33: Organiagro SAS | D33: Sandra Milena Vanegas | E33: 3185314863 | F33: licitaciones.organiagrosas1@gmail.com | G33: 32 | H33: caneca metalica de 15 galones | I33: Unidad | J33: 1 | K33: =M33/(1+L33) -> 82058.824 | L33: 0.19 | M33: 97650 | N33: =J33*K33 -> 82058.824 | O33: =J33*M33 -> 97650
A34: 45051 | B34: Ibague - Tolima | C34: Organiagro SAS | D34: Sandra Milena Vanegas | E34: 3185314863 | F34: licitaciones.organiagrosas1@gmail.com | G34: 33 | H34: caneca metalica de 55 galones | I34: Unidad | J34: 1 | K34: =M34/(1+L34) -> 153529.41 | L34: 0.19 | M34: 182700 | N34: =J34*K34 -> 153529.41 | O34: =J34*M34 -> 182700
A35: 45051 | B35: Ibague - Tolima | C35: Organiagro SAS | D35: Sandra Milena Vanegas | E35: 3185314863 | F35: licitaciones.organiagrosas1@gmail.com | G35: 34 | H35: Caneca plastica de 55 galones con tapa para desarrollo de biopreparados | I35: Unidad | J35: 4 | K35: =M35/(1+L35) -> 114705.88 | L35: 0.19 | M35: 136500 | N35: =J35*K35 -> 458823.53 | O35: =J35*M35 -> 546000
A36: 45051 | B36: Ibague - Tolima | C36: Organiagro SAS | D36: Sandra Milena Vanegas | E36: 3185314863 | F36: licitaciones.organiagrosas1@gmail.com | G36: 35 | H36: Carretilla de platon metalico | I36: Unidad | J36: 12 | K36: =M36/(1+L36) -> 326470.59 | L36: 0.19 | M36: 388500 | N36: =J36*K36 -> 3917647.1 | O36: =J36*M36 -> 4662000
A37: 45055 | B37: Bogota | C37: Apinal - Miel de Abeja | D37: ttps://www.apinal.com/centrifugadora-herrajes-de-acero-inoxidable-ref-304-canela-plastica | E37: 3143570150 | G37: 36 | H37: Centrifugadora - Herrajes de acero inoxidable, con Caneca Plástica Medidas 90 cms de altura, 49 cms de diámetro, Herrajes en acero inoxidable 304, Canastas con capacidad para centrifugar 3 cuadros de cría o 6 de media alza. Llave envasadora en acero inoxidable en la parte inferior, Peso aproximado 15 kilos | I37: Unidad | J37: 1 | K37: =M37/(1+L37) -> 945378.15 | L37: 0.19 | M37: =900000*1.25 -> 1125000 | N37: =J37*K37 -> 945378.15 | O37: =J37*M37 -> 1125000 | P37: UNICA COTIZACION. Por especificidad del producto.consultado en linea y confirmado con llamada telefonica
A38: 45051 | B38: Ibague - Tolima | C38: Organiagro SAS | D38: Sandra Milena Vanegas | E38: 3185314863 | F38: licitaciones.organiagrosas1@gmail.com | G38: 37 | H38: CINTA PARA INJERTAR Cinta de injertar (color segun el requerimiento) en baja densidad calibre 1,50 de 10 pulgadas y 40 cm de ancho. PRESENTACIÓN: ROLLO POR 100 METROS | I38: Rollo x 100 m | J38: 1 | K38: =M38/(1+L38) -> 64411.765 | L38: 0.19 | M38: 76650 | N38: =J38*K38 -> 64411.765 | O38: =J38*M38 -> 76650
A39: 45051 | B39: Ibague - Tolima | C39: Organiagro SAS | D39: Sandra Milena Vanegas | E39: 3185314863 | F39: licitaciones.organiagrosas1@gmail.com | G39: 38 | H39: CONCENTRADO PONEDORA - ALIMENTO FASE POSTURA - ALIMENTO CONCENTRADO PARA GALLINAS PONEDORAS CON HUMEDAD MAXIMA DEL 13% PROTEINA MINIMA DEL 17 - 18% GRASA MINIMA 4%, FIBRA MAXIMA 6%, CENIZA MAXIMA 15%, CALCIO MINIMO 3,6%, FOSFORO MINIMO 0,45%. | I39: Bulto x 40 kg | J39: 4 | K39: =M39/(1+L39) -> 173000 | L39: 0.05 | M39: 181650 | N39: =J39*K39 -> 692000 | O39: =J39*M39 -> 726600
A40: 45051 | B40: Ibague - Tolima | C40: Organiagro SAS | D40: Sandra Milena Vanegas | E40: 3185314863 | F40: licitaciones.organiagrosas1@gmail.com | G40: 39 | H40: REFRIGERADOR -CONGELADOR CON CAPACIDAD DE 200 LITROS MARCA ELECTROLUX, NO FROST | I40: Unidad | J40: 2 | K40: =M40/(1+L40) -> 1676470.6 | L40: 0.19 | M40: 1995000 | N40: =J40*K40 -> 3352941.2 | O40: =J40*M40 -> 3990000
...

Sheet Analisis de cotizaciones
A1: ITEM | B1: DETALLE | C1: UNIDAD MEDIDA | D1: VALOR UNITARIO INCLUIDO IVA | Z1: MEDIDA ESTADÍSTICA SELECCIONADA | AA1: VALOR UNITARIO | AB1: OBSERVACIÓN
D2: Proveedor 1 Organiagro SAS | E2: Proveedor 2 Carmenagro SAS | F2: Proveedor 3 DC Y Suministros SAS | G2: Proveedor 4 Mundo Campo | H2: Proveedor 5 Market place | I2: Proveedor 6 Agrocosur | J2: Proveedor 7 Apinal | K2: Proveedor 8 Éxito.com | L2: Proveedor 9 IDEAMAQ | M2: Proveedor 10 Mercado libre | N2: Proveedor 11 Liberty Lab | O2: Proveedor 12 Truper | P2: Proveedor 13 Homecenter | Q2: Proveedor 14 Fallabella | R2: Proveedor 15 Tipica SAS | S2: Proveedor 16 PLADESAN | T2: Proveedor 17 Aceros paneleros JR | U2: Proveedor 18 Corpoagro | V2: Proveedor 19 Soluciones Horeca SAS | W2: Proveedor 20 Vitrigas Uno A | X2: Proveedor 21 OyM Inversiones | Y2: Proveedor 22 JM Estrada
A3: 1 | B3: ABONO ORGANICO. TIPO GALLINAZA COMPOSTADA. | C3: Bulto x 50 kg | D3: =Cotizaciones!M2 -> 30450 | E3: =Cotizaciones!M109 -> 29000 | F3: =Cotizaciones!M216 -> 32582 | Z3: Promedio | AA3: =+IFERROR(ROUNDUP(IF(Z3="Promedio",AVERAGE(D3:Y3),IF(Z3="Mínimo",MIN(D3:G3),IF(Z3="Máximo",MAX(D3:G3),IF(Z3="Moda",MODE(D3:G3),IF(Z3="Mediana",MEDIAN(D3:O3),""))))),0),"") -> 30678
A4: 2 | B4: Alambre de púas calibre 14. PRESENTACIÓN: Rollos de 400 metros | C4: Rollo x 400 m | D4: =Cotizaciones!M3 -> 658350 | E4: =Cotizaciones!M110 -> 627000 | F4: =Cotizaciones!M217 -> 704435 | Z4: Promedio | AA4: =+IFERROR(ROUNDUP(IF(Z4="Promedio",AVERAGE(D4:Y4),IF(Z4="Mínimo",MIN(D4:G4),IF(Z4="Máximo",MAX(D4:G4),IF(Z4="Moda",MODE(D4:G4),IF(Z4="Mediana",MEDIAN(D4:O4),""))))),0),"") -> 663262
A5: 3 | B5: ALAMBRE DULCE GALVANIZADO, CALIBRE 12 | C5: Rollo X 25 kg | D5: =Cotizaciones!M4 -> 362250 | E5: =Cotizaciones!M111 -> 345000 | F5: =Cotizaciones!M218 -> 387608 | Z5: Promedio | AA5: =+IFERROR(ROUNDUP(IF(Z5="Promedio",AVERAGE(D5:Y5),IF(Z5="Mínimo",MIN(D5:G5),IF(Z5="Máximo",MAX(D5:G5),IF(Z5="Moda",MODE(D5:G5),IF(Z5="Mediana",MEDIAN(D5:O5),""))))),0),"") -> 364953
A6: 4 | B6: Alicate diablo | C6: Unidad | D6: =Cotizaciones!M5 -> 100800 | E6: =Cotizaciones!M112 -> 96000 | F6: =Cotizaciones!M219 -> 107856 | Z6: Promedio | AA6: =+IFERROR(ROUNDUP(IF(Z6="Promedio",AVERAGE(D6:Y6),IF(Z6="Mínimo",MIN(D6:G6),IF(Z6="Máximo",MAX(D6:G6),IF(Z6="Moda",MODE(D6:G6),IF(Z6="Mediana",MEDIAN(D6:O6),""))))),0),"") -> 101552
A7: 5 | B7: Alimento concentrado mojarra 30% | C7: Bulto x 40 kg | G7: =Cotizaciones!M6 -> 193375 | H7: =Cotizaciones!M113 -> 220000 | I7: =Cotizaciones!M220 -> 212000 | Z7: Promedio | AA7: =+IFERROR(ROUNDUP(IF(Z7="Promedio",AVERAGE(D7:Y7),IF(Z7="Mínimo",MIN(D7:G7),IF(Z7="Máximo",MAX(D7:G7),IF(Z7="Moda",MODE(D7:G7),IF(Z7="Mediana",MEDIAN(D7:O7),""))))),0),"") -> 208459
A8: 6 | B8: ALIMENTO PECUARIO COMPLETO PARA PECES DE 25 -25% PROTEÍNA | C8: Bulto x 40 kg | D8: =Cotizaciones!M7 -> 257250 | E8: =Cotizaciones!M114 -> 245000 | F8: =Cotizaciones!M221 -> 275258 | Z8: Promedio | AA8: =+IFERROR(ROUNDUP(IF(Z8="Promedio",AVERAGE(D8:Y8),IF(Z8="Mínimo",MIN(D8:G8),IF(Z8="Máximo",MAX(D8:G8),IF(Z8="Moda",MODE(D8:G8),IF(Z8="Mediana",MEDIAN(D8:O8),""))))),0),"") -> 259170
A9: 7 | B9: ALIMENTO PECUARIO COMPLETO PARA PECES DE 34% PROTEÍNA | C9: Bulto x 40 kg | D9: =Cotizaciones!M8 -> 207900 | E9: =Cotizaciones!M115 -> 198000 | F9: =Cotizaciones!M222 -> 222453 | Z9: Promedio | AA9: =+IFERROR(ROUNDUP(IF(Z9="Promedio",AVERAGE(D9:Y9),IF(Z9="Mínimo",MIN(D9:G9),IF(Z9="Máximo",MAX(D9:G9),IF(Z9="Moda",MODE(D9:G9),IF(Z9="Mediana",MEDIAN(D9:O9),""))))),0),"") -> 209451
A10: 8 | B10: ALIMENTO PECUARIO COMPLETO PARA PECES DE 38-45% PROTEÍNA | C10: Bulto x 40 kg | D10: =Cotizaciones!M9 -> 291900 | E10: =Cotizaciones!M116 -> 278000 | F10: =Cotizaciones!M223 -> 312333 | Z10: Promedio | AA10: =+IFERROR(ROUNDUP(IF(Z10="Promedio",AVERAGE(D10:Y10),IF(Z10="Mínimo",MIN(D10:G10),IF(Z10="Máximo",MAX(D10:G10),IF(Z10="Moda",MODE(D10:G10),IF(Z10="Mediana",MEDIAN(D10:O10),""))))),0),"") -> 294078
A11: 9 | B11: Azadon con cabo | C11: Unidad | D11: =Cotizaciones!M10 -> 67200 | E11: =Cotizaciones!M117 -> 64000 | F11: =Cotizaciones!M224 -> 71904 | Z11: Promedio | AA11: =+IFERROR(ROUNDUP(IF(Z11="Promedio",AVERAGE(D11:Y11),IF(Z11="Mínimo",MIN(D11:G11),IF(Z11="Máximo",MAX(D11:G11),IF(Z11="Moda",MODE(D11:G11),IF(Z11="Mediana",MEDIAN(D11:O11),""))))),0),"") -> 67702
A12: 10 | B12: Bandejas en aluminio troqueladas medidas 45*65 | C12: Unidad | D12: =Cotizaciones!M11 -> 703500 | E12: =Cotizaciones!M118 -> 670000 | F12: =Cotizaciones!M225 -> 752745 | Z12: Promedio | AA12: =+IFERROR(ROUNDUP(IF(Z12="Promedio",AVERAGE(D12:Y12),IF(Z12="Mínimo",MIN(D12:G12),IF(Z12="Máximo",MAX(D12:G12),IF(Z12="Moda",MODE(D12:G12),IF(Z12="Mediana",MEDIAN(D12:O12),""))))),0),"") -> 708749
A13: 11 | B13: BASCULA DIGITAL INALAMBRICA INDUSTRIAL CAPACIDAD 150 KG - Capacidad: 150kg, División: 20g, Unidades de peso: lb y Kg - Batería interna recargable de 12V y autonomía de 8horas - Dimensión plataforma: 30 x 40 (150 kg) - Display: LCD - Display de tres pantallas con 7 dígitos cada uno - Función Indicador: Liquidador - Sistema de Tara para disminuir recipientes | C13: Unidad | D13: =Cotizaciones!M12 -> 416500 | E13: =Cotizaciones!M119 -> 487500 | F13: =Cotizaciones!M226 -> 535500 | Z13: Promedio | AA13: =+IFERROR(ROUNDUP(IF(Z13="Promedio",AVERAGE(D13:Y13),IF(Z13="Mínimo",MIN(D13:G13),IF(Z13="Máximo",MAX(D13:G13),IF(Z13="Moda",MODE(D13:G13),IF(Z13="Mediana",MEDIAN(D13:O13),""))))),0),"") -> 479834
A14: 12 | B14: BATEA PARA ENFRIAMIENTO DE MIEL DE CAÑA FABRICADA EN ACERO INOXIDABLE 316 | C14: Unidad | Y14: =Cotizaciones!M327 -> 1500000 | Z14: Promedio | AA14: =+IFERROR(ROUNDUP(IF(Z14="Promedio",AVERAGE(D14:Y14),IF(Z14="Mínimo",MIN(D14:G14),IF(Z14="Máximo",MAX(D14:G14),IF(Z14="Moda",MODE(D14:G14),IF(Z14="Mediana",MEDIAN(D14:O14),""))))),0),"") -> 1500000 | AB14: Solo se tuvo en cuenta la cotizacion de JM Estrada. Analizada con elllos
A15: 13 | B15: BINOCULARES PROFESIONALES 20X50 OBSERVACIÓN DE AVES: Visión clara: binocular de 20 x 50, con un aumento de 20x, este binocular puede acercar el sujeto 20 veces más, diámetro de lente de 50 mm objeto que permite que pase más luz, y es muy claro para los detalles, incluso si está en condiciones de poca luz.Medidas del producto: alto 17.5 cm, ancho 19 cm, fondo 6 cm. Alcance aproximado entre 700 y 900 metros. Prisma Bak-4 Visión amplia e imagen clara. No tiene visión nocturna. Contenido: 1 Binoculares 20x50 negros, paño limpieza, correa, estuche y manual. | C15: Unidad | D15: =Cotizaciones!M14 -> 388500 | E15: =Cotizaciones!M121 -> 370000 | F15: =Cotizaciones!M228 -> 415695 | Z15: Promedio | AA15: =+IFERROR(ROUNDUP(IF(Z15="Promedio",AVERAGE(D15:Y15),IF(Z15="Mínimo",MIN(D15:G15),IF(Z15="Máximo",MAX(D15:G15),IF(Z15="Moda",MODE(D15:G15),IF(Z15="Mediana",MEDIAN(D15:O15),""))))),0),"") -> 391399
A16: 14 | B16: Bolsa para vivero Bolsa 8cm x 16cm Cal. 1,5 con fuelle incluido paquete por 100 unidades | C16: Paquete x 100 unidades | D16: =Cotizaciones!M15 -> 5355 | E16: =Cotizaciones!M122 -> 5100 | F16: =Cotizaciones!M229 -> 5730 | Z16: Promedio | AA16: =+IFERROR(ROUNDUP(IF(Z16="Promedio",AVERAGE(D16:Y16),IF(Z16="Mínimo",MIN(D16:G16),IF(Z16="Máximo",MAX(D16:G16),IF(Z16="Moda",MODE(D16:G16),IF(Z16="Mediana",MEDIAN(D16:O16),""))))),0),"") -> 5395
A17: 15 | B17: Bolsa para vivero Bolsa x 100 unidades 8x12 con fuelle calibre 1.5 | C17: Paquete x 100 unidades | D17: =Cotizaciones!M16 -> 5355 | E17: =Cotizaciones!M123 -> 5100 | F17: =Cotizaciones!M230 -> 5730 | Z17: Promedio | AA17: =+IFERROR(ROUNDUP(IF(Z17="Promedio",AVERAGE(D17:Y17),IF(Z17="Mínimo",MIN(D17:G17),IF(Z17="Máximo",MAX(D17:G17),IF(Z17="Moda",MODE(D17:G17),IF(Z17="Mediana",MEDIAN(D17:O17),""))))),0),"") -> 5395
A18: 16 | B18: Bolsa platanera rollo x 80 metros - Bolsas plásticas para plátano convenientemente plegadas, tipo Lay Flat, de fácil apertura e instalación. - Presentación: Bolsa Cortada. - Bolsa en Rollo (con o sin precorte). Ancho*: 91,44 cm (36 pulgadas). - 94,00 cm (37 pulgadas). Largo*: 140 cm (55,1 pulgadas). - 145 cm (57,1 pulgadas). Espesor*: Desde 0,30 hasta 0,60 milésimas de pulgada. - Perforación: 4 mm. - 6 mm. | C18: Rollo x 80 m | U18: =Cotizaciones!M325 -> 97500 | Z18: Promedio | AA18: =+IFERROR(ROUNDUP(IF(Z18="Promedio",AVERAGE(D18:Y18),IF(Z18="Mínimo",MIN(D18:G18),IF(Z18="Máximo",MAX(D18:G18),IF(Z18="Moda",MODE(D18:G18),IF(Z18="Mediana",MEDIAN(D18:O18),""))))),0),"") -> 97500 | AB18: Solos e tuvo en cuenta la cotizacion de Corpoagro, als otras estaban fuera del valor promedio analizado con los expertos en platano
A19: 17 | B19: BOLSAS DE POLIETILENO NEGRAS CON FUELLE PARA SEMILLERO, DE 10 X 15 CM, CALIBRE 2 | C19: Paquete x 100 unidades | D19: =Cotizaciones!M18 -> 8715 | E19: =Cotizaciones!M125 -> 8300 | F19: =Cotizaciones!M232 -> 9325 | Z19: Promedio | AA19: =+IFERROR(ROUNDUP(IF(Z19="Promedio",AVERAGE(D19:Y19),IF(Z19="Mínimo",MIN(D19:G19),IF(Z19="Máximo",MAX(D19:G19),IF(Z19="Moda",MODE(D19:G19),IF(Z19="Mediana",MEDIAN(D19:O19),""))))),0),"") -> 8780
A20: 18 | B20: bultos de cemento gris | C20: Bulto x 50 kg | D20: =Cotizaciones!M19 -> 51450 | E20: =Cotizaciones!M126 -> 49000 | F20: =Cotizaciones!M233 -> 55052 | Z20: Promedio | AA20: =+IFERROR(ROUNDUP(IF(Z20="Promedio",AVERAGE(D20:Y20),IF(Z20="Mínimo",MIN(D20:G20),IF(Z20="Máximo",MAX(D20:G20),IF(Z20="Moda",MODE(D20:G20),IF(Z20="Mediana",MEDIAN(D20:O20),""))))),0),"") -> 51834
A21: 19 | B21: CABUYA COSECHERA VERDE 6X1X1500 METROS | C21: Rollo x 1500 m | D21: =Cotizaciones!M20 -> 48300 | E21: =Cotizaciones!M127 -> 46000 | F21: =Cotizaciones!M234 -> 51681 | Z21: Promedio | AA21: =+IFERROR(ROUNDUP(IF(Z21="Promedio",AVERAGE(D21:Y21),IF(Z21="Mínimo",MIN(D21:G21),IF(Z21="Máximo",MAX(D21:G21),IF(Z21="Moda",MODE(D21:G21),IF(Z21="Mediana",MEDIAN(D21:O21),""))))),0),"") -> 48661
A22: 20 | B22: CAL AGRÍCOLA, CARBONATO DE CALCIO, ENMIENDA INORGÁNICA DE SUELOS POLVO SECO USO AGRÍCOLA. CALCIO SOLUBLE EN HCL (CaO 48%). Presentación de Bulto por 50 kilogramos. | C22: Bulto x 50 kg | D22: =Cotizaciones!M21 -> 28350 | E22: =Cotizaciones!M128 -> 27000 | F22: =Cotizaciones!M235 -> 30335 | Z22: Promedio | AA22: =+IFERROR(ROUNDUP(IF(Z22="Promedio",AVERAGE(D22:Y22),IF(Z22="Mínimo",MIN(D22:G22),IF(Z22="Máximo",MAX(D22:G22),IF(Z22="Moda",MODE(D22:G22),IF(Z22="Mediana",MEDIAN(D22:O22),""))))),0),"") -> 28562
A23: 21 | B23: CAL DOLOMITA 16% ENMIENDA INORGÁNICA DE SUELOS POLVO SECO USO AGRÍCOLA. CALCIO SOLUBLE EN HCl (CaCO3 36%), MAGNESIO SOLUBLE EN HCl (MgO 16%). Presentación de Bulto por 50 kilogramos. | C23: Bulto x 50 kg | D23: =Cotizaciones!M22 -> 32550 | E23: =Cotizaciones!M129 -> 31000 | F23: =Cotizaciones!M236 -> 30335 | Z23: Promedio | AA23: =+IFERROR(ROUNDUP(IF(Z23="Promedio",AVERAGE(D23:Y23),IF(Z23="Mínimo",MIN(D23:G23),IF(Z23="Máximo",MAX(D23:G23),IF(Z23="Moda",MODE(D23:G23),IF(Z23="Mediana",MEDIAN(D23:O23),""))))),0),"") -> 31295
A24: 22 | B24: CAL DOLOMITA ACONDICIONADOR INORGÁNICO DE SUELOS, EN POLVO SECO, PARA USO AGRÍCOLA PARA SU ENMIENDA SACO DE POLIPROPILENO CON BOLSA INTERIOR Y LICENCIA ICA. CaO 39% y 12% de MgO | C24: Bulto x 50 kg | D24: =Cotizaciones!M23 -> 32550 | E24: =Cotizaciones!M130 -> 31000 | F24: =Cotizaciones!M237 -> 34829 | Z24: Promedio | AA24: =+IFERROR(ROUNDUP(IF(Z24="Promedio",AVERAGE(D24:Y24),IF(Z24="Mínimo",MIN(D24:G24),IF(Z24="Máximo",MAX(D24:G24),IF(Z24="Moda",MODE(D24:G24),IF(Z24="Mediana",MEDIAN(D24:O24),""))))),0),"") -> 32793
A25: 23 | B25: CAL TRIPLE 30 | C25: Bulto x 50 kg | D25: =Cotizaciones!M24 -> 39900 | E25: =Cotizaciones!M131 -> 38000 | F25: =Cotizaciones!M238 -> 42693 | Z25: Promedio | AA25: =+IFERROR(ROUNDUP(IF(Z25="Promedio",AVERAGE(D25:Y25),IF(Z25="Mínimo",MIN(D25:G25),IF(Z25="Máximo",MAX(D25:G25),IF(Z25="Moda",MODE(D25:G25),IF(Z25="Mediana",MEDIAN(D25:O25),""))))),0),"") -> 40198
A26: 24 | B26: CAL TRIPLE 30 MENORES | C26: Bulto x 50 kg | D26: =Cotizaciones!M25 -> 39900 | E26: =Cotizaciones!M132 -> 38000 | F26: =Cotizaciones!M239 -> 42693 | Z26: Promedio | AA26: =+IFERROR(ROUNDUP(IF(Z26="Promedio",AVERAGE(D26:Y26),IF(Z26="Mínimo",MIN(D26:G26),IF(Z26="Máximo",MAX(D26:G26),IF(Z26="Moda",MODE(D26:G26),IF(Z26="Mediana",MEDIAN(D26:O26),""))))),0),"") -> 40198
A27: 25 | B27: CAMPING: Camping para4 personas. Tipo IGLU. Disponibles para 3 y 6 personas. Facil y rapida de armar. Super liviana y ligera para llevar a cualquir parte. Material impermeable ideal para la lluvia y la nieve. Medidas 2 mts. x 2 mts. x 1,40 mts. | C27: Unidad | P27: =Cotizaciones!M333 -> 288625 | Q27: =Cotizaciones!M332 -> 299875 | Z27: Promedio | AA27: =+IFERROR(ROUNDUP(IF(Z27="Promedio",AVERAGE(D27:Y27),IF(Z27="Mínimo",MIN(D27:G27),IF(Z27="Máximo",MAX(D27:G27),IF(Z27="Moda",MODE(D27:G27),IF(Z27="Mediana",MEDIAN(D27:O27),""))))),0),"") -> 294250
A28: 26 | B28: Canastillas plásticas para el transporte de material vegetal capacidad 60x40x13 cm | C28: Unidad | D28: =Cotizaciones!M27 -> 34650 | E28: =Cotizaciones!M134 -> 33000 | F28: =Cotizaciones!M241 -> 37076 | Z28: Promedio | AA28: =+IFERROR(ROUNDUP(IF(Z28="Promedio",AVERAGE(D28:Y28),IF(Z28="Mínimo",MIN(D28:G28),IF(Z28="Máximo",MAX(D28:G28),IF(Z28="Moda",MODE(D28:G28),IF(Z28="Mediana",MEDIAN(D28:O28),""))))),0),"") -> 34909
A29: 27 | B29: CANASTILLAS FRUVER PLASTICA DE 60x40x25 | C29: Unidad | D29: =Cotizaciones!M28 -> 40950 | E29: =Cotizaciones!M135 -> 39900 | F29: =Cotizaciones!M242 -> 43818 | Z29: Promedio | AA29: =+IFERROR(ROUNDUP(IF(Z29="Promedio",AVERAGE(D29:Y29),IF(Z29="Mínimo",MIN(D29:G29),IF(Z29="Máximo",MAX(D29:G29),IF(Z29="Moda",MODE(D29:G29),IF(Z29="Mediana",MEDIAN(D29:O29),""))))),0),"") -> 41556
A30: 28 | B30: CANASTILLAS FRUVER PLASTICA DE 60x40x18 | C30: Unidad | D30: =Cotizaciones!M29 -> 40950 | E30: =Cotizaciones!M136 -> 39900 | F30: =Cotizaciones!M243 -> 43818 | Z30: Promedio | AA30: =+IFERROR(ROUNDUP(IF(Z30="Promedio",AVERAGE(D30:Y30),IF(Z30="Mínimo",MIN(D30:G30),IF(Z30="Máximo",MAX(D30:G30),IF(Z30="Moda",MODE(D30:G30),IF(Z30="Mediana",MEDIAN(D30:O30),""))))),0),"") -> 41556
A31: 29 | B31: CANASTO RECOLECTOR CANASTA EN POLIETILENO DE ALTA DENSIDAD 100% VIRGEN, ERGONOMICO, CON UV PROTECCIÓN RAYOS ULTAVIOLETA PARA RECOLECCIÓN DE CAFÉ Y FRUTOS. | C31: Unidad | D31: =Cotizaciones!M30 -> 56700 | E31: =Cotizaciones!M137 -> 54000 | F31: =Cotizaciones!M244 -> 60669 | Z31: Promedio | AA31: =+IFERROR(ROUNDUP(IF(Z31="Promedio",AVERAGE(D31:Y31),IF(Z31="Mínimo",MIN(D31:G31),IF(Z31="Máximo",MAX(D31:G31),IF(Z31="Moda",MODE(D31:G31),IF(Z31="Mediana",MEDIAN(D31:O31),""))))),0),"") -> 57123
A32: 30 | B32: Caneca 30 Litros Con Tapa Y Zuncho Metalico. Nueva Caneca 30litros con Tapa y Zuncho Metalico Polietileno 100% atoxico. Tapa de cierre Hermético con precinto de seguridad y aro metálico, fáciles de usar, fáciles de apilar, reutilizables. | C32: unidad | D32: =Cotizaciones!M31 -> 126000 | E32: =Cotizaciones!M138 -> 119700 | F32: =Cotizaciones!M245 -> 134820 | Z32: Promedio | AA32: =+IFERROR(ROUNDUP(IF(Z32="Promedio",AVERAGE(D32:Y32),IF(Z32="Mínimo",MIN(D32:G32),IF(Z32="Máximo",MAX(D32:G32),IF(Z32="Moda",MODE(D32:G32),IF(Z32="Mediana",MEDIAN(D32:O32),""))))),0),"") -> 126840
A33: 31 | B33: caneca de plastico de 30 galones | C33: Unidad | D33: =Cotizaciones!M32 -> 126000 | E33: =Cotizaciones!M139 -> 120000 | F33: =Cotizaciones!M246 -> 134820 | Z33: Promedio | AA33: =+IFERROR(ROUNDUP(IF(Z33="Promedio",AVERAGE(D33:Y33),IF(Z33="Mínimo",MIN(D33:G33),IF(Z33="Máximo",MAX(D33:G33),IF(Z33="Moda",MODE(D33:G33),IF(Z33="Mediana",MEDIAN(D33:O33),""))))),0),"") -> 126940
A34: 32 | B34: caneca metalica de 15 galones | C34: Unidad | D34: =Cotizaciones!M33 -> 97650 | E34: =Cotizaciones!M140 -> 93000 | F34: =Cotizaciones!M247 -> 104486 | Z34: Promedio | AA34: =+IFERROR(ROUNDUP(IF(Z34="Promedio",AVERAGE(D34:Y34),IF(Z34="Mínimo",MIN(D34:G34),IF(Z34="Máximo",MAX(D34:G34),IF(Z34="Moda",MODE(D34:G34),IF(Z34="Mediana",MEDIAN(D34:O34),""))))),0),"") -> 98379
A35: 33 | B35: caneca metalica de 55 galones | C35: Unidad | D35: =Cotizaciones!M34 -> 182700 | E35: =Cotizaciones!M141 -> 174000 | F35: =Cotizaciones!M248 -> 195489 | Z35: Promedio | AA35: =+IFERROR(ROUNDUP(IF(Z35="Promedio",AVERAGE(D35:Y35),IF(Z35="Mínimo",MIN(D35:G35),IF(Z35="Máximo",MAX(D35:G35),IF(Z35="Moda",MODE(D35:G35),IF(Z35="Mediana",MEDIAN(D35:O35),""))))),0),"") -> 184063
A36: 34 | B36: Caneca plastica de 55 galones con tapa para desarrollo de biopreparados | C36: Unidad | D36: =Cotizaciones!M35 -> 136500 | E36: =Cotizaciones!M142 -> 130000 | F36: =Cotizaciones!M249 -> 146055 | Z36: Promedio | AA36: =+IFERROR(ROUNDUP(IF(Z36="Promedio",AVERAGE(D36:Y36),IF(Z36="Mínimo",MIN(D36:G36),IF(Z36="Máximo",MAX(D36:G36),IF(Z36="Moda",MODE(D36:G36),IF(Z36="Mediana",MEDIAN(D36:O36),""))))),0),"") -> 137519
A37: 35 | B37: Carretilla de platon metalico | C37: Unidad | D37: =Cotizaciones!M36 -> 388500 | E37: =Cotizaciones!M143 -> 370000 | F37: =Cotizaciones!M250 -> 415695 | Z37: Promedio | AA37: =+IFERROR(ROUNDUP(IF(Z37="Promedio",AVERAGE(D37:Y37),IF(Z37="Mínimo",MIN(D37:G37),IF(Z37="Máximo",MAX(D37:G37),IF(Z37="Moda",MODE(D37:G37),IF(Z37="Mediana",MEDIAN(D37:O37),""))))),0),"") -> 391399
A38: 36 | B38: Centrifugadora - Herrajes de acero inoxidable, con Caneca Plástica Medidas 90 cms de altura, 49 cms de diámetro, Herrajes en acero inoxidable 304, Canastas con capacidad para centrifugar 3 cuadros de cría o 6 de media alza. Llave envasadora en acero inoxidable en la parte inferior, Peso aproximado 15 kilos | C38: Unidad | J38: =Cotizaciones!M37 -> 1125000 | Z38: Promedio | AA38: =+IFERROR(ROUNDUP(IF(Z38="Promedio",AVERAGE(D38:Y38),IF(Z38="Mínimo",MIN(D38:G38),IF(Z38="Máximo",MAX(D38:G38),IF(Z38="Moda",MODE(D38:G38),IF(Z38="Mediana",MEDIAN(D38:O38),""))))),0),"") -> 1125000 | AB38: Unica cotizacion debido a la especificidad del producto
A39: 37 | B39: CINTA PARA INJERTAR Cinta de injertar (color segun el requerimiento) en baja densidad calibre 1,50 de 10 pulgadas y 40 cm de ancho. PRESENTACIÓN: ROLLO POR 100 METROS | C39: Rollo x 100 m | D39: =Cotizaciones!M38 -> 76650 | E39: =Cotizaciones!M144 -> 73000 | F39: =Cotizaciones!M252 -> 82016 | Z39: Promedio | AA39: =+IFERROR(ROUNDUP(IF(Z39="Promedio",AVERAGE(D39:Y39),IF(Z39="Mínimo",MIN(D39:G39),IF(Z39="Máximo",MAX(D39:G39),IF(Z39="Moda",MODE(D39:G39),IF(Z39="Mediana",MEDIAN(D39:O39),""))))),0),"") -> 77222
A40: 38 | B40: CONCENTRADO PONEDORA - ALIMENTO FASE POSTURA - ALIMENTO CONCENTRADO PARA GALLINAS PONEDORAS CON HUMEDAD MAXIMA DEL 13% PROTEINA MINIMA DEL 17 - 18% GRASA MINIMA 4%, FIBRA MAXIMA 6%, CENIZA MAXIMA 15%, CALCIO MINIMO 3,6%, FOSFORO MINIMO 0,45%. | C40: Bulto x 40 kg | D40: =Cotizaciones!M39 -> 181650 | E40: =Cotizaciones!M146 -> 173000 | F40: =Cotizaciones!M253 -> 194366 | Z40: Promedio | AA40: =+IFERROR(ROUNDUP(IF(Z40="Promedio",AVERAGE(D40:Y40),IF(Z40="Mínimo",MIN(D40:G40),IF(Z40="Máximo",MAX(D40:G40),IF(Z40="Moda",MODE(D40:G40),IF(Z40="Mediana",MEDIAN(D40:O40),""))))),0),"") -> 183006
...

Sheet PRESUPUESTO MATRIZ DE INVERSIÓN
A1: ITEM | B1: DETALLE | C1: UNIDAD | D1: CANTIDAD | E1: VALOR UNITARIO BRUTO ANTES DE IVA ($) | F1: IVA (%) | G1: VALOR UNITARIO | H1: VALOR TOTAL | I1: NUMERO DE LOTE
A3: 1 | B3: ABONO ORGANICO. TIPO GALLINAZA COMPOSTADA. | C3: Bulto x 50 kg | D3: 68 | E3: =G3/(1+F3) -> 30678 | F3: 0 | G3: ='Analisis de cotizaciones'!AA3 -> 30678 | H3: =D3*G3 -> 2086104 | I3: LOTE 1 INSUMOS AGROPECUARIOS
A4: 2 | B4: Alambre de púas calibre 14. PRESENTACIÓN: Rollos de 400 metros | C4: Rollo x 400 m | D4: 1 | E4: =G4/(1+F4) -> 557363.03 | F4: 0.19 | G4: ='Analisis de cotizaciones'!AA4 -> 663262 | H4: =D4*G4 -> 663262 | I4: LOTE 2 HERRAMIENTAS Y EQUIPOS AGROPECUARIOS
A5: 3 | B5: ALAMBRE DULCE GALVANIZADO, CALIBRE 12 | C5: Rollo X 25 kg | D5: 3 | E5: =G5/(1+F5) -> 306683.19 | F5: 0.19 | G5: ='Analisis de cotizaciones'!AA5 -> 364953 | H5: =D5*G5 -> 1094859 | I5: LOTE 2 HERRAMIENTAS Y EQUIPOS AGROPECUARIOS
A6: 4 | B6: Alicate diablo | C6: Unidad | D6: 1 | E6: =G6/(1+F6) -> 85337.815 | F6: 0.19 | G6: ='Analisis de cotizaciones'!AA6 -> 101552 | H6: =D6*G6 -> 101552 | I6: LOTE 2 HERRAMIENTAS Y EQUIPOS AGROPECUARIOS
A7: 5 | B7: Alimento concentrado mojarra 30% | C7: Bulto x 40 kg | D7: 9 | E7: =G7/(1+F7) -> 198532.38 | F7: 0.05 | G7: ='Analisis de cotizaciones'!AA7 -> 208459 | H7: =D7*G7 -> 1876131 | I7: LOTE 1 INSUMOS AGROPECUARIOS
A8: 6 | B8: ALIMENTO PECUARIO COMPLETO PARA PECES DE 25 -25% PROTEÍNA | C8: Bulto x 40 kg | D8: 3 | E8: =G8/(1+F8) -> 246828.57 | F8: 0.05 | G8: ='Analisis de cotizaciones'!AA8 -> 259170 | H8: =D8*G8 -> 777510 | I8: LOTE 1 INSUMOS AGROPECUARIOS
A9: 7 | B9: ALIMENTO PECUARIO COMPLETO PARA PECES DE 34% PROTEÍNA | C9: Bulto x 40 kg | D9: 3 | E9: =G9/(1+F9) -> 199477.14 | F9: 0.05 | G9: ='Analisis de cotizaciones'!AA9 -> 209451 | H9: =D9*G9 -> 628353 | I9: LOTE 1 INSUMOS AGROPECUARIOS
A10: 8 | B10: ALIMENTO PECUARIO COMPLETO PARA PECES DE 38-45% PROTEÍNA | C10: Bulto x 40 kg | D10: 2 | E10: =G10/(1+F10) -> 280074.29 | F10: 0.05 | G10: ='Analisis de cotizaciones'!AA10 -> 294078 | H10: =D10*G10 -> 588156 | I10: LOTE 1 INSUMOS AGROPECUARIOS
A11: 9 | B11: Azadon con cabo | C11: Unidad | D11: 19 | E11: =G11/(1+F11) -> 64478.095 | F11: 0.05 | G11: ='Analisis de cotizaciones'!AA11 -> 67702 | H11: =D11*G11 -> 1286338 | I11: LOTE 2 HERRAMIENTAS Y EQUIPOS AGROPECUARIOS
A12: 10 | B12: Bandejas en aluminio troqueladas medidas 45*65 | C12: caja x 12 unidades | D12: 1 | E12: =G12/(1+F12) -> 595587.39 | F12: 0.19 | G12: ='Analisis de cotizaciones'!AA12 -> 708749 | H12: =D12*G12 -> 708749 | I12: LOTE 2 HERRAMIENTAS Y EQUIPOS AGROPECUARIOS
A13: 11 | B13: BASCULA DIGITAL INALAMBRICA INDUSTRIAL CAPACIDAD 150 KG - Capacidad: 150kg, División: 20g, Unidades de peso: lb y Kg - Batería interna recargable de 12V y autonomía de 8horas - Dimensión plataforma: 30 x 40 (150 kg) - Display: LCD - Display de tres pantallas con 7 dígitos cada uno - Función Indicador: Liquidador - Sistema de Tara para disminuir recipientes | C13: Unidad | D13: 3 | E13: =G13/(1+F13) -> 403221.85 | F13: 0.19 | G13: ='Analisis de cotizaciones'!AA13 -> 479834 | H13: =D13*G13 -> 1439502 | I13: LOTE 2 HERRAMIENTAS Y EQUIPOS AGROPECUARIOS
A14: 12 | B14: BATEA PARA ENFRIAMIENTO DE MIEL DE CAÑA FABRICADA EN ACERO INOXIDABLE 316 | C14: Unidad | D14: 1 | E14: =G14/(1+F14) -> 1260504.2 | F14: 0.19 | G14: ='Analisis de cotizaciones'!AA14 -> 1500000 | H14: =D14*G14 -> 1500000 | I14: LOTE 2 HERRAMIENTAS Y EQUIPOS AGROPECUARIOS
... A109: 107 | B109: Freidora de Aceite Electrica 2 Tanques Cada Tanque 5.5 L Comercial Modelo 2 TANQUES CADA TANQUE 5.5LT. Fuller Machinery Código 583797 | C109: Unidad | D109: 1 | E109: =G109/(1+F109) -> 1267003.4 | F109: 0.19 | G109: ='Analisis de cotizaciones'!AA109 -> 1507734 | H109: =D109*G109 -> 1507734 | I109: LOTE 2 HERRAMIENTAS Y EQUIPOS AGROPECUARIOS
D110: =SUM(D3:D109) -> 1499 | H110: =SUM(H3:H109) -> 100000000
A199: TOTAL | I199: =SUM(#REF!) -> #REF!

Sheet DETALLE SUMINISTRO
A1: ITEM | B1: INSUMO/HERRAMIENTA/EQUIPO | C1: UNIDAD | D1: CANTIDAD | E1: VALOR UNITARIO BRUTO ANTES DE IVA ($) | F1: IVA (%) | G1: VALOR UNITARIO (INCLUIDO IVA) ($) | H1: VALOR TOTAL | I1: SUBREGION | J1: MUNICIPIO | K1: VEREDA/CORREGIMIENTO | L1: CADENA PRODUCTIVA | M1: ORGANIZACIÓN DE PRODUCTORES | N1: NIT | O1: REPRESENTANTE LEGAL/CONTACTO | P1: TELEFONO | Q1: CORREO ELECTRONICO | R1: NUMERO DE LOTE
A2: 1 | B2: CANASTILLAS FRUVER PLASTICA DE 60x40x25 | C2: Unidad | D2: 6 | E2: =G2/(1+F2) -> 34921.008 | F2: 0.19 | G2: ='PRESUPUESTO MATRIZ DE INVERSIÓN'!G29 -> 41556 | H2: =D2*G2 -> 249336 | I2: BAJO CAUCA | J2: EL BAGRE | K2: CORREGIMIENTO PUERTO CLAVER | L2: FORESTAL | M2: AFROCLAVER. CONSEJO COMUNITARIO AFROCLAVER | N2: 901097069-2 | O2: LORENA INES BRAVO CUADRADO | P2: 3127988420 | Q2: afroclaverconsejocomunitario@gmail.com | R2: LOTE 2 HERRAMIENTAS Y EQUIPOS AGROPECUARIOS
A3: 2 | B3: Insecticida agrícola Cipermetrina (RS)-alfa-ciano-3-fenoxibencil-(1RS)-cis,trans-3-(2,2-diclorovinil)-2,2-dimetil ciclopropanocarboxilato 200 g/L. Ingredientes aditivos: c.s.p. 1 L: Concentrado emulsionable - EC. Registro ICA vigente, fecha de expiración superior a un año en el momento de la entrega. Presentación Litro | C3: Litro | D3: 1 | E3: =G3/(1+F3) -> 119536 | F3: 0 | G3: ='PRESUPUESTO MATRIZ DE INVERSIÓN'!G65 -> 119536 | H3: =D3*G3 -> 119536 | I3: BAJO CAUCA | J3: EL BAGRE | K3: CORREGIMIENTO PUERTO CLAVER | L3: FORESTAL | M3: AFROCLAVER. CONSEJO COMUNITARIO AFROCLAVER | N3: 901097069-2 | O3: LORENA INES BRAVO CUADRADO | P3: 3127988420 | Q3: afroclaverconsejocomunitario@gmail.com | R3: LOTE 1 INSUMOS AGROPECUARIOS
A4: 3 | B4: FERTILIZANTE FOLIAR (POLIQUEL MAGNESIO) Liquido soluble. COMPOSICIÓN GARANTIZADA Nitrógeno Total (N-total) 38.0 Nitrógeno Orgánico (N-orgánico) 38.0 Azufre Total (S) 53.0 Magnesio Total (MgO) 64.0 Carbón Orgánico Oxidable Total (COOT) 73.7 Aminoácidos libres (1) 239 Aminoácidos: Alanina; Arginina; Acido Aspártico; Acido Glutámico; Glicina; Histidina; Isoleucina; Leucina; Lisina; Metionina; Fenilalanina; Prolina; Serina; Treonina y Valina. Enterobacterias < 10 UFC/G Salmonella sp Ausencia / 25 ml. Registro ICA vigente. Fecha de expiración en el momento de entrega superior a un año. | C4: Litro | D4: 2 | E4: =G4/(1+F4) -> 94148 | F4: 0 | G4: ='PRESUPUESTO MATRIZ DE INVERSIÓN'!G52 -> 94148 | H4: =D4*G4 -> 188296 | I4: BAJO CAUCA | J4: EL BAGRE | K4: CORREGIMIENTO PUERTO CLAVER | L4: FORESTAL | M4: AFROCLAVER. CONSEJO COMUNITARIO AFROCLAVER | N4: 901097069-2 | O4: LORENA INES BRAVO CUADRADO | P4: 3127988420 | Q4: afroclaverconsejocomunitario@gmail.com | R4: LOTE 1 INSUMOS AGROPECUARIOS
A5: 4 | B5: Grapa galvanizada para cerca. Caja x 1 Kilogramo | C5: Caja x kg | D5: 2 | E5: =G5/(1+F5) -> 18668.067 | F5: 0.19 | G5: ='PRESUPUESTO MATRIZ DE INVERSIÓN'!G61 -> 22215 | H5: =D5*G5 -> 44430 | I5: BAJO CAUCA | J5: EL BAGRE | K5: CORREGIMIENTO PUERTO CLAVER | L5: FORESTAL | M5: AFROCLAVER. CONSEJO COMUNITARIO AFROCLAVER | N5: 901097069-2 | O5: LORENA INES BRAVO CUADRADO | P5: 3127988420 | Q5: afroclaverconsejocomunitario@gmail.com | R5: LOTE 2 HERRAMIENTAS Y EQUIPOS AGROPECUARIOS
A6: 5 | B6: Martillo de uña, con cabo metálico | C6: Unidad | D6: 2 | E6: =G6/(1+F6) -> 47357.143 | F6: 0.05 | G6: ='PRESUPUESTO MATRIZ DE INVERSIÓN'!G80 -> 49725 | H6: =D6*G6 -> 99450 | I6: BAJO CAUCA | J6: EL BAGRE | K6: CORREGIMIENTO PUERTO CLAVER | L6: FORESTAL | M6: AFROCLAVER. CONSEJO COMUNITARIO AFROCLAVER | N6: 901097069-2 | O6: LORENA INES BRAVO CUADRADO | P6: 3127988420 | Q6: afroclaverconsejocomunitario@gmail.com | R6: LOTE 2 HERRAMIENTAS Y EQUIPOS AGROPECUARIOS
A7: 6 | B7: Paladraga Con Mango de madera, Cava Hoyos. Máxima resistencia al desgaste, mango de madera de alta calidad Largo del mango: 100cm CARACTERÍSTICAS Altura total 1.46cm. Ancho de 17cm por cada pala | C7: Unidad | D7: 2 | E7: =G7/(1+F7) -> 135000 | F7: 0.05 | G7: ='PRESUPUESTO MATRIZ DE INVERSIÓN'!G91 -> 141750 | H7: =D7*G7 -> 283500 | I7: BAJO CAUCA | J7: EL BAGRE | K7: CORREGIMIENTO PUERTO CLAVER | L7: FORESTAL | M7: AFROCLAVER. CONSEJO COMUNITARIO AFROCLAVER | N7: 901097069-2 | O7: LORENA INES BRAVO CUADRADO | P7: 3127988420 | Q7: afroclaverconsejocomunitario@gmail.com | R7: LOTE 2 HERRAMIENTAS Y EQUIPOS AGROPECUARIOS
A8: 7 | B8: Machetillla de 16" con funda Machetillla de 16" con funda | C8: Unidad | D8: 1 | E8: =G8/(1+F8) -> 58433.333 | F8: 0.05 | G8: ='PRESUPUESTO MATRIZ DE INVERSIÓN'!G78 -> 61355 | H8: =D8*G8 -> 61355 | I8: BAJO CAUCA | J8: EL BAGRE | K8: CORREGIMIENTO PUERTO CLAVER | L8: FORESTAL | M8: AFROCLAVER. CONSEJO COMUNITARIO AFROCLAVER | N8: 901097069-2 | O8: LORENA INES BRAVO CUADRADO | P8: 3127988420 | Q8: afroclaverconsejocomunitario@gmail.com | R8: LOTE 2 HERRAMIENTAS Y EQUIPOS AGROPECUARIOS
A9: 8 | B9: Machetillla de 16" con funda Machetillla de 16" con funda | C9: Unidad | D9: 2 | E9: =G9/(1+F9) -> 51558.824 | F9: 0.19 | G9: ='PRESUPUESTO MATRIZ DE INVERSIÓN'!G78 -> 61355 | H9: =D9*G9 -> 122710 | I9: BAJO CAUCA | J9: EL BAGRE | K9: CORREGIMIENTO PUERTO CLAVER | L9: FORESTAL | M9: AFROCLAVER. CONSEJO COMUNITARIO AFROCLAVER | N9: 901097069-2 | O9: LORENA INES BRAVO CUADRADO | P9: 3127988420 | Q9: afroclaverconsejocomunitario@gmail.com | R9: LOTE 2 HERRAMIENTAS Y EQUIPOS AGROPECUARIOS
A10: 9 | B10: Alambre de púas calibre 14. PRESENTACIÓN: Rollos de 400 metros | C10: Rollo x 400 m | D10: 1 | E10: =G10/(1+F10) -> 557363.03 | F10: 0.19 | G10: ='PRESUPUESTO MATRIZ DE INVERSIÓN'!G4 -> 663262 | H10: =D10*G10 -> 663262 | I10: BAJO CAUCA | J10: EL BAGRE | K10: CORREGIMIENTO PUERTO CLAVER | L10: FORESTAL | M10: AFROCLAVER. CONSEJO COMUNITARIO AFROCLAVER | N10: 901097069-2 | O10: LORENA INES BRAVO CUADRADO | P10: 3127988420 | Q10: afroclaverconsejocomunitario@gmail.com | R10: LOTE 2 HERRAMIENTAS Y EQUIPOS AGROPECUARIOS
A11: 10 | B11: Bolsa para vivero Bolsa 8cm x 16cm Cal. 1,5 con fuelle incluido paquete por 100 unidades | C11: Paquete x 100 unidades | D11: 17 | E11: =G11/(1+F11) -> 4533.6134 | F11: 0.19 | G11: ='PRESUPUESTO MATRIZ DE INVERSIÓN'!G16 -> 5395 | H11: =D11*G11 -> 91715 | I11: BAJO CAUCA | J11: EL BAGRE | K11: CORREGIMIENTO PUERTO CLAVER | L11: FORESTAL | M11: AFROCLAVER. CONSEJO COMUNITARIO AFROCLAVER | N11: 901097069-2 | O11: LORENA INES BRAVO CUADRADO | P11: 3127988420 | Q11: afroclaverconsejocomunitario@gmail.com | R11: LOTE 2 HERRAMIENTAS Y EQUIPOS AGROPECUARIOS
A12: 11 | B12: CINTA PARA INJERTAR Cinta de injertar (color segun el requerimiento) en baja densidad calibre 1,50 de 10 pulgadas y 40 cm de ancho. PRESENTACIÓN: ROLLO POR 100 METROS | C12: Rollo x 100 m | D12: 1 | E12: =G12/(1+F12) -> 64892.437 | F12: 0.19 | G12: ='PRESUPUESTO MATRIZ DE INVERSIÓN'!G39 -> 77222 | H12: =D12*G12 -> 77222 | I12: BAJO CAUCA | J12: EL BAGRE | K12: CORREGIMIENTO PUERTO CLAVER | L12: FORESTAL | M12: AFROCLAVER. CONSEJO COMUNITARIO AFROCLAVER | N12: 901097069-2 | O12: LORENA INES BRAVO CUADRADO | P12: 3127988420 | Q12: afroclaverconsejocomunitario@gmail.com | R12: LOTE 2 HERRAMIENTAS Y EQUIPOS AGROPECUARIOS
A13: 12 | B13: SILBATOS:Silbato para arbitro 120 decibelios de tono agudo El estridente se eleva por encima del ruido ambiental y puede escucharse en una milla lejos 100 construidos de plástico ABS de alto impacto Por lo tanto, son 100 impermeables al diseño Pealess de humedad Sin partes móviles nada que obstruya el sonido nada para romperse o congelarse Ideal para grandes áreas de multitudes como estadios de fútbol Motorsport Race Tracks Airport Runways Construction Sites y cualquier situación donde se necesite un dispositivo de señalización muy fuerte | C13: Unidad | D13: 4 | E13: =G13/(1+F13) -> 64003.361 | F13: 0.19 | G13: ='PRESUPUESTO MATRIZ DE INVERSIÓN'!G103 -> 76164 | H13: =D13*G13 -> 304656 | I13: BAJO CAUCA | J13: CACERES | K13: CORREGIMIENTO PIAMONTE | L13: AGROTURISMO | M13: ASODEPIAM. ASOCIACION DEJANDO HUELLAS PIAMONTE | N13: 901340014-1 | O13: VILMA LUZ MARTINEZ MUÑOZ | P13: 3209835981 | Q13: martinezvilma316@gmail.com | R13: LOTE 2 HERRAMIENTAS Y EQUIPOS AGROPECUARIOS
A14: 13 | B14: KIT COMPLETO DE PRIMEROS AUXILIOS. Camilla de emergencia adulto con arnés, señal, soporte e inmovilizador de cabeza + botiquín de primeros auxilios tipo A reglamentario de acuerdo a la resolución 705 de 2007 + extintor multipropósito de 10 lb con señal y soporte. | C14: KIT | D14: 1 | E14: =G14/(1+F14) -> 497804.2 | F14: 0.19 | G14: ='PRESUPUESTO MATRIZ DE INVERSIÓN'!G66 -> 592387 | H14: =D14*G14 -> 592387 | I14: BAJO CAUCA | J14: CACERES | K14: CORREGIMIENTO PIAMONTE | L14: AGROTURISMO | M14: ASODEPIAM. ASOCIACION DEJANDO HUELLAS PIAMONTE | N14: 901340014-1 | O14: VILMA LUZ MARTINEZ MUÑOZ | P14: 3209835981 | Q14: martinezvilma316@gmail.com | R14: LOTE 2 HERRAMIENTAS Y EQUIPOS AGROPECUARIOS
A15: 14 | B15: BINOCULARES PROFESIONALES 20X50 OBSERVACIÓN DE AVES: Modelo X002B Visión clara: binocular de 20 x 50, con un aumento de 20x, este binocular puede acercar el sujeto 20 veces más, diámetro de lente de 50 mm objeto que permite que pase más luz, y es muy claro para los detalles, incluso si está en condiciones de poca luz.Medidas del producto: alto 17.5 cm, ancho 19 cm, fondo 6 cm. Alcance aproximado entre 700 y 900 metros. Prisma Bak-4 Visión amplia e imagen clara. No tiene visión nocturna. Contenido: 1 Binoculares 20x50 negros, paño limpieza, correa, estuche y manual. | C15: Unidad | D15: 1 | E15: =G15/(1+F15) -> 328906.72 | F15: 0.19 | G15: ='PRESUPUESTO MATRIZ DE INVERSIÓN'!G15 -> 391399 | H15: =D15*G15 -> 391399 | I15: BAJO CAUCA | J15: CACERES | K15: CORREGIMIENTO PIAMONTE | L15: AGROTURISMO | M15: ASODEPIAM. ASOCIACION DEJANDO HUELLAS PIAMONTE | N15: 901340014-1 | O15: VILMA LUZ MARTINEZ MUÑOZ | P15: 3209835981 | Q15: martinezvilma316@gmail.com | R15: LOTE 2 HERRAMIENTAS Y EQUIPOS AGROPECUARIOS
A16: 15 | B16: CAMPING: Camping para4 personas. Tipo IGLU. Disponibles para 3 y 6 personas. Facil y rapida de armar. Super liviana y ligera para llevar a cualquir parte. Material impermeable ideal para la lluvia y la nieve. Medidas 2 mts. x 2 mts. x 1,40 mts. | C16: Unidad | D16: 2 | E16: =G16/(1+F16) -> 247268.91 | F16: 0.19 | G16: ='PRESUPUESTO MATRIZ DE INVERSIÓN'!G27 -> 294250 | H16: =D16*G16 -> 588500 | I16: BAJO CAUCA | J16: CACERES | K16: CORREGIMIENTO PIAMONTE | L16: AGROTURISMO | M16: ASODEPIAM. ASOCIACION DEJANDO HUELLAS PIAMONTE | N16: 901340014-1 | O16: VILMA LUZ MARTINEZ MUÑOZ | P16: 3209835981 | Q16: martinezvilma316@gmail.com | R16: LOTE 2 HERRAMIENTAS Y EQUIPOS AGROPECUARIOS
A17: 16 | B17: LINTERNAS: Marca Pretul Modelo 24091 Color de la luz Blanco Color de la linterna Amarillo Tipo de alimentación: Batería Tipo de luz: LED Potencia: 145 lm Es recargable: Sí Es a prueba de agua: No | C17: Unidad | D17: 2 | E17: =G17/(1+F17) -> 53060.504 | F17: 0.19 | G17: ='PRESUPUESTO MATRIZ DE INVERSIÓN'!G74 -> 63142 | H17: =D17*G17 -> 126284 | I17: BAJO CAUCA | J17: CACERES | K17: CORREGIMIENTO PIAMONTE | L17: AGROTURISMO | M17: ASODEPIAM. ASOCIACION DEJANDO HUELLAS PIAMONTE | N17: 901340014-1 | O17: VILMA LUZ MARTINEZ MUÑOZ | P17: 3209835981 | Q17: martinezvilma316@gmail.com | R17: LOTE 2 HERRAMIENTAS Y EQUIPOS AGROPECUARIOS
A18: 17 | B18: SILBATOS:Silbato para arbitro 120 decibelios de tono agudo El estridente se eleva por encima del ruido ambiental y puede escucharse en una milla lejos 100 construidos de plástico ABS de alto impacto Por lo tanto, son 100 impermeables al diseño Pealess de humedad Sin partes móviles nada que obstruya el sonido nada para romperse o congelarse Ideal para grandes áreas de multitudes como estadios de fútbol Motorsport Race Tracks Airport Runways Construction Sites y cualquier situación donde se necesite un dispositivo de señalización muy fuerte | C18: Unidad | D18: 4 | E18: =G18/(1+F18) -> 64003.361 | F18: 0.19 | G18: ='PRESUPUESTO MATRIZ DE INVERSIÓN'!G103 -> 76164 | H18: =D18*G18 -> 304656 | I18: BAJO CAUCA | J18: NECHI | L18: AGROTURISMO | M18: ASSEFUN | N18: 901293591-6 | O18: LUIS ALFONSO FIGUEROA | P18: 3137441349 | R18: LOTE 2 HERRAMIENTAS Y EQUIPOS AGROPECUARIOS
A19: 18 | B19: KIT COMPLETO DE PRIMEROS AUXILIOS. Camilla de emergencia adulto con arnés, señal, soporte e inmovilizador de cabeza + botiquín de primeros auxilios tipo A reglamentario de acuerdo a la resolución 705 de 2007 + extintor multipropósito de 10 lb con señal y soporte. | C19: KIT | D19: 1 | E19: =G19/(1+F19) -> 497804.2 | F19: 0.19 | G19: ='PRESUPUESTO MATRIZ DE INVERSIÓN'!G66 -> 592387 | H19: =D19*G19 -> 592387 | I19: BAJO CAUCA | J19: NECHI | L19: AGROTURISMO | M19: ASSEFUN | N19: 901293591-6 | O19: LUIS ALFONSO FIGUEROA | P19: 3137441349 | R19: LOTE 2 HERRAMIENTAS Y EQUIPOS AGROPECUARIOS
A20: 19 | B20: BINOCULARES PROFESIONALES 20X50 OBSERVACIÓN DE AVES: Modelo X002B Visión clara: binocular de 20 x 50, con un aumento de 20x, este binocular puede acercar el sujeto 20 veces más, diámetro de lente de 50 mm objeto que permite que pase más luz, y es muy claro para los detalles, incluso si está en condiciones de poca luz.Medidas del producto: alto 17.5 cm, ancho 19 cm, fondo 6 cm. Alcance aproximado entre 700 y 900 metros. Prisma Bak-4 Visión amplia e imagen clara. No tiene visión nocturna. Contenido: 1 Binoculares 20x50 negros, paño limpieza, correa, estuche y manual. | C20: Unidad | D20: 1 | E20: =G20/(1+F20) -> 328906.72 | F20: 0.19 | G20: ='PRESUPUESTO MATRIZ DE INVERSIÓN'!G15 -> 391399 | H20: =D20*G20 -> 391399 | I20: BAJO CAUCA | J20: NECHI | L20: AGROTURISMO | M20: ASSEFUN | N20: 901293591-6 | O20: LUIS ALFONSO FIGUEROA | P20: 3137441349 | R20: LOTE 2 HERRAMIENTAS Y EQUIPOS AGROPECUARIOS
A21: 20 | B21: CAMPING: Camping para4 personas. Tipo IGLU. Disponibles para 3 y 6 personas. Facil y rapida de armar. Super liviana y ligera para llevar a cualquir parte. Material impermeable ideal para la lluvia y la nieve. Medidas 2 mts. x 2 mts. x 1,40 mts. | C21: Unidad | D21: 2 | E21: =G21/(1+F21) -> 247268.91 | F21: 0.19 | G21: ='PRESUPUESTO MATRIZ DE INVERSIÓN'!G27 -> 294250 | H21: =D21*G21 -> 588500 | I21: BAJO CAUCA | J21: NECHI | L21: AGROTURISMO | M21: ASSEFUN | N21: 901293591-6 | O21: LUIS ALFONSO FIGUEROA | P21: 3137441349 | R21: LOTE 2 HERRAMIENTAS Y EQUIPOS AGROPECUARIOS
A22: 21 | B22: LINTERNAS: Marca Pretul Modelo 24091 Color de la luz Blanco Color de la linterna Amarillo Tipo de alimentación: Batería Tipo de luz: LED Potencia: 145 lm Es recargable: Sí Es a prueba de agua: No | C22: Unidad | D22: 1 | E22: =G22/(1+F22) -> 53060.504 | F22: 0.19 | G22: ='PRESUPUESTO MATRIZ DE INVERSIÓN'!G74 -> 63142 | H22: =D22*G22 -> 63142 | I22: BAJO CAUCA | J22: NECHI | L22: AGROTURISMO | M22: ASSEFUN | N22: 901293591-6 | O22: LUIS ALFONSO FIGUEROA | P22: 3137441349 | R22: LOTE 2 HERRAMIENTAS Y EQUIPOS AGROPECUARIOS
A23: 22 | B23: Carretilla de platon metalico | C23: Unidad | D23: 1 | E23: =G23/(1+F23) -> 328906.72 | F23: 0.19 | G23: ='PRESUPUESTO MATRIZ DE INVERSIÓN'!G37 -> 391399 | H23: =D23*G23 -> 391399 | I23: BAJO CAUCA | J23: TARAZA | L23: FORESTAL | M23: ASOLAVCA | N23: 901270391-0 | O23: JULIAN MUÑOZ | P23: 3225280876 | R23: LOTE 2 HERRAMIENTAS Y EQUIPOS AGROPECUARIOS
A24: 23 | B24: Fumigadora de espalda manual 10 litros, polietileno de alta densidad. Valvula de seguridad liberadora de presion con niveles de alerta. Manija /embolo: porta lanza, ergonomica, resistenre de facil sujeccion. viene con boquilla de cono hueco 470cc/min | C24: Unidad | D24: 1 | E24: =G24/(1+F24) -> 295186.67 | F24: 0.05 | G24: ='PRESUPUESTO MATRIZ DE INVERSIÓN'!G56 -> 309946 | H24: =D24*G24 -> 309946 | I24: BAJO CAUCA | J24: TARAZA | L24: FORESTAL | M24: ASOLAVCA | N24: 901270391-0 | O24: JULIAN MUÑOZ | P24: 3225280876 | R24: LOTE 2 HERRAMIENTAS Y EQUIPOS AGROPECUARIOS
A25: 24 | B25: palas redonda con cabo | C25: Unidad | D25: 2 | E25: =G25/(1+F25) -> 71514.286 | F25: 0.05 | G25: ='PRESUPUESTO MATRIZ DE INVERSIÓN'!G92 -> 75090 | H25: =D25*G25 -> 150180 | I25: BAJO CAUCA | J25: TARAZA | L25: FORESTAL | M25: ASOLAVCA | N25: 901270391-0 | O25: JULIAN MUÑOZ | P25: 3225280876 | R25: LOTE 2 HERRAMIENTAS Y EQUIPOS AGROPECUARIOS
A26: 25 | B26: Canastas plasticas para el transporte de material vegetal (plantulas) | C26: Unidad | D26: 3 | E26: =G26/(1+F26) -> 29335.294 | F26: 0.19 | G26: ='PRESUPUESTO MATRIZ DE INVERSIÓN'!G28 -> 34909 | H26: =D26*G26 -> 104727 | I26: BAJO CAUCA | J26: TARAZA | L26: FORESTAL | M26: ASOLAVCA | N26: 901270391-0 | O26: JULIAN MUÑOZ | P26: 3225280876 | R26: LOTE 2 HERRAMIENTAS Y EQUIPOS AGROPECUARIOS
