Workbook

Sheet Hoja1
C2: Código | D2: CCE-EICP-FM-25 | E2: Versión | F2: 1
C3: FORMULARIO 1
C4: PRESUPUESTO OFICIAL
C5: [El presente formulario aplica para los procesos de contratación que tengan como forma de pago precios unitarios. Tratándose de otras modalidades de precio, la Entidad debe ajustarlo cuando corresponde a: precio global, llave en mano, administración delegada, reembolso de gastos o cualquier otra forma precio]
C7: Adicionalmente, cuando el proceso de contratación es estructurado por precios unitarios, la Entidad debe aplicar las notas 1, 2 y 3 del presente formulario y las casillas de "Descripción", "Porcentaje" de la Administración, Imprevisto, Utilidad y total A.I.U. resaltadas en colo amarillo. Tratándose de otras modalidades de precio, la Entidad puede o no configurar los mismos aspectos.
C9: Nº | D9: ITEM DE PAGO | E9: ESPECIFICACIONES | G9: DESCRIPCION | H9: UND. | I9: CANTIDAD | J9: VALOR UNITARIO | K9: VALOR TOTAL
E10: GENERAL | F10: PARTICULAR
D12: 200.1 | E12: 200 | G12: Rocería y limpieza | H12: M2 | I12: 436 | J12: =+'[1]ROCERIA Y LIMPIEZA'!L65 -> 296 | K12: =+J12*I12 -> 129056
D13: 600,1,1 | E13: 600 | G13: Excavaciones varias | H13: m3 | I13: 118 | J13: =+'[1]EXCAV VARIAS'!L67 -> 39290 | K13: =+J13*I13 -> 4636220
D14: 600.1 | E14: 600 | G14: llenos en afirmado | H14: m3 | I14: 155 | J14: =+[1]AFIRMADO!L67 -> 115252 | K14: =+J14*I14 -> 17864060
D15: 600,1,1 | E15: 600 | G15: excavaciones para micropilotes | H15: ml | I15: 101 | J15: =+'[1]EXCAV MICROPIL'!L69 -> 42722 | K15: =+J15*I15 -> 4314922
D16: 630.4 | E16: 630 | G16: Concreto clase D para micropilotes | H16: m3 | I16: 12 | J16: =+'[1]CONC MICROPI'!L69 -> 982830 | K16: =+J16*I16 -> 11793960
D17: 630.4 | E17: 630 | G17: Concreto clase D para vigas y pantalla | H17: m3 | I17: 44 | J17: =+'[1]CONCRETO CLASE D'!L69 -> 830031 | K17: =+J17*I17 -> 36521364
D18: 640.1 | E18: 640 | G18: Acero de refuerzo Fy 4200 | H18: Kg | I18: 3860 | J18: =+'[1]ACERO DE REFUERZO'!L67 -> 5681 | K18: =+J18*I18 -> 21928660
D19: 674.1 | E19: 674 | G19: Anclajes pasivos L<10 mts | H19: ml | I19: 264 | J19: =+'[1]ANCLAJE PASIVO'!L67 -> 115290 | K19: =+J19*I19 -> 30436560
F20: P1 | G20: implementación del protocolo COVID | H20: Global | I20: 1 | J20: 8775000 | K20: =+J20*I20 -> 8775000
C24: Subtotal | K24: =SUM(K12:K20) -> 136399802
C29: Subtotal
C32: Subtotal
C33: SUBTOTAL OBRAS
G38: SUBTOTAL OBRAS (INCLUYE IVA)
G42: VALOR TOTAL | K42: =+K24 -> 136399802
C45: NOTA 1: Se debe tener en cuenta que el PRECIO UNITARIO incluye el valor de A.I.U. | H45: DESCRIPCION | K45: PORCENTAJE
C46: NOTA 2: Cuando la fracción decimal del peso sea igual o superior a 5 se aproximara por exceso al número entero siguiente del peso y cuando la fracción decimal del peso sea inferior a 5 se aproximará por defecto al número entero del peso. | H46: ADMINISTRACION | J46: A= | K46: =+[1]AU!J46 -> 0.28
C47: NOTA 3: El A.I.U y su discriminación deben estar en porcentaje (%). | H47: IMPREVISTO | J47: I= | K47: 0
C48: NOTA 4: El Item Implementacion del protocoilo de bioseguridad es un costo fijo que se pagara contra facturacion previa verificacion del interventor y/o supervisor. | H48: UTILIDAD | J48: U= | K48: =+[1]AU!J47 -> 0.04
C49: NOTA 5: [Determinar por la Entidad] | H49: TOTAL A.I.U | J49: A.I.U.= | K49: =SUM(K46:K48) -> 0.32
C50: NOTA 6: [Determinar por la Entidad]

Sheet memoria cant
A2: MEMORIA DE CANTIDADES PANTALLA K14+200 VIA LA FELISA-LA MERCED | I2: MEMORIA DE CANTIDADES MURO EN CONCRETO +7+800 VIA LA FELISA-LA MERCED
A3: DSCRIPCION | B3: LARGO | C3: ANCHO | D3: ALTO | E3: CANT/ML | I3: LARGO | J3: ANCHO | K3: ALTO | L3: CANT/ML
A4: Rocería y limpieza | B4: 14 | C4: 4 | G4: =ROUND(+H4*1.3,0) -> 73 | H4: =+B4*C4 -> 56 | I4: 14 | J4: 5 | N4: =+ROUND(+O4*1.3,0) -> 91 | O4: =+I4*J4 -> 70
A5: excavaciones para micropilotes | B5: 3 | E5: 6 | G5: =ROUND(+H5*1.3,0) -> 23 | H5: =+E5*B5 -> 18
A6: Excavaciones varias sin clasificar | B6: 14 | C6: 0.6 | D6: 3 | G6: =ROUND(+H6*1.3,0) -> 33 | H6: =+B6*C6*D6 -> 25.2 | I6: 14 | J6: 2 | K6: 3 | N6: =+ROUND(+O6*1.3,0) -> 109 | O6: =+I6*J6*K6 -> 84
A7: afirmado | B7: 14 | C7: 0.4 | D7: 1 | G7: =ROUND(+H7*1.3,0) -> 7 | H7: =+B7*C7*D7 -> 5.6 | I7: 14 | J7: 2 | K7: 4 | N7: =+ROUND(+O7*1.3,0) -> 146 | O7: =+I7*J7*K7 -> 112
A8: Solado de limpieza | B8: 14 | C8: 0.3 | D8: 0.1 | G8: =ROUND(+H8*1.3,0) -> 1 | H8: =+B8*C8*D8 -> 0.42 | I8: 14 | J8: 2.6 | K8: 0.1 | N8: =+ROUND(+O8*1.3,0) -> 5 | O8: =+I8*J8*K8 -> 3.64
A9: Concreto clase D para pantalla | B9: 14 | C9: 4 | D9: 0.2 | G9: =ROUND(+H9*1.3,0) -> 15 | H9: =+B9*C9*D9 -> 11.2 | I9: 14 | L9: 2.62 | N9: =+ROUND(+O9*1.3,0) -> 48 | O9: =+I9*L9 -> 36.68
A10: Concreto clase D para micropilotes | B10: 18 | E10: 0.07 | G10: =ROUND(+H10*1.3,0) -> 2 | H10: =+E10*B10 -> 1.26
A11: Concreto clase D para vigas | B11: 14 | C11: 0.4 | D11: 0.3 | G11: =ROUND(+H11*1.3,0) -> 2 | H11: =+B11*C11*D11 -> 1.68
A12: MDC2 | B12: 14 | C12: 2 | D12: 0.08 | G12: =ROUND(+H12*1.3,0) -> 3 | H12: =+D12*C12*B12 -> 2.24 | I12: 14 | J12: 2.5 | K12: 0.08 | N12: =+ROUND(+O12*1.3,0) -> 4 | O12: =+I12*J12*K12 -> 2.8
A13: Riego de imprimación | B13: 14 | C13: 2 | G13: =ROUND(+H13*1.3,0) -> 36 | H13: =+C13*B13 -> 28 | I13: 14 | J13: 2.5 | N13: =+ROUND(+O13*1.3,0) -> 46 | O13: =+I13*J13 -> 35
A14: Acero de refuerzo Fy 4200 viga | B14: 14 | C14: 8 | E14: 1 | G14: =ROUND(+H14*1.3,0) -> 146 | H14: =+B14*C14*E14 -> 112 | I14: 14 | L14: 150.7 | N14: =+ROUND(+O14*1.3,0) -> 2743 | O14: =+I14*L14 -> 2109.8
A15: Acero de refuerzo Fy 4200 viga | B15: 14 | E15: =0.56*6*1.4 -> 4.704 | G15: =ROUND(+H15*1.3,0) -> 86 | H15: =+B15*E15 -> 65.856
A16: Acero de refuerzo para pntallas | B16: 14 | C16: 4 | E16: 20 | G16: =ROUND(+H16*1.3,0) -> 3120 | H16: =25*6*16 -> 2400
A17: Acero de refuerzo para micropilotes | B17: 23 | E17: 10.3 | G17: =ROUND(+H17*1.3,0) -> 308 | H17: =+E17*B17 -> 236.9
A18: corte de pavimento asfaltico | B18: 14 | C18: 6 | G18: =ROUND(+H18*1.3,0) -> 26 | H18: =+C18+B18 -> 20 | I18: 14 | J18: 6 | N18: =+ROUND(+O18*1.3,0) -> 26 | O18: =+I18+J18 -> 20
A19: demoliciones | B19: 14 | C19: 3 | D19: 0.1 | G19: =ROUND(+H19*1.3,0) -> 5 | H19: =+B19*C19*D19 -> 4.2 | I19: 14 | J19: 2.5 | K19: 0.1 | N19: =+ROUND(+O19*1.3,0) -> 5 | O19: =+K19*J19*I19 -> 3.5
A20: anclajes pasivo l= 6 ml | B20: 6 | C20: 22 | G20: =ROUND(+H20*1.3,0) -> 172 | H20: =+B20*C20 -> 132

Sheet PPto
E1: PRESUPUESTO PARA LA CONSTRUCCION DE PANTALLA EN CONCRETO, K1+200 VIA LA MERCED-BUENOS AIRES-LA FELISA Y MURO EN CONCRETO EN EL K7+400 VIA LA MERCED-BUENOS AIRES-LA FELISA, MUNICIPIO DE LA MERCED, DEPARTAMENTO DE CALDAS
A3: No | B3: ITEM DE PAGO | C3: ESPECIFICACIONES | E3: Descripción | F3: Unidad | G3: cantidad | H3: Costo Directo | I3: Valor Total
C4: ESPECIFICACION GENERAL | D4: ESPECIFICACION PARTICULAR
B5: 200.1 | C5: 200 | E5: Rocería y limpieza | F5: m2 | G5: =+'memoria cant'!G4+'memoria cant'!N4-1 -> 163 | H5: =+'ROCERIA Y LIMPIEZA'!L56 -> 328 | I5: =+H5*G5 -> 53464 | J5: =+ROUND(H5*1.3,0) -> 426 | K5: =+G5*J5 -> 69438 | M5: =+K5/$K$19 -> 0.00027775367
B6: 201.7 | C6: 201 | E6: Demoliciones | F6: m3 | G6: =+'memoria cant'!G19+'memoria cant'!N19-2 -> 8 | H6: =+DEMOLICIONES!L56 -> 136114 | I6: =+H6*G6 -> 1088912 | J6: =+ROUND(H6*1.3,0) -> 176948 | K6: =+G6*J6 -> 1415584 | M6: =+K6/$K$19 -> 0.00566237
B7: 600,1,1 | C7: 600 | E7: Excavaciones varias sin clasificar | F7: m3 | G7: =+'memoria cant'!G6+'memoria cant'!N6 -> 142 | H7: =+'EXCAV VARIAS'!L56 -> 36500 | I7: =+H7*G7 -> 5183000 | J7: =+ROUND(H7*1.3,0) -> 47450 | K7: =+G7*J7 -> 6737900 | M7: =+K7/$K$19 -> 0.026951762
B8: 600,1,2 | C8: 600 | E8: Excavaciones para micropilotes | F8: ml | G8: =+'memoria cant'!G5 -> 23 | H8: =+'EXCAV MICROPILOTES'!L56 -> 44405 | I8: =+H8*G8 -> 1021315 | J8: =+ROUND(H8*1.3,0) -> 57727 | K8: =+G8*J8 -> 1327721 | M8: =+K8/$K$19 -> 0.0053109159
B9: 311.1 | C9: 311 | E9: Afirmado | F9: m3 | G9: =+'memoria cant'!G7+'memoria cant'!N7 -> 153 | H9: =+AFIRMADO!L56 -> 121894 | I9: =+H9*G9 -> 18649782 | J9: =+ROUND(H9*1.3,0) -> 158462 | K9: =+G9*J9 -> 24244686 | M9: =+K9/$K$19 -> 0.096979327
B10: 630.4 | C10: 630 | E10: Solado de limpieza | F10: m3 | G10: =+'memoria cant'!G8+'memoria cant'!N8 -> 6 | H10: =+'SOLADO DE LIMPIEZA'!L56 -> 676295 | I10: =+H10*G10 -> 4057770 | J10: =+ROUND(H10*1.3,0) -> 879184 | K10: =+G10*J10 -> 5275104 | M10: =+K10/$K$19 -> 0.021100543
B11: 630.4 | C11: 630 | E11: Concreto clase D para vigas, pantallas , muros, canales y pocetas | F11: m3 | G11: =+'memoria cant'!G9+'memoria cant'!G11+'memoria cant'!G10+'memoria cant'!N9+24 -> 91 | H11: =+'CONCRETO CLASE D MUROS'!L56 -> 845512 | I11: =+H11*G11 -> 76941592 | J11: =+ROUND(H11*1.3,0) -> 1099166 | K11: =+G11*J11 -> 100024106 | M11: =+K11/$K$19 -> 0.40009883
B12: 640.1 | C12: 640 | E12: Acero de refuerzo Fy 4200 | F12: Kg | G12: =+'memoria cant'!G15+'memoria cant'!G16+'memoria cant'!G14+'memoria cant'!G17+'memoria cant'!N14 -> 6403 | H12: =+'ACERO DE REFUERZO'!L56 -> 7444 | I12: =+H12*G12 -> 47663932 | J12: =+ROUND(H12*1.3,0) -> 9677 | K12: =+G12*J12 -> 61961831 | M12: =+K12/$K$19 -> 0.24784881
B13: 420.1 | C13: 420 | E13: Riego de imprimación | F13: m2 | G13: =+'memoria cant'!G13-3 -> 33 | H13: =+RIEGO!L55 -> 5088 | I13: =+H13*G13 -> 167904 | J13: =+ROUND(H13*1.3,0) -> 6614 | K13: =+G13*J13 -> 218262 | M13: =+K13/$K$19 -> 0.00087305325
D14: P1 | E14: MDC2 para bacheos | F14: m3 | G14: =+'memoria cant'!G12+'memoria cant'!N12 -> 7 | H14: =+'MDC2 BACHEOS'!L55 -> 1020119 | I14: =+H14*G14 -> 7140833 | J14: =+ROUND(H14*1.3,0) -> 1326155 | K14: =+G14*J14 -> 9283085 | M14: =+K14/$K$19 -> 0.037132563
D15: P2 | E15: Corte de pavimento asfáltico | F15: ml | G15: =+'memoria cant'!G18+'memoria cant'!N18 -> 52 | H15: =+'CORTE DE PAVIMENTO'!L56 -> 12987 | I15: =+H15*G15 -> 675324 | J15: =+ROUND(H15*1.3,0) -> 16883 | K15: =+G15*J15 -> 877916 | M15: =+K15/$K$19 -> 0.0035116851
D16: P9 | E16: Control de tráfico | F16: Jornal | G16: 120 | H16: =+'CONTROL DE TRAFICO'!L56 -> 87853 | I16: =+H16*G16 -> 10542360 | J16: =+ROUND(H16*1.3,0) -> 114209 | K16: =+G16*J16 -> 13705080 | M16: =+K16/$K$19 -> 0.05482065
D17: P10 | E17: anclaje pasivo l=6ml | F17: ml | G17: =+'memoria cant'!G20 -> 172 | H17: =+'ANCLAJE PASIVO'!L54 -> 111171 | I17: =+H17*G17 -> 19121412 | J17: =+ROUND(H17*1.3,0) -> 144522 | K17: =+G17*J17 -> 24857784 | M17: =+K17/$K$19 -> 0.099431734
E19: TOTAL COSTO DIRECTO. | I19: =SUM(I5:I18) -> 192307600 | K19: =+SUM(K5:K17) -> 249998497
E22: ADMINISTRACION | F22: % | G22: 0.25 | H22: =+I19 -> 192307600 | I22: =ROUND(+H22*G22,0) -> 48076900
E23: UTILIDAD | F23: % | G23: 0.05 | H23: =+I19 -> 192307600 | I23: =ROUND(+H23*G23,0) -> 9615380
E24: TOTAL COSTOS INDIRECTOS. | I24: =ROUND(I23+I22,0) -> 57692280
E25: TOTAL COSTOS DE OBRA | I25: =+I19+I24 -> 249999880 | J25: =+I25-K19 -> 1383
A29: ELABORO: | C29: JUAN CARLOS GIRALDO MEJIA
A30: M.P. | C30: 18665 CPC

Sheet insumos
A5: LISTA DEPRECIOS DE MATERIALES
A6: Descripción | B6: Un | C6: V/Unitario
A8: Agua | B8: Lt | C8: 44
A9: Arena | B9: M3 | C9: 60000
A10: Gravilla | B10: M3 | C10: 60000
A11: Piedra | B11: M3 | C11: 60000
A12: Afirmado | B12: M3 | C12: 35000
A13: Cemento | B13: Saco | C13: 40000
A14: Malla electrosoldada | B14: M2 | C14: 16320
A15: Acero de refuerzo | B15: Kg | C15: 5200
A16: Alambre de amarrar | B16: Kg | C16: 6750
A17: Formaleta | B17: Gl | C17: 18000
A18: Guadua | B18: Ml | C18: 2800
A19: Alambre galvanizado | B19: Kg | C19: 8000
... A45: Estacas vivas | B45: Un | C45: 1500
A47: LISTA DE PRECIOS DE JORNALES
A48: Descripción | B48: Un | C48: V/Unitario
A49: Ayudante | B49: Día | C49: 43171
A50: Oficial | B50: Día | C50: 74420
A53: LISTA DE TARIFAS DE ALQUILER DE EQUIPOS
A54: Descripción | B54: Un | C54: V/Unitario
A55: Cortadora de paviento | B55: hora | C55: 5000
A56: Volqueta | B56: hora | C56: 80000
A57: Rana | B57: hora | C57: 6000
A58: Vibrador | B58: hora | C58: 6000
A59: Mezcladora | B59: hora | C59: 6000
A60: Equipo de perforación | B60: dia | C60: 120000
A61: Motoniveladora | B61: hora | C61: 210000
A62: Compactador de llantas | B62: hora | C62: 210000
A63: Finisher | B63: Hora | C63: 250000
A64: Compresor | B64: Hora | C64: 93200
A65: Molinete para retiro de material | B65: Hora | C65: 20750
A66: vibrocompactador | B66: Hora | C66: 130000
A69: DISTANCIA DE ACARREO DE MATRIRLAES
A70: Descripción | B70: DISTANCIA
A71: MAN-19 | B71: 30
A72: BASE ESTABILIZADA | B72: 30
A73: VARIOS | B73: 7
A74: AFIRMADO | B74: 15
A75: ARENA | B75: 20
...

Sheet ROCERIA Y LIMPIEZA
J2: Hoja 1 de 1
D3: SECRETARÍA DE INFRAESTRUCTURA | J3: Fecha
D4: DEPARTAMENTO DE CALDAS
D5: ANÁLISIS DE PRECIOS UNITARIOS | J5: Contrato No.
A7: DATOS GENERALES
A9: CONTRATO No. | D9: DE
A10: OBJETO DEL CONTRATO
A12: CONTRATISTA
A13: INTERVENTOR
A14: SUPERVISOR
A17: DATOS ESPECÍFICOS
A19: ITEM | B19: DESCRIPCIÓN | K19: UNIDAD | L19: CANTIDAD
A20: 200.1 | B20: ROCERIA Y LIMPIEZA | K20: M2
A22: I. EQUIPO
A24: DESCRIPCIÓN | F24: MARCA | H24: TIPO | J24: TARIFA/HORA | K24: RENDIMIENTO | L24: Vr. UNITARIO
A25: HERRAMIENTA MENOR (5% MO) | L25: =+L54*0.05 -> 15.605675
A28: SUBTOTAL $ | L28: =SUM(L25:L27) -> 15.605675
A30: II. MATERIALES
A32: DESCRIPCIÓN | I32: UNIDAD | J32: CANTIDAD | K32: PRECIO UNIT. | L32: Vr. UNITARIO
A40: SUBTOTAL $ | L40: =SUM(L33:L39) -> 0
A42: III. TRANSPORTES
A44: MATERIAL | H44: VOL. o PESO | I44: DISTANCIA | J44: M3 o Ton/Km | K44: TARIFA | L44: Vr. UNITARIO
A47: SUBTOTAL $ | L47: =SUM(L45:L46) -> 0
A49: IV. MANO DE OBRA
A51: TRABAJADOR | H51: JORNAL | I51: PRESTACIONES | J51: JORNAL TOTAL | K51: RENDIMIENTO | L51: Vr. UNITARIO
A52: CUADRILLA 4 AYUDANTES 1 OFICIAL | H52: =insumos!C49*10+insumos!C50 -> 506130 | I52: =+H52*0.85 -> 430210.5 | J52: =+H52+I52 -> 936340.5 | K52: 3000 | L52: =+J52/K52 -> 312.1135
A54: SUBTOTAL $ | L54: =SUM(L52:L53) -> 312.1135
A56: TOTAL COSTO DIRECTO $ | L56: =ROUND(L28+L40+L47+L54,0) -> 328
F64: (Firma)
F65: (Nombre)
A66: Contratista
A68: OBSERVACIONES
A73: ELABORO:
A74: M.P.
A77: FIRMA

Sheet CORTE DE PAVIMENTO
J2: Hoja 1 de 1
D3: SECRETARÍA DE INFRAESTRUCTURA | J3: Fecha
D4: DEPARTAMENTO DE CALDAS
D5: ANÁLISIS DE PRECIOS UNITARIOS | J5: Contrato No.
A7: DATOS GENERALES
A9: CONTRATO No. | D9: DE
A10: OBJETO DEL CONTRATO
A12: CONTRATISTA
A13: INTERVENTOR
A14: SUPERVISOR
A17: DATOS ESPECÍFICOS
A19: ITEM | B19: DESCRIPCIÓN | K19: UNIDAD | L19: CANTIDAD
A20: P2 | B20: CORTE DE PAVIMENTO | K20: ml
A22: I. EQUIPO
A24: DESCRIPCIÓN | F24: MARCA | H24: TIPO | J24: TARIFA/HORA | K24: RENDIMIENTO | L24: Vr. UNITARIO
A25: Cortadora de pavimento | J25: =+insumos!C55 -> 5000 | K25: 1 | L25: =+J25/K25 -> 5000
A28: SUBTOTAL $ | L28: =SUM(L25:L27) -> 5000
A30: II. MATERIALES
A32: DESCRIPCIÓN | I32: UNIDAD | J32: CANTIDAD | K32: PRECIO UNIT. | L32: Vr. UNITARIO
A40: SUBTOTAL $ | L40: =SUM(L33:L39) -> 0
A42: III. TRANSPORTES
A44: MATERIAL | H44: VOL. o PESO | I44: DISTANCIA | J44: M3 o Ton/Km | K44: TARIFA | L44: Vr. UNITARIO
A47: SUBTOTAL $ | L47: =SUM(L45:L46) -> 0
A49: IV. MANO DE OBRA
A51: TRABAJADOR | H51: JORNAL | I51: PRESTACIONES | J51: JORNAL TOTAL | K51: RENDIMIENTO | L51: Vr. UNITARIO
A52: CUADRILLA 4 AYUDANTES 1 OFICIAL | H52: =insumos!C49 -> 43171 | I52: =+H52*0.85 -> 36695.35 | J52: =+H52+I52 -> 79866.35 | K52: 10 | L52: =+J52/K52 -> 7986.635
A54: SUBTOTAL $ | L54: =SUM(L52:L53) -> 7986.635
A56: TOTAL COSTO DIRECTO $ | L56: =ROUND(L28+L40+L47+L54,0) -> 12987
F64: (Firma)
F65: (Nombre)
A66: Contratista
A68: OBSERVACIONES
A73: ELABORO:
A74: M.P.
A77: FIRMA

Sheet DEMOLICIONES
J2: Hoja 1 de 1
D3: SECRETARÍA DE INFRAESTRUCTURA | J3: Fecha
D4: DEPARTAMENTO DE CALDAS
D5: ANÁLISIS DE PRECIOS UNITARIOS | J5: Contrato No.
A7: DATOS GENERALES
A9: CONTRATO No. | D9: DE
A10: OBJETO DEL CONTRATO
A12: CONTRATISTA
A13: INTERVENTOR
A14: SUPERVISOR
A17: DATOS ESPECÍFICOS
A19: ITEM | B19: DESCRIPCIÓN | K19: UNIDAD | L19: CANTIDAD
A20: 201.7 | B20: DEMOLICIONES | K20: M3
A22: I. EQUIPO
A24: DESCRIPCIÓN | F24: MARCA | H24: TIPO | J24: TARIFA/HORA | K24: RENDIMIENTO | L24: Vr. UNITARIO
A25: HERRAMIENTA MENOR (10% MO) | L25: =+L54*0.1 -> 11428.56
A28: SUBTOTAL $ | L28: =SUM(L25:L27) -> 11428.56
A30: II. MATERIALES
A32: DESCRIPCIÓN | I32: UNIDAD | J32: CANTIDAD | K32: PRECIO UNIT. | L32: Vr. UNITARIO
A40: SUBTOTAL $ | L40: =SUM(L33:L39) -> 0
A42: III. TRANSPORTES
A44: MATERIAL | H44: VOL. o PESO | I44: DISTANCIA | J44: M3 o Ton/Km | K44: TARIFA | L44: Vr. UNITARIO
A45: MATERIAL DE EXCAVACION | H45: 1.3 | I45: 5 | J45: =+H45*I45 -> 6.5 | K45: =+TRANSPORTE!L55 -> 1600 | L45: =+J45*K45 -> 10400
A47: SUBTOTAL $ | L47: =SUM(L45:L46) -> 10400
A49: IV. MANO DE OBRA
A51: TRABAJADOR | H51: JORNAL | I51: PRESTACIONES | J51: JORNAL TOTAL | K51: RENDIMIENTO | L51: Vr. UNITARIO
A52: CUADRILLA 4 AYUDANTES 1 OFICIAL | H52: =+insumos!C49*4+insumos!C50 -> 247104 | I52: =+H52*0.85 -> 210038.4 | J52: =+H52+I52 -> 457142.4 | K52: 4 | L52: =+J52/K52 -> 114285.6
A54: SUBTOTAL $ | L54: =SUM(L52:L53) -> 114285.6
A56: TOTAL COSTO DIRECTO $ | L56: =ROUND(L28+L40+L47+L54,0) -> 136114
F64: (Firma)
F65: (Nombre)
A66: Contratista
A68: OBSERVACIONES
A73: ELABORO:
A74: M.P.
A77: FIRMA

Sheet EXCAV VARIAS
J2: Hoja 1 de 1
D3: SECRETARÍA DE INFRAESTRUCTURA | J3: Fecha
D4: DEPARTAMENTO DE CALDAS
D5: ANÁLISIS DE PRECIOS UNITARIOS | J5: Contrato No.
A7: DATOS GENERALES
A9: CONTRATO No. | D9: DE
A10: OBJETO DEL CONTRATO
A12: CONTRATISTA
A13: INTERVENTOR
A14: SUPERVISOR
A17: DATOS ESPECÍFICOS
A19: ITEM | B19: DESCRIPCIÓN | K19: UNIDAD | L19: CANTIDAD
A20: 600,1,1 | B20: EXCAVACIONES VARIAS SIN CLASIFICAR | K20: M3
A22: I. EQUIPO
A24: DESCRIPCIÓN | F24: MARCA | H24: TIPO | J24: TARIFA/HORA | K24: RENDIMIENTO | L24: Vr. UNITARIO
A25: HERRAMIENTA MENOR (5% MO) | L25: =+L54*0.05 -> 1428.57
A28: SUBTOTAL $ | L28: =SUM(L25:L27) -> 1428.57
A30: II. MATERIALES
A32: DESCRIPCIÓN | I32: UNIDAD | J32: CANTIDAD | K32: PRECIO UNIT. | L32: Vr. UNITARIO
A40: SUBTOTAL $ | L40: =SUM(L33:L39) -> 0
A42: III. TRANSPORTES
A44: MATERIAL | H44: VOL. o PESO | I44: DISTANCIA | J44: M3 o Ton/Km | K44: TARIFA | L44: Vr. UNITARIO
A45: MATERIAL DE EXCAVACION | H45: 1.3 | I45: 5 | J45: =+H45*I45 -> 6.5 | K45: =+[2]TRANSPORTES!M56 -> 1000 | L45: =+J45*K45 -> 6500
A47: SUBTOTAL $ | L47: =SUM(L45:L46) -> 6500
A49: IV. MANO DE OBRA
A51: TRABAJADOR | H51: JORNAL | I51: PRESTACIONES | J51: JORNAL TOTAL | K51: RENDIMIENTO | L51: Vr. UNITARIO
A52: CUADRILLA 4 AYUDANTES 1 OFICIAL | H52: =+insumos!C49*4+insumos!C50 -> 247104 | I52: =+H52*0.85 -> 210038.4 | J52: =+H52+I52 -> 457142.4 | K52: 16 | L52: =+J52/K52 -> 28571.4
A54: SUBTOTAL $ | L54: =SUM(L52:L53) -> 28571.4
A56: TOTAL COSTO DIRECTO $ | L56: =ROUND(L28+L40+L47+L54,0) -> 36500
F64: (Firma)
F65: (Nombre)
A66: Contratista
A68: OBSERVACIONES
A73: ELABORO:
A74: M.P.
A77: FIRMA

Sheet exc caisson cong
J2: Hoja 1 de 1
D3: SECRETARÍA DE INFRAESTRUCTURA | J3: Fecha
D4: DEPARTAMENTO DE CALDAS
D5: ANÁLISIS DE PRECIOS UNITARIOS | J5: Contrato No.
A7: DATOS GENERALES
A9: CONTRATO No. | D9: DE
A10: OBJETO DEL CONTRATO
A12: CONTRATISTA
A13: INTERVENTOR
A14: SUPERVISOR
A17: DATOS ESPECÍFICOS
A19: ITEM | B19: DESCRIPCIÓN | K19: UNIDAD | L19: CANTIDAD
A20: P20 | B20: EXCAVACION MANUAL PARA CAISSON D=1.2, PROFUNDIDAD HASTA 6 METROS EN MATERIAL DONGLOMERADO | K20: M3
A22: I. EQUIPO
A24: DESCRIPCIÓN | F24: MARCA | H24: TIPO | J24: TARIFA/HORA | K24: RENDIMIENTO | L24: Vr. UNITARIO
A25: HERRAMIENTA MENOR (5% MO) | L25: =+L54*0.05 -> 5714.28
A26: MOLINETE PARA RETIRO DE MAYTERIAL | J26: =+insumos!C65 -> 20750 | K26: 0.7 | L26: =+J26*K26 -> 14525
A28: SUBTOTAL $ | L28: =SUM(L25:L27) -> 20239.28
A30: II. MATERIALES
A32: DESCRIPCIÓN | I32: UNIDAD | J32: CANTIDAD | K32: PRECIO UNIT. | L32: Vr. UNITARIO
A40: SUBTOTAL $ | L40: =SUM(L33:L39) -> 0
A42: III. TRANSPORTES
A44: MATERIAL | H44: VOL. o PESO | I44: DISTANCIA | J44: M3 o Ton/Km | K44: TARIFA | L44: Vr. UNITARIO
A45: MATERIAL DE EXCAVACION | H45: 1.3 | I45: 5 | J45: =+H45*I45 -> 6.5 | K45: =+TRANSPORTE!L55 -> 1600 | L45: =+J45*K45 -> 10400
A47: SUBTOTAL $ | L47: =SUM(L45:L46) -> 10400
A49: IV. MANO DE OBRA
A51: TRABAJADOR | H51: JORNAL | I51: PRESTACIONES | J51: JORNAL TOTAL | K51: RENDIMIENTO | L51: Vr. UNITARIO
A52: CUADRILLA 4 AYUDANTES 1 OFICIAL | H52: =+insumos!C49*4+insumos!C50 -> 247104 | I52: =+H52*0.85 -> 210038.4 | J52: =+H52+I52 -> 457142.4 | K52: 4 | L52: =+J52/K52 -> 114285.6
A54: SUBTOTAL $ | L54: =SUM(L52:L53) -> 114285.6
A56: TOTAL COSTO DIRECTO $ | L56: =ROUND(L28+L40+L47+L54,0) -> 144925
F64: (Firma)
F65: (Nombre)
A66: Contratista
A68: OBSERVACIONES
A73: ELABORO:
A74: M.P.
A77: FIRMA

Sheet exc caisson roca
J2: Hoja 1 de 1
D3: SECRETARÍA DE INFRAESTRUCTURA | J3: Fecha
D4: DEPARTAMENTO DE CALDAS
D5: ANÁLISIS DE PRECIOS UNITARIOS | J5: Contrato No.
A7: DATOS GENERALES
A9: CONTRATO No. | D9: DE
A10: OBJETO DEL CONTRATO
A12: CONTRATISTA
A13: INTERVENTOR
A14: SUPERVISOR
A17: DATOS ESPECÍFICOS
A19: ITEM | B19: DESCRIPCIÓN | K19: UNIDAD | L19: CANTIDAD
A20: P20 | B20: EXCAVACION MANUAL PARA CAISSON D=1.2, PROFUNDIDAD HASTA 6 METROS EN ROCA O BAJO AGUA | K20: M3
A22: I. EQUIPO
A24: DESCRIPCIÓN | F24: MARCA | H24: TIPO | J24: TARIFA/HORA | K24: RENDIMIENTO | L24: Vr. UNITARIO
A25: HERRAMIENTA MENOR (5% MO) | L25: =+L54*0.05 -> 7142.85
A26: MOLINETE PARA RETIRO DE MAYTERIAL | J26: =+insumos!C65 -> 20750 | K26: 1 | L26: =+J26*K26 -> 20750
A27: COMPRESOR | J27: =+insumos!C64 -> 93200 | K27: 1 | L27: =+J27*K27 -> 93200
A28: SUBTOTAL $ | L28: =SUM(L25:L27) -> 121092.85
A30: II. MATERIALES
A32: DESCRIPCIÓN | I32: UNIDAD | J32: CANTIDAD | K32: PRECIO UNIT. | L32: Vr. UNITARIO
A40: SUBTOTAL $ | L40: =SUM(L33:L39) -> 0
A42: III. TRANSPORTES
A44: MATERIAL | H44: VOL. o PESO | I44: DISTANCIA | J44: M3 o Ton/Km | K44: TARIFA | L44: Vr. UNITARIO
A45: MATERIAL DE EXCAVACION | H45: 1.3 | I45: 5 | J45: =+H45*I45 -> 6.5 | K45: =+TRANSPORTE!L55 -> 1600 | L45: =+J45*K45 -> 10400
A47: SUBTOTAL $ | L47: =SUM(L45:L46) -> 10400
A49: IV. MANO DE OBRA
A51: TRABAJADOR | H51: JORNAL | I51: PRESTACIONES | J51: JORNAL TOTAL | K51: RENDIMIENTO | L51: Vr. UNITARIO
A52: CUADRILLA 4 AYUDANTES 1 OFICIAL | H52: =+insumos!C49*4+insumos!C50 -> 247104 | I52: =+H52*0.85 -> 210038.4 | J52: =+H52+I52 -> 457142.4 | K52: 3.2 | L52: =+J52/K52 -> 142857
A54: SUBTOTAL $ | L54: =SUM(L52:L53) -> 142857
A56: TOTAL COSTO DIRECTO $ | L56: =ROUND(L28+L40+L47+L54,0) -> 274350
F64: (Firma)
F65: (Nombre)
A66: Contratista
A68: OBSERVACIONES
A73: ELABORO:
A74: M.P.
A77: FIRMA

Sheet EXCAV MICROPILOTES
J2: Hoja 1 de 1
D3: SECRETARÍA DE INFRAESTRUCTURA | J3: Fecha
D4: DEPARTAMENTO DE CALDAS
D5: ANÁLISIS DE PRECIOS UNITARIOS | J5: Contrato No.
A7: DATOS GENERALES
A9: CONTRATO No. | D9: DE
A10: OBJETO DEL CONTRATO
A12: CONTRATISTA
A13: INTERVENTOR
A14: SUPERVISOR
A17: DATOS ESPECÍFICOS
A19: ITEM | B19: DESCRIPCIÓN | K19: UNIDAD | L19: CANTIDAD
A20: 600,1,1 | B20: EXCAVACIONES PARA MICROPILOTES | K20: ML
A22: I. EQUIPO
A24: DESCRIPCIÓN | F24: MARCA | H24: TIPO | J24: TARIFA/HORA | K24: RENDIMIENTO | L24: Vr. UNITARIO
A25: HERRAMIENTA MENOR (5% MO) | L25: =+L54*0.1 -> 3809.52
A28: SUBTOTAL $ | L28: =SUM(L25:L27) -> 3809.52
A30: II. MATERIALES
A32: DESCRIPCIÓN | I32: UNIDAD | J32: CANTIDAD | K32: PRECIO UNIT. | L32: Vr. UNITARIO
A40: SUBTOTAL $ | L40: =SUM(L33:L39) -> 0
A42: III. TRANSPORTES
A44: MATERIAL | H44: VOL. o PESO | I44: DISTANCIA | J44: M3 o Ton/Km | K44: TARIFA | L44: Vr. UNITARIO
A45: MATERIAL DE EXCAVACION | H45: 0.5 | I45: 5 | J45: =+H45*I45 -> 2.5 | K45: =+[2]TRANSPORTES!M56 -> 1000 | L45: =+J45*K45 -> 2500
A47: SUBTOTAL $ | L47: =SUM(L45:L46) -> 2500
A49: IV. MANO DE OBRA
A51: TRABAJADOR | H51: JORNAL | I51: PRESTACIONES | J51: JORNAL TOTAL | K51: RENDIMIENTO | L51: Vr. UNITARIO
A52: CUADRILLA 4 AYUDANTES 1 OFICIAL | H52: =+insumos!C49*4+insumos!C50 -> 247104 | I52: =+H52*0.85 -> 210038.4 | J52: =+H52+I52 -> 457142.4 | K52: 12 | L52: =+J52/K52 -> 38095.2
A54: SUBTOTAL $ | L54: =SUM(L52:L53) -> 38095.2
A56: TOTAL COSTO DIRECTO $ | L56: =ROUND(L28+L40+L47+L54,0) -> 44405
F64: (Firma)
F65: (Nombre)
A66: Contratista
A68: OBSERVACIONES
A73: ELABORO:
A74: M.P.
A77: FIRMA

Sheet LLENOS  MAT SELECC
D2: INSTITUTO NACIONAL DE VIAS | J2: Hoja 1 de 1
D3: SECRETARÍA DE INFRAESTRUCTURA | J3: Fecha
D4: DEPARTAMENTO DE CALDAS
D5: ANÁLISIS DE PRECIOS UNITARIOS | J5: Contrato No.
A7: DATOS GENERALES
A9: CONTRATO No. | D9: DE
A10: OBJETO DEL CONTRATO
A12: CONTRATISTA
A13: INTERVENTOR
A14: SUPERVISOR
A17: DATOS ESPECÍFICOS
A19: ITEM | B19: DESCRIPCIÓN | K19: UNIDAD | L19: CANTIDAD
A20: 610.1 | B20: RELLENOS ALREDEDOR DE ESTRUCTURAS CON MATERIAL DE LA EXCAVACIÓN | K20: M3
A22: I. EQUIPO
A24: DESCRIPCIÓN | F24: MARCA | H24: TIPO | J24: TARIFA/HORA | K24: RENDIMIENTO | L24: Vr. UNITARIO
A25: HERRAMIENTA MENOR (10% M.O.) | L25: =+L54*0.1 -> 3265.3029
A26: VIBROCOMPACTADORA (RANA) | J26: =+insumos!C57 -> 6000 | K26: 1 | L26: =+J26/K26 -> 6000
A28: SUBTOTAL $ | L28: =+L26+L25 -> 9265.3029
A30: II. MATERIALES
A32: DESCRIPCIÓN | I32: UNIDAD | J32: CANTIDAD | K32: PRECIO UNIT. | L32: Vr. UNITARIO
A40: SUBTOTAL $ | L40: =SUM(L33:L39) -> 0
A42: III. TRANSPORTES
A44: MATERIAL | H44: VOL. o PESO | I44: DISTANCIA | J44: M3 o Ton/Km | K44: TARIFA | L44: Vr. UNITARIO
A45: MATERIAL SELEECIONADO PARA RELLENO | H45: 1.3 | I45: 5 | J45: =+H45*I45 -> 6.5 | K45: =+TRANSPORTE!L55 -> 1600 | L45: =+K45*J45 -> 10400
A47: SUBTOTAL $ | L47: =SUM(L45:L46) -> 10400
A49: IV. MANO DE OBRA
A51: TRABAJADOR | H51: JORNAL | I51: PRESTACIONES | J51: JORNAL TOTAL | K51: RENDIMIENTO | L51: Vr. UNITARIO
A52: CUADRILLA 2 AYUDANTES 1 OFICIAL | H52: =+insumos!C49*4+insumos!C50 -> 247104 | I52: =+H52*0.85 -> 210038.4 | J52: =+H52+I52 -> 457142.4 | K52: 14 | L52: =+J52/K52 -> 32653.029
A54: SUBTOTAL $ | L54: =+L52 -> 32653.029
A56: TOTAL COSTO DIRECTO $ | L56: =ROUND(+L54+L47+L40+L28,0) -> 52318
F64: (Firma)
F65: (Nombre)
A66: Contratista
A68: OBSERVACIONES INTERVENTORÍA INVIAS
A73: ELABORO:
A74: M.P.
A77: FIRMA

Sheet LLENOS EN ZANJA
J2: Hoja 1 de 1
D3: SECRETARÍA DE INFRAESTRUCTURA | J3: Fecha
D4: DEPARTAMENTO DE CALDAS
D5: ANÁLISIS DE PRECIOS UNITARIOS | J5: Contrato No.
A7: DATOS GENERALES
A9: CONTRATO No. | D9: DE
A10: OBJETO DEL CONTRATO
A12: CONTRATISTA
A13: INTERVENTOR
A14: SUPERVISOR
A17: DATOS ESPECÍFICOS
A19: ITEM | B19: DESCRIPCIÓN | K19: UNIDAD | L19: CANTIDAD
A20: 610.2 | B20: LLENOS EN ZANJA | K20: M3
A22: I. EQUIPO
A24: DESCRIPCIÓN | F24: MARCA | H24: TIPO | J24: TARIFA/HORA | K24: RENDIMIENTO | L24: Vr. UNITARIO
A25: HERRAMIENTA MENOR (5% MO) | L25: =+L54*0.05 -> 1269.84
A28: SUBTOTAL $ | L28: =SUM(L25:L27) -> 1269.84
A30: II. MATERIALES
A32: DESCRIPCIÓN | I32: UNIDAD | J32: CANTIDAD | K32: PRECIO UNIT. | L32: Vr. UNITARIO
A40: SUBTOTAL $ | L40: =SUM(L33:L39) -> 0
A42: III. TRANSPORTES
A44: MATERIAL | H44: VOL. o PESO | I44: DISTANCIA | J44: M3 o Ton/Km | K44: TARIFA | L44: Vr. UNITARIO
A45: MATERIAL DE EXCAVACION | H45: 1.3 | I45: 5 | J45: =+H45*I45 -> 6.5 | K45: =+[2]TRANSPORTES!M56 -> 1000 | L45: =+J45*K45 -> 6500
A47: SUBTOTAL $ | L47: =SUM(L45:L46) -> 6500
A49: IV. MANO DE OBRA
A51: TRABAJADOR | H51: JORNAL | I51: PRESTACIONES | J51: JORNAL TOTAL | K51: RENDIMIENTO | L51: Vr. UNITARIO
A52: CUADRILLA 4 AYUDANTES 1 OFICIAL | H52: =insumos!C49*4+insumos!C50 -> 247104 | I52: =+H52*0.85 -> 210038.4 | J52: =+H52+I52 -> 457142.4 | K52: 18 | L52: =+J52/K52 -> 25396.8
A54: SUBTOTAL $ | L54: =SUM(L52:L53) -> 25396.8
A56: TOTAL COSTO DIRECTO $ | L56: =ROUND(L28+L40+L47+L54,0) -> 33167
F64: (Firma)
F65: (Nombre)
A66: Contratista
A68: OBSERVACIONES
A73: ELABORO:
A74: M.P.
A77: FIRMA

Sheet AFIRMADO
D2: INSTITUTO NACIONAL DE VIAS | J2: Hoja 1 de 1
D3: SECRETARÍA DE INFRAESTRUCTURA | J3: Fecha
D4: DEPARTAMENTO DE CALDAS
D5: ANÁLISIS DE PRECIOS UNITARIOS | J5: Contrato No.
A7: DATOS GENERALES
A9: CONTRATO No. | D9: DE
A10: OBJETO DEL CONTRATO
A12: CONTRATISTA
A13: INTERVENTOR
A14: SUPERVISOR
A17: DATOS ESPECÍFICOS
A19: ITEM | B19: DESCRIPCIÓN | K19: UNIDAD | L19: CANTIDAD
A20: 311.1 | B20: AFIRMADO | K20: M3
A22: I. EQUIPO
A24: DESCRIPCIÓN | F24: MARCA | H24: TIPO | J24: TARIFA/HORA | K24: RENDIMIENTO | L24: Vr. UNITARIO
A25: HERRAMIENTA MENOR (10% M.O.) | L25: =+L54*0.1 -> 3717.6212
A26: VIBROCOMPACTADORA (RANA) | J26: 4300 | K26: 1 | L26: =+J26/K26 -> 4300
A28: SUBTOTAL $ | L28: =+L26+L25 -> 8017.6213
A30: II. MATERIALES
A32: DESCRIPCIÓN | I32: UNIDAD | J32: CANTIDAD | K32: PRECIO UNIT. | L32: Vr. UNITARIO
A33: MATERIAL SELEECIONADO PARA RELLENO | I33: M3 | J33: 1.3 | K33: =+insumos!C12 -> 35000 | L33: =+J33*K33 -> 45500
A40: SUBTOTAL $ | L40: =SUM(L33:L39) -> 45500
A42: III. TRANSPORTES
A44: MATERIAL | H44: VOL. o PESO | I44: DISTANCIA | J44: M3 o Ton/Km | K44: TARIFA | L44: Vr. UNITARIO
A45: AFIRMADO | H45: 1.3 | I45: =+insumos!B74 -> 15 | J45: =+H45*I45 -> 19.5 | K45: =+TRANSPORTE!L55 -> 1600 | L45: =+K45*J45 -> 31200
A47: SUBTOTAL $ | L47: =SUM(L45:L46) -> 31200
A49: IV. MANO DE OBRA
A51: TRABAJADOR | H51: JORNAL | I51: PRESTACIONES | J51: JORNAL TOTAL | K51: RENDIMIENTO | L51: Vr. UNITARIO
A52: CUADRILLA 2 AYUDANTES 1 OFICIAL | H52: =+insumos!C50+2*insumos!C49 -> 160762 | I52: =+H52*0.85 -> 136647.7 | J52: =+H52+I52 -> 297409.7 | K52: 8 | L52: =+J52/K52 -> 37176.212
A54: SUBTOTAL $ | L54: =+L52 -> 37176.212
A56: TOTAL COSTO DIRECTO $ | L56: =ROUND(+L54+L47+L40+L28,0) -> 121894
F64: (Firma)
F65: (Nombre)
A66: Contratista
A68: OBSERVACIONES INTERVENTORÍA INVIAS
A73: ELABORO:
A74: M.P.
A77: FIRMA

Sheet TUBO 65MM
J2: Hoja 1 de 1
D3: SECRETARÍA DE INFRAESTRUCTURA | J3: Fecha
D4: DEPARTAMENTO DE CALDAS
D5: ANÁLISIS DE PRECIOS UNITARIOS | J5: Contrato No.
A7: DATOS GENERALES
A9: CONTRATO No. | D9: DE
A10: OBJETO DEL CONTRATO
A12: CONTRATISTA
A13: INTERVENTOR
A14: SUPERVISOR
A17: DATOS ESPECÍFICOS
A19: ITEM | B19: DESCRIPCIÓN | K19: UNIDAD | L19: CANTIDAD
A20: 663.1 | B20: TUBO PVC 65MM | K20: ML
A22: I. EQUIPO
A24: DESCRIPCIÓN | F24: MARCA | H24: TIPO | J24: TARIFA/HORA | K24: RENDIMIENTO | L24: Vr. UNITARIO
A25: HERRAMIENTA MENOR | L25: =+L53*10% -> 849.742
A28: SUBTOTAL $ | L28: =SUM(L25:L27) -> 849.742
A30: II. MATERIALES
A32: DESCRIPCIÓN | I32: UNIDAD | J32: CANTIDAD | K32: PRECIO UNIT. | L32: Vr. UNITARIO
A33: TUBERIA PARA FILTRO D=65MM | I33: ML | J33: 1.05 | K33: =+insumos!C30 -> 10200 | L33: =+K33*J33 -> 10710
A39: SUBTOTAL $ | L39: =SUM(L33:L38) -> 10710
A41: III. TRANSPORTES
A43: MATERIAL | H43: VOL. o PESO | I43: DISTANCIA | J43: M3 o Ton/Km | K43: TARIFA | L43: Vr. UNITARIO
A46: SUBTOTAL $ | L46: =SUM(L44:L45) -> 0
A48: IV. MANO DE OBRA
A50: TRABAJADOR | H50: JORNAL | I50: PRESTACIONES | J50: JORNAL TOTAL | K50: RENDIMIENTO | L50: Vr. UNITARIO
A51: 1 OFICIAL+ 2 AYUDANTES | H51: =+insumos!C49*2+insumos!C50 -> 160762 | I51: 0.85 | J51: =+H51*1.85 -> 297409.7 | K51: 35 | L51: =+J51/K51 -> 8497.42
L53: =SUM(L51:L52) -> 8497.42
A55: TOTAL COSTO DIRECTO $ | L55: =ROUND(L28+L39+L46+L53,0) -> 20057
F63: (Firma)
F64: (Nombre)
A65: Contratista
A67: OBSERVACIONES INTERVENTORÍA
A72: ELABORO:
A73: M.P.
A76: FIRMA

Sheet MATERIAL FILTRANTE
J2: Hoja 1 de 1
D3: SECRETARÍA DE INFRAESTRUCTURA | J3: Fecha
D4: DEPARTAMENTO DE CALDAS
D5: ANÁLISIS DE PRECIOS UNITARIOS | J5: Contrato No.
A7: DATOS GENERALES
A9: CONTRATO No. | D9: DE
A10: OBJETO DEL CONTRATO
A12: CONTRATISTA
A13: INTERVENTOR
A14: SUPERVISOR
A17: DATOS ESPECÍFICOS
A19: ITEM | B19: DESCRIPCIÓN | K19: UNIDAD | L19: CANTIDAD
A20: 673.2 | B20: MATERIAL FILTRANTE | K20: M3
A22: I. EQUIPO
A24: DESCRIPCIÓN | F24: MARCA | H24: TIPO | J24: TARIFA/HORA | K24: RENDIMIENTO | L24: Vr. UNITARIO
A25: HERRAMIENTA MENOR (10% M.O.) | L25: =0.1*L53 -> 1886.3802
A28: SUBTOTAL $ | L28: =SUM(L25:L27) -> 1886.3802
A30: II. MATERIALES
A32: DESCRIPCIÓN | I32: UNIDAD | J32: CANTIDAD | K32: PRECIO UNIT. | L32: Vr. UNITARIO
A33: MATERIAL FILTRANTE | I33: M3 | J33: 1.1 | K33: =+insumos!C31 -> 60000 | L33: =+J33*K33 -> 66000
A39: SUBTOTAL $ | L39: =SUM(L33:L38) -> 66000
A41: III. TRANSPORTES
A43: MATERIAL | H43: VOL. o PESO | I43: DISTANCIA | J43: M3 o Ton/Km | K43: TARIFA | L43: Vr. UNITARIO
A44: MATERIAL FILTRANTE | H44: =+J33 -> 1.1 | I44: =+insumos!B76 -> 20 | J44: =+H44*I44 -> 22 | K44: =+TRANSPORTE!L55 -> 1600 | L44: =+J44*K44 -> 35200
A46: SUBTOTAL $ | L46: =SUM(L44:L45) -> 35200
A48: IV. MANO DE OBRA
A50: TRABAJADOR | H50: JORNAL | I50: PRESTACIONES | J50: JORNAL TOTAL | K50: RENDIMIENTO | L50: Vr. UNITARIO
A51: CUADRILLA 1 OFICIAL + 1 AYUDANTE | H51: =insumos!C50+insumos!C49*3 -> 203933 | I51: =+H51*0.85 -> 173343.05 | J51: =+H51+I51 -> 377276.05 | K51: 20 | L51: =+J51/K51 -> 18863.802
A53: SUBTOTAL $ | L53: =SUM(L51:L52) -> 18863.802
A55: TOTAL COSTO DIRECTO $ | L55: =ROUND(L28+L39+L46+L53,0) -> 121950
F63: (Firma)
F64: (Nombre)
A65: Contratista
A67: OBSERVACIONES INTERVENTORÍA INVIAS
A72: ELABORO:
A73: M.P.
A76: FIRMA

Sheet GEOTEXTIL NT1600
J2: Hoja 1 de 1
D3: SECRETARÍA DE INFRAESTRUCTURA | J3: Fecha
D4: DEPARTAMENTO DE CALDAS
D5: ANÁLISIS DE PRECIOS UNITARIOS | J5: Contrato No.
A7: DATOS GENERALES
A9: CONTRATO No. | D9: DE
A10: OBJETO DEL CONTRATO
A12: CONTRATISTA
A13: INTERVENTOR
A14: SUPERVISOR
A17: DATOS ESPECÍFICOS
A19: ITEM | B19: DESCRIPCIÓN | K19: UNIDAD | L19: CANTIDAD
A20: 232.1 | B20: GEOTEXTIL NT 1600 PARA FILTROS | K20: M2
A22: I. EQUIPO
A24: DESCRIPCIÓN | F24: MARCA | H24: TIPO | J24: TARIFA/HORA | K24: RENDIMIENTO | L24: Vr. UNITARIO
A25: HERRAMIENTA MENOR (5% M.O.) | L25: =0.05*L53 -> 377.27605
A28: SUBTOTAL $ | L28: =SUM(L25:L27) -> 377.27605
A30: II. MATERIALES
A32: DESCRIPCIÓN | I32: UNIDAD | J32: CANTIDAD | K32: PRECIO UNIT. | L32: Vr. UNITARIO
A33: GEOTEXTIL NT 1600 | I33: M2 | J33: 1.04 | K33: =+insumos!C32 -> 9500 | L33: =+J33*K33 -> 9880
A39: SUBTOTAL $ | L39: =SUM(L33:L38) -> 9880
A41: III. TRANSPORTES
A43: MATERIAL | H43: VOL. o PESO | I43: DISTANCIA | J43: M3 o Ton/Km | K43: TARIFA | L43: Vr. UNITARIO
A46: SUBTOTAL $ | L46: =SUM(L44:L45) -> 0
A48: IV. MANO DE OBRA
A50: TRABAJADOR | H50: JORNAL | I50: PRESTACIONES | J50: JORNAL TOTAL | K50: RENDIMIENTO | L50: Vr. UNITARIO
A51: CUADRILLA 1 OFICIAL + 3 AYUDANTES | H51: =insumos!C50+insumos!C49*3 -> 203933 | I51: =+H51*0.85 -> 173343.05 | J51: =+H51+I51 -> 377276.05 | K51: 50 | L51: =+J51/K51 -> 7545.521
A53: SUBTOTAL $ | L53: =SUM(L51:L52) -> 7545.521
A55: TOTAL COSTO DIRECTO $ | L55: =ROUND(L28+L39+L46+L53,0) -> 17803
F63: (Firma)
F64: (Nombre)
A65: Contratista
A67: OBSERVACIONES INTERVENTORÍA INVIAS
A72: ELABORO:
A73: M.P.
A76: FIRMA

Sheet GEOTEXTIL NT2500
J2: Hoja 1 de 1
D3: SECRETARÍA DE INFRAESTRUCTURA | J3: Fecha
D4: DEPARTAMENTO DE CALDAS
D5: ANÁLISIS DE PRECIOS UNITARIOS | J5: Contrato No.
A7: DATOS GENERALES
A9: CONTRATO No. | D9: DE
A10: OBJETO DEL CONTRATO
A12: CONTRATISTA
A13: INTERVENTOR
A14: SUPERVISOR
A17: DATOS ESPECÍFICOS
A19: ITEM | B19: DESCRIPCIÓN | K19: UNIDAD | L19: CANTIDAD
A20: 232.1 | B20: GEOTEXTIL NT 2500 PARA TERRAPLENES REFORZADOS CON GEOSINTETICOS | K20: M2
A22: I. EQUIPO
A24: DESCRIPCIÓN | F24: MARCA | H24: TIPO | J24: TARIFA/HORA | K24: RENDIMIENTO | L24: Vr. UNITARIO
A25: HERRAMIENTA MENOR (5% M.O.) | L25: =0.05*L53 -> 471.59506
A28: SUBTOTAL $ | L28: =SUM(L25:L27) -> 471.59506
A30: II. MATERIALES
A32: DESCRIPCIÓN | I32: UNIDAD | J32: CANTIDAD | K32: PRECIO UNIT. | L32: Vr. UNITARIO
A33: GEOTEXTIL NT 2500 | I33: M2 | J33: 1.1 | K33: =+insumos!C33 -> 115000 | L33: =+J33*K33 -> 126500
A39: SUBTOTAL $ | L39: =SUM(L33:L38) -> 126500
A41: III. TRANSPORTES
A43: MATERIAL | H43: VOL. o PESO | I43: DISTANCIA | J43: M3 o Ton/Km | K43: TARIFA | L43: Vr. UNITARIO
A46: SUBTOTAL $ | L46: =SUM(L44:L45) -> 0
A48: IV. MANO DE OBRA
A50: TRABAJADOR | H50: JORNAL | I50: PRESTACIONES | J50: JORNAL TOTAL | K50: RENDIMIENTO | L50: Vr. UNITARIO
A51: CUADRILLA 1 OFICIAL + 3 AYUDANTES | H51: =insumos!C50+insumos!C49*3 -> 203933 | I51: =+H51*0.85 -> 173343.05 | J51: =+H51+I51 -> 377276.05 | K51: 40 | L51: =+J51/K51 -> 9431.9012
A53: SUBTOTAL $ | L53: =SUM(L51:L52) -> 9431.9012
A55: TOTAL COSTO DIRECTO $ | L55: =ROUND(L28+L39+L46+L53,0) -> 136403
F63: (Firma)
F64: (Nombre)
A65: Contratista
A67: OBSERVACIONES INTERVENTORÍA INVIAS
A72: ELABORO:
A73: M.P.
A76: FIRMA

Sheet TUBERIA PVC D=900MM
J2: Hoja 1 de 1
D3: SECRETARÍA DE INFRAESTRUCTURA | J3: Fecha
D4: DEPARTAMENTO DE CALDAS
D5: ANÁLISIS DE PRECIOS UNITARIOS | J5: Contrato No.
A7: DATOS GENERALES
A9: CONTRATO No. | D9: DE
A10: OBJETO DEL CONTRATO
A12: CONTRATISTA
A13: INTERVENTOR
A14: SUPERVISOR
A17: DATOS ESPECÍFICOS
A19: ITEM | B19: DESCRIPCIÓN | K19: UNIDAD | L19: CANTIDAD
A20: 663.1 | B20: TUBERÍA DE PVC D= 900 mm | K20: ML
A22: I. EQUIPO
A24: DESCRIPCIÓN | F24: MARCA | H24: TIPO | J24: TARIFA/HORA | K24: RENDIMIENTO | L24: Vr. UNITARIO
A25: HERRAMIENTA MENOR (10% M.O.) | L25: =0.1*L53 -> 7545.521
A28: SUBTOTAL $ | L28: =SUM(L25:L27) -> 7545.521
A30: II. MATERIALES
A32: DESCRIPCIÓN | I32: UNIDAD | J32: CANTIDAD | K32: PRECIO UNIT. | L32: Vr. UNITARIO
A33: TUBOPVC D=900mm | I33: ML | J33: 1 | K33: =+insumos!C29 -> 1380000 | L33: =+J33*K33 -> 1380000
A34: ARENA O GRAVA SELECCIONADA | I34: M3 | J34: 0.3 | K34: =+insumos!C9 -> 60000 | L34: =+J34*K34 -> 18000
A39: SUBTOTAL $ | L39: =SUM(L33:L38) -> 1398000
A41: III. TRANSPORTES
A43: MATERIAL | H43: VOL. o PESO | I43: DISTANCIA | J43: M3 o Ton/Km | K43: TARIFA | L43: Vr. UNITARIO
A44: ARENA O GRAVA SELECCIONADA | H44: =+J34 -> 0.3 | I44: =+insumos!B75 -> 20 | J44: =+I44*H44 -> 6 | K44: =+TRANSPORTE!L55 -> 1600 | L44: =+K44*J44 -> 9600
A46: SUBTOTAL $ | L46: =SUM(L44:L45) -> 9600
A48: IV. MANO DE OBRA
A50: TRABAJADOR | H50: JORNAL | I50: PRESTACIONES | J50: JORNAL TOTAL | K50: RENDIMIENTO | L50: Vr. UNITARIO
A51: CUADRILLA 1 OFICIALES + 3 AYUDANTES | H51: =insumos!C50+3*insumos!C49 -> 203933 | I51: =+H51*0.85 -> 173343.05 | J51: =+H51+I51 -> 377276.05 | K51: 5 | L51: =+J51/K51 -> 75455.21
A53: SUBTOTAL $ | L53: =SUM(L51:L52) -> 75455.21
A55: TOTAL COSTO DIRECTO $ | L55: =ROUND(L28+L39+L46+L53,0) -> 1490601
F63: (Firma)
F64: (Nombre)
A65: Contratista
A67: OBSERVACIONES INTERVENTORÍA INVIAS
A72: ELABORO:
A73: M.P.
A76: FIRMA

Sheet TUBERIA PVC D= 762MM
J2: Hoja 1 de 1
D3: SECRETARÍA DE INFRAESTRUCTURA | J3: Fecha
D4: DEPARTAMENTO DE CALDAS
D5: ANÁLISIS DE PRECIOS UNITARIOS | J5: Contrato No.
A7: DATOS GENERALES
A9: CONTRATO No. | D9: DE
A10: OBJETO DEL CONTRATO
A12: CONTRATISTA
A13: INTERVENTOR
A14: SUPERVISOR
A17: DATOS ESPECÍFICOS
A19: ITEM | B19: DESCRIPCIÓN | K19: UNIDAD | L19: CANTIDAD
A20: 663.1 | B20: TUBERÍA DE PVC DE 762 mm | K20: ML
A22: I. EQUIPO
A24: DESCRIPCIÓN | F24: MARCA | H24: TIPO | J24: TARIFA/HORA | K24: RENDIMIENTO | L24: Vr. UNITARIO
A25: HERRAMIENTA MENOR (10% M.O.) | L25: =0.1*L53 -> 3772.7605
A28: SUBTOTAL $ | L28: =SUM(L25:L27) -> 3772.7605
A30: II. MATERIALES
A32: DESCRIPCIÓN | I32: UNIDAD | J32: CANTIDAD | K32: PRECIO UNIT. | L32: Vr. UNITARIO
A33: TUBOPVC 595mm | I33: ML | J33: 1 | K33: =+insumos!#REF! -> #REF! | L33: =+J33*K33 -> #REF!
A34: ARENA O GRAVA SELECCIONADA | I34: M3 | J34: 0.3 | K34: =+insumos!C9 -> 60000 | L34: =+J34*K34 -> 18000
A39: SUBTOTAL $ | L39: =SUM(L33:L38) -> #REF!
A41: III. TRANSPORTES
A43: MATERIAL | H43: VOL. o PESO | I43: DISTANCIA | J43: M3 o Ton/Km | K43: TARIFA | L43: Vr. UNITARIO
A44: ARENA O GRAVA SELECCIONADA | H44: =+J34 -> 0.3 | I44: =+insumos!B75 -> 20 | J44: =+I44*H44 -> 6 | K44: =+TRANSPORTE!L55 -> 1600 | L44: =+K44*J44 -> 9600
A46: SUBTOTAL $ | L46: =SUM(L44:L45) -> 9600
A48: IV. MANO DE OBRA
A50: TRABAJADOR | H50: JORNAL | I50: PRESTACIONES | J50: JORNAL TOTAL | K50: RENDIMIENTO | L50: Vr. UNITARIO
A51: CUADRILLA 1 OFICIALES + 3 AYUDANTES | H51: =insumos!C50+3*insumos!C49 -> 203933 | I51: =+H51*0.85 -> 173343.05 | J51: =+H51+I51 -> 377276.05 | K51: 10 | L51: =+J51/K51 -> 37727.605
A53: SUBTOTAL $ | L53: =SUM(L51:L52) -> 37727.605
A55: TOTAL COSTO DIRECTO $ | L55: =ROUND(L28+L39+L46+L53,0) -> #REF!
F63: (Firma)
F64: (Nombre)
A65: Contratista
A67: OBSERVACIONES INTERVENTORÍA INVIAS
A72: ELABORO:
A73: M.P.
A76: FIRMA

Sheet GAVION EN SUELO CEM
J2: Hoja 1 de 1
D3: SECRETARÍA DE INFRAESTRUCTURA | J3: Fecha
D4: DEPARTAMENTO DE CALDAS
D5: ANÁLISIS DE PRECIOS UNITARIOS | J5: Contrato No.
A7: DATOS GENERALES
A9: CONTRATO No. | D9: DE
A10: OBJETO DEL CONTRATO
A12: CONTRATISTA
A13: INTERVENTOR
A14: SUPERVISOR
A16: DATOS ESPECÍFICOS
A18: ITEM | B18: DESCRIPCIÓN | K18: UNIDAD | L18: CANTIDAD
A19: 681.2 | B19: GAVIONES EN SACOS DE SUELO CEMENTO | K19: M3
A21: I. EQUIPO
A23: DESCRIPCIÓN | F23: MARCA | H23: TIPO | J23: TARIFA/HORA | K23: RENDIMIENTO | L23: Vr. UNITARIO
A24: HERRAMIENTA MENOR (10% M.O.) | L24: =+L52*0.1 -> 7619.04
A27: SUBTOTAL $ | L27: =SUM(L24:L26) -> 7619.04
A29: II. MATERIALES
A31: DESCRIPCIÓN | I31: UNIDAD | J31: CANTIDAD | K31: PRECIO UNIT. | L31: Vr. UNITARIO
A32: ALAMBRE GALVANIZADO No 12 | I32: KG | J32: 2 | K32: =+insumos!C19 -> 8000 | L32: =+J32*K32 -> 16000
A33: MALLA PARA GAVIONES | I33: U | J33: 0.5 | K33: =+insumos!C41 -> 88000 | L33: =+J33*K33 -> 44000
A34: FORMALETA | I34: M2 | J34: 2 | K34: =+insumos!C42 -> 16000 | L34: =+J34*K34 -> 32000
A35: COSTAL EN FIBRA | I35: U | J35: 20 | K35: 500 | L35: =+J35*K35 -> 10000
A36: CEMENTO | I36: SACO | J36: 2.5 | K36: =+insumos!C13 -> 40000 | L36: =+J36*K36 -> 100000
A38: SUBTOTAL $ | L38: =SUM(L32:L37) -> 202000
A40: III. TRANSPORTES
A42: MATERIAL | H42: VOL. o PESO | I42: DISTANCIA | J42: M3 o Ton/Km | K42: TARIFA | L42: Vr. UNITARIO
A45: SUBTOTAL $ | L45: =SUM(L43:L44) -> 0
A47: IV. MANO DE OBRA
A49: TRABAJADOR | H49: JORNAL | I49: PRESTACIONES | J49: JORNAL TOTAL | K49: RENDIMIENTO | L49: Vr. UNITARIO
A50: CUADRILLA 1 OFICIAL + 4 AYUDANTES | H50: =+insumos!C50+4*insumos!C49 -> 247104 | I50: =+H50*0.85 -> 210038.4 | J50: =+H50+I50 -> 457142.4 | K50: 6 | L50: =+J50/K50 -> 76190.4
A52: SUBTOTAL $ | L52: =SUM(L50:L51) -> 76190.4
A54: TOTAL COSTO DIRECTO $ | L54: =ROUND(L27+L38+L45+L52,0) -> 285809
F62: (Firma)
F63: (Nombre)
A64: Contratista
A66: OBSERVACIONES INTERVENTORÍA INVIAS
A71: ELABORO:
A72: M.P.
A75: FIRMA

Sheet TUBO NOVAFORT 15"
J2: Hoja 1 de 1
D3: SECRETARÍA DE INFRAESTRUCTURA | J3: Fecha
D4: DEPARTAMENTO DE CALDAS
D5: ANÁLISIS DE PRECIOS UNITARIOS | J5: Contrato No.
A7: DATOS GENERALES
A9: CONTRATO No. | D9: DE
A10: OBJETO DEL CONTRATO
A12: CONTRATISTA
A13: INTERVENTOR
A14: SUPERVISOR
A17: DATOS ESPECÍFICOS
A19: ITEM | B19: DESCRIPCIÓN | K19: UNIDAD | L19: CANTIDAD
A20: 663.1 | B20: TUBO NOVAFORT D=15" | K20: ML
A22: I. EQUIPO
A24: DESCRIPCIÓN | F24: MARCA | H24: TIPO | J24: TARIFA/HORA | K24: RENDIMIENTO | L24: Vr. UNITARIO
A25: HERRAMIENTA MENOR | L25: =+L53*10% -> 1982.7313
A28: SUBTOTAL $ | L28: =SUM(L25:L27) -> 1982.7313
A30: II. MATERIALES
A32: DESCRIPCIÓN | I32: UNIDAD | J32: CANTIDAD | K32: PRECIO UNIT. | L32: Vr. UNITARIO
A33: TUBERIA NOVAFORT D=15" | I33: ML | J33: 1.05 | K33: =+insumos!C26 -> 197000 | L33: =+K33*J33 -> 206850
A39: SUBTOTAL $ | L39: =SUM(L33:L38) -> 206850
A41: III. TRANSPORTES
A43: MATERIAL | H43: VOL. o PESO | I43: DISTANCIA | J43: M3 o Ton/Km | K43: TARIFA | L43: Vr. UNITARIO
A46: SUBTOTAL $ | L46: =SUM(L44:L45) -> 0
A48: IV. MANO DE OBRA
A50: TRABAJADOR | H50: JORNAL | I50: PRESTACIONES | J50: JORNAL TOTAL | K50: RENDIMIENTO | L50: Vr. UNITARIO
A51: 1 OFICIAL+ 2 AYUDANTES | H51: =+insumos!C49*2+insumos!C50 -> 160762 | I51: 0.85 | J51: =+H51*1.85 -> 297409.7 | K51: 15 | L51: =+J51/K51 -> 19827.313
L53: =SUM(L51:L52) -> 19827.313
A55: TOTAL COSTO DIRECTO $ | L55: =ROUND(L28+L39+L46+L53,0) -> 228660
F63: (Firma)
F64: (Nombre)
A65: Contratista
A67: OBSERVACIONES INTERVENTORÍA
A72: ELABORO:
A73: M.P.
A76: FIRMA

Sheet TUBERIA PVC 20"
J2: Hoja 1 de 1
D3: SECRETARÍA DE INFRAESTRUCTURA | J3: Fecha
D4: DEPARTAMENTO DE CALDAS
D5: ANÁLISIS DE PRECIOS UNITARIOS | J5: Contrato No.
A7: DATOS GENERALES
A9: CONTRATO No. | D9: DE
A10: OBJETO DEL CONTRATO
A12: CONTRATISTA
A13: INTERVENTOR
A14: SUPERVISOR
A17: DATOS ESPECÍFICOS
A19: ITEM | B19: DESCRIPCIÓN | K19: UNIDAD | L19: CANTIDAD
A20: 663.1 | B20: TUBERÍA DE PVC DE 500 mm | K20: ML
A22: I. EQUIPO
A24: DESCRIPCIÓN | F24: MARCA | H24: TIPO | J24: TARIFA/HORA | K24: RENDIMIENTO | L24: Vr. UNITARIO
A25: HERRAMIENTA MENOR (10% M.O.) | L25: =0.1*L53 -> 3143.9671
A28: SUBTOTAL $ | L28: =SUM(L25:L27) -> 3143.9671
A30: II. MATERIALES
A32: DESCRIPCIÓN | I32: UNIDAD | J32: CANTIDAD | K32: PRECIO UNIT. | L32: Vr. UNITARIO
A33: TUBOPVC 500 mm | I33: ML | J33: 1 | K33: =+insumos!#REF! -> #REF! | L33: =+J33*K33 -> #REF!
A34: ARENA O GRAVA SELECCIONADA | I34: M3 | J34: 0.15 | K34: =+insumos!C9 -> 60000 | L34: =+J34*K34 -> 9000
A39: SUBTOTAL $ | L39: =SUM(L33:L38) -> #REF!
A41: III. TRANSPORTES
A43: MATERIAL | H43: VOL. o PESO | I43: DISTANCIA | J43: M3 o Ton/Km | K43: TARIFA | L43: Vr. UNITARIO
A44: ARENA O GRAVA SELECCIONADA | H44: =+J34 -> 0.15 | I44: =+insumos!B75 -> 20 | J44: =+I44*H44 -> 3 | K44: =+TRANSPORTE!L55 -> 1600 | L44: =+K44*J44 -> 4800
A46: SUBTOTAL $ | L46: =SUM(L44:L45) -> 4800
A48: IV. MANO DE OBRA
A50: TRABAJADOR | H50: JORNAL | I50: PRESTACIONES | J50: JORNAL TOTAL | K50: RENDIMIENTO | L50: Vr. UNITARIO
A51: CUADRILLA 1 OFICIALES + 3 AYUDANTES | H51: =insumos!C50+3*insumos!C49 -> 203933 | I51: =+H51*0.85 -> 173343.05 | J51: =+H51+I51 -> 377276.05 | K51: 12 | L51: =+J51/K51 -> 31439.671
A53: SUBTOTAL $ | L53: =SUM(L51:L52) -> 31439.671
A55: TOTAL COSTO DIRECTO $ | L55: =ROUND(L28+L39+L46+L53,0) -> #REF!
F63: (Firma)
F64: (Nombre)
A65: Contratista
A67: OBSERVACIONES INTERVENTORÍA INVIAS
A72: ELABORO:
A73: M.P.
A76: FIRMA

Sheet TUBERIA PVC D=595MM
J2: Hoja 1 de 1
D3: SECRETARÍA DE INFRAESTRUCTURA | J3: Fecha
D4: DEPARTAMENTO DE CALDAS
D5: ANÁLISIS DE PRECIOS UNITARIOS | J5: Contrato No.
A7: DATOS GENERALES
A9: CONTRATO No. | D9: DE
A10: OBJETO DEL CONTRATO
A12: CONTRATISTA
A13: INTERVENTOR
A14: SUPERVISOR
A17: DATOS ESPECÍFICOS
A19: ITEM | B19: DESCRIPCIÓN | K19: UNIDAD | L19: CANTIDAD
A20: 663.1 | B20: TUBERÍA DE PVC DE 595 mm | K20: ML
A22: I. EQUIPO
A24: DESCRIPCIÓN | F24: MARCA | H24: TIPO | J24: TARIFA/HORA | K24: RENDIMIENTO | L24: Vr. UNITARIO
A25: HERRAMIENTA MENOR (10% M.O.) | L25: =0.1*L53 -> 3772.7605
H26: =+'TUBERIA PVC D=595MM'!K3 -> 0
A28: SUBTOTAL $ | L28: =SUM(L25:L27) -> 3772.7605
A30: II. MATERIALES
A32: DESCRIPCIÓN | I32: UNIDAD | J32: CANTIDAD | K32: PRECIO UNIT. | L32: Vr. UNITARIO
A33: TUBOPVC 595mm | I33: ML | J33: 1 | K33: =+insumos!C27 -> 520000 | L33: =+J33*K33 -> 520000
A34: ARENA O GRAVA SELECCIONADA | I34: M3 | J34: 0.3 | K34: =+insumos!C9 -> 60000 | L34: =+J34*K34 -> 18000
A39: SUBTOTAL $ | L39: =SUM(L33:L38) -> 538000
A41: III. TRANSPORTES
A43: MATERIAL | H43: VOL. o PESO | I43: DISTANCIA | J43: M3 o Ton/Km | K43: TARIFA | L43: Vr. UNITARIO
A44: ARENA O GRAVA SELECCIONADA | H44: =+J34 -> 0.3 | I44: =+insumos!B75 -> 20 | J44: =+I44*H44 -> 6 | K44: =+TRANSPORTE!L55 -> 1600 | L44: =+K44*J44 -> 9600
A46: SUBTOTAL $ | L46: =SUM(L44:L45) -> 9600
A48: IV. MANO DE OBRA
A50: TRABAJADOR | H50: JORNAL | I50: PRESTACIONES | J50: JORNAL TOTAL | K50: RENDIMIENTO | L50: Vr. UNITARIO
A51: CUADRILLA 1 OFICIALES + 3 AYUDANTES | H51: =insumos!C50+3*insumos!C49 -> 203933 | I51: =+H51*0.85 -> 173343.05 | J51: =+H51+I51 -> 377276.05 | K51: 10 | L51: =+J51/K51 -> 37727.605
A53: SUBTOTAL $ | L53: =SUM(L51:L52) -> 37727.605
A55: TOTAL COSTO DIRECTO $ | L55: =ROUND(L28+L39+L46+L53,0) -> 589100
F63: (Firma)
F64: (Nombre)
A65: Contratista
A67: OBSERVACIONES INTERVENTORÍA INVIAS
A72: ELABORO:
A73: M.P.
A76: FIRMA

Sheet TUBERIA CONCRETO D=36"
J2: Hoja 1 de 1
D3: SECRETARÍA DE INFRAESTRUCTURA | J3: Fecha
D4: DEPARTAMENTO DE CALDAS
D5: ANÁLISIS DE PRECIOS UNITARIOS | J5: Contrato No.
A7: DATOS GENERALES
A9: CONTRATO No. | D9: DE
A10: OBJETO DEL CONTRATO
A12: CONTRATISTA
A13: INTERVENTOR
A14: SUPERVISOR
A17: DATOS ESPECÍFICOS
A19: ITEM | B19: DESCRIPCIÓN | K19: UNIDAD | L19: CANTIDAD
A20: 661.1 | B20: TUBERÍA DE CONCRETO REFORZADO D=36" | K20: ML
A22: I. EQUIPO
A24: DESCRIPCIÓN | F24: MARCA | H24: TIPO | J24: TARIFA/HORA | K24: RENDIMIENTO | L24: Vr. UNITARIO
A25: HERRAMIENTA MENOR (10% M.O.) | L25: =0.1*L53 -> 13425.219
A28: SUBTOTAL $ | L28: =SUM(L25:L27) -> 13425.219
A30: II. MATERIALES
A32: DESCRIPCIÓN | I32: UNIDAD | J32: CANTIDAD | K32: PRECIO UNIT. | L32: Vr. UNITARIO
A33: TUBO DE CONCRETO REFORZADO D=36" EN OBRA | I33: ML | J33: 1 | K33: =+insumos!C25 -> 980000 | L33: =+J33*K33 -> 980000
A39: SUBTOTAL $ | L39: =SUM(L33:L38) -> 980000
A41: III. TRANSPORTES
A43: MATERIAL | H43: VOL. o PESO | I43: DISTANCIA | J43: M3 o Ton/Km | K43: TARIFA | L43: Vr. UNITARIO
A46: SUBTOTAL $ | L46: =SUM(L44:L45) -> 0
A48: IV. MANO DE OBRA
A50: TRABAJADOR | H50: JORNAL | I50: PRESTACIONES | J50: JORNAL TOTAL | K50: RENDIMIENTO | L50: Vr. UNITARIO
A51: CUADRILLA 1 OFICIALES + 5 AYUDANTES | H51: =insumos!C50+5*insumos!C49 -> 290275 | I51: =+H51*0.85 -> 246733.75 | J51: =+H51+I51 -> 537008.75 | K51: 4 | L51: =+J51/K51 -> 134252.19
A53: SUBTOTAL $ | L53: =SUM(L51:L52) -> 134252.19
A55: TOTAL COSTO DIRECTO $ | L55: =ROUND(L28+L39+L46+L53,0) -> 1127677
F63: (Firma)
F64: (Nombre)
A65: Contratista
A67: OBSERVACIONES INTERVENTORÍA INVIAS
A72: ELABORO:
A73: M.P.
A76: FIRMA

Sheet TUBERIA CONCRETO D=24"
J2: Hoja 1 de 1
D3: SECRETARÍA DE INFRAESTRUCTURA | J3: Fecha
D4: DEPARTAMENTO DE CALDAS
D5: ANÁLISIS DE PRECIOS UNITARIOS | J5: Contrato No.
A7: DATOS GENERALES
A9: CONTRATO No. | D9: DE
A10: OBJETO DEL CONTRATO
A12: CONTRATISTA
A13: INTERVENTOR
A14: SUPERVISOR
A17: DATOS ESPECÍFICOS
A19: ITEM | B19: DESCRIPCIÓN | K19: UNIDAD | L19: CANTIDAD
A20: 660.2 | B20: TUBERÍA DE CONCRETO D=24" | K20: ML
A22: I. EQUIPO
A24: DESCRIPCIÓN | F24: MARCA | H24: TIPO | J24: TARIFA/HORA | K24: RENDIMIENTO | L24: Vr. UNITARIO
A25: HERRAMIENTA MENOR (10% M.O.) | L25: =0.1*L53 -> 8950.1458
A28: SUBTOTAL $ | L28: =SUM(L25:L27) -> 8950.1458
A30: II. MATERIALES
A32: DESCRIPCIÓN | I32: UNIDAD | J32: CANTIDAD | K32: PRECIO UNIT. | L32: Vr. UNITARIO
A33: TUBO DE CONCRETO REFORZADO D=24" EN OBRA | I33: ML | J33: 1 | K33: =+insumos!C24 -> 470000 | L33: =+J33*K33 -> 470000
A39: SUBTOTAL $ | L39: =SUM(L33:L38) -> 470000
A41: III. TRANSPORTES
A43: MATERIAL | H43: VOL. o PESO | I43: DISTANCIA | J43: M3 o Ton/Km | K43: TARIFA | L43: Vr. UNITARIO
A46: SUBTOTAL $ | L46: =SUM(L44:L45) -> 0
A48: IV. MANO DE OBRA
A50: TRABAJADOR | H50: JORNAL | I50: PRESTACIONES | J50: JORNAL TOTAL | K50: RENDIMIENTO | L50: Vr. UNITARIO
A51: CUADRILLA 1 OFICIALES + 5 AYUDANTES | H51: =insumos!C50+5*insumos!C49 -> 290275 | I51: =+H51*0.85 -> 246733.75 | J51: =+H51+I51 -> 537008.75 | K51: 6 | L51: =+J51/K51 -> 89501.458
A53: SUBTOTAL $ | L53: =SUM(L51:L52) -> 89501.458
A55: TOTAL COSTO DIRECTO $ | L55: =ROUND(L28+L39+L46+L53,0) -> 568452
F63: (Firma)
F64: (Nombre)
A65: Contratista
A67: OBSERVACIONES INTERVENTORÍA INVIAS
A72: ELABORO:
A73: M.P.
A76: FIRMA

Sheet SOLADO DE LIMPIEZA
J2: Hoja 1 de 1
D3: SECRETARÍA DE INFRAESTRUCTURA | J3: Fecha
D4: DEPARTAMENTO DE CALDAS
D5: ANÁLISIS DE PRECIOS UNITARIOS | J5: Contrato No.
A7: DATOS GENERALES
A9: CONTRATO No. | D9: DE
A10: OBJETO DEL CONTRATO
A12: CONTRATISTA
A13: INTERVENTOR
A14: SUPERVISOR
A17: DATOS ESPECÍFICOS
A19: ITEM | B19: DESCRIPCIÓN | K19: UNIDAD | L19: CANTIDAD
A20: 630 | B20: SOLADO DE LIMPÍEZA | K20: M3
A22: I. EQUIPO
A24: DESCRIPCIÓN | F24: MARCA | H24: TIPO | J24: TARIFA/HORA | K24: RENDIMIENTO | L24: Vr. UNITARIO
A25: CONCRETADORA A GASOLINA 1 SACO | J25: =+insumos!C59 -> 6000 | K25: 1 | L25: =+J25*K25 -> 6000
A26: VIBRADOR | J26: =+insumos!C58 -> 6000 | K26: 1 | L26: =+J26*K26 -> 6000
A27: HERRAMIENTA MENOR (10% MO) | L27: =+L54*0.05 -> 13376.293
A28: SUBTOTAL $ | L28: =SUM(L25:L27) -> 25376.293
A30: II. MATERIALES
A32: DESCRIPCIÓN | I32: UNIDAD | J32: CANTIDAD | K32: PRECIO UNIT. | L32: Vr. UNITARIO
A33: CEMENTO GRIS BULTO DE 50 KG | I33: SACO | J33: 4 | K33: =+insumos!C13 -> 40000 | L33: =+J33*K33 -> 160000
A34: ARENA | I34: M3 | J34: 0.56 | K34: =+insumos!C9 -> 60000 | L34: =+J34*K34 -> 33600
A35: AGREGADO PETREO PARA CONCRETO HIDRAULICO | I35: M3 | J35: 0.85 | K35: =+insumos!C10 -> 60000 | L35: =+J35*K35 -> 51000
A36: AGUA | I36: LT | J36: 160 | K36: =+insumos!C8 -> 44 | L36: =+J36*K36 -> 7040
A37: FORMALETA | I37: M2 | J37: 5 | K37: =+insumos!C42 -> 16000 | L37: =+J37*K37 -> 80000
A38: DESPERDICIO (2%) | L38: =+(L37+L36+L35+L34+L33)*0.02 -> 6632.8
A40: SUBTOTAL $ | L40: =SUM(L33:L39) -> 338272.8
A42: III. TRANSPORTES
A44: MATERIAL | H44: VOL. o PESO | I44: DISTANCIA | J44: M3 o Ton/Km | K44: TARIFA | L44: Vr. UNITARIO
A45: ARENA | H45: =+J34 -> 0.56 | I45: =+insumos!B75 -> 20 | J45: =+H45*I45 -> 11.2 | K45: =+TRANSPORTE!L55 -> 1600 | L45: =+J45*K45 -> 17920
A46: =+A35 -> AGREGADO PETREO PARA CONCRETO HIDRAULICO | H46: =+J35 -> 0.85 | I46: =+insumos!B76 -> 20 | J46: =+H46*I46 -> 17 | K46: =+TRANSPORTE!L55 -> 1600 | L46: =+J46*K46 -> 27200
A47: SUBTOTAL $ | L47: =SUM(L45:L46) -> 45120
A49: IV. MANO DE OBRA
A51: TRABAJADOR | H51: JORNAL | I51: PRESTACIONES | J51: JORNAL TOTAL | K51: RENDIMIENTO | L51: Vr. UNITARIO
A52: CUADRILLA 1 OFICIALES + 10 AYUDANTES | H52: =+insumos!C50+insumos!C49*10 -> 506130 | I52: =+H52*0.85 -> 430210.5 | J52: =+H52+I52 -> 936340.5 | K52: 3.5 | L52: =+J52/K52 -> 267525.86
A54: SUBTOTAL $ | L54: =SUM(L52:L53) -> 267525.86
A56: TOTAL COSTO DIRECTO $ | L56: =ROUND(L28+L40+L47+L54,0) -> 676295
F64: (Firma)
F65: (Nombre)
...

Sheet CANAL EN SUELO CEMENTO
J1: Hoja 1 de 1
D2: SECRETARÍA DE INFRAESTRUCTURA | J2: Fecha
D3: DEPARTAMENTO DE CALDAS
D4: ANÁLISIS DE PRECIOS UNITARIOS | J4: Contrato No.
A6: DATOS GENERALES
A8: CONTRATO No. | D8: DE
A9: OBJETO DEL CONTRATO
A11: CONTRATISTA
A12: INTERVENTOR
A13: SUPERVISOR
A15: DATOS ESPECÍFICOS
A17: ITEM | B17: DESCRIPCIÓN | K17: UNIDAD | L17: CANTIDAD
A18: 350.4 | B18: DESCOLES EN SACOS DE SUELO CEMENTO | K18: M3
A20: I. EQUIPO
A22: DESCRIPCIÓN | F22: MARCA | H22: TIPO | J22: TARIFA/HORA | K22: RENDIMIENTO | L22: Vr. UNITARIO
A23: HERRAMIENTA MENOR (10% M.O.) | L23: =+L49*0.1 -> 7619.04
A26: SUBTOTAL $ | L26: =SUM(L23:L25) -> 7619.04
A28: II. MATERIALES
A30: DESCRIPCIÓN | I30: UNIDAD | J30: CANTIDAD | K30: PRECIO UNIT. | L30: Vr. UNITARIO
A31: FORMALETA | I31: M2 | J31: 1 | K31: =+insumos!C42 -> 16000 | L31: =+J31*K31 -> 16000
A32: COSTAL EN FIBRA | I32: U | J32: 20 | K32: 500 | L32: =+J32*K32 -> 10000
A33: CEMENTO | I33: SACO | J33: 2 | K33: =+insumos!C13 -> 40000 | L33: =+J33*K33 -> 80000
A34: GEOTEXTIL | I34: M2 | J34: 2 | K34: =+insumos!C32 -> 9500 | L34: =+J34*K34 -> 19000
A35: SUBTOTAL $ | L35: =SUM(L31:L34) -> 125000
A37: III. TRANSPORTES
A39: MATERIAL | H39: VOL. o PESO | I39: DISTANCIA | J39: M3 o Ton/Km | K39: TARIFA | L39: Vr. UNITARIO
A42: SUBTOTAL $ | L42: =SUM(L40:L41) -> 0
A44: IV. MANO DE OBRA
A46: TRABAJADOR | H46: JORNAL | I46: PRESTACIONES | J46: JORNAL TOTAL | K46: RENDIMIENTO | L46: Vr. UNITARIO
A47: CUADRILLA 1 OFICIAL + 4 AYUDANTES | H47: =+'GAVION EN SUELO CEM'!H50 -> 247104 | I47: =+H47*0.85 -> 210038.4 | J47: =+H47+I47 -> 457142.4 | K47: 6 | L47: =+J47/K47 -> 76190.4
A49: SUBTOTAL $ | L49: =SUM(L47:L48) -> 76190.4
A51: TOTAL COSTO DIRECTO $ | L51: =ROUND(L26+L35+L42+L49,0) -> 208809
F59: (Firma)
F60: (Nombre)
A61: Contratista
A63: OBSERVACIONES INTERVENTORÍA INVIAS
A68: ELABORO:
A69: M.P.
A72: FIRMA

Sheet RECUBRIMIENTO GAVIONES
D2: INSTITUTO NACIONAL DE VIAS | J2: Hoja 1 de 1
D3: SECRETARÍA DE INFRAESTRUCTURA | J3: Fecha
D4: DEPARTAMENTO DE CALDAS
D5: ANÁLISIS DE PRECIOS UNITARIOS | J5: Contrato No.
A7: DATOS GENERALES
A9: CONTRATO No. | D9: DE
A10: OBJETO DEL CONTRATO
A12: CONTRATISTA
A13: INTERVENTOR
A14: SUPERVISOR
A17: DATOS ESPECÍFICOS
A19: ITEM | B19: DESCRIPCIÓN | K19: UNIDAD | L19: CANTIDAD
A20: 630.4 | B20: RECUBRIMIENTO DE GAVIONES | K20: M2
A22: I. EQUIPO
A24: DESCRIPCIÓN | F24: MARCA | H24: TIPO | J24: TARIFA/HORA | K24: RENDIMIENTO | L24: Vr. UNITARIO
A25: HERRAMIENTA MENOR (10% MO) | L25: =+L54*0.1 -> 1487.0485
A28: SUBTOTAL $ | L28: =+L25 -> 1487.0485
A30: II. MATERIALES
A32: DESCRIPCIÓN | I32: UNIDAD | J32: CANTIDAD | K32: PRECIO UNIT. | L32: Vr. UNITARIO
A34: CONCRETO CLASE F | I34: M3 | J34: 0.1 | K34: =+'CONCRETO CLASE F'!L56 -> 708378 | L34: =+J34*K34 -> 70837.8
A35: FORMALETA | L35: 2500
A40: SUBTOTAL $ | L40: =SUM(L33:L39) -> 73337.8
A42: III. TRANSPORTES
A44: MATERIAL | H44: VOL. o PESO | I44: DISTANCIA | J44: M3 o Ton/Km | K44: TARIFA | L44: Vr. UNITARIO | M44: =1569*1.16 -> 1820.04
A47: SUBTOTAL $ | L47: =SUM(L45:L46) -> 0
A49: IV. MANO DE OBRA
A51: TRABAJADOR | H51: JORNAL | I51: PRESTACIONES | J51: JORNAL TOTAL | K51: RENDIMIENTO | L51: Vr. UNITARIO
A52: CUADRILLA 1 OFICIALES + 2 AYUDANTES | H52: =+insumos!C50+2*insumos!C49 -> 160762 | I52: =+H52*0.85 -> 136647.7 | J52: =+H52+I52 -> 297409.7 | K52: 20 | L52: =+J52/K52 -> 14870.485
A54: SUBTOTAL $ | L54: =SUM(L52:L53) -> 14870.485
A56: TOTAL COSTO DIRECTO $ | L56: =ROUND(L28+L40+L47+L54,0) -> 89695
F64: (Firma)
F65: (Nombre)
A66: Contratista
A68: OBSERVACIONES INTERVENTORÍA
A73: ELABORO:
A74: M.P.
A77: FIRMA

Sheet CONCRETO CLASE G
J2: Hoja 1 de 1
D3: SECRETARÍA DE INFRAESTRUCTURA | J3: Fecha
D4: DEPARTAMENTO DE CALDAS
D5: ANÁLISIS DE PRECIOS UNITARIOS | J5: Contrato No.
A7: DATOS GENERALES
A9: CONTRATO No. | D9: DE
A10: OBJETO DEL CONTRATO
A12: CONTRATISTA
A13: INTERVENTOR
A14: SUPERVISOR
A17: DATOS ESPECÍFICOS
A19: ITEM | B19: DESCRIPCIÓN | K19: UNIDAD | L19: CANTIDAD
A20: 630.7 | B20: CONCRETO CLASE G PARA CANALES, MUROS Y PLACAS HUELLAS | K20: M3
A22: I. EQUIPO
A24: DESCRIPCIÓN | F24: MARCA | H24: TIPO | J24: TARIFA/HORA | K24: RENDIMIENTO | L24: Vr. UNITARIO
A27: HERRAMIENTA MENOR (10% M.O.) | L27: =+L55*0.1 -> 17625.003
A28: SUBTOTAL $ | L28: =SUM(L25:L27) -> 17625.003
A30: II. MATERIALES
A32: DESCRIPCIÓN | I32: UNIDAD | J32: CANTIDAD | K32: PRECIO UNIT. | L32: Vr. UNITARIO
A33: CONCRETO CLASE F | J33: 0.6 | K33: =+'CONCRETO CLASE F'!L56 -> 708378 | L33: =+J33*K33 -> 425026.8
A34: PIEDRA | J34: 0.4 | K34: =+insumos!C11 -> 60000 | L34: =+J34*K34 -> 24000
A40: SUBTOTAL $ | L40: =SUM(L33:L39) -> 449026.8
A42: III. TRANSPORTES
A44: MATERIAL | H44: VOL. o PESO | I44: DISTANCIA | J44: M3 o Ton/Km | K44: TARIFA | L44: Vr. UNITARIO
A45: PIEDRA | H45: 0.4 | I45: =+insumos!B77 -> 20 | J45: =+H45*I45 -> 8 | K45: =+TRANSPORTE!L55 -> 1600 | L45: =+J45*K45 -> 12800
A48: SUBTOTAL $ | L48: =SUM(L45:L47) -> 12800
A50: IV. MANO DE OBRA
A52: TRABAJADOR | H52: JORNAL | I52: PRESTACIONES | J52: JORNAL TOTAL | K52: RENDIMIENTO | L52: Vr. UNITARIO
A53: CUADRILLA 1 OFICIALES + 6 AYUDANTES | H53: =+insumos!C50+insumos!C49*6 -> 333446 | I53: =+H53*0.85 -> 283429.1 | J53: =+H53+I53 -> 616875.1 | K53: 3.5 | L53: =+J53/K53 -> 176250.03
A55: SUBTOTAL $ | L55: =SUM(L53:L54) -> 176250.03
A57: TOTAL COSTO DIRECTO $ | L57: =ROUND(L28+L40+L48+L55,0) -> 655702
F65: (Firma)
F66: (Nombre)
A67: Contratista
A69: OBSERVACIONES INTERVENTORÍA
A74: ELABORO:
A75: M.P.
A78: FIRMA

Sheet CONCRETO CLASE F
J2: Hoja 1 de 1
D3: SECRETARÍA DE INFRAESTRUCTURA | J3: Fecha
D4: DEPARTAMENTO DE CALDAS
D5: ANÁLISIS DE PRECIOS UNITARIOS | J5: Contrato No.
A7: DATOS GENERALES
A9: CONTRATO No. | D9: DE
A10: OBJETO DEL CONTRATO
A12: CONTRATISTA
A13: INTERVENTOR
A14: SUPERVISOR
A17: DATOS ESPECÍFICOS
A19: ITEM | B19: DESCRIPCIÓN | K19: UNIDAD | L19: CANTIDAD
B20: CONCRETO CLASE F | K20: M3
A22: I. EQUIPO
A24: DESCRIPCIÓN | F24: MARCA | H24: TIPO | J24: TARIFA/HORA | K24: RENDIMIENTO | L24: Vr. UNITARIO
A25: CONCRETADORA A GASOLINA | J25: =+insumos!C59 -> 6000 | K25: 1 | L25: =+J25/K25 -> 6000
A26: VIBRADOR | J26: =+insumos!C58 -> 6000 | K26: 1 | L26: =+J26/K26 -> 6000
A27: HERRAMIENTA MENOR (10% MO) | L27: =+L54*0.1 -> 23408.513
A28: SUBTOTAL $ | L28: =SUM(L25:L27) -> 35408.512
A30: II. MATERIALES
A32: DESCRIPCIÓN | I32: UNIDAD | J32: CANTIDAD | K32: PRECIO UNIT. | L32: Vr. UNITARIO
A33: CEMENTO GRIS BULTO DE 50 KG | I33: SACO | J33: 5.2 | K33: =+insumos!C13 -> 40000 | L33: =+J33*K33 -> 208000
A34: ARENA | I34: M3 | J34: 0.83 | K34: =+insumos!C9 -> 60000 | L34: =+J34*K34 -> 49800
A35: AGREGADO PETREO | I35: M3 | J35: 0.83 | K35: =+insumos!C10 -> 60000 | L35: =+J35*K35 -> 49800
A36: AGUA | I36: LT | J36: 150 | K36: =+insumos!C8 -> 44 | L36: =+J36*K36 -> 6600
A37: FORMALETA | I37: M2 | J37: 4 | K37: =+insumos!C42 -> 16000 | L37: =+J37*K37 -> 64000
A38: DESPERDICIO (2%) | L38: =+(L37+L36+L35+L34+L33)*0.02 -> 7564
A40: SUBTOTAL $ | L40: =SUM(L33:L39) -> 385764
A42: III. TRANSPORTES
A44: MATERIAL | H44: VOL. o PESO | I44: DISTANCIA | J44: M3 o Ton/Km | K44: TARIFA | L44: Vr. UNITARIO
