Workbook
Name a: #REF!
Name a: #REF!
Name a: #REF!
Name a: #REF!
Name a: #REF!
Name a: #REF!
Name a: #REF!
Name a: #REF!
Name a: #REF!
Name a: #REF!
Name a: #REF!
Name A_impresión_IM: #REF!
Name A_impresión_IM: #REF!
Name A_impresión_IM: #REF!
Name A_impresión_IM: #REF!
Name A_impresión_IM: #REF!
Name A_impresión_IM: #REF!
Name A_impresión_IM: #REF!
Name A_impresión_IM: #REF!
Name A_impresión_IM: #REF!
Name A_impresión_IM: #REF!
Name A_impresión_IM: #REF!
Name inf: #REF!
Name inf: #REF!
Name inf: #REF!
Name inf: #REF!
Name inf: #REF!
Name inf: #REF!
Name inf: #REF!
Name inf: #REF!
Name inf: #REF!
Name inf: #REF!
Name inf: #REF!
Name INV_11: '[1]PR 1'!$A$2:$N$655
Name Print_Area_MI: #REF!
Name Print_Area_MI: #REF!
Name Print_Area_MI: #REF!
Name Print_Area_MI: #REF!
Name Print_Area_MI: #REF!
Name Print_Area_MI: #REF!
Name Print_Area_MI: #REF!
Name Print_Area_MI: #REF!
Name Print_Area_MI: #REF!
Name Print_Area_MI: #REF!
Name Print_Area_MI: #REF!
Name valor1: #REF!
Name valor1: #REF!
Name valor1: #REF!
Name valor1: #REF!
Name valor1: #REF!
Name valor1: #REF!
Name valor1: #REF!
Name valor1: #REF!
Name valor1: #REF!
Name valor1: #REF!
Name valor1: #REF!
Name valor2: #REF!
Name valor2: #REF!
Name valor2: #REF!
Name valor2: #REF!

Sheet PRESUPUESTO OBRA
B3: PROYECTO: ADECUACIÓN Y MANTENIMIENTO DE LA ESE HOSPITAL SAN NICOLÁS DE TOLENTINO EN LA CABECERA MUNICIPAL DE PINILLOS Y LOS PUESTOS DE SALUD DE LOS CORREGIMIENTOS DE LAS CONCHITAS, PALENQUITO, PUERTO LÓPEZ Y SANTA COA, EN EL MUNICIPIO DE PINILLOS - DEPARTAMENTO DE BOLÍVAR
B5: Presupuesto de Obra
B7: ITEM | C7: DESCRIPCION | D7: UNID. | E7: CANT. | F7: Vr. UNIT | G7: Vr. PARCIAL
B9: A | C9: HOSPITAL SAN NICOLAS DE TOLENTINO
C11: AREA ADMINISTRATIVA - EDIFICIO NUEVO
B12: 1 | C12: OBRAS PRELIMINARES
B13: 1.1 | C13: Localizacion, trazado, replanteo y control topografico de la obra | D13: M2 | E13: ='CANT. DE OBRA ADMON'!K14 -> 216
B14: 1.10 | C14: Demolición de columnas existentes | D14: ML | E14: ='CANT. DE OBRA ADMON'!K21 -> 12
B15: 1.11 | C15: Perfilacion y nivelacion del terreno - Manual | D15: M2 | E15: ='CANT. DE OBRA ADMON'!K28 -> 216
B16: 1.14 | C16: Demolición de Muro existente | D16: M2 | E16: ='CANT. DE OBRA ADMON'!K35 -> 32.76
B17: 1.20 | C17: Cargue, transporte y disposición final de material sobrante en sitio autorizado | D17: M3 | E17: ='CANT. DE OBRA ADMON'!K44 -> 34.78644
C18: Subtotal Items 1
B20: 2 | C20: EXCAVACIONES, NIVELACIONES Y RELLENOS
B21: 2.1 | C21: Excavaciones manuales (No Incluye retiro de material sobrante) | D21: M3 | E21: ='CANT. DE OBRA ADMON'!K59 -> 18.6358
B22: 2.2 | C22: Relleno con material comun de excavacion (Zapatas) | D22: M3 | E22: ='CANT. DE OBRA ADMON'!K67 -> 3.83075
B23: 2.3 | C23: Relleno con material granular transportado compactado al 90%, Manual con Canguro - (Relleno para Nivelacion de Terreno de Proyecto) | D23: M3 | E23: ='CANT. DE OBRA ADMON'!L76 -> 41.932
B24: 2.4 | C24: Cargue, transporte y disposición final de material sobrante en sitio autorizado | D24: M3 | E24: ='CANT. DE OBRA ADMON'!K83 -> 19.246565
C25: Subtotal Items 2
B27: 3 | C27: ESTRUCTURALES
B28: 3.1 | C28: Solado en concreto pobre 1500 p.s.i. (Estructura de Zapatas) | D28: M3 | E28: ='CANT. DE OBRA ADMON'!K91 -> 0.446
B29: 3.2 | C29: Construcción de Zapatas en concreto 3000 p.s.i. modulacion 1,00 mts x 1,00 mts x alto 0,30 mts, incluye acero: en ambos sentidos de 1/2" cada 0,18 mts | D29: U | E29: ='CANT. DE OBRA ADMON'!K98 -> 1
B30: 3.3 | C30: Construcción de Zapatas en concreto 3000 p.s.i. modulacion 0,60 mts x 0,60 mts x alto 0,25 mts, incluye acero: en ambos sentidos de 1/2" cada 0,18 mts | D30: U | E30: ='CANT. DE OBRA ADMON'!K105 -> 22
B31: 3.5 | C31: Construcción de Viga de Cimentacion en concreto de 3000 p.s.i, modulacion 0,30 mts x 0,30 mts, incluye acero: longitudinal 6 1/2" - Estnbos 3/8" cada 0,20 mts | D31: ML | E31: ='CANT. DE OBRA ADMON'!K115 -> 93.6
B32: 3.6 | C32: Construcción de Viga de Cimentacion en concreto de 3000 p.s.i, modulacion 0,25 mts x 0,25 mts, incluye acero: longitudinal 4 3/8" - Estnbos 3/8" cada 0,15 mts | D32: ML | E32: ='CANT. DE OBRA ADMON'!K123 -> 15.19
B33: 3.7 | C33: Construcción de Pedestal en concreto de 3000 p.s.i, modulacion 0,45 mts x 0,45 mts, incluye acero: longitudinal 8 Fe= 5/8" - Estnbos 3/8" cada 0,10 mts | D33: ML | E33: ='CANT. DE OBRA ADMON'!K130 -> 1.5
B34: 3.8 | C34: Construcción de Columnas en concreto de 3000 p.s.i, modulacion 0,30 mts x 0,30 mts, incluye acero: longitudinal 6 Fe= 1/2" - Estnbos 3/8" cada 0,10 mts | D34: ML | E34: ='CANT. DE OBRA ADMON'!K137 -> 3.8
B35: 3.9 | C35: Construcción de Columnas en concreto de 3000 p.s.i, modulacion 0,25 mts x 0,25 mts, incluye acero: longitudinal 4 Fe= 1/2" - Estnbos 3/8" cada 0,15 mts | D35: ML | E35: ='CANT. DE OBRA ADMON'!K146 -> 85.55
B36: 3.11 | C36: Construcción de Viga Amarre en concreto 3000 p.s.i. 0.25 X 0.25 mts - 4 Fe= 3/8" - Estribos y ganchos Fe= 3/8 C/. 0,20 mts | D36: ML | E36: ='CANT. DE OBRA ADMON'!K155 -> 88.94
B37: 3.12 | C37: Construcción de Viga Amarre en concreto 3000 p.s.i. 0.10 X 0.25 mts - 3 Fe= 3/8" - Estribos y ganchos Fe= 3/8 C/. 0,20 mts | D37: ML | E37: ='CANT. DE OBRA ADMON'!K162 -> 11.85
B38: 3.14 | C38: Construcción de Placa de Tanque elevado en concreto 3000 p.s.i. espesor 10 cms, incluye acero: ambos sentidos de 1/2" cada 0,15 mts. | D38: M2 | E38: ='CANT. DE OBRA ADMON'!K169 -> 1.44
B39: 3.15 | C39: Construcción de Plantilla para pisos esp. 0,10 mts en concreto 3000 p.s.i. - Fe=1/4" temperatura Cada 0.40 mts ambos sentidos | D39: M2 | E39: ='CANT. DE OBRA ADMON'!K179 -> 220.36
B40: 3.17 | C40: Construcción de Viga Culata en concreto 3000 p.s.i. 0.10 X 0.20 mts - 2 Fe= 3/8" - Estribos y ganchos Fe= 3/8 C/. 0,15 mts | D40: ML | E40: ='CANT. DE OBRA ADMON'!K188 -> 77.7
B41: 3.18 | C41: Construcción de Viga de Cimentacion en concreto de 3000 p.s.i, modulacion 0,15 mts x 0,25 mts, incluye acero: longitudinal 4 3/8" - Estnbos 3/8" cada 0,25 mts | D41: ML | E41: ='CANT. DE OBRA ADMON'!K196 -> 56.53
B42: 3.19 | C42: Construcción de Viga Dintel en concreto de 3000 p.s.i, modulacion 0,10 mts x 0,15 mts, incluye acero: longitudinal 2 3/8" - Estnbos 3/8" cada 0,20 mts | D42: ML | E42: ='CANT. DE OBRA ADMON'!K203 -> 9.6
B43: 3.20 | C43: Construcción de Sobre-cimentacion con Muro en Bloque No 6 relleno en concreto de 3000 p.s.i. | D43: M2 | E43: ='CANT. DE OBRA ADMON'!K213 -> 17.224
B44: 3.21 | C44: Construcción de Viga Canal en concreto 3000 p.s.i. espesor 10 cms, incluye acero: ambos sentidos de 1/2" cada 0,15 mts. | D44: M2 | E44: ='CANT. DE OBRA ADMON'!K222 -> 29.643
C45: Subtotal Items 3
B47: 4 | C47: MAMPOSTERIA
B48: 4.1 | C48: Levante de muro de block No 4 | D48: M2 | E48: ='CANT. DE OBRA ADMON'!K234 -> 210.9012
B49: 4.2 | C49: Pañete para muros mortero: 1:4 imp . Esp = 2 cms (Muros) | D49: M2 | E49: ='CANT. DE OBRA ADMON'!K255 -> 535.6039
...

Sheet CANT. DE OBRA ADMON
A1: EMPRESA SOCIAL DEL ESTADO
A2: HOSPITAL SAN NICOLAS DE TOLENTINO
A3: MUNICIPIO DE PINILLOS BOLIVAR
A4: PROYECTO: ADECUACIÓN Y MANTENIMIENTO DE LA ESE HOSPITAL SAN NICOLÁS DE TOLENTINO EN LA CABECERA MUNICIPAL DE PINILLOS Y LOS PUESTOS DE SALUD DE LOS CORREGIMIENTOS DE LAS CONCHITAS, PALENQUITO, PUERTO LÓPEZ Y SANTA COA, EN EL MUNICIPIO DE PINILLOS - DEPARTAMENTO DE BOLÍVAR
A5: CUADRO DE CANTIDADES DE OBRA
A7: A | B7: HOSPITAL SAN NICOLAS DE TOLENTINO
B8: AREA ADMINISTRATIVA - EDIFICIO NUEVO
A9: ITEM | B9: 1.1 - Localizacion, trazado, replanteo y control topografico de la obra | O9: UNIDAD | P9: M2
B11: LOCALIZACIÓN | D11: Area Irregular m2 | E11: DIMENSIONES | H11: CANTIDAD | I11: CANTIDAD EN M2 | J11: UNIDAD | K11: TOTAL
E12: Largo | F12: Ancho | G12: Alto | K12: ACUMULADO
B13: AREA CONSTRUCCION NUEVA PATIO | D13: 0 | E13: 18 | F13: 12 | G13: 0 | H13: 1 | I13: =E13*F13 -> 216 | J13: M2 | K13: =I13*H13 -> 216
A14: CANTIDAD TOTAL | K14: =SUM(K13:K13) -> 216
A16: ITEM | B16: 1.10 - Demolición de columnas existentes | O16: UNIDAD | P16: ML
B18: LOCALIZACIÓN | D18: Area Irregular m2 | E18: DIMENSIONES | H18: CANTIDAD | I18: CANTIDAD EN U | J18: UNIDAD | K18: TOTAL
E19: Largo | F19: Ancho | G19: Alto | K19: ACUMULADO
B20: COLUMNAS | D20: 0 | E20: 3 | F20: 0 | G20: 0 | H20: 4 | I20: =E20 -> 3 | J20: ML | K20: =I20*H20 -> 12
A21: CANTIDAD TOTAL | K21: =SUM(K20:K20) -> 12
A23: ITEM | B23: 1.11 - Perfilacion y nivelacion del terreno - Manual | O23: UNIDAD | P23: M2
B25: LOCALIZACIÓN | D25: Area Irregular m2 | E25: DIMENSIONES | H25: CANTIDAD | I25: CANTIDAD EN M2 | J25: UNIDAD | K25: TOTAL
E26: Largo | F26: Ancho | G26: Alto | K26: ACUMULADO
B27: AREA CONSTRUCCION NUEVA PATIO | D27: 0 | E27: 18 | F27: 12 | G27: 0 | H27: 1 | I27: =E27*F27 -> 216 | J27: M2 | K27: =I27*H27 -> 216
A28: CANTIDAD TOTAL | K28: =SUM(K27:K27) -> 216
A30: ITEM | B30: 1.9 - Demolición de Muro existente | O30: UNIDAD | P30: M2
B32: LOCALIZACIÓN | D32: Area Irregular m2 | E32: DIMENSIONES | H32: CANTIDAD | I32: CANTIDAD EN M2 | J32: UNIDAD | K32: TOTAL
E33: Largo | F33: Ancho | G33: Alto | K33: ACUMULADO
B34: MURO CERRAMIENTO FRONTAL | D34: 0 | E34: 10.92 | F34: 3 | G34: 0 | H34: 1 | I34: =E34*F34 -> 32.76 | J34: M2 | K34: =I34*H34 -> 32.76
A35: CANTIDAD TOTAL | K35: =SUM(K34:K34) -> 32.76
A37: ITEM | B37: 1.20 - Cargue, transporte y disposición final de material sobrante en sitio autorizado | O37: UNIDAD | P37: M3
B39: LOCALIZACIÓN | D39: volumen de Expansion % | E39: DIMENSIONES | H39: CANTIDAD | I39: CANTIDAD EN M3 | J39: UNIDAD | K39: TOTAL
E40: CANTIDAD M2 | G40: Espesor | K40: ACUMULADO
B41: PERFILACION | D41: 1.3 | E41: =K28 -> 216 | G41: 0.1 | H41: 1 | I41: =E41*G41 -> 21.6 | J41: M3 | K41: =I41*D41 -> 28.08
B42: DEMOLICIONES MUROS | D42: 1.3 | E42: =K35 -> 32.76 | G42: 0.13 | H42: 1 | I42: =E42*G42 -> 4.2588 | J42: M3 | K42: =I42*D42 -> 5.53644
B43: DEMOLICIONES COLUMNAS | D43: 1.3 | E43: =K21*0.3 -> 3.6 | G43: 0.25 | H43: 1 | I43: =E43*G43 -> 0.9 | J43: M3 | K43: =I43*D43 -> 1.17
A44: CANTIDAD TOTAL | K44: =SUM(K41:K43) -> 34.78644
A46: ITEM | B46: 2,1 Excavaciones manuales (No Incluye retiro de material sobrante) | O46: UNIDAD | P46: M3
B48: LOCALIZACIÓN | E48: DIMENSIONES | H48: CANTIDAD | I48: CANTIDAD EN M3 | J48: UNIDAD | K48: TOTAL
E49: Largo | F49: Ancho | G49: Alto | K49: ACUMULADO
B50: ZAPATAS 01 - 1,0 X 1,0 MTS - (COLUMNA TANQUE) | E50: 1 | F50: 1 | G50: 1.2 | H50: 1 | I50: =(E50*F50*G50) -> 1.2 | J50: M3 | K50: =I50*H50 -> 1.2
B51: ZAPATAS 02 - 0,6 X 0,6 MTS - (OBRA) | E51: 0.6 | F51: 0.6 | G51: 0.9 | H51: 22 | I51: =(E51*F51*G51) -> 0.324 | J51: M3 | K51: =I51*H51 -> 7.128
B52: CIMENTACION 01 - 0,30 X 0,30 MTS (OBRA) | E52: 16.56 | F52: 0.3 | G52: 0.3 | H52: 3 | I52: =(E52*F52*G52) -> 1.4904 | J52: M3 | K52: =I52*H52 -> 4.4712
...

Sheet CANT. DE OBRA SIAU
A1: EMPRESA SOCIAL DEL ESTADO
A2: HOSPITAL SAN NICOLAS DE TOLENTINO
A3: MUNICIPIO DE PINILLOS BOLIVAR
A4: PROYECTO: ADECUACIÓN Y MANTENIMIENTO DE LA ESE HOSPITAL SAN NICOLÁS DE TOLENTINO EN LA CABECERA MUNICIPAL DE PINILLOS Y LOS PUESTOS DE SALUD DE LOS CORREGIMIENTOS DE LAS CONCHITAS, PALENQUITO, PUERTO LÓPEZ Y SANTA COA, EN EL MUNICIPIO DE PINILLOS - DEPARTAMENTO DE BOLÍVAR
A5: CUADRO DE CANTIDADES DE OBRA
A7: A | B7: HOSPITAL SAN NICOLAS DE TOLENTINO
B8: ADECUACIONES HOSPITAL - SISTEMA DE INFORMACION Y ATENCION AL USUARIO - SIAU
A9: ITEM | B9: 1.1 - Localizacion, trazado, replanteo y control topografico de la obra | O9: UNIDAD | P9: M2
B11: LOCALIZACIÓN | D11: Area Irregular m2 | E11: DIMENSIONES | H11: CANTIDAD | I11: CANTIDAD EN M2 | J11: UNIDAD | K11: TOTAL
E12: Largo | F12: Ancho | G12: Alto | K12: ACUMULADO
B13: AREA TERRAZA INTERNA | D13: 0 | E13: 11.14 | F13: 7.04 | G13: 0 | H13: 1 | I13: =E13*F13 -> 78.4256 | J13: M2 | K13: =I13*H13 -> 78.4256
A14: CANTIDAD TOTAL | K14: =SUM(K13:K13) -> 78.4256
A16: ITEM | B16: 1.9 - Demolición de plantilla existente | O16: UNIDAD | P16: M2
B18: LOCALIZACIÓN | D18: Area Irregular m2 | E18: DIMENSIONES | H18: CANTIDAD | I18: CANTIDAD EN M2 | J18: UNIDAD | K18: TOTAL
E19: Largo | F19: Ancho | G19: Alto | K19: ACUMULADO
B20: AREA TERRAZA INTERNA | D20: 0 | E20: 11.14 | F20: 7.04 | G20: 0 | H20: 1 | I20: =E20*F20 -> 78.4256 | J20: M2 | K20: =I20*H20 -> 78.4256
A21: CANTIDAD TOTAL | K21: =SUM(K20:K20) -> 78.4256
A23: ITEM | B23: 1.11 - Perfilacion y nivelacion del terreno - Manual | O23: UNIDAD | P23: M2
B25: LOCALIZACIÓN | D25: Area Irregular m2 | E25: DIMENSIONES | H25: CANTIDAD | I25: CANTIDAD EN M2 | J25: UNIDAD | K25: TOTAL
E26: Largo | F26: Ancho | G26: Alto | K26: ACUMULADO
B27: AREA TERRAZA INTERNA | D27: 0 | E27: 11.14 | F27: 7.04 | G27: 0 | H27: 1 | I27: =E27*F27 -> 78.4256 | J27: M2 | K27: =I27*H27 -> 78.4256
A28: CANTIDAD TOTAL | K28: =SUM(K27:K27) -> 78.4256
A30: ITEM | B30: 1.14 - Demolición de Muro existente | O30: UNIDAD | P30: M2
B32: LOCALIZACIÓN | D32: Area Irregular m2 | E32: DIMENSIONES | H32: CANTIDAD | I32: CANTIDAD EN M2 | J32: UNIDAD | K32: TOTAL
E33: Largo | F33: Ancho | G33: Alto | K33: ACUMULADO
B34: AREA TERRAZA INTERNA | D34: 0 | E34: 33.12 | F34: 0.5 | G34: 0 | H34: 2 | I34: =E34*F34 -> 16.56 | J34: M2 | K34: =I34*H34 -> 33.12
A35: CANTIDAD TOTAL | K35: =SUM(K34:K34) -> 33.12
A37: ITEM | B37: 1.15 - Demolición de Ceramica existente | O37: UNIDAD | P37: M2
B39: LOCALIZACIÓN | D39: Area Irregular m2 | E39: DIMENSIONES | H39: CANTIDAD | I39: CANTIDAD EN M2 | J39: UNIDAD | K39: TOTAL
E40: Largo | F40: Ancho | G40: Alto | K40: ACUMULADO
B41: AREA TERRAZA INTERNA | D41: 0 | E41: 11.14 | F41: 7.04 | G41: 0 | H41: 1 | I41: =E41*F41 -> 78.4256 | J41: M2 | K41: =I41*H41 -> 78.4256
A42: CANTIDAD TOTAL | K42: =SUM(K41:K41) -> 78.4256
A44: ITEM | B44: 1.20 - Cargue, transporte y disposición final de material sobrante en sitio autorizado | O44: UNIDAD | P44: M3
B46: LOCALIZACIÓN | D46: volumen de Expansion % | E46: DIMENSIONES | H46: CANTIDAD | I46: CANTIDAD EN M3 | J46: UNIDAD | K46: TOTAL
E47: CANTIDAD M2 | G47: Espesor | K47: ACUMULADO
B48: PERFILACION | D48: 1.3 | E48: =K28 -> 78.4256 | G48: 0.1 | H48: 1 | I48: =E48*G48 -> 7.84256 | J48: M3 | K48: =I48*D48 -> 10.195328
B49: DEMOLICIONES MUROS | D49: 1.3 | E49: =K35 -> 33.12 | G49: 0.13 | H49: 1 | I49: =E49*G49 -> 4.3056 | J49: M3 | K49: =I49*D49 -> 5.59728
B50: DEMOLICIONES CERAMICA | D50: 1.3 | E50: =K35 -> 33.12 | G50: 0.05 | H50: 1 | I50: =E50*G50 -> 1.656 | J50: M3 | K50: =I50*D50 -> 2.1528
A51: CANTIDAD TOTAL | K51: =SUM(K48:K50) -> 17.945408
A53: ITEM | B53: 2,1 Excavaciones manuales (No Incluye retiro de material sobrante) | O53: UNIDAD | P53: M3
...

Sheet CANT. DE OBRA HOSPITAL GENERAL
A1: EMPRESA SOCIAL DEL ESTADO
A2: HOSPITAL SAN NICOLAS DE TOLENTINO
A3: MUNICIPIO DE PINILLOS BOLIVAR
A4: PROYECTO: ADECUACIÓN Y MANTENIMIENTO DE LA ESE HOSPITAL SAN NICOLÁS DE TOLENTINO EN LA CABECERA MUNICIPAL DE PINILLOS Y LOS PUESTOS DE SALUD DE LOS CORREGIMIENTOS DE LAS CONCHITAS, PALENQUITO, PUERTO LÓPEZ Y SANTA COA, EN EL MUNICIPIO DE PINILLOS - DEPARTAMENTO DE BOLÍVAR
A5: CUADRO DE CANTIDADES DE OBRA
A7: A | B7: HOSPITAL SAN NICOLAS DE TOLENTINO
B8: ADECUACIONES HOSPITAL - GENERALES
A10: ITEM | B10: 1.3 - Desmonte de cielo raso existente | O10: UNIDAD | P10: M2
B12: LOCALIZACIÓN | D12: Area Irregular m2 | E12: DIMENSIONES | H12: CANTIDAD | I12: CANTIDAD EN M2 | J12: UNIDAD | K12: TOTAL
E13: Largo | F13: Ancho | G13: Alto | K13: ACUMULADO
A14: A | B14: GENERALES
B15: AREA IRREGULAR CIELO RASO | D15: 28 | E15: 0 | F15: 0 | G15: 0.03 | H15: 1 | I15: =D15 -> 28 | J15: M2 | K15: =I15*H15 -> 28
A16: B | B16: AREA NUEVA HOSPÌTALIZACION
B17: AREA IRREGULAR CIELO RASO | D17: 44.51 | E17: 0 | F17: 0 | G17: 0.03 | H17: 1 | I17: =D17 -> 44.51 | J17: M2 | K17: =I17*H17 -> 44.51
A18: CANTIDAD TOTAL | K18: =SUM(K15:K17) -> 72.51
A20: ITEM | B20: 1.14 - Demolición de Muro existente | O20: UNIDAD | P20: M2
B22: LOCALIZACIÓN | D22: Area Irregular m2 | E22: DIMENSIONES | H22: CANTIDAD | I22: CANTIDAD EN M2 | J22: UNIDAD | K22: TOTAL
E23: Largo | F23: Ancho | G23: Alto | K23: ACUMULADO
A24: A | B24: GENERALES
B25: MUROS CERRAMIENTO | D25: 0 | E25: =31.5+10.26 -> 41.76 | F25: 0 | G25: 2 | H25: 1 | I25: =G25*E25 -> 83.52 | J25: M2 | K25: =I25*H25 -> 83.52
A26: B | B26: AREA NUEVA HOSPÌTALIZACION
B27: AREA IRREGULAR MUROS | D27: 22.12 | E27: 0 | F27: 0 | G27: 0.13 | H27: 1 | I27: =D27 -> 22.12 | J27: M2 | K27: =I27*H27 -> 22.12
A28: C | B28: AREA ESTAR MEDICO
B29: AREA IRREGULAR MUROS | D29: 6 | E29: 0 | F29: 0 | G29: 0.13 | H29: 1 | I29: =D29 -> 6 | J29: M2 | K29: =I29*H29 -> 6
A30: CANTIDAD TOTAL | K30: =SUM(K25:K29) -> 111.64
A32: ITEM | B32: 1.15 - Demolición de Ceramica existente | O32: UNIDAD | P32: M2
B34: LOCALIZACIÓN | D34: Area Irregular m2 | E34: DIMENSIONES | H34: CANTIDAD | I34: CANTIDAD EN M2 | J34: UNIDAD | K34: TOTAL
E35: Largo | F35: Ancho | G35: Alto | K35: ACUMULADO
A36: A | B36: GENERALES
B37: AREA IRREGULAR CERAMICA | D37: 67.5 | E37: 0 | F37: 0 | G37: 0 | H37: 1 | I37: =D37 -> 67.5 | J37: M2 | K37: =I37*H37 -> 67.5
A38: CANTIDAD TOTAL | K38: =SUM(K37:K37) -> 67.5
A40: ITEM | B40: 1.17 - Desmonte de Puertas existentes | O40: UNIDAD | P40: U
B42: LOCALIZACIÓN | E42: DIMENSIONES | H42: CANTIDAD | I42: CANTIDAD EN U | J42: UNIDAD | K42: TOTAL
E43: Largo | F43: Ancho | G43: Alto | K43: ACUMULADO
A44: A | B44: GENERALES
B45: HOSPITALIZACION | E45: 1 | F45: 0 | G45: 2 | H45: 1 | I45: 1 | J45: U | K45: =I45*H45 -> 1
B46: ESTAR EMFERMERIA | E46: 1 | F46: 0 | G46: 2 | H46: 1 | I46: 1 | J46: U | K46: =I46*H46 -> 1
B47: SALA DE PROCEDIMIENTO | E47: 1 | F47: 0 | G47: 2 | H47: 1 | I47: 1 | J47: U | K47: =I47*H47 -> 1
B48: SALA DE ESPERA URGENCIA | E48: 1 | F48: 0 | G48: 2 | H48: 1 | I48: 1 | J48: U | K48: =I48*H48 -> 1
B49: ALMACEN | E49: 1 | F49: 0 | G49: 2 | H49: 1 | I49: 1 | J49: U | K49: =I49*H49 -> 1
...

Sheet CANT. DE OBRA PALENQUITO 
A1: EMPRESA SOCIAL DEL ESTADO
A2: HOSPITAL SAN NICOLAS DE TOLENTINO
A3: MUNICIPIO DE PINILLOS BOLIVAR
A4: PROYECTO: ADECUACIÓN Y MANTENIMIENTO DE LA ESE HOSPITAL SAN NICOLÁS DE TOLENTINO EN LA CABECERA MUNICIPAL DE PINILLOS Y LOS PUESTOS DE SALUD DE LOS CORREGIMIENTOS DE LAS CONCHITAS, PALENQUITO, PUERTO LÓPEZ Y SANTA COA, EN EL MUNICIPIO DE PINILLOS - DEPARTAMENTO DE BOLÍVAR
A5: CUADRO DE CANTIDADES DE OBRA
A7: B | B7: PUESTO DE SALUD DE PALENQUITO
A8: ITEM | B8: 1.1 - Localizacion, trazado, replanteo y control topografico de la obra | O8: UNIDAD | P8: M2
B10: LOCALIZACIÓN | D10: Area Irregular m2 | E10: DIMENSIONES | H10: CANTIDAD | I10: CANTIDAD EN M2 | J10: UNIDAD | K10: TOTAL
E11: Largo | F11: Ancho | G11: Alto | K11: ACUMULADO
B12: AREA CONSTRUCCION NUEVA PATIO | D12: 0 | E12: 11.87 | F12: 2.98 | G12: 0 | H12: 1 | I12: =E12*F12 -> 35.3726 | J12: M2 | K12: =I12*H12 -> 35.3726
B13: ANDEN LADO 01 | D13: 0 | E13: 14.57 | F13: 1.25 | G13: 0 | H13: 1 | I13: =E13*F13 -> 18.2125 | J13: M2 | K13: =I13*H13 -> 18.2125
B14: ANDEN LADO 02 | D14: 0 | E14: 8.04 | F14: 1.2 | G14: 0 | H14: 1 | I14: =E14*F14 -> 9.648 | J14: M2 | K14: =I14*H14 -> 9.648
A15: CANTIDAD TOTAL | K15: =SUM(K12:K14) -> 63.2331
A17: ITEM | B17: 1.2 - Desmonte de cubierta existente | O17: UNIDAD | P17: M2
B19: LOCALIZACIÓN | D19: Area Irregular m2 | E19: DIMENSIONES | H19: CANTIDAD | I19: CANTIDAD EN M2 | J19: UNIDAD | K19: TOTAL
E20: Largo | F20: Ancho | G20: Alto | K20: ACUMULADO
B21: AREA CUBIERTA | D21: 0 | E21: 28 | F21: 9 | G21: 0 | H21: 1 | I21: =E21*F21 -> 252 | J21: M2 | K21: =I21*H21 -> 252
A22: CANTIDAD TOTAL | K22: =SUM(K21:K21) -> 252
A24: ITEM | B24: 1.3 - Desmonte de cielo raso existente | O24: UNIDAD | P24: M2
B26: LOCALIZACIÓN | D26: Area Irregular m2 | E26: DIMENSIONES | H26: CANTIDAD | I26: CANTIDAD EN M2 | J26: UNIDAD | K26: TOTAL
E27: Largo | F27: Ancho | G27: Alto | K27: ACUMULADO
B28: AREA IRREGULAR CIELO RASO | D28: =D309 -> 214.2735 | E28: 0 | F28: 0 | G28: 0.03 | H28: 1 | I28: =D28 -> 214.2735 | J28: M2 | K28: =I28*H28 -> 214.2735
A29: CANTIDAD TOTAL | K29: =SUM(K28:K28) -> 214.2735
A31: ITEM | B31: 1.4 - Desmonte de cerchas metalicas | O31: UNIDAD | P31: M
B33: LOCALIZACIÓN | D33: Area Irregular m2 | E33: DIMENSIONES | H33: CANTIDAD | I33: CANTIDAD EN M | J33: UNIDAD | K33: TOTAL
E34: Largo | F34: Ancho | G34: Alto | K34: ACUMULADO
B35: CERCHAS CUBIERTA | D35: 0 | E35: 28.66666 | F35: 0 | G35: 0 | H35: 6 | I35: =E35 -> 28.66666 | J35: M | K35: =I35*H35 -> 171.99996
A36: CANTIDAD TOTAL | K36: =SUM(K35:K35) -> 171.99996
A38: ITEM | B38: 1.5 - Desmonte del sistema electrico existente | O38: UNIDAD | P38: GLB
B40: LOCALIZACIÓN | D40: Area Irregular m2 | E40: DIMENSIONES | H40: CANTIDAD | I40: CANTIDAD EN GLB | J40: UNIDAD | K40: TOTAL
E41: Largo | F41: Ancho | G41: Alto | K41: ACUMULADO
B42: SISTEMA ELECTRICO GENERAL | D42: 0 | E42: 0 | F42: 0 | G42: 0 | H42: 1 | I42: 1 | J42: GLB | K42: =I42*H42 -> 1
A43: CANTIDAD TOTAL | K43: =SUM(K42:K42) -> 1
A45: ITEM | B45: 1.6 - Desmonte de lavamanos | O45: UNIDAD | P45: U
B47: LOCALIZACIÓN | D47: Area Irregular m2 | E47: DIMENSIONES | H47: CANTIDAD | I47: CANTIDAD EN U | J47: UNIDAD | K47: TOTAL
E48: Largo | F48: Ancho | G48: Alto | K48: ACUMULADO
B49: LAVAMANOS | D49: 0 | E49: 0 | F49: 0 | G49: 0 | H49: 1 | I49: 1 | J49: U | K49: =I49*H49 -> 1
A50: CANTIDAD TOTAL | K50: =SUM(K49:K49) -> 1
A52: ITEM | B52: 1.7 - Desmonte de sanitarios | O52: UNIDAD | P52: U
B54: LOCALIZACIÓN | D54: Area Irregular m2 | E54: DIMENSIONES | H54: CANTIDAD | I54: CANTIDAD EN U | J54: UNIDAD | K54: TOTAL
...

Sheet CANT. DE OBRA CONCHITAS
A1: EMPRESA SOCIAL DEL ESTADO
A2: HOSPITAL SAN NICOLAS DE TOLENTINO
A3: MUNICIPIO DE PINILLOS BOLIVAR
A4: PROYECTO: ADECUACIÓN Y MANTENIMIENTO DE LA ESE HOSPITAL SAN NICOLÁS DE TOLENTINO EN LA CABECERA MUNICIPAL DE PINILLOS Y LOS PUESTOS DE SALUD DE LOS CORREGIMIENTOS DE LAS CONCHITAS, PALENQUITO, PUERTO LÓPEZ Y SANTA COA, EN EL MUNICIPIO DE PINILLOS - DEPARTAMENTO DE BOLÍVAR
A5: CUADRO DE CANTIDADES DE OBRA
A7: C | B7: PUESTO DE SALUD DE LAS CONCHITAS
A8: ITEM | B8: 1.1 - Localizacion, trazado, replanteo y control topografico de la obra | O8: UNIDAD | P8: M2
B10: LOCALIZACIÓN | D10: Area Irregular m2 | E10: DIMENSIONES | H10: CANTIDAD | I10: CANTIDAD EN M2 | J10: UNIDAD | K10: TOTAL
E11: Largo | F11: Ancho | G11: Alto | K11: ACUMULADO
B12: MURO CERRAMIENTO | D12: 0 | E12: 100.49 | F12: 0.5 | G12: 0 | H12: 1 | I12: =E12*F12 -> 50.245 | J12: M2 | K12: =I12*H12 -> 50.245
A13: CANTIDAD TOTAL | K13: =SUM(K12:K12) -> 50.245
A15: ITEM | B15: 1.2 - Desmonte de cubierta existente | O15: UNIDAD | P15: M2
B17: LOCALIZACIÓN | D17: Area Irregular m2 | E17: DIMENSIONES | H17: CANTIDAD | I17: CANTIDAD EN M2 | J17: UNIDAD | K17: TOTAL
E18: Largo | F18: Ancho | G18: Alto | K18: ACUMULADO
B19: AREA CUBIERTA | D19: 114.43 | E19: 0 | F19: 0 | G19: 0 | H19: 1 | I19: =D19 -> 114.43 | J19: M2 | K19: =I19*H19 -> 114.43
A20: CANTIDAD TOTAL | K20: =SUM(K19:K19) -> 114.43
A22: ITEM | B22: 1.3 - Desmonte de cielo raso existente | O22: UNIDAD | P22: M2
B24: LOCALIZACIÓN | D24: Area Irregular m2 | E24: DIMENSIONES | H24: CANTIDAD | I24: CANTIDAD EN M2 | J24: UNIDAD | K24: TOTAL
E25: Largo | F25: Ancho | G25: Alto | K25: ACUMULADO
B26: AREA IRREGULAR CIELO RASO | D26: 86.52 | E26: 0 | F26: 0 | G26: 0.03 | H26: 1 | I26: =D26 -> 86.52 | J26: M2 | K26: =I26*H26 -> 86.52
A27: CANTIDAD TOTAL | K27: =SUM(K26:K26) -> 86.52
A29: ITEM | B29: 1.4 - Desmonte de cerchas metalicas | O29: UNIDAD | P29: M
B31: LOCALIZACIÓN | D31: Area Irregular m2 | E31: DIMENSIONES | H31: CANTIDAD | I31: CANTIDAD EN M | J31: UNIDAD | K31: TOTAL
E32: Largo | F32: Ancho | G32: Alto | K32: ACUMULADO
B33: CERCHAS CUBIERTA 1 | D33: 0 | E33: 14.6 | F33: 0 | G33: 0 | H33: 6 | I33: =E33 -> 14.6 | J33: M | K33: =I33*H33 -> 87.6
B34: CERCHAS CUBIERTA 2 | D34: 0 | E34: 12.15 | F34: 0 | G34: 0 | H34: 2 | I34: =E34 -> 12.15 | J34: M | K34: =I34*H34 -> 24.3
A35: CANTIDAD TOTAL | K35: =SUM(K33:K34) -> 111.9
A37: ITEM | B37: 1.5 - Desmonte del sistema electrico existente | O37: UNIDAD | P37: GLB
B39: LOCALIZACIÓN | D39: Area Irregular m2 | E39: DIMENSIONES | H39: CANTIDAD | I39: CANTIDAD EN GLB | J39: UNIDAD | K39: TOTAL
E40: Largo | F40: Ancho | G40: Alto | K40: ACUMULADO
B41: SISTEMA ELECTRICO GENERAL | D41: 0 | E41: 0 | F41: 0 | G41: 0 | H41: 1 | I41: 1 | J41: GLB | K41: =I41*H41 -> 1
A42: CANTIDAD TOTAL | K42: =SUM(K41:K41) -> 1
A44: ITEM | B44: 1.12 - Limpieza y raspada de muros interiores y exteriores a pintar | O44: UNIDAD | P44: M2
B46: LOCALIZACIÓN | D46: Area Irregular m2 | E46: DIMENSIONES | H46: CANTIDAD | I46: CANTIDAD EN M2 | J46: UNIDAD | K46: TOTAL
E47: Largo | F47: Ancho | G47: Alto | K47: ACUMULADO
B48: LIMPIEZA Y RASPE DE MUROS | D48: =133.8*2 -> 267.6 | E48: 0 | F48: 0 | G48: 0.005 | H48: 1 | I48: =D48 -> 267.6 | J48: M2 | K48: =I48*H48 -> 267.6
A49: CANTIDAD TOTAL | K49: =SUM(K48:K48) -> 267.6
A51: ITEM | B51: 1.13 - Desmonte de Protectores de ventana | O51: UNIDAD | P51: U
B53: LOCALIZACIÓN | D53: Area Irregular m2 | E53: DIMENSIONES | H53: CANTIDAD | I53: CANTIDAD EN U | J53: UNIDAD | K53: TOTAL
E54: Largo | F54: Ancho | G54: Alto | K54: ACUMULADO
...

Sheet CANT. DE OBRA PUERTO LOPEZ
A1: EMPRESA SOCIAL DEL ESTADO
A2: HOSPITAL SAN NICOLAS DE TOLENTINO
A3: MUNICIPIO DE PINILLOS BOLIVAR
A4: PROYECTO: ADECUACIÓN Y MANTENIMIENTO DE LA ESE HOSPITAL SAN NICOLÁS DE TOLENTINO EN LA CABECERA MUNICIPAL DE PINILLOS Y LOS PUESTOS DE SALUD DE LOS CORREGIMIENTOS DE LAS CONCHITAS, PALENQUITO, PUERTO LÓPEZ Y SANTA COA, EN EL MUNICIPIO DE PINILLOS - DEPARTAMENTO DE BOLÍVAR
A5: CUADRO DE CANTIDADES DE OBRA
A7: D | B7: PUESTO DE SALUD PUERTO LOPEZ
A8: ITEM | B8: 1.1 - Localizacion, trazado, replanteo y control topografico de la obra | O8: UNIDAD | P8: M2
B10: LOCALIZACIÓN | D10: Area Irregular m2 | E10: DIMENSIONES | H10: CANTIDAD | I10: CANTIDAD EN M2 | J10: UNIDAD | K10: TOTAL
E11: Largo | F11: Ancho | G11: Alto | K11: ACUMULADO
B12: AREA MURO DE PATIO | D12: 0 | E12: =13.05+10.16 -> 23.21 | F12: 0.5 | G12: 0 | H12: 1 | I12: =E12*F12 -> 11.605 | J12: M2 | K12: =I12*H12 -> 11.605
B13: ANDEN LADO 01 | D13: 0 | E13: 10.04 | F13: 1.5 | G13: 0 | H13: 1 | I13: =E13*F13 -> 15.06 | J13: M2 | K13: =I13*H13 -> 15.06
A14: CANTIDAD TOTAL | K14: =SUM(K12:K13) -> 26.665
A16: ITEM | B16: 1.2 - Desmonte de cubierta existente | O16: UNIDAD | P16: M2
B18: LOCALIZACIÓN | D18: Area Irregular m2 | E18: DIMENSIONES | H18: CANTIDAD | I18: CANTIDAD EN M2 | J18: UNIDAD | K18: TOTAL
E19: Largo | F19: Ancho | G19: Alto | K19: ACUMULADO
B20: AREA CUBIERTA | D20: 105.9 | E20: 0 | F20: 0 | G20: 0 | H20: 1 | I20: =D20 -> 105.9 | J20: M2 | K20: =I20*H20 -> 105.9
A21: CANTIDAD TOTAL | K21: =SUM(K20:K20) -> 105.9
A23: ITEM | B23: 1.3 - Desmonte de cielo raso existente | O23: UNIDAD | P23: M2
B25: LOCALIZACIÓN | D25: Area Irregular m2 | E25: DIMENSIONES | H25: CANTIDAD | I25: CANTIDAD EN M2 | J25: UNIDAD | K25: TOTAL
E26: Largo | F26: Ancho | G26: Alto | K26: ACUMULADO
B27: AREA IRREGULAR CIELO RASO | D27: =66.18+5 -> 71.18 | E27: 0 | F27: 0 | G27: 0.03 | H27: 1 | I27: =D27 -> 71.18 | J27: M2 | K27: =I27*H27 -> 71.18
A28: CANTIDAD TOTAL | K28: =SUM(K27:K27) -> 71.18
A30: ITEM | B30: 1.4 - Desmonte de cerchas metalicas | O30: UNIDAD | P30: M
B32: LOCALIZACIÓN | D32: Area Irregular m2 | E32: DIMENSIONES | H32: CANTIDAD | I32: CANTIDAD EN M | J32: UNIDAD | K32: TOTAL
E33: Largo | F33: Ancho | G33: Alto | K33: ACUMULADO
B34: CERCHAS CUBIERTA | D34: 0 | E34: 11.2 | F34: 0 | G34: 0 | H34: 11 | I34: =E34 -> 11.2 | J34: M | K34: =I34*H34 -> 123.2
A35: CANTIDAD TOTAL | K35: =SUM(K34:K34) -> 123.2
A37: ITEM | B37: 1.5 - Desmonte del sistema electrico existente | O37: UNIDAD | P37: GLB
B39: LOCALIZACIÓN | D39: Area Irregular m2 | E39: DIMENSIONES | H39: CANTIDAD | I39: CANTIDAD EN GLB | J39: UNIDAD | K39: TOTAL
E40: Largo | F40: Ancho | G40: Alto | K40: ACUMULADO
B41: SISTEMA ELECTRICO GENERAL | D41: 0 | E41: 0 | F41: 0 | G41: 0 | H41: 1 | I41: 1 | J41: GLB | K41: =I41*H41 -> 1
A42: CANTIDAD TOTAL | K42: =SUM(K41:K41) -> 1
A44: ITEM | B44: 1.12 - Limpieza y raspada de muros interiores y exteriores a pintar | O44: UNIDAD | P44: M2
B46: LOCALIZACIÓN | D46: Area Irregular m2 | E46: DIMENSIONES | H46: CANTIDAD | I46: CANTIDAD EN M2 | J46: UNIDAD | K46: TOTAL
E47: Largo | F47: Ancho | G47: Alto | K47: ACUMULADO
B48: RASPADA Y LIMPIEZA DE MUROS | D48: =119.6*2 -> 239.2 | E48: 0 | F48: 0 | G48: 0.005 | H48: 1 | I48: =D48 -> 239.2 | J48: M2 | K48: =I48*H48 -> 239.2
A49: CANTIDAD TOTAL | K49: =SUM(K48:K48) -> 239.2
A51: ITEM | B51: 1.14 - Demolición de Muro existente | O51: UNIDAD | P51: M2
B53: LOCALIZACIÓN | D53: Area Irregular m2 | E53: DIMENSIONES | H53: CANTIDAD | I53: CANTIDAD EN M2 | J53: UNIDAD | K53: TOTAL
E54: Largo | F54: Ancho | G54: Alto | K54: ACUMULADO
...

Sheet CANT. DE OBRA SANTA COA
A1: EMPRESA SOCIAL DEL ESTADO
A2: HOSPITAL SAN NICOLAS DE TOLENTINO
A3: MUNICIPIO DE PINILLOS BOLIVAR
A4: PROYECTO: ADECUACIÓN Y MANTENIMIENTO DE LA ESE HOSPITAL SAN NICOLÁS DE TOLENTINO EN LA CABECERA MUNICIPAL DE PINILLOS Y LOS PUESTOS DE SALUD DE LOS CORREGIMIENTOS DE LAS CONCHITAS, PALENQUITO, PUERTO LÓPEZ Y SANTA COA, EN EL MUNICIPIO DE PINILLOS - DEPARTAMENTO DE BOLÍVAR
A5: CUADRO DE CANTIDADES DE OBRA
A7: E | B7: PUESTO DE SALUD SANTA COA
A8: ITEM | B8: 1.1 - Localizacion, trazado, replanteo y control topografico de la obra | O8: UNIDAD | P8: M2
B10: LOCALIZACIÓN | D10: Area Irregular m2 | E10: DIMENSIONES | H10: CANTIDAD | I10: CANTIDAD EN M2 | J10: UNIDAD | K10: TOTAL
E11: Largo | F11: Ancho | G11: Alto | K11: ACUMULADO
B12: AREA MURO DE PATIO | D12: 0 | E12: 42 | F12: 0.5 | G12: 0 | H12: 1 | I12: =E12*F12 -> 21 | J12: M2 | K12: =I12*H12 -> 21
B13: ANDEN LADO 01 | D13: 0 | E13: 17.79 | F13: 2 | G13: 0 | H13: 1 | I13: =E13*F13 -> 35.58 | J13: M2 | K13: =I13*H13 -> 35.58
B14: ANDEN PROTECCION | D14: 0 | E14: 19.05 | F14: 0.6 | G14: 0 | H14: 1 | I14: =E14*F14 -> 11.43 | J14: M2 | K14: =I14*H14 -> 11.43
A15: CANTIDAD TOTAL | K15: =SUM(K12:K14) -> 68.01
A17: ITEM | B17: 1.2 - Desmonte de cubierta existente | O17: UNIDAD | P17: M2
B19: LOCALIZACIÓN | D19: Area Irregular m2 | E19: DIMENSIONES | H19: CANTIDAD | I19: CANTIDAD EN M2 | J19: UNIDAD | K19: TOTAL
E20: Largo | F20: Ancho | G20: Alto | K20: ACUMULADO
B21: AREA CUBIERTA | D21: 93.85 | E21: 0 | F21: 0 | G21: 0 | H21: 1 | I21: =D21 -> 93.85 | J21: M2 | K21: =I21*H21 -> 93.85
A22: CANTIDAD TOTAL | K22: =SUM(K21:K21) -> 93.85
A24: ITEM | B24: 1.4 - Desmonte de cerchas metalicas | O24: UNIDAD | P24: M
B26: LOCALIZACIÓN | D26: Area Irregular m2 | E26: DIMENSIONES | H26: CANTIDAD | I26: CANTIDAD EN M | J26: UNIDAD | K26: TOTAL
E27: Largo | F27: Ancho | G27: Alto | K27: ACUMULADO
B28: CERCHAS CUBIERTA 1 | D28: 0 | E28: 9.38 | F28: 0 | G28: 0 | H28: 3 | I28: =E28 -> 9.38 | J28: M | K28: =I28*H28 -> 28.14
B29: CERCHAS CUBIERTA 2 | D29: 0 | E29: 10.88 | F29: 0 | G29: 0 | H29: 3 | I29: =E29 -> 10.88 | J29: M | K29: =I29*H29 -> 32.64
A30: CANTIDAD TOTAL | K30: =SUM(K28:K29) -> 60.78
A32: ITEM | B32: 1.5 - Desmonte del sistema electrico existente | O32: UNIDAD | P32: GLB
B34: LOCALIZACIÓN | D34: Area Irregular m2 | E34: DIMENSIONES | H34: CANTIDAD | I34: CANTIDAD EN GLB | J34: UNIDAD | K34: TOTAL
E35: Largo | F35: Ancho | G35: Alto | K35: ACUMULADO
B36: SISTEMA ELECTRICO GENERAL | D36: 0 | E36: 0 | F36: 0 | G36: 0 | H36: 1 | I36: 1 | J36: GLB | K36: =I36*H36 -> 1
A37: CANTIDAD TOTAL | K37: =SUM(K36:K36) -> 1
A39: ITEM | B39: 1.6 - Desmonte de lavamanos | O39: UNIDAD | P39: U
B41: LOCALIZACIÓN | D41: Area Irregular m2 | E41: DIMENSIONES | H41: CANTIDAD | I41: CANTIDAD EN U | J41: UNIDAD | K41: TOTAL
E42: Largo | F42: Ancho | G42: Alto | K42: ACUMULADO
B43: LAVAMANOS | D43: 0 | E43: 0 | F43: 0 | G43: 0 | H43: 2 | I43: 1 | J43: U | K43: =I43*H43 -> 2
A44: CANTIDAD TOTAL | K44: =SUM(K43:K43) -> 2
A46: ITEM | B46: 1.7 - Desmonte de sanitarios | O46: UNIDAD | P46: U
B48: LOCALIZACIÓN | D48: Area Irregular m2 | E48: DIMENSIONES | H48: CANTIDAD | I48: CANTIDAD EN U | J48: UNIDAD | K48: TOTAL
E49: Largo | F49: Ancho | G49: Alto | K49: ACUMULADO
B50: SANITARIOS | D50: 0 | E50: 0 | F50: 0 | G50: 0 | H50: 2 | I50: 1 | J50: U | K50: =I50*H50 -> 2
A51: CANTIDAD TOTAL | K51: =SUM(K50:K50) -> 2
A53: ITEM | B53: 1.12 - Limpieza y raspada de muros interiores y exteriores a pintar | O53: UNIDAD | P53: M2
...

Sheet APUS
B1: EMPRESA SOCIAL DEL ESTADO | H1: ANÁLISIS DE PRECIOS UNITARIOS
B2: HOSPITAL SAN NICOLAS DE TOLENTINO
B3: MUNICIPIO DE PINILLOS BOLIVAR | H3: ITEM 1,1 Localizacion, trazado, replanteo y control topografico de la obra
B6: PROYECTO: ADECUACIÓN Y MANTENIMIENTO DE LA ESE HOSPITAL SAN NICOLÁS DE TOLENTINO EN LA CABECERA MUNICIPAL DE PINILLOS Y LOS PUESTOS DE SALUD DE LOS CORREGIMIENTOS DE LAS CONCHITAS, PALENQUITO, PUERTO LÓPEZ Y SANTA COA, EN EL MUNICIPIO DE PINILLOS - DEPARTAMENTO DE BOLÍVAR
H9: UNIDAD : | I9: M2
B11: I. EQUIPO
B12: Descripción | E12: Tipo | F12: Tarifa/Dia | G12: Rendimiento | H12: Valor-Unit.
B13: EQUIPO DE TOPOGRAFIA | F13: ='HERRAMIENTAS Y EQUIPOS'!C10 -> 75000 | G13: 300 | H13: =F13/G13 -> 250
B14: HERRAMIENTAS MENORES (5% M.O.) | H14: =I35*0.05 -> 61.930458
H16: Sub-Total | I16: =SUM(H13:H15) -> 311.93046
B17: II. MATERIALES EN OBRA
B18: Descripción | E18: Unidad | F18: Precio-Unit. | G18: Cantidad | H18: Valor-Unit.
B19: Puntillas de hierro 11/2" | E19: Lbrs | F19: =MATERIALES!F8 -> 7500 | G19: 0.025 | H19: =F19*G19 -> 187.5
B20: Cal (10kgrs) | E20: Kgr | F20: =MATERIALES!F20 -> 2100 | G20: =G19 -> 0.025 | H20: =F20*G20 -> 52.5
B21: Liston en madera 4"x2"x3,0mtrs | E21: U. | F21: =MATERIALES!F24 -> 17500 | G21: =G19 -> 0.025 | H21: =F21*G21 -> 437.5
H23: Sub-Total | I23: =SUM(H19:H22) -> 677.5
B24: III. TRANSPORTES
B25: Material | D25: Vol. Peso ó Cant. | E25: Distancia | F25: M3-Km | G25: Tarifa | H25: Valor-Unit.
B26: MATERIALES | D26: 0.035 | E26: 15 | F26: =E26*D26 -> 0.525 | G26: 1100 | H26: =G26*F26 -> 577.5
H28: Sub-Total | I28: =SUM(H26:H27) -> 577.5
B29: IV. MANO DE OBRA
B30: Trabajador | D30: Jornal | E30: Prestaciones | F30: Jornal Total | G30: Rendimiento | H30: Valor-Unit.
B31: TOPOGRAFO | D31: ='MANO DE OBRA'!E19 -> 108333 | E31: 1.75 | F31: =+E31*D31 -> 189582.75 | G31: =G13 -> 300 | H31: =+F31/G31 -> 631.9425
B32: CADENERO | D32: ='MANO DE OBRA'!E20 -> 52000 | E32: 1.75 | F32: =+E32*D32 -> 91000 | G32: =G13 -> 300 | H32: =+F32/G32 -> 303.33333
B33: AUXILIARES (2) | D33: ='MANO DE OBRA'!E14 -> 52000 | E33: 1.75 | F33: =+E33*D33 -> 91000 | G33: =G13 -> 300 | H33: =+F33/G33 -> 303.33333
H35: Sub-Total | I35: =SUM(H31:H34) -> 1238.6092
F37: TOTAL COSTO DIRECTO | I37: =ROUND((I16+I23+I28+I35),0) -> 2806
B55: EMPRESA SOCIAL DEL ESTADO | H55: ANÁLISIS DE PRECIOS UNITARIOS
B56: HOSPITAL SAN NICOLAS DE TOLENTINO
B57: MUNICIPIO DE PINILLOS BOLIVAR | H57: ITEM 1,2 - Desmonte de cubierta existente
B60: PROYECTO: ADECUACIÓN Y MANTENIMIENTO DE LA ESE HOSPITAL SAN NICOLÁS DE TOLENTINO EN LA CABECERA MUNICIPAL DE PINILLOS Y LOS PUESTOS DE SALUD DE LOS CORREGIMIENTOS DE LAS CONCHITAS, PALENQUITO, PUERTO LÓPEZ Y SANTA COA, EN EL MUNICIPIO DE PINILLOS - DEPARTAMENTO DE BOLÍVAR
H63: UNIDAD : | I63: M2
B65: I. EQUIPO
B66: Descripción | E66: Tipo | F66: Tarifa/Hora | G66: Rendimiento | H66: Valor-Unit.
B67: HERRAMIENTAS MENORES (5% M.O.) | H67: =I85*0.05 -> 780
H69: Sub-Total | I69: =SUM(H67:H67) -> 780
B70: II. MATERIALES EN OBRA
B71: Descripción | E71: Unidad | F71: Precio-Unit. | G71: Cantidad | H71: Valor-Unit.
H75: Sub-Total | I75: =SUM(H72:H74) -> 0
B76: III. TRANSPORTES
...

Sheet PRESUPUESTO ADMON
A3: PROYECTO: ADECUACIÓN Y MANTENIMIENTO DE LA ESE HOSPITAL SAN NICOLÁS DE TOLENTINO EN LA CABECERA MUNICIPAL DE PINILLOS Y LOS PUESTOS DE SALUD DE LOS CORREGIMIENTOS DE LAS CONCHITAS, PALENQUITO, PUERTO LÓPEZ Y SANTA COA, EN EL MUNICIPIO DE PINILLOS - DEPARTAMENTO DE BOLÍVAR
A4: Presupuesto Administracion (A.I.U)
A6: VALOR TOTAL COSTO DIRECTO OBRA | K6: ='PRESUPUESTO OBRA'!$G$671 -> 0
A8: 1 | B8: SALARIOS PERSONAL DE OBRA, OFICINA Y VIGILANCIA | K8: =I43+I35+I22 -> 346521000
A9: A | B9: PERSONAL PROFESIONAL | J9: =K8/K6 -> #DIV/0!
A10: CANT | B10: CONCEPTO | C10: A | D10: B | E10: C | F10: D | G10: E | H10: F | I10: G
B11: PERSONAL PROFESIONAL | C11: SUELDO MES BASICO X PERSONA | D11: SUELDO MES BASICO | E11: % DEDICACION | F11: F.M. | G11: VALOR MES (AXBXC) | H11: No DE MESES | I11: TOTAL (DXE)
A13: 1 | B13: Director de Obra | C13: =1160000*6 -> 6960000 | D13: =C13*A13 -> 6960000 | E13: 100 | F13: 1.75 | G13: =+D13*E13*F13/100 -> 12180000 | H13: 6 | I13: =+G13*H13 -> 73080000
A14: 1 | B14: Residente de Obra | C14: =1160000*2.7 -> 3132000 | D14: =C14*A14 -> 3132000 | E14: 100 | F14: 1.75 | G14: =+D14*E14*F14/100 -> 5481000 | H14: 6 | I14: =+G14*H14 -> 32886000
A15: 1 | B15: Ingeniero Hidarulico | C15: =1160000*3 -> 3480000 | D15: =C15*A15 -> 3480000 | E15: 50 | F15: 1.75 | G15: =+D15*E15*F15/100 -> 3045000 | H15: 6 | I15: =+G15*H15 -> 18270000
A16: 1 | B16: Ingeniero Estructural | C16: =1160000*3 -> 3480000 | D16: =C16*A16 -> 3480000 | E16: 50 | F16: 1.75 | G16: =+D16*E16*F16/100 -> 3045000 | H16: 6 | I16: =+G16*H16 -> 18270000
A17: 1 | B17: Ingeniero Ambiental | C17: =1160000*3 -> 3480000 | D17: =C17*A17 -> 3480000 | E17: 25 | F17: 1.75 | G17: =+D17*E17*F17/100 -> 1522500 | H17: 6 | I17: =+G17*H17 -> 9135000
A18: 1 | B18: Trabajadora Social | C18: =1160000*2.5 -> 2900000 | D18: =C18*A18 -> 2900000 | E18: 25 | F18: 1.75 | G18: =+D18*E18*F18/100 -> 1268750 | H18: 6 | I18: =+G18*H18 -> 7612500
A19: 1 | B19: Contador Publico | C19: =1160000*2.5 -> 2900000 | D19: =C19*A19 -> 2900000 | E19: 25 | F19: 1.75 | G19: =+D19*E19*F19/100 -> 1268750 | H19: 6 | I19: =+G19*H19 -> 7612500
A20: 1 | B20: Profesional SISO | C20: =1160000*2 -> 2320000 | D20: =C20*A20 -> 2320000 | E20: 100 | F20: 1.75 | G20: =+D20*E20*F20/100 -> 4060000 | H20: 6 | I20: =+G20*H20 -> 24360000
B22: SUBTOTAL COSTO PERSONAL PROFESIONAL (4) | I22: =SUM(I13:I20) -> 191226000
A24: B | B24: PERSONAL TECNICO Y ADMINISTRATIVO
B25: CONCEPTO | C25: A | D25: B | E25: C | F25: D | G25: E | H25: F | I25: G
B26: PERSONAL TECNICO | C26: SUELDO MES BASICO X PERSONA | D26: SUELDO MES BASICO | E26: % DEDICACION | F26: F.M. | G26: VALOR MES (AXBXC) | H26: No DE MESES | I26: TOTAL (DXE)
A28: 1 | B28: Secretaria | C28: =1160000*1.25 -> 1450000 | D28: =C28*A28 -> 1450000 | E28: 100 | F28: 1.75 | G28: =+D28*E28*F28/100 -> 2537500 | H28: 6 | I28: =+G28*H28 -> 15225000
A29: 1 | B29: Auxiliar Administrativo | C29: =1160000*1.25 -> 1450000 | D29: =C29*A29 -> 1450000 | E29: 100 | F29: 1.75 | G29: =+D29*E29*F29/100 -> 2537500 | H29: 6 | I29: =+G29*H29 -> 15225000
A30: 1 | B30: Auxiliar Contable | C30: =1160000*1.25 -> 1450000 | D30: =C30*A30 -> 1450000 | E30: 100 | F30: 1.75 | G30: =+D30*E30*F30/100 -> 2537500 | H30: 6 | I30: =+G30*H30 -> 15225000
A31: 1 | B31: Mensajero | C31: =1160000*1 -> 1160000 | D31: =C31*A31 -> 1160000 | E31: 100 | F31: 1.75 | G31: =+D31*E31*F31/100 -> 2030000 | H31: 6 | I31: =+G31*H31 -> 12180000
A32: 1 | B32: Conductor | C32: =1160000*1.5 -> 1740000 | D32: =C32*A32 -> 1740000 | E32: 100 | F32: 1.75 | G32: =+D32*E32*F32/100 -> 3045000 | H32: 6 | I32: =+G32*H32 -> 18270000
A33: 1 | B33: Almacenista | C33: =1160000*1.5 -> 1740000 | D33: =C33*A33 -> 1740000 | E33: 100 | F33: 1.75 | G33: =+D33*E33*F33/100 -> 3045000 | H33: 6 | I33: =+G33*H33 -> 18270000
B35: SUBTOTAL COSTO PERSONAL TECNICO (2) | I35: =SUM(I28:I33) -> 94395000
A37: C | B37: PERSONAL DE SEGURIDAD Y SERVICIOS
B38: CONCEPTO | C38: A | D38: B | E38: C | F38: D | G38: E | H38: F | I38: G
B39: PERSONAL TECNICO | C39: SUELDO MES BASICO X PERSONA | D39: SUELDO MES BASICO | E39: % DEDICACION | F39: F.M. | G39: VALOR MES (AXBXC) | H39: No DE MESES | I39: TOTAL (DXE)
A41: 4 | B41: Vigilante Diurno y Nocturno | C41: =1160000*1.25 -> 1450000 | D41: =C41*A41 -> 5800000 | E41: 100 | F41: 1.75 | G41: =+D41*E41*F41/100 -> 10150000 | H41: 6 | I41: =+G41*H41 -> 60900000
B43: SUBTOTAL COSTO PERSONAL DE SEGURIDAD (1) | I43: =SUM(I41:I41) -> 60900000
A45: 2 | B45: GASTOS OPERACIONALES | K45: =SUM(I46:I56) -> 1.3389867e+08
A46: 2.1 | B46: Suministro y consumo de servicios Públicos durante la ejecución del proyecto | F46: MES | G46: 6 | H46: 600000 | I46: =H46*G46 -> 3600000 | J46: =K45/K6 -> #DIV/0!
A47: 2.2 | B47: Ensayos de Control de Calidad | F47: MES | G47: 6 | H47: 3400000 | I47: =H47*G47 -> 20400000
A48: 2.3 | B48: Papelería/Empastes | F48: MES | G48: 6 | H48: 199778.24 | I48: =H48*G48 -> 1198669.4
A49: 2.4 | B49: Copias/ planos/ Fotocopias | F49: MES | G49: 6 | H49: 250000 | I49: =H49*G49 -> 1500000
A50: 2.5 | B50: Mantenimiento Equipos/Herramientas | F50: MES | G50: 6 | H50: 7200000 | I50: =H50*G50 -> 43200000
A51: 2.6 | B51: Registro Fotográfico/Videos/Informes | F51: U | G51: 2 | H51: 800000 | I51: =H51*G51 -> 1600000
A52: 2.7 | B52: Registro y Elaboración Planos Récord | F52: U | G52: 2 | H52: 2400000 | I52: =H52*G52 -> 4800000
A53: 2.8 | B53: Transportes / almacenamiento | F53: MES | G53: 6 | H53: 5000000 | I53: =H53*G53 -> 30000000
...

Sheet FM ADMON
A3: PROYECTO: ADECUACIÓN Y MANTENIMIENTO DE LA ESE HOSPITAL SAN NICOLÁS DE TOLENTINO EN LA CABECERA MUNICIPAL DE PINILLOS Y LOS PUESTOS DE SALUD DE LOS CORREGIMIENTOS DE LAS CONCHITAS, PALENQUITO, PUERTO LÓPEZ Y SANTA COA, EN EL MUNICIPIO DE PINILLOS - DEPARTAMENTO DE BOLÍVAR
A5: Analisis Unitario - Prestaciones Sociales Obra
A7: CALCULO DEL FACTOR PRESTACIONAL
A9: COMPONENTE | B9: DESCRIPCIÓN | C9: CALCULO | D9: VALOR (%)
A10: A | B10: SUELDOS O SALARIOS | D10: 1
A12: B | B12: PRESTACIONES SOCIALES
B13: Cesantías | C13: (%A) | D13: 0.11
B14: Intereses sobre las cesantías | C14: (%A) | D14: 0.01
B15: Prima anual (legal) | C15: (%A) | D15: 0.0833
B16: Vacaciones | C16: (%A) | D16: 0.0417
B17: Seguridad Social (salud ) | C17: (%A) | D17: 0.085
B18: Seguridad Social (pensión) | C18: (%A) | D18: 0.12
B19: ARL | C19: (%A) | D19: 0.0696
B20: SENA | C20: (%A) | D20: 0.02
B21: ICBF | C21: (%A) | D21: 0.03
B22: Caja de Compensación Familiar | C22: (%A) | D22: 0.03
B23: Fondo de Solidaridad Pensional | C23: (%A) | D23: 0.005
B24: Indemnización de ley | C24: (%A) | D24: 0.03
... B26: Otros (Incapacidad no cubierta EPS , Auxilios varios) | C26: (%A) | D26: 0.01
B27: Subtotal B | D27: =SUM(D13:D26) -> 0.6746
A29: C | B29: DOTACION
B30: Dotacion | C30: (%A) | D30: 0.0446
B31: Implementos de Seguridad | C31: (%A) | D31: 0.0357
A33: C. | B33: FACTOR MULTIPLICADOR (SUMA A + B) | D33: =+D10+D27+D30+D31 -> 1.7549
B35: FACTOR MULTIPLICADOR | D35: =D33/100 -> 0.017549

Sheet CRONOGRAMA DE ACTIVIDADES
A2: SECRETARIA DE PLANEACION Y OBRAS PUBLICAS
A3: PROYECTO: CONSTRUCCION DE DIFERENTES OBRAS DE RECREACION Y DEPORTE EN LA CABECERA URBANA DEL MUNICIPIO DE PINILLOS, DEPARTAMENTO DE BOLIVAR
A4: Cronograma de Actividades
A6: 1 | B6: OBRAS PRELIMINARES
A7: ITEM | B7: ACTIVIDAD | C7: MES 01 | AA7: MES 02 | AY7: MES 03 | BW7: MES 04 | CU7: MES 05 | DS7: MES 06
C8: SEM 1 | I8: SEM 2 | O8: SEM 3 | U8: SEM 4 | AA8: SEM 1 | AG8: SEM 2 | AM8: SEM 3 | AS8: SEM 4 | AY8: SEM 1 | BE8: SEM 2 | BK8: SEM 3 | BQ8: SEM 4 | BW8: SEM 1 | CC8: SEM 2 | CI8: SEM 3 | CO8: SEM 4 | CU8: SEM 1 | DA8: SEM 2 | DG8: SEM 3 | DM8: SEM 4 | DS8: SEM 1 | DY8: SEM 2 | EE8: SEM 3 | EK8: SEM 4
C9: LUN - SAB | I9: LUN - SAB | O9: LUN - SAB | U9: LUN - SAB | AA9: LUN - SAB | AG9: LUN - SAB | AM9: LUN - SAB | AS9: LUN - SAB | AY9: LUN - SAB | BE9: LUN - SAB | BK9: LUN - SAB | BQ9: LUN - SAB | BW9: LUN - SAB | CC9: LUN - SAB | CI9: LUN - SAB | CO9: LUN - SAB | CU9: LUN - SAB | DA9: LUN - SAB | DG9: LUN - SAB | DM9: LUN - SAB | DS9: LUN - SAB | DY9: LUN - SAB | EE9: LUN - SAB | EK9: LUN - SAB
A10: 1.1 | B10: Localizacion, trazado, replanteo y control topografico de la obra
A11: 1.2 | B11: Desmonte y Demolicion de estructuras existentes (cancha Existente, edificaciones y demas encontradas en el area del proyecto)
A12: 1.3 | B12: Perfilacion y nivelacion del terreno - Area del Proyecto
A13: 1.4 | B13: Relleno con material granular transportado compactado al 90%, con maquina - (Relleno para Nivelacion de Area de Proyecto)
A14: 1.5 | B14: Cargue, transporte y disposición final de material sobrante en sitio autorizado
A16: 2 | B16: EXCAVACIONES, NIVELACIONES Y RELLENOS
A17: ITEM | B17: ACTIVIDAD | C17: MES 01 | AA17: MES 02 | AY17: MES 03 | BW17: MES 04 | CU17: MES 05 | DS17: MES 06
C18: SEM 1 | I18: SEM 2 | O18: SEM 3 | U18: SEM 4 | AA18: SEM 1 | AG18: SEM 2 | AM18: SEM 3 | AS18: SEM 4 | AY18: SEM 1 | BE18: SEM 2 | BK18: SEM 3 | BQ18: SEM 4 | BW18: SEM 1 | CC18: SEM 2 | CI18: SEM 3 | CO18: SEM 4 | CU18: SEM 1 | DA18: SEM 2 | DG18: SEM 3 | DM18: SEM 4 | DS18: SEM 1 | DY18: SEM 2 | EE18: SEM 3 | EK18: SEM 4
C19: LUN - SAB | I19: LUN - SAB | O19: LUN - SAB | U19: LUN - SAB | AA19: LUN - SAB | AG19: LUN - SAB | AM19: LUN - SAB | AS19: LUN - SAB | AY19: LUN - SAB | BE19: LUN - SAB | BK19: LUN - SAB | BQ19: LUN - SAB | BW19: LUN - SAB | CC19: LUN - SAB | CI19: LUN - SAB | CO19: LUN - SAB | CU19: LUN - SAB | DA19: LUN - SAB | DG19: LUN - SAB | DM19: LUN - SAB | DS19: LUN - SAB | DY19: LUN - SAB | EE19: LUN - SAB | EK19: LUN - SAB
A20: 2.1 | B20: Excavaciones manuales de Estructuras (No Incluye retiro de material sobrante)
A21: 2.2 | B21: Relleno con material comun de excavacion (Zapatas)
A22: 2.3 | B22: Relleno con material granular transportado compactado al 90%, con maquina - (Relleno para Nivelacion de Terreno de Proyecto)
A23: 2.4 | B23: Relleno con material granular transportado compactado al 90%, Manual con Canguro - (Relleno para Nivelacion de Estructuras)
A24: 2.5 | B24: Cargue, transporte y disposición final de material sobrante en sitio autorizado
A25: 3 | B25: ESTRUCTURALES
A26: ITEM | B26: ACTIVIDAD | C26: MES 01 | AA26: MES 02 | AY26: MES 03 | BW26: MES 04 | CU26: MES 05 | DS26: MES 06
C27: SEM 1 | I27: SEM 2 | O27: SEM 3 | U27: SEM 4 | AA27: SEM 1 | AG27: SEM 2 | AM27: SEM 3 | AS27: SEM 4 | AY27: SEM 1 | BE27: SEM 2 | BK27: SEM 3 | BQ27: SEM 4 | BW27: SEM 1 | CC27: SEM 2 | CI27: SEM 3 | CO27: SEM 4 | CU27: SEM 1 | DA27: SEM 2 | DG27: SEM 3 | DM27: SEM 4 | DS27: SEM 1 | DY27: SEM 2 | EE27: SEM 3 | EK27: SEM 4
C28: LUN - SAB | I28: LUN - SAB | O28: LUN - SAB | U28: LUN - SAB | AA28: LUN - SAB | AG28: LUN - SAB | AM28: LUN - SAB | AS28: LUN - SAB | AY28: LUN - SAB | BE28: LUN - SAB | BK28: LUN - SAB | BQ28: LUN - SAB | BW28: LUN - SAB | CC28: LUN - SAB | CI28: LUN - SAB | CO28: LUN - SAB | CU28: LUN - SAB | DA28: LUN - SAB | DG28: LUN - SAB | DM28: LUN - SAB | DS28: LUN - SAB | DY28: LUN - SAB | EE28: LUN - SAB | EK28: LUN - SAB
A29: 3.1 | B29: Solado en concreto pobre 1500 p.s.i. (Estructura de Zapatas)
A30: 3.2 | B30: Construcción de Zapatas en concreto 3000 p.s.i. modulacion 2,50 mts x 2,50 mts x alto 0,30 mts, incluye acero: en ambos sentidos de:1/2" arriba cada 0,17 mts y 5/8" debajo cada 0,17 mts, (doble parrilla)
A31: 3.3 | B31: Construcción de Zapatas en concreto 3000 p.s.i. modulacion 2,50 mts x 3,50 mts x alto 0,30 mts, incluye acero: en ambos sentidos de:1/2" arriba cada 0,17 mts y 5/8" debajo cada 0,17 mts, (doble parrilla)
A32: 3.4 | B32: Construcción de Zapatas en concreto 3000 p.s.i. modulacion 1,00 mts x 1,00 mts x alto 0,30 mts, incluye acero: en ambos sentidos de 1/2" cada 0,18 mts
A33: 3.5 | B33: Construcción de Viga de Cimentacion en concreto de 3000 p.s.i, modulacion 0,30 mts x 0,30 mts, incluye acero: longitudinal 6 1/2" - Estnbos 3/8" cada 0,15 mts
A34: 3.6 | B34: Construcción de Viga de Cimentacion en concreto de 3000 p.s.i, modulacion 0,15 mts x 0,40 mts, incluye acero: longitudinal 6 3/8" - Estnbos 3/8" cada 0,15 mts
A35: 3.7 | B35: Construcción de Viga de Cimentacion en concreto de 3000 p.s.i, modulacion 0,15 mts x 0,30 mts, incluye acero: longitudinal 4 3/8" - Estnbos 3/8" cada 0,20 mts
A36: 3.8 | B36: Construcción de Columnas en concreto de 3000 p.s.i, modulacion 0,60 mts x 0,60 mts, incluye acero: longitudinal 12 Fe= 5/8" - Estnbos 3/8" cada 0,10 mts
A37: 3.9 | B37: Construcción de Columnas en concreto de 3000 p.s.i, modulacion 0,30 mts x 0,30 mts, incluye acero: longitudinal 6 Fe= 5/8" - Estnbos 3/8" cada 0,10 mts
A38: 3.10 | B38: Construcción de Columnas en concreto de 3000 p.s.i, modulacion 0,30 mts x 0,30 mts, incluye acero: longitudinal 4 Fe= 1/2" - Estnbos 3/8" cada 0,15 mts
A39: 3.11 | B39: Construcción de Viga Intermedia en concreto de 3000 p.s.i, modulacion 0,20 mts x 0,10 mts, incluye acero: longitudinal 4 3/8" - Estnbos 3/8" cada 0,15 mts
A40: 3.12 | B40: Construcción de Viga Soporte 01 en concreto 3000 p.s.i. 0.30 X 0.30 mts - 6 Fe= 5/8" - Estribos y ganchos Fe= 3/8 C/. 0,10 mts (Estructura de Graderias y Tarima de eventos)
... A45: 3.17 | B45: Construccion de Anden en concreto 3000 psi (210kg/cm2) ancho 0,85 mts - espesor placa 10 cms, incluye refuerzo de 40000 p.s.i.
A47: 4 | B47: MAMPOSTERIA
A48: ITEM | B48: ACTIVIDAD | C48: MES 01 | AA48: MES 02 | AY48: MES 03 | BW48: MES 04 | CU48: MES 05 | DS48: MES 06
...

Sheet CRONOGRAMA DE FLUJOS
A2: SECRETARIA DE PLANEACION Y OBRAS PUBLICAS
A3: PROYECTO: CONSTRUCCION DE DIFERENTES OBRAS DE RECREACION Y DEPORTE EN LA CABECERA URBANA DEL MUNICIPIO DE PINILLOS, DEPARTAMENTO DE BOLIVAR
A4: Cronograma de Flujos de Inversion
A6: ITEM | B6: ACTIVIDADES - 6 MESES | C6: VALOR PRESUPUESTO DE OBRA | D6: MES 01 | E6: MES 02 | F6: MES 03 | G6: MES 04 | H6: MES 05 | I6: MES 06
A8: 1 | B8: OBRAS PRELIMINARES
A9: 1.1 | B9: Localizacion, trazado, replanteo y control topografico de la obra | C9: ='PRESUPUESTO OBRA'!G282 -> 0 | D9: =C9*0.1 -> 0 | E9: =C9*0.2 -> 0 | F9: =C9*0.2 -> 0 | G9: =C9*0.2 -> 0 | H9: =C9*0.2 -> 0 | I9: =C9*0.1 -> 0
A10: 1.2 | B10: Desmonte y Demolicion de estructuras existentes (cancha Existente, edificaciones y demas encontradas en el area del proyecto) | C10: ='PRESUPUESTO OBRA'!G284 -> 0 | D10: =C10 -> 0
A11: 1.3 | B11: Perfilacion y nivelacion del terreno - Area del Proyecto | C11: ='PRESUPUESTO OBRA'!G285 -> 0 | E11: =C11 -> 0
A12: 1.4 | B12: Relleno con material granular transportado compactado al 90%, con maquina - (Relleno para Nivelacion de Area de Proyecto) | C12: ='PRESUPUESTO OBRA'!G286 -> 0 | E12: =C12 -> 0
A13: 1.5 | B13: Cargue, transporte y disposición final de material sobrante en sitio autorizado | C13: ='PRESUPUESTO OBRA'!G287 -> 0 | D13: =C13*0.5 -> 0 | E13: =C13*0.5 -> 0
A14: SUB-TOTAL CAPITILO 01 | C14: =SUM(C9:C13) -> 0 | D14: =SUM(D9:D13) -> 0 | E14: =SUM(E9:E13) -> 0 | F14: =SUM(F9:F13) -> 0 | G14: =SUM(G9:G13) -> 0 | H14: =SUM(H9:H13) -> 0 | I14: =SUM(I9:I13) -> 0
A15: 2 | B15: EXCAVACIONES, NIVELACIONES Y RELLENOS
A16: 2.1 | B16: Excavaciones manuales de Estructuras (No Incluye retiro de material sobrante) | C16: ='PRESUPUESTO OBRA'!G296 -> 0 | E16: =C16*0.1 -> 0 | F16: =C16*0.45 -> 0 | G16: =C16*0.45 -> 0
A17: 2.2 | B17: Relleno con material comun de excavacion (Zapatas) | C17: ='PRESUPUESTO OBRA'!#REF! -> #REF! | F17: =C17 -> #REF!
A18: 2.3 | B18: Relleno con material granular transportado compactado al 90%, con maquina - (Relleno para Nivelacion de Terreno de Proyecto) | C18: ='PRESUPUESTO OBRA'!#REF! -> #REF! | F18: =C18*0.3 -> #REF! | G18: =C18*0.7 -> #REF!
A19: 2.4 | B19: Relleno con material granular transportado compactado al 90%, Manual con Canguro - (Relleno para Nivelacion de Estructuras) | C19: ='PRESUPUESTO OBRA'!G298 -> 0 | F19: =C19 -> 0
A20: 2.5 | B20: Cargue, transporte y disposición final de material sobrante en sitio autorizado | C20: ='PRESUPUESTO OBRA'!G299 -> 0 | F20: =C20*0.5 -> 0 | G20: =C20*0.5 -> 0
A21: SUB-TOTAL CAPITILO 02 | C21: =SUM(C16:C20) -> #REF! | D21: =SUM(D16:D20) -> 0 | E21: =SUM(E16:E20) -> 0 | F21: =SUM(F16:F20) -> #REF! | G21: =SUM(G16:G20) -> #REF! | H21: =SUM(H16:H20) -> 0 | I21: =SUM(I16:I20) -> 0
A22: 3 | B22: ESTRUCTURALES
A23: 3.1 | B23: Solado en concreto pobre 1500 p.s.i. (Estructura de Zapatas) | C23: ='PRESUPUESTO OBRA'!G303 -> 0 | F23: =C23 -> 0
A24: 3.2 | B24: Construcción de Zapatas en concreto 3000 p.s.i. modulacion 2,50 mts x 2,50 mts x alto 0,30 mts, incluye acero: en ambos sentidos de:1/2" arriba cada 0,17 mts y 5/8" debajo cada 0,17 mts, (doble parrilla) | C24: ='PRESUPUESTO OBRA'!#REF! -> #REF! | F24: =C24 -> #REF!
A25: 3.3 | B25: Construcción de Zapatas en concreto 3000 p.s.i. modulacion 2,50 mts x 3,50 mts x alto 0,30 mts, incluye acero: en ambos sentidos de:1/2" arriba cada 0,17 mts y 5/8" debajo cada 0,17 mts, (doble parrilla) | C25: ='PRESUPUESTO OBRA'!#REF! -> #REF! | F25: =C25 -> #REF!
A26: 3.4 | B26: Construcción de Zapatas en concreto 3000 p.s.i. modulacion 1,00 mts x 1,00 mts x alto 0,30 mts, incluye acero: en ambos sentidos de 1/2" cada 0,18 mts | C26: ='PRESUPUESTO OBRA'!#REF! -> #REF! | F26: =C26 -> #REF!
A27: 3.5 | B27: Construcción de Viga de Cimentacion en concreto de 3000 p.s.i, modulacion 0,30 mts x 0,30 mts, incluye acero: longitudinal 6 1/2" - Estnbos 3/8" cada 0,15 mts | C27: ='PRESUPUESTO OBRA'!#REF! -> #REF! | F27: =C27 -> #REF!
A28: 3.6 | B28: Construcción de Viga de Cimentacion en concreto de 3000 p.s.i, modulacion 0,15 mts x 0,40 mts, incluye acero: longitudinal 6 3/8" - Estnbos 3/8" cada 0,15 mts | C28: ='PRESUPUESTO OBRA'!#REF! -> #REF! | F28: =C28*0.2 -> #REF! | G28: =C28*0.8 -> #REF!
A29: 3.7 | B29: Construcción de Viga de Cimentacion en concreto de 3000 p.s.i, modulacion 0,15 mts x 0,30 mts, incluye acero: longitudinal 4 3/8" - Estnbos 3/8" cada 0,20 mts | C29: ='PRESUPUESTO OBRA'!#REF! -> #REF! | G29: =C29 -> #REF!
A30: 3.8 | B30: Construcción de Columnas en concreto de 3000 p.s.i, modulacion 0,60 mts x 0,60 mts, incluye acero: longitudinal 12 Fe= 5/8" - Estnbos 3/8" cada 0,10 mts | C30: ='PRESUPUESTO OBRA'!#REF! -> #REF! | G30: =C30 -> #REF!
A31: 3.9 | B31: Construcción de Columnas en concreto de 3000 p.s.i, modulacion 0,30 mts x 0,30 mts, incluye acero: longitudinal 6 Fe= 5/8" - Estnbos 3/8" cada 0,10 mts | C31: ='PRESUPUESTO OBRA'!G308 -> 0 | G31: =C31 -> 0
A32: 3.10 | B32: Construcción de Columnas en concreto de 3000 p.s.i, modulacion 0,30 mts x 0,30 mts, incluye acero: longitudinal 4 Fe= 1/2" - Estnbos 3/8" cada 0,15 mts | C32: ='PRESUPUESTO OBRA'!#REF! -> #REF! | G32: =C32*0.7 -> #REF! | H32: =C32*0.3 -> #REF!
A33: 3.11 | B33: Construcción de Viga Intermedia en concreto de 3000 p.s.i, modulacion 0,20 mts x 0,10 mts, incluye acero: longitudinal 4 3/8" - Estnbos 3/8" cada 0,15 mts | C33: ='PRESUPUESTO OBRA'!#REF! -> #REF! | H33: =C33 -> #REF!
A34: 3.12 | B34: Construcción de Viga Soporte 01 en concreto 3000 p.s.i. 0.30 X 0.30 mts - 6 Fe= 5/8" - Estribos y ganchos Fe= 3/8 C/. 0,10 mts (Estructura de Graderias y Tarima de eventos) | C34: ='PRESUPUESTO OBRA'!G310 -> 0 | H34: =C34 -> 0
A35: 3.13 | B35: Construcción de Muro Soporte de Graderias en Bloque No 6 relleno en concreto de 3000 p.s.i, incluye acero de 1/2" de refuerzo. | C35: ='PRESUPUESTO OBRA'!G312 -> 0 | G35: =C35*0.5 -> 0 | H35: =C35*0.5 -> 0
A36: 3.14 | B36: Construcción de Placa de Piso en concreto 3000 p.s.i. espesor 10 cms, incluye acero: ambos sentidos de 1/2" cada 0,15 mts. (Estructura de Graderias) | C36: ='PRESUPUESTO OBRA'!#REF! -> #REF! | H36: =C36 -> #REF!
A37: 3.15 | B37: Construccion de Placas en concreto de 3500 p.s.i (246kg/cm2) espesor placa 20 cm incluye refuerzos en acero de 60000 p.s.i. - junta de dilatación - sello en poliuretano de alto desempeño y cordón de espuma | C37: ='PRESUPUESTO OBRA'!#REF! -> #REF! | F37: =C37 -> #REF!
A38: 3.16 | B38: Construccion de Bordillos en concreto 3000 psi (210kg/cm2) ancho 0,15 mts - Alto 0,20 mts (arriba de pavimentos), incluye refuerzo de 40000 p.s.i. | C38: ='PRESUPUESTO OBRA'!#REF! -> #REF! | F38: =C38*0.5 -> #REF! | G38: =C38*0.5 -> #REF!
A39: 3.17 | B39: Construccion de Anden en concreto 3000 psi (210kg/cm2) ancho 0,85 mts - espesor placa 10 cms, incluye refuerzo de 40000 p.s.i. | C39: ='PRESUPUESTO OBRA'!G315 -> 0 | G39: =C39 -> 0
A40: SUB-TOTAL CAPITILO 03 | C40: =SUM(C23:C39) -> #REF! | D40: =SUM(D23:D39) -> 0 | E40: =SUM(E23:E39) -> 0 | F40: =SUM(F23:F39) -> #REF! | G40: =SUM(G23:G39) -> #REF! | H40: =SUM(H23:H39) -> #REF! | I40: =SUM(I23:I39) -> 0
A41: 4 | B41: MAMPOSTERIA
A42: 4.1 | B42: Levante de muro de block No 4 | C42: ='PRESUPUESTO OBRA'!G319 -> 0 | G42: =C42 -> 0
A43: 4.2 | B43: Pañete para muros mortero: 1:4 imp . Esp = 2 cms (estructuras y Muros) | C43: ='PRESUPUESTO OBRA'!G320 -> 0 | G43: =C43 -> 0
...

Sheet APU -BASICOS
A1: EMPRESA SOCIAL DEL ESTADO | G1: ANÁLISIS DE PRECIOS UNITARIOS
A2: HOSPITAL SAN NICOLAS DE TOLENTINO
A3: MUNICIPIO DE PINILLOS BOLIVAR | G3: CONCRETO - 3500 P.S.I.
A6: PROYECTO: ADECUACIÓN Y MANTENIMIENTO DE LA ESE HOSPITAL SAN NICOLÁS DE TOLENTINO EN LA CABECERA MUNICIPAL DE PINILLOS Y LOS PUESTOS DE SALUD DE LOS CORREGIMIENTOS DE LAS CONCHITAS, PALENQUITO, PUERTO LÓPEZ Y SANTA COA, EN EL MUNICIPIO DE PINILLOS - DEPARTAMENTO DE BOLÍVAR
G11: UNIDAD : | H11: M3
A13: I. EQUIPO
A14: Descripción | D14: Tipo | E14: Tarifa alquiler | F14: Rendimiento | G14: Valor-Unit.
A15: MEZCLADOR DE CONCRETO | E15: ='HERRAMIENTAS Y EQUIPOS'!C21 -> 100000 | F15: 8 | G15: =+E15/F15 -> 12500
A16: HERRAMIENTAS MENORES | G16: 15000
G18: Sub-Total | H18: =SUM(G15:G17) -> 27500
A19: II. MATERIALES EN OBRA
A20: Descripción | D20: Unidad | E20: Precio-Unit. | F20: Cantidad | G20: Valor-Unit.
A21: CEMENTO GRIS | D21: Kg | E21: =MATERIALES!F10 -> 810 | F21: =8.3*50 -> 415 | G21: =F21*E21 -> 336150
A22: PIEDRA 3/4" SELECCIONADA | D22: M3 | E22: =MATERIALES!C12 -> 150000 | F22: 0.774 | G22: =F22*E22 -> 116100
A23: ARENA GRUESA | D23: M3 | E23: =MATERIALES!F14 -> 72000 | F23: 0.488 | G23: =F23*E23 -> 35136
A24: AGUA | D24: LITRO | E24: =MATERIALES!F16 -> 50 | F24: =25*8.3 -> 207.5 | G24: =F24*E24 -> 10375
A25: DESPERDICIO DE MATERIALES 5% | E25: =SUM(G21:G24) -> 497761 | F25: 0.05 | G25: =F25*E25 -> 24888.05
G26: Sub-Total | H26: =SUM(G21:G25) -> 522649.05
A27: III. TRANSPORTES
A28: Material | C28: Vol. Peso ó Cant. | D28: Distancia | E28: M3-Km | F28: Tarifa | G28: Valor-Unit.
A29: CEMENTO | C29: 0.455 | D29: 15 | E29: =D29*C29 -> 6.825 | F29: 1100 | G29: =F29*E29 -> 7507.5
A30: TRITURADO | C30: =F22 -> 0.774 | D30: 15 | E30: =D30*C30 -> 11.61 | F30: 1100 | G30: =F30*E30 -> 12771
A31: ARENA | C31: =F23 -> 0.488 | D31: 15 | E31: =D31*C31 -> 7.32 | F31: 1100 | G31: =F31*E31 -> 8052
A32: AGUA | C32: 0.2 | D32: 15 | E32: =D32*C32 -> 3 | F32: 1100 | G32: =F32*E32 -> 3300
G33: Sub-Total | H33: =SUM(G29:G32) -> 31630.5
A34: IV. MANO DE OBRA
A35: Trabajador | C35: Jornal | D35: Prestaciones | E35: Jornal Total | F35: Rendimiento | G35: Valor-Unit.
G38: Sub-Total | H38: =SUM(G36:G37) -> 0
E40: TOTAL COSTO DIRECTO | H40: =ROUND((H18+H26+H33+H38),0) -> 581780
A57: EMPRESA SOCIAL DEL ESTADO | G57: ANÁLISIS DE PRECIOS UNITARIOS
A58: HOSPITAL SAN NICOLAS DE TOLENTINO
A59: MUNICIPIO DE PINILLOS BOLIVAR | G59: CONCRETO - 3000 P.S.I.
A62: PROYECTO: ADECUACIÓN Y MANTENIMIENTO DE LA ESE HOSPITAL SAN NICOLÁS DE TOLENTINO EN LA CABECERA MUNICIPAL DE PINILLOS Y LOS PUESTOS DE SALUD DE LOS CORREGIMIENTOS DE LAS CONCHITAS, PALENQUITO, PUERTO LÓPEZ Y SANTA COA, EN EL MUNICIPIO DE PINILLOS - DEPARTAMENTO DE BOLÍVAR
G67: UNIDAD : | H67: M3
A69: I. EQUIPO
A70: Descripción | D70: Tipo | E70: Tarifa/Dia | F70: Rendimiento | G70: Valor-Unit.
A71: MEZCLADOR DE CONCRETO | E71: ='[3]HERRAMIENTAS Y EQUIPOS'!C20 -> 100000 | F71: 8 | G71: =+E71/F71 -> 12500
A72: HERRAMIENTAS MENORES | G72: 15000
G74: Sub-Total | H74: =SUM(G71:G73) -> 27500
A75: II. MATERIALES EN OBRA
...

Sheet MANO DE OBRA
A1: EMPRESA SOCIAL DEL ESTADO
A2: HOSPITAL SAN NICOLAS DE TOLENTINO
A3: MUNICIPIO DE PINILLOS BOLIVAR
A4: PROYECTO: ADECUACIÓN Y MANTENIMIENTO DE LA ESE HOSPITAL SAN NICOLÁS DE TOLENTINO EN LA CABECERA MUNICIPAL DE PINILLOS Y LOS PUESTOS DE SALUD DE LOS CORREGIMIENTOS DE LAS CONCHITAS, PALENQUITO, PUERTO LÓPEZ Y SANTA COA, EN EL MUNICIPIO DE PINILLOS - DEPARTAMENTO DE BOLÍVAR
A6: MANO DE OBRA - AJUSTADA 2023
A7: AÑO | D7: 2022 | E7: 2023
A8: SALARIO MINIMO MENSUAL SIN SUBSIDIO DE TRANSPORTE | D8: 1000000 | E8: 1160000
A9: SUBSIDIO DE TRANSPORTE | D9: 117172 | E9: 140000
A10: SALARIO MINIMO MENSUAL CON SUBSIDIO DE TRANSPORTE | D10: =SUM(D8:D9) -> 1117172 | E10: =SUM(E8:E9) -> 1300000
A11: DIAS DE TRABAJO | D11: 30 | E11: 30
A13: TRABAJADOR | D13: VALOR | E13: AJUSTADO
A14: OBRERO | D14: =E10/E11*1.2 -> 52000 | E14: =ROUND((D14),0) -> 52000
A15: OFICIAL | D15: =E10/E11*2.2 -> 95333.333 | E15: =ROUND((D15),0) -> 95333
A16: TECNICO ELECTRICISTA | D16: =E10/E11*2.2 -> 95333.333 | E16: =ROUND((D16),0) -> 95333
