Workbook
Name modificaciones: [1]Listas!$D$61:$D$64

Sheet INSTRUCCIONES
A5: Generalidades | B5: 1. El Plan Operativo de Actividades - POA es el instrumento de seguimiento a la ejecución y control del proyecto. 2. El POA será insumo para programar las actividades del proyecto en GESPROY en su línea base. 3. La información para el diligenciamiento del POA debe extraerse de la MGA y el presupuesto aprobado. 4. Es responsabilidad de la entidad ejecutora el diligenciamiento de todas las pestañas. 5. El diligenciamiento de la ejecución mensual es responsabilidad de la entidad, en las pestañas de POA técnico y financiero. 6. La entidad ejecutora no podrá registrar porcentajes de avance diferentes al período que está reportando ni en GESPROY ni en el POA sin el aval de la supervisión. (En los casos que la supervisión no se pronuncie el día 15, la entidad ejecutora podrá registrar el porcentaje que presenta en su informe mensual de ejecución). 7. Este documento de POA debe ser enviado junto con el informe de ejecución en cada período. 8. Este documento de POA solo podrá ser modificado si lo antecede un ajuste/modificación aprobado (Supervisión, OCAD CTeI SGR, Secretaría técnica).
A6: Datos Generales del Proyecto | B6: La Información debe extraerse de la MGA aprobada.
A7: Control de Ajustes | B7: Consecutivo de las modificaciones/ajustes solicitados y aprobados por el supervisor/Secretaría Técnica/OCAD. Actualizarlo con todos los ajustes realizados desde la aprobación del proyecto hasta el cierre.
A8: Control de Ajustes POA | B8: Consecutivo de las modificaciones realizadas al POA
A9: Actividades MGA | B9: Nota 1. La columna "PESO FÍSICO OBJETIVOS ESPECIFICOS” Se puede determinar mediante la importancia del aporte del objetivo específico para el cumplimiento del objetivo general, u otro marco de referencia que sustente la entidad. La sumatoria de los objetivos específicos debe ser 100%. En unidades de % se debe calcular con dos (2) digitos decimales. Nota 2. La supervisión recomienda programar con unidades de %. Nota 3. Actividades Predecesoras. Nota 4. Actividad-CC/FC. Corresponde al tipo de actividad. CC: Comienzo-Comienzo, la actividad puede comenzar una vez haya comenzado la actividad precedente. Fin-Comienzo, la actividad no puede empezar hasta tanti no haya terminado la actividad precedente. Nota 5. Tiempo Probable: El tiempo más frecuente de ejecución de una actividad de iguales características.
A10: POA Técnico | B10: Nota 1. Las columnas "OBJETIVO GENERAL", "OBJETIVO ESPECÍFICO", "PAQUETE DE TRABAJO (ACTIVIDADES DE LA MGA)", "PRODUCTO", "INDICADORES", "META", es información que debe extraerse de la MGA del proyecto aprobado. Recordar que el nombre de las actividades deberá registrarse conforme numeración de la MGA. Nota 2. La columna "PESO FÍSICO ACTIVIDADES" Se puede determinar mediante la importancia del aporte de la actividad para el cumplimiento del objetivo específico, o por la ponderación del costo de la actividad frente al valor total del objetivo específico, u otro marco de referencia que sustente la entidad. La sumatoria de las actividades debe ser 100%. En unidades de % se debe calcular con dos (2) digitos decimales. Nota 3. En la columna "ENTREGABLE", diligenciar por actividad el nombre del/los entregable/s para el cumplimiento de la misma. Cada entregable deberá relacionarse en una fila independiente. Nota 4. En la columna "MEDIO DE VERIFICACIÓN DEL ENTREGABLE", diligenciar mediante que soporte(s) se podrá validar el cumplimiento del avance mensual para el entregable. Nota 5. La columna "PESO FÍSICO ENTREGABLE" podrá determinarse por la importancia del aporte del entregable para el cumplimiento de la actividad, u otro marco de referencia que sustente la entidad (sin incluir recursos). En unidades de % se debe calcular con dos (2) digitos decimales. Nota 6. Las columnas "DURACIÓN ENTREGABLES", "MES INICIO ", "MES FIN ", son información que deberá registrar la entidad para el tiempo requerido en ejecutar el entregable. Nota 7. Las filas relacionadas a lo "Planeado" deberán ser diligenciadas por la entidad ejecutora. Nota 8. Las filas relacionadas a lo "Ejecutado" deberán diligenciadas por la entidad ejecutora a partir del inicio del proyecto.
A11: POA Financiero | B11: Para el diligenciamiento del POA Financiero, las actividades serán registradas conforme a los valores aprobados por actividad en el proyecto.
A12: Metodología de Cuantificación de Actividades | B12: Metodología: La formulación del POA debe reflejar el conjunto de resultados concretos, medibles, realizables y verificables que se esperan obtener en el horizonte de tiempo del proyecto. Las actividades aprobadas en la MGA deben establecerse en términos de resultado o productos, en este sentido, la gestión institucional que se adelante es el medio para cumplir el objetivo general del proyecto, y sus porcentajes programados no es el presupuesto sino la importancia o el aporte al cumplimiento del proyecto desde lo técnico. Se recomienda a la entidad describir brevemente la metodología realizada para la formulación del POA, que posibilite hacer un seguimiento y control del cumplimiento de lo contemplado en este instrumento y su cuantificación frente a los entregables, evidencias.

Sheet PROYECTO
A5: Fecha Inicio del Proyecto
A6: Fecha de Terminación del Proyecto:
A7: DILIGENCIA ENTIDAD EJECUTORA-INFORMACIÓN EXTRAIDA DE LA MGA
A8: BPIN | B8: Nombre del Proyecto | C8: Objetivo General | D8: Acuerdo Aprobación OCAD | E8: Convocatoria | F8: Entidad Ejecutora | G8: Costo Total del Proyecto | H8: Plazo | I8: % Ejecución Física | J8: % Ejecución financiera | K8: Representante Legal | L8: Localización
A9: 2022000100103 | B9: Fortalecimiento de la innovación en las MiPymes a partir de los resultados de investigación de las IES del Departamento del Valle del Cauca | C9: Aumentar los niveles de Innovación en las empresas MiPymes a partir del aprovechamiento de los resultados de los grupos de investigación de las IES – Instituciones de Educación Superior del departamento del Valle del Cauca | D9: ACUERDO No. 29 del 29/12/2022 | E9: CONVOCATORIA No. 29 "Convocatoria de la asignación para la CTeI del SGR para la conformación de un listado de propuestas de proyecto elegibles para el fortalecimiento de capacidades en innovación del tejido empresarial regional" | F9: REDDI AGENCIA DE DESARROLLO TECNOLÓGICO Y DE INNOVACIÓN | G9: 5.6933378e+09 | H9: 30 meses | I9: =+'POA TÉCNICO'!AQ36 -> 0 | K9: Juan Manuel Chaves Echeverri | L9: Valle del Cauca

Sheet CONTROL DE AJUSTES
A6: Diligenciar por parte de la Entidad Ejecutora | G6: Diligencia- Apoyo de la Supervisión
A7: BPIN | B7: Proyecto | C7: Tipo de Modificación o Ajuste | D7: Fecha de Radicación | E7: Instancia que Aprueba | F7: DESCRIPCIÓN DEL AJUSTE | G7: Firmado por el Supervisor (SI / NO) | H7: Fecha de aprobación | I7: Fecha de notificación de aprobación a la Entidad Ejecutora
A8: =PROYECTO!A9 -> 2022000100103 | B8: =+PROYECTO!B9 -> Fortalecimiento de la innovación en las MiPymes a partir de los resultados de investigación de las IES del Departamento del Valle del Cauca | C8: Ajuste | E8: Supervisión

Sheet CONTROL DE CAMBIOS POA
A6: Diligenciar por parte de la Entidad Ejecutora
A7: BPIN | B7: Proyecto | C7: Fecha radicado POA a Modificar | D7: Fecha Mesa Técnica | E7: Fecha de aprobación del POA | F7: OBSERVACIONES Describa brevemente la modificación
A8: =+PROYECTO!A9 -> 2022000100103 | B8: =+PROYECTO!$B$9 -> Fortalecimiento de la innovación en las MiPymes a partir de los resultados de investigación de las IES del Departamento del Valle del Cauca

Sheet PRODUCTOS MGA
B5: DILIGENCIA EL EJECUTOR - EXTRAE LA INFORMACIÓN DE LA MGA
A6: Nombre de Proyecto | B6: Objetivos Específicos | C6: Objetivo Específico | D6: VALOR | E6: Nombre Producto MGA | F6: Indicador del producto | G6: Unidad de Medida del producto | H6: Cantidad
A8: =+PROYECTO!B9 -> Fortalecimiento de la innovación en las MiPymes a partir de los resultados de investigación de las IES del Departamento del Valle del Cauca | B8: 1 | C8: Fortalecer la gestión en las IES para la interacción con el sector empresarial | D8: 1.4053414e+09 | E8: 1.1 Servicio de apoyo para el desarrollo tecnológico y la innovación | F8: Número de proyectos | G8: Unidad | H8: 5
A9: =+PROYECTO!B9 -> Fortalecimiento de la innovación en las MiPymes a partir de los resultados de investigación de las IES del Departamento del Valle del Cauca | B9: 2 | C9: Conectar la oferta y demanda de servicios de innovación | D9: 1.2910043e+09 | E9: 2.1 Servicio de apoyo para la transferencia de conocimiento y tecnología | F9: Número de organizaciones | G9: Unidad | H9: 20
A10: =+PROYECTO!B9 -> Fortalecimiento de la innovación en las MiPymes a partir de los resultados de investigación de las IES del Departamento del Valle del Cauca | B10: 3 | C10: Fortalecer las capacidades para la gestión de innovación en las empresas Mipymes del dpto del Cauca | D10: 2.9969922e+09 | E10: 3.1 Servicio de fomento a la vigilancia y prospectiva tecnológica | F10: Número de estudios | G10: Unidad | H10: 10
D11: =SUM(D8:D10) -> 5.6933378e+09

Sheet ACTIVIDADES MGA
H3: 30 | I3: 1 | J3: 30 | M3: =H3*30 -> 900 | N3: =+O3-(O3*20%) -> 728 | O3: 910 | P3: 942 | Q3: =+(N3+4*(O3)+P3)/6 -> 885 | S3: =915-Q3 -> 30
A5: SE DILIGENCIA AUTOMÁTICAMENTE | R5: ENTIDAD EJECUTORA - PROGRAMA POR MESES
A6: BPIN | B6: Nombre del proyecto | C6: Objetivos Específicos | D6: % | E6: No. de la actividad | F6: Descripción de la actividad | G6: Unidad de Medida | H6: Duración (Mes - Meses) | I6: Mes Inicio de la Actividad | J6: Mes de Terminación de la Actividad | K6: Actividad Predecesora | L6: Actividad CC/FC | M6: Días | N6: Tiempo Optimista Días | O6: Tiempo Probable Días | P6: Tiempo Pesimista Mes | Q6: Tiempo Estimado/Ruta Crítica | AV6: Peso Porcentual | AW6: Presupuesto | AX6: Aporte en especie
R7: Mes 1 | S7: Mes 2 | T7: Mes 3 | U7: Mes 4 | V7: Mes 5 | W7: Mes 6 | X7: Mes 7 | Y7: Mes 8 | Z7: Mes 9 | AA7: Mes 10 | AB7: Mes 11 | AC7: Mes 12 | AD7: Mes 13 | AE7: Mes 14 | AF7: Mes 15 | AG7: Mes 16 | AH7: Mes 17 | AI7: Mes 18 | AJ7: Mes 19 | AK7: Mes 20 | AL7: Mes 21 | AM7: Mes 22 | AN7: Mes 23 | AO7: Mes 24 | AP7: Mes 25 | AQ7: Mes 26 | AR7: Mes 27 | AS7: Mes 28 | AT7: Mes 29 | AU7: Mes 30
R8: Junio | S8: Julio | T8: Agosto | U8: Sept | V8: Oct | W8: Nov | X8: Dic | Y8: Enero | Z8: Feb | AA8: Mar | AB8: Abril | AC8: Mayo | AD8: Junio | AE8: Julio | AF8: Agosto | AG8: Sept | AH8: Oct | AI8: Nov | AJ8: Dic | AK8: Ene | AL8: Feb | AM8: Mar | AN8: Abr | AO8: May | AP8: Jun | AQ8: Jul | AR8: Ago | AS8: Sep | AT8: Oct | AU8: Nov
R9: =VLOOKUP(R8,[2]Hoja1!$B$2:$C$13,2,0) -> 30 | S9: =VLOOKUP(S8,[2]Hoja1!$B$2:$C$13,2,0) -> 31 | T9: =VLOOKUP(T8,[2]Hoja1!$B$2:$C$13,2,0) -> 31 | U9: =VLOOKUP(U8,[2]Hoja1!$B$2:$C$13,2,0) -> 30 | V9: =VLOOKUP(V8,[2]Hoja1!$B$2:$C$13,2,0) -> 31 | W9: =VLOOKUP(W8,[2]Hoja1!$B$2:$C$13,2,0) -> 30 | X9: =VLOOKUP(X8,[2]Hoja1!$B$2:$C$13,2,0) -> 31 | Y9: =VLOOKUP(Y8,[2]Hoja1!$B$2:$C$13,2,0) -> 30 | ... AJ9: =VLOOKUP(AJ8,[2]Hoja1!$B$2:$C$13,2,0) -> 31
A10: =+PROYECTO!$A$9 -> 2022000100103 | B10: =+PROYECTO!$B$9 -> Fortalecimiento de la innovación en las MiPymes a partir de los resultados de investigación de las IES del Departamento del Valle del Cauca | C10: 1. Fortalecer la gestión en las IES para la interacción con el sector empresarial | E10: Actividad 1.1.1 | F10: 1.1 .1 Realizar una Planeación detallada y Dirección - Gerencia del Proyecto | G10: % | H10: 30 | I10: 1 | J10: 30 | M10: =H10*30 -> 900 | N10: 752 | O10: 942 | P10: 972 | Q10: =+(N10+4*(O10)+P10)/6 -> 915.33333 | R10: x | S10: x | T10: x | U10: x | V10: x | W10: x | X10: x | Y10: x | Z10: x | AA10: x | AB10: x | AC10: x | AD10: x | AE10: x | AF10: x | AG10: x | AH10: x | AI10: x | AJ10: x | AK10: x | AL10: x | AM10: x | AN10: x | AO10: x | AP10: x | AQ10: x | AR10: x | AS10: x | AT10: x | AU10: x | AV10: =+'POA TÉCNICO'!K11 -> 0.024706572 | AW10: =+'POA FINAN'!H10 -> 1.4066286e+08
A11: =+PROYECTO!$A$9 -> 2022000100103 | B11: =+PROYECTO!$B$9 -> Fortalecimiento de la innovación en las MiPymes a partir de los resultados de investigación de las IES del Departamento del Valle del Cauca | C11: 1. Fortalecer la gestión en las IES para la interacción con el sector empresarial | E11: Actividad 1.1.2 | F11: 1.1.2 Realizar el diagnóstico de las IES de tercera misión | G11: % | H11: 10 | I11: 1 | J11: 10 | M11: =H11*30 -> 300 | N11: =+O11-(O11*20%) -> 224 | O11: =H11*28 -> 280 | P11: =+O11+30 -> 310 | Q11: =+(N11+4*(O11)+P11)/6 -> 275.66667 | R11: x | S11: x | T11: x | U11: x | V11: x | W11: x | X11: x | Y11: x | Z11: x | AA11: x | AV11: =+'POA TÉCNICO'!K19 -> 0.026248914 | AW11: =+'POA FINAN'!H11 -> 58509816
A12: =+PROYECTO!$A$9 -> 2022000100103 | B12: =+PROYECTO!$B$9 -> Fortalecimiento de la innovación en las MiPymes a partir de los resultados de investigación de las IES del Departamento del Valle del Cauca | C12: 1. Fortalecer la gestión en las IES para la interacción con el sector empresarial | E12: Actividad 1.1.3 | F12: 1.1.3 Sensibilizar a la comunidad universitaria sobre la tercera misión de las IES | G12: % | H12: 7 | I12: 4 | J12: 10 | K12: 1.1.2 | L12: CC | M12: =H12*30 -> 210 | N12: =+O12-(O12*20%) -> 151.2 | O12: =H12*27 -> 189 | P12: 210 | Q12: =+(N12+4*(O12)+P12)/6 -> 186.2 | U12: x | V12: x | W12: x | X12: x | Y12: x | Z12: x | AA12: x | AV12: =+'POA TÉCNICO'!K20+'POA TÉCNICO'!K21 -> 0.067149549 | AW12: =+'POA FINAN'!H12 -> 59118556
A13: =+PROYECTO!$A$9 -> 2022000100103 | B13: =+PROYECTO!$B$9 -> Fortalecimiento de la innovación en las MiPymes a partir de los resultados de investigación de las IES del Departamento del Valle del Cauca | C13: 1. Fortalecer la gestión en las IES para la interacción con el sector empresarial | E13: Actividad 1.1.4 | F13: 1.1.4 Construir propuestas normativas internas y de procesos organizacionales en las IES para brindar soporte a la interacción Universidad - Empresa. Acompañar el proceso de aprobación | G13: % | H13: 12 | I13: 2 | J13: 13 | K13: 1.1.2 | L13: CC | M13: =H13*30 -> 360 | N13: =+O13-(O13*20%) -> 268.8 | O13: =H13*28 -> 336 | P13: =+O13+30 -> 366 | Q13: =+(N13+4*(O13)+P13)/6 -> 329.8 | S13: x | T13: x | U13: x | V13: x | W13: x | X13: x | Y13: x | Z13: x | AA13: x | AB13: x | AC13: x | AD13: x | AV13: =+'POA TÉCNICO'!K22+'POA TÉCNICO'!K23 -> 0.059346851 | AW13: =+'POA FINAN'!H14 -> 47056980
A14: =+PROYECTO!$A$9 -> 2022000100103 | B14: =+PROYECTO!$B$9 -> Fortalecimiento de la innovación en las MiPymes a partir de los resultados de investigación de las IES del Departamento del Valle del Cauca | C14: 1. Fortalecer la gestión en las IES para la interacción con el sector empresarial | E14: Actividad 1.1.5 | F14: 1.1.5 Acompañar la implementación de la nueva normatividad y procesos organizacionales aprobados por las universidades en la relación con las Mipymes beneficiarias | G14: % | H14: 6 | I14: 11 | J14: 16 | K14: 1.1.4 | L14: FC | M14: =H14*30 -> 180 | N14: =+O14-(O14*20%) -> 139.2 | O14: =H14*29 -> 174 | P14: =+O14+19 -> 193 | Q14: =+(N14+4*(O14)+P14)/6 -> 171.36667 | AB14: x | AC14: x | AD14: x | AE14: x | AF14: x | AG14: x | AV14: =+'POA TÉCNICO'!K24 -> 0.024604483 | AW14: =+'POA FINAN'!H16 -> 45642656
A15: =+PROYECTO!$A$9 -> 2022000100103 | B15: =+PROYECTO!$B$9 -> Fortalecimiento de la innovación en las MiPymes a partir de los resultados de investigación de las IES del Departamento del Valle del Cauca | C15: 2. Conectar la oferta y demanda de servicios de innovación | E15: Actividad 2.1.1 | F15: 2.1.1 Identificar la demanda por servicios de innovación de las empresas beneficiarias | G15: % | H15: 7 | I15: 1 | J15: 7 | M15: =H15*30 -> 210 | N15: =+O15-(O15*20%) -> 151.2 | O15: =H15*27 -> 189 | P15: 210 | Q15: =+(N15+4*(O15)+P15)/6 -> 186.2 | R15: x | S15: x | T15: x | U15: x | V15: x | W15: x | X15: x | AV15: =+'POA TÉCNICO'!K25+'POA TÉCNICO'!K26+'POA TÉCNICO'!K27 -> 0.17608035 | AW15: =+'POA FINAN'!H17 -> 31290730
A16: =+PROYECTO!$A$9 -> 2022000100103 | B16: =+PROYECTO!$B$9 -> Fortalecimiento de la innovación en las MiPymes a partir de los resultados de investigación de las IES del Departamento del Valle del Cauca | C16: 2. Conectar la oferta y demanda de servicios de innovación | E16: Actividad 2.1 .2 | F16: 2.1.2 Estructurar la oferta de servicios, conocimientos y tecnologías de las IES orientada a la innovación a las empresas | G16: % | H16: 20 | I16: 6 | J16: 26 | K16: 1.1.2 | L16: CC | M16: =H16*30 -> 600 | N16: =+O16-(O16*20%) -> 480 | O16: =H16*30 -> 600 | P16: =+O16+30 -> 630 | Q16: =+(N16+4*(O16)+P16)/6 -> 585 | W16: x | X16: x | Y16: x | Z16: x | AA16: x | AB16: x | AC16: x | AD16: x | AE16: x | AF16: x | AG16: x | AH16: x | AI16: x | AJ16: x | AK16: x | AL16: x | AM16: x | AN16: x | AO16: x | AP16: x | AV16: =+'POA TÉCNICO'!K28+'POA TÉCNICO'!K30 -> 0.29286033 | AW16: =+'POA FINAN'!H20 -> 2.3286114e+08
A17: =+PROYECTO!$A$9 -> 2022000100103 | B17: =+PROYECTO!$B$9 -> Fortalecimiento de la innovación en las MiPymes a partir de los resultados de investigación de las IES del Departamento del Valle del Cauca | C17: 2. Conectar la oferta y demanda de servicios de innovación | E17: Actividad 2.1.3 | F17: 2.1.3 Divulgar y gestionar los resultados de investigación de las IES en las empresas | G17: % | H17: 22 | I17: 9 | J17: 30 | K17: 1.1.2 | L17: CC | M17: =H17*30 -> 660 | N17: =+O17-(O17*20%) -> 528 | O17: =H17*30 -> 660 | P17: 686 | Q17: =+(N17+4*(O17)+P17)/6 -> 642.33333 | Z17: x | AA17: x | AB17: x | AC17: x | AD17: x | AE17: x | AF17: x | AG17: x | AH17: x | AI17: x | AJ17: x | AK17: x | AL17: x | AM17: x | AN17: x | AO17: x | AP17: x | AQ17: x | AR17: x | AS17: x | AT17: x | AU17: x | AV17: =+'POA TÉCNICO'!K31 -> 0.1538961 | AW17: =+'POA FINAN'!H22 -> 1.4843774e+08
A18: =+PROYECTO!$A$9 -> 2022000100103 | B18: =+PROYECTO!$B$9 -> Fortalecimiento de la innovación en las MiPymes a partir de los resultados de investigación de las IES del Departamento del Valle del Cauca | C18: 2. Conectar la oferta y demanda de servicios de innovación | E18: Actividad 2.1 .4 | F18: 2.1.4 Desarrollar la maduración de conocimientos y tecnologías de las IES. Convocatoria y desarrollo de los proyectos ganadores: al menos 10 proyectos | G18: % | H18: 24 | I18: 5 | J18: 28 | M18: =H18*30 -> 720 | N18: =+O18-(O18*20%) -> 576 | O18: =H18*30 -> 720 | P18: =+O18+30 -> 750 | Q18: =+(N18+4*(O18)+P18)/6 -> 701 | S18: x | T18: x | U18: x | V18: x | W18: x | X18: x | Y18: x | Z18: x | AA18: x | AB18: x | AC18: x | AD18: x | AE18: x | AF18: x | AG18: x | AH18: x | AI18: x | AJ18: x | AK18: x | AL18: x | AM18: x | AN18: x | AO18: x | AP18: x | AQ18: x | AR18: x | AS18: x
A19: =+PROYECTO!$A$9 -> 2022000100103 | B19: =+PROYECTO!$B$9 -> Fortalecimiento de la innovación en las MiPymes a partir de los resultados de investigación de las IES del Departamento del Valle del Cauca | C19: 2. Conectar la oferta y demanda de servicios de innovación | E19: Actividad 2.1.5 | F19: 2.1.5 Crear e implementar los espacios de interacción U-E-E buscando fortalecer la productividad empresarial | G19: % | H19: 30 | I19: 1 | J19: 30 | M19: =H19*30 -> 900 | N19: 752 | O19: 942 | P19: 972 | Q19: =+(N19+4*(O19)+P19)/6 -> 915.33333 | R19: x | S19: x | T19: x | U19: x | V19: x | W19: x | X19: x | Y19: x | Z19: x | AA19: x | AB19: x | AC19: x | AD19: x | AE19: x | AF19: x | AG19: x | AH19: x | AI19: x | AJ19: x | AK19: x | AL19: x | AM19: x | AN19: x | AO19: x | AP19: x | AQ19: x | AR19: x | AS19: x | AT19: x | AU19: x
A20: =+PROYECTO!$A$9 -> 2022000100103 | B20: =+PROYECTO!$B$9 -> Fortalecimiento de la innovación en las MiPymes a partir de los resultados de investigación de las IES del Departamento del Valle del Cauca | C20: 3. Fortalecer las capacidades para la gestión de innovación en las empresas Mipymes del departamento del Valle del Cauca | E20: Actividad 3.1.1 | F20: 3.1.1 Realizar interacción inicial con las MiPymes beneficiarias de la convocatoria | G20: % | H20: 11 | I20: 1 | J20: 11 | M20: =H20*30 -> 330 | N20: =+O20-(O20*20%) -> 246.4 | O20: =H20*28 -> 308 | P20: =+O20+30 -> 338 | Q20: =+(N20+4*(O20)+P20)/6 -> 302.73333 | R20: x | S20: x | T20: x | U20: x | V20: x | W20: x | X20: x | Y20: x | Z20: x | AA20: x | AB20: x
A21: =+PROYECTO!$A$9 -> 2022000100103 | B21: =+PROYECTO!$B$9 -> Fortalecimiento de la innovación en las MiPymes a partir de los resultados de investigación de las IES del Departamento del Valle del Cauca | C21: 3. Fortalecer las capacidades para la gestión de innovación en las empresas Mipymes del departamento del Valle del Cauca | E21: Actividad 3.1.2 | F21: 3.1.2 Realizar los procesos de Intervención en Mipymes de los sectores priorizados del departamento | G21: % | H21: 27 | I21: 2 | J21: 28 | K21: 2.1.1 | L21: CC | M21: =H21*30 -> 810 | N21: =+O21-(O21*20%) -> 648 | O21: =H21*30 -> 810 | P21: =+O21+30 -> 840 | Q21: =+(N21+4*(O21)+P21)/6 -> 788 | W21: x | X21: x | Y21: x | Z21: x | AA21: x | AB21: x | AC21: x | AD21: x | AE21: x | AF21: x | AG21: x | AH21: x | AI21: x | AJ21: x | AK21: x | AL21: x | AM21: x | AN21: x | AO21: x | AP21: x | AQ21: x | AR21: x | AS21: x
A22: =+PROYECTO!$A$9 -> 2022000100103 | B22: =+PROYECTO!$B$9 -> Fortalecimiento de la innovación en las MiPymes a partir de los resultados de investigación de las IES del Departamento del Valle del Cauca | C22: 3. Fortalecer las capacidades para la gestión de innovación en las empresas Mipymes del departamento del Valle del Cauca | E22: Actividad 3.1.3 | F22: 3.1.3 Realizar las actividades de administración del proyecto | G22: % | H22: 30 | I22: 1 | J22: 30 | M22: =H22*30 -> 900 | N22: 752 | O22: 942 | P22: 972 | Q22: =+(N22+4*(O22)+P22)/6 -> 915.33333 | R22: x | S22: x | T22: x | U22: x | V22: x | W22: x | X22: x | Y22: x | Z22: x | AA22: x | AB22: x | AC22: x | AD22: x | AE22: x | AF22: x | AG22: x | AH22: x | AI22: x | AJ22: x | AK22: x | AL22: x | AM22: x | AN22: x | AO22: x | AP22: x | AQ22: x | AR22: x | AS22: x | AT22: x | AU22: x
A23: =+PROYECTO!$A$9 -> 2022000100103 | B23: =+PROYECTO!$B$9 -> Fortalecimiento de la innovación en las MiPymes a partir de los resultados de investigación de las IES del Departamento del Valle del Cauca | C23: 3. Fortalecer las capacidades para la gestión de innovación en las empresas Mipymes del departamento del Valle del Cauca | E23: Actividad 3.1.4 | F23: 3.1.4 Realizar las actividades de supervisión del proyecto | G23: % | H23: 30 | I23: 1 | J23: 30 | M23: =H23*30 -> 900 | N23: 752 | O23: 942 | P23: 972 | Q23: =+(N23+4*(O23)+P23)/6 -> 915.33333 | R23: x | S23: x | T23: x | U23: x | V23: x | W23: x | X23: x | Y23: x | Z23: x | AA23: x | AB23: x | AC23: x | AD23: x | AE23: x | AF23: x | AG23: x | AH23: x | AI23: x | AJ23: x | AK23: x | AL23: x | AM23: x | AN23: x | AO23: x | AP23: x | AQ23: x | AR23: x | AS23: x | AT23: x | AU23: x | AV23: =+'POA TÉCNICO'!K35 -> 0.046800841 | AW23: =+'POA FINAN'!H23 -> 1.4008163e+08
AV24: =SUM(AV10:AV23) -> 0.87169398 | AW24: =SUM(AW10:AW23) -> 9.0366211e+08
F25: Supervisión | AW25: 153000000
F26: Valor total del Proyecto | AW26: =SUM(AW24:AW25)+AX24 -> 1.0566621e+09

Sheet POA TÉCNICO
A5: RESPONSABLE | B5: Reddi Agencia de Desarrollo Tecnológico y de Innovación
A7: Nombre del proyecto | B7: No. de la actividad | C7: Descripción de la actividad | D7: No. de Tareas | E7: Descripción de la Tarea | F7: Entregables | G7: Medio de Verificación | H7: Fecha cumplimiento entregable | I7: Mes de Inicio | J7: Mes de Terminación | K7: Ponderación de Tarea | L7: PROGRAMACIÓN DE ACTIVIDADES | AQ7: Total Ejecutado | AR7: AVANCE DE CUMPLIMIENTO | AS7: EJECUCIÓN ACTIVIDADES/AVANCE FÍSICO
L8: Mes 1 | M8: Mes 2 | N8: Mes 3 | O8: Mes 4 | P8: Mes 5 | Q8: Mes 6 | R8: Mes 7 | S8: Mes 8 | T8: Mes 9 | U8: Mes 10 | V8: Mes 11 | W8: Mes 12 | X8: Mes 13 | Y8: Mes 14 | Z8: Mes 15 | AA8: Mes 16 | AB8: Mes 17 | AC8: Mes 18 | AD8: Mes 19 | AE8: Mes 20 | AF8: Mes 21 | AG8: Mes 22 | AH8: Mes 23 | AI8: Mes 24 | AJ8: Mes 25 | AK8: Mes 26 | AL8: Mes 27 | AM8: Mes 28 | AN8: Mes 29 | AO8: Mes 30 | AS8: Mes 1 | AT8: Mes 2 | AU8: Mes 3 | AV8: Mes 4 | AW8: Mes 5 | AX8: Mes 6 | AY8: Mes 7 | AZ8: Mes 8 | BA8: Mes 9 | BB8: Mes 10 | BC8: Mes 11 | BD8: Mes 12 | BE8: Mes 13 | BF8: Mes 14 | BG8: Mes 15 | BH8: Mes 16 | BI8: Mes 17 | BJ8: Mes 18 | BK8: Mes 19 | BL8: Mes 20 | BM8: Mes 21 | BN8: Mes 22 | BO8: Mes 23 | BP8: Mes 24 | BQ8: Mes 25 | BR8: Mes 26 | BS8: Mes 27 | BT8: Mes 28 | BU8: Mes 29 | BV8: Mes 30
L9: Junio | M9: Julio | N9: Agosto | O9: Septiembre | P9: Octubre | Q9: Noviembre | R9: Diciembre | S9: Enero | T9: Febrero | U9: Marzo | V9: Abril | W9: Mayo | X9: Junio | Y9: Julio | Z9: Agosto | AA9: Septiembre | AB9: Octubre | AC9: Noviembre | AD9: Diciembre | AE9: Enero | AF9: Febrero | AG9: Marzo | AH9: Abril | AI9: Mayo | AJ9: Junio | AK9: Julio | AL9: Agosto | AM9: Septiembre | AN9: Octubre | AO9: Noviembre | AP9: Diciembre | AS9: =+L9 -> Junio | AT9: =+M9 -> Julio | AU9: =+N9 -> Agosto | AV9: =+O9 -> Septiembre | AW9: =+P9 -> Octubre | AX9: =+Q9 -> Noviembre | AY9: =+R9 -> Diciembre | AZ9: =+S9 -> Enero | ... BV9: =+AO9 -> Noviembre
L10: =VLOOKUP(L9,PARAMETRIZACIÓN!$E$2:$F$13,2,0) -> 30 | M10: =VLOOKUP(M9,PARAMETRIZACIÓN!$E$2:$F$13,2,0) -> 31 | N10: =VLOOKUP(N9,PARAMETRIZACIÓN!$E$2:$F$13,2,0) -> 31 | O10: =VLOOKUP(O9,PARAMETRIZACIÓN!$E$2:$F$13,2,0) -> 30 | P10: =VLOOKUP(P9,PARAMETRIZACIÓN!$E$2:$F$13,2,0) -> 31 | Q10: =VLOOKUP(Q9,PARAMETRIZACIÓN!$E$2:$F$13,2,0) -> 30 | R10: =VLOOKUP(R9,PARAMETRIZACIÓN!$E$2:$F$13,2,0) -> 31 | S10: =VLOOKUP(S9,PARAMETRIZACIÓN!$E$2:$F$13,2,0) -> 30 | ... AO10: =VLOOKUP(AO9,PARAMETRIZACIÓN!$E$2:$F$13,2,0) -> 30 | AS10: =VLOOKUP(AS9,PARAMETRIZACIÓN!$E$2:$F$13,2,0) -> 30 | AT10: =VLOOKUP(AT9,PARAMETRIZACIÓN!$E$2:$F$13,2,0) -> 31 | AU10: =VLOOKUP(AU9,PARAMETRIZACIÓN!$E$2:$F$13,2,0) -> 31 | AV10: =VLOOKUP(AV9,PARAMETRIZACIÓN!$E$2:$F$13,2,0) -> 30 | AW10: =VLOOKUP(AW9,PARAMETRIZACIÓN!$E$2:$F$13,2,0) -> 31 | AX10: =VLOOKUP(AX9,PARAMETRIZACIÓN!$E$2:$F$13,2,0) -> 30 | AY10: =VLOOKUP(AY9,PARAMETRIZACIÓN!$E$2:$F$13,2,0) -> 31 | AZ10: =VLOOKUP(AZ9,PARAMETRIZACIÓN!$E$2:$F$13,2,0) -> 30 | ... BV10: =VLOOKUP(BV9,PARAMETRIZACIÓN!$E$2:$F$13,2,0) -> 30
A11: =+PROYECTO!$B$9 -> Fortalecimiento de la innovación en las MiPymes a partir de los resultados de investigación de las IES del Departamento del Valle del Cauca | B11: ='ACTIVIDADES MGA'!$E$10 -> Actividad 1.1.1 | C11: ='ACTIVIDADES MGA'!F10 -> 1.1 .1 Realizar una Planeación detallada y Dirección - Gerencia del Proyecto | D11: 1 | E11: Realizar la revisión de los documentos construidos durante la formulación y cumplimiento de requisitos para aprobación de OCAD. Gestionar cronograma de actividades. Realizar la dirección y gerencia del proyecto, según la guía PMBoK del PMI. Entregar informes de avance mensual que evidencie el desarrollo de las actividades para el cumplimiento de los objetivos | F11: Plan detallado por actividad y de todo el proyecto, con la guía PMBoK del PMI. Documentos asociados a la dirección y gerencia del proyecto | G11: Informes de avance mensual de la dirección del proyecto | H11: 45991 | I11: ='ACTIVIDADES MGA'!$I$10 -> 1 | J11: ='ACTIVIDADES MGA'!$J$10 -> 30 | K11: =SUM(L11:AP11) -> 0.024706572 | L11: 4.2172504e-05 | M11: 0.00063258756 | N11: 0.0039179178 | O11: 0.00063258756 | P11: 0.00063258756 | Q11: 0.00063258756 | R11: 0.00063258756 | S11: 0.0023890265 | T11: 0.00063258756 | U11: 0.00063258756 | V11: 0.00063258756 | W11: 0.00063258756 | X11: 0.00066211395 | Y11: 0.00066211395 | Z11: 0.00066211395 | AA11: 0.00066211395 | AB11: 0.00066211395 | AC11: 0.00066211395 | AD11: 0.00066211395 | AE11: 0.00066211395 | AF11: 0.00066211395 | AG11: 0.00066211395 | AH11: 0.00066211395 | AI11: 0.00066211395 | AJ11: 0.00068806416 | AK11: 0.00068806416 | AL11: 0.00068806416 | AM11: 0.00068806416 | AN11: 0.00068806416 | AO11: 0.00068806416 | AP11: 0.00059041505 | AQ11: =SUM(AS11:BV11) -> 0 | AR11: =+AQ11/K11 -> 0
A12: =+PROYECTO!$B$9 -> Fortalecimiento de la innovación en las MiPymes a partir de los resultados de investigación de las IES del Departamento del Valle del Cauca | B12: ='ACTIVIDADES MGA'!$E$10 -> Actividad 1.1.1 | C12: 1.1.1 Realizar Planeación estratégica REDDI | D12: 1 | E12: Articular con la entidad aliada el desarrollo de las actividades administrativas y de coordinación del desarrollo de las actividades que se realicen con la entidad en el marco del proyecto | F12: Documentos asociados a la dirección y gerencia del proyecto | G12: Informes de avance mensual de la dirección del proyecto | H12: 45991 | I12: ='ACTIVIDADES MGA'!$I$10 -> 1 | J12: ='ACTIVIDADES MGA'!$J$10 -> 30 | K12: =SUM(L12:AP12) -> 0.010276892 | L12: 2.1564011e-05 | M12: 0.00032346017 | N12: 0.00032346017 | O12: 0.00032346017 | P12: 0.00032346017 | Q12: 0.00032346017 | R12: 0.00032346017 | S12: 0.00032346017 | T12: 0.00032346017 | U12: 0.00032346017 | V12: 0.00032346017 | W12: 0.00032346017 | X12: 0.00034836038 | Y12: 0.00034836038 | Z12: 0.00034836038 | AA12: 0.00034836038 | AB12: 0.00034836038 | AC12: 0.00034836038 | AD12: 0.00034836038 | AE12: 0.00034836038 | AF12: 0.00034836038 | AG12: 0.00034836038 | AH12: 0.00034836038 | AI12: 0.00034836038 | AJ12: 0.00036917418 | AK12: 0.00036917418 | AL12: 0.00036917418 | AM12: 0.00036917418 | AN12: 0.00036917418 | AO12: 0.00036917418 | AP12: 0.00030189615 | AQ12: =SUM(AS12:BV12) -> 0 | AR12: =+AQ12/K12 -> 0
A13: =+PROYECTO!$B$9 -> Fortalecimiento de la innovación en las MiPymes a partir de los resultados de investigación de las IES del Departamento del Valle del Cauca | B13: ='ACTIVIDADES MGA'!$E$10 -> Actividad 1.1.1 | C13: 1.1.1 Realizar Planeación estratégica con UNIVALLE | D13: 1 | E13: Articular con la entidad aliada el desarrollo de las actividades administrativas y de coordinación del desarrollo de las actividades que se realicen con la entidad en el marco del proyecto | F13: Documentos asociados a la dirección y gerencia del proyecto | G13: Informes de avance mensual de la dirección del proyecto | H13: 45991 | I13: ='ACTIVIDADES MGA'!$I$10 -> 1 | J13: ='ACTIVIDADES MGA'!$J$10 -> 30 | K13: =SUM(L13:AP13) -> 0.010383813 | L13: 2.1831212e-05 | M13: 0.00032746818 | N13: 0.00032746818 | O13: 0.00032746818 | P13: 0.00032746818 | Q13: 0.00032746818 | R13: 0.00032746818 | S13: 0.00032746818 | T13: 0.00032746818 | U13: 0.00032746818 | V13: 0.00032746818 | W13: 0.00032746169 | X13: 0.00035039096 | Y13: 0.00035039096 | Z13: 0.00035039096 | AA13: 0.00035039096 | AB13: 0.00035039096 | AC13: 0.00035039096 | AD13: 0.00035039096 | AE13: 0.00035039096 | AF13: 0.00035039096 | AG13: 0.00035039096 | AH13: 0.00035039096 | AI13: 0.00035039096 | AJ13: 0.00037491832 | AK13: 0.00037491832 | AL13: 0.00037491832 | AM13: 0.00037491832 | AN13: 0.00037491832 | AO13: 0.00037491832 | AP13: 0.00030563697 | AQ13: =SUM(AS13:BV13) -> 0 | AR13: =+AQ13/K13 -> 0
A14: =+PROYECTO!$B$9 -> Fortalecimiento de la innovación en las MiPymes a partir de los resultados de investigación de las IES del Departamento del Valle del Cauca | B14: ='ACTIVIDADES MGA'!$E$10 -> Actividad 1.1.1 | C14: 1.1.1 Realizar planeación estratégica con UAO | D14: 1 | E14: Articular con la entidad aliada el desarrollo de las actividades administrativas y de coordinación del desarrollo de las actividades que se realicen con la entidad en el marco del proyecto | F14: Documentos asociados a la dirección y gerencia del proyecto | G14: Informes de avance mensual de la dirección del proyecto | H14: 45991 | I14: ='ACTIVIDADES MGA'!$I$10 -> 1 | J14: ='ACTIVIDADES MGA'!$J$10 -> 30 | K14: =SUM(L14:AP14) -> 0.0082263069 | L14: 1.9987755e-05 | M14: 0.00029981633 | N14: 0.00029981633 | O14: 0.00029981633 | P14: 0.00029981633 | Q14: 0.00029981633 | R14: 0.00029981633 | S14: 0.00029981633 | T14: 0.00029981633 | U14: 0.00029981633 | V14: 0.00029981633 | W14: 0.00029981633 | X14: 0.00026781044 | Y14: 0.00026781044 | Z14: 0.00026781044 | AA14: 0.00026781044 | AB14: 0.00026781044 | AC14: 0.00026781044 | AD14: 0.00026781044 | AE14: 0.00026781044 | AF14: 0.00026781044 | AG14: 0.00026781044 | AH14: 0.00026781044 | AI14: 0.00026781044 | AJ14: 0.00023579759 | AK14: 0.00023579759 | AL14: 0.00023579759 | AM14: 0.00023579759 | AN14: 0.00023579759 | AO14: 0.00023579759 | AP14: 0.00027982858 | AQ14: =SUM(AS14:BV14) -> 0 | AR14: =+AQ14/K14 -> 0
A15: =+PROYECTO!$B$9 -> Fortalecimiento de la innovación en las MiPymes a partir de los resultados de investigación de las IES del Departamento del Valle del Cauca | B15: ='ACTIVIDADES MGA'!$E$10 -> Actividad 1.1.1 | C15: 1.1.1 Realizar planeación estratégica con PUJ Cali | D15: 1 | E15: Articular con la entidad aliada el desarrollo de las actividades administrativas y de coordinación del desarrollo de las actividades que se realicen con la entidad en el marco del proyecto | F15: Documentos asociados a la dirección y gerencia del proyecto | G15: Informes de avance mensual de la dirección del proyecto | H15: 45991 | I15: ='ACTIVIDADES MGA'!$I$10 -> 1 | J15: ='ACTIVIDADES MGA'!$J$10 -> 30 | K15: =SUM(L15:AP15) -> 0.008265271 | L15: 1.9951187e-05 | M15: 0.00029926781 | N15: 0.00029926781 | O15: 0.00029926781 | P15: 0.00029926781 | Q15: 0.00029926781 | R15: 0.00029926781 | S15: 0.00029926781 | T15: 0.00029926781 | U15: 0.00029926781 | V15: 0.00029926781 | W15: 0.00029926781 | X15: 0.00030405582 | Y15: 0.00030405582 | Z15: 0.00030405582 | AA15: 0.00030405582 | AB15: 0.00030405582 | AC15: 0.00030405582 | AD15: 0.00030405582 | AE15: 0.00030405582 | AF15: 0.00030405582 | AG15: 0.00030405582 | AH15: 0.00030405582 | AI15: 0.00030405582 | AJ15: 0.00017089789 | AK15: 0.00017089789 | AL15: 0.00017089789 | AM15: 0.00017089789 | AN15: 0.00017089789 | AO15: 0.00017089789 | AP15: 0.00027931662 | AQ15: =SUM(AS15:BV15) -> 0 | AR15: =+AQ15/K15 -> 0
A16: =+PROYECTO!$B$9 -> Fortalecimiento de la innovación en las MiPymes a partir de los resultados de investigación de las IES del Departamento del Valle del Cauca | B16: ='ACTIVIDADES MGA'!$E$10 -> Actividad 1.1.1 | C16: 1.1.1 Realizar planeación estratégica Icesi | D16: 1 | E16: Articular con la entidad aliada el desarrollo de las actividades administrativas y de coordinación del desarrollo de las actividades que se realicen con la entidad en el marco del proyecto | F16: Documentos asociados a la dirección y gerencia del proyecto | G16: Informes de avance mensual de la dirección del proyecto | H16: 45991 | I16: ='ACTIVIDADES MGA'!$I$10 -> 1 | J16: ='ACTIVIDADES MGA'!$J$10 -> 30 | K16: =SUM(L16:AP16) -> 0.044794756 | L16: 9.9543903e-05 | M16: 0.0014931585 | N16: 0.0014931585 | O16: 0.0014931585 | P16: 0.0014931585 | Q16: 0.0014931585 | R16: 0.0014931585 | S16: 0.0014931585 | T16: 0.0014931585 | U16: 0.0014931585 | V16: 0.0014931585 | W16: 0.0014931585 | X16: 0.0014931585 | Y16: 0.0014931585 | Z16: 0.0014931585 | AA16: 0.0014931585 | AB16: 0.0014931585 | AC16: 0.0014931585 | AD16: 0.0014931585 | AE16: 0.0014931585 | AF16: 0.0014931585 | AG16: 0.0014931585 | AH16: 0.0014931585 | AI16: 0.0014931585 | AJ16: 0.0014931585 | AK16: 0.0014931585 | AL16: 0.0014931585 | AM16: 0.0014931585 | AN16: 0.0014931585 | AO16: 0.0014931585 | AP16: 0.0013936146 | AQ16: =SUM(AS16:BV16) -> 0 | AR16: =+AQ16/K16 -> 0
A17: =+PROYECTO!$B$9 -> Fortalecimiento de la innovación en las MiPymes a partir de los resultados de investigación de las IES del Departamento del Valle del Cauca | B17: ='ACTIVIDADES MGA'!$E$10 -> Actividad 1.1.1 | C17: 1.1.1 Realizar planeación estratégica con USB Cali | D17: 1 | E17: Articular con la entidad aliada el desarrollo de las actividades administrativas y de coordinación del desarrollo de las actividades que se realicen con la entidad en el marco del proyecto | F17: Documentos asociados a la dirección y gerencia del proyecto | G17: Informes de avance mensual de la dirección del proyecto | H17: 45991 | I17: ='ACTIVIDADES MGA'!$I$10 -> 1 | J17: ='ACTIVIDADES MGA'!$J$10 -> 30 | K17: =SUM(L17:AP17) -> 0.0080168536 | L17: 2.0303122e-05 | M17: 0.00030454683 | N17: 0.00030454683 | O17: 0.00030454683 | P17: 0.00030454683 | Q17: 0.00030454683 | R17: 0.00030454683 | S17: 0.00030454683 | T17: 0.00030454683 | U17: 0.00030454683 | V17: 0.00030454683 | W17: 0.00030454683 | X17: 0.00026077263 | Y17: 0.00026077263 | Z17: 0.00026077263 | AA17: 0.00026077263 | AB17: 0.00026077263 | AC17: 0.00026077263 | AD17: 0.00026077263 | AE17: 0.00026077263 | AF17: 0.00026077263 | AG17: 0.00026077263 | AH17: 0.00026077263 | AI17: 0.00026077263 | AJ17: 0.00020550335 | AK17: 0.00020550335 | AL17: 0.00020550335 | AM17: 0.00020550335 | AN17: 0.00020550335 | AO17: 0.00020550335 | AP17: 0.00028424371 | AQ17: =SUM(AS17:BV17) -> 0 | AR17: =+AQ17/K17 -> 0
A18: =+PROYECTO!$B$9 -> Fortalecimiento de la innovación en las MiPymes a partir de los resultados de investigación de las IES del Departamento del Valle del Cauca | B18: ='ACTIVIDADES MGA'!$E$10 -> Actividad 1.1.1 | C18: 1.1.1 Realizar planeación estratégica FUNDAUTONOMA | D18: 1 | E18: Articular con la entidad aliada el desarrollo de las actividades administrativas y de coordinación del desarrollo de las actividades que se realicen con la entidad en el marco del proyecto | F18: Documentos asociados a la dirección y gerencia del proyecto | G18: Informes de avance mensual de la dirección del proyecto | H18: 45991 | I18: ='ACTIVIDADES MGA'!$I$10 -> 1 | J18: ='ACTIVIDADES MGA'!$J$10 -> 30 | K18: =SUM(L18:AP18) -> 0.0054960255 | L18: 1.221339e-05 | M18: 0.00018320085 | N18: 0.00018320085 | O18: 0.00018320085 | P18: 0.00018320085 | Q18: 0.00018320085 | R18: 0.00018320085 | S18: 0.00018320085 | T18: 0.00018320085 | U18: 0.00018320085 | V18: 0.00018320085 | W18: 0.00018320085 | X18: 0.00018320085 | Y18: 0.00018320085 | Z18: 0.00018320085 | AA18: 0.00018320085 | AB18: 0.00018320085 | AC18: 0.00018320085 | AD18: 0.00018320085 | AE18: 0.00018320085 | AF18: 0.00018320085 | AG18: 0.00018320085 | AH18: 0.00018320085 | AI18: 0.00018320085 | AJ18: 0.00018320085 | AK18: 0.00018320085 | AL18: 0.00018320085 | AM18: 0.00018320085 | AN18: 0.00018320085 | AO18: 0.00018320085 | AP18: 0.00017098746 | AQ18: =SUM(AS18:BV18) -> 0 | AR18: =+AQ18/K18 -> 0
A19: =+PROYECTO!$B$9 -> Fortalecimiento de la innovación en las MiPymes a partir de los resultados de investigación de las IES del Departamento del Valle del Cauca | B19: ='ACTIVIDADES MGA'!E11 -> Actividad 1.1.2 | C19: ='ACTIVIDADES MGA'!F11 -> 1.1.2 Realizar el diagnóstico de las IES de tercera misión | D19: 1 | E19: Ejecutar el servicio de diagnóstico y sensibilización de la tercera misión en las IES. Caracterización de grupos de investigación de las IES aliadas, a partir de fuentes primarias y secundarias. Identificación de la oferta científico-tecnológica pertinente a las MiPymes | F19: Documento del diagnóstico de capacidades de las IES para la transferencia tecnológica y la innovación. Documento con la relación oferta científico-tecnológica de las IES con la demandas de las MiPymes | G19: Informes entregados a la supervisión | H19: 45382 | I19: ='ACTIVIDADES MGA'!I11 -> 1 | J19: ='ACTIVIDADES MGA'!J11 -> 10 | K19: =SUM(L19:AP19) -> 0.026248914 | L19: 8.1316016e-05 | M19: 0.0012197402 | N19: 0.015271251 | O19: 0.0012197402 | P19: 0.0012197402 | Q19: 0.0012197402 | R19: 0.0012197402 | S19: 0.0012197402 | T19: 0.0012197402 | U19: 0.0023581645 | AQ19: =SUM(AS19:BV19) -> 0 | AR19: =+AQ19/K19 -> 0
A20: =+PROYECTO!$B$9 -> Fortalecimiento de la innovación en las MiPymes a partir de los resultados de investigación de las IES del Departamento del Valle del Cauca | B20: ='ACTIVIDADES MGA'!E12 -> Actividad 1.1.3 | C20: ='ACTIVIDADES MGA'!F12 -> 1.1.3 Sensibilizar a la comunidad universitaria sobre la tercera misión de las IES | D20: 1 | E20: Ejecutar el servicio de diagnóstico y sensibilización de la tercera misión en las IES. Realizar espacios de socialización/talleres sobre tercera misión de las IES | F20: Documento descriptivo con las evidencias de las socializaciones realizadas | G20: Informes entregados a la supervisión | H20: 31/03/204 | I20: ='ACTIVIDADES MGA'!I12 -> 4 | J20: ='ACTIVIDADES MGA'!J12 -> 10 | K20: =SUM(L20:AP20) -> 0.026248914 | O20: 0.015793997 | P20: 0.0017424861 | Q20: 0.0017424861 | R20: 0.0017424861 | S20: 0.0017424861 | T20: 0.0017424861 | U20: 0.0017424861 | AQ20: =SUM(AS20:BV20) -> 0 | AR20: =+AQ20/K20 -> 0
A21: =+PROYECTO!$B$9 -> Fortalecimiento de la innovación en las MiPymes a partir de los resultados de investigación de las IES del Departamento del Valle del Cauca | B21: ='ACTIVIDADES MGA'!E13 -> Actividad 1.1.4 | C21: ='ACTIVIDADES MGA'!F13 -> 1.1.4 Construir propuestas normativas internas y de procesos organizacionales en las IES para brindar soporte a la interacción Universidad - Empresa. Acompañar el proceso de aprobación | D21: 1 | E21: Ejecutar el servicio de diagnóstico y propuestas normativas de la tercera misión en IES. Identificar el estado actual de las IES aliadas en cuanto a procesos, procedimientos, normatividad de las IES que soporte la interacción Universidad-Empresa. Establecer propuesta normativa de la tercera misión en cada IES | F21: Documento descriptivo con las propuestas normativas y de procesos organizaciones de cada IES que soporte la interacción Universidad-Empresa | G21: Informes entregados a la supervisión | H21: 45473 | I21: ='ACTIVIDADES MGA'!I13 -> 2 | J21: ='ACTIVIDADES MGA'!J13 -> 13 | K21: =SUM(L21:AP21) -> 0.040900636 | M21: 0.00048098817 | N21: 0.014532499 | O21: 0.00048098817 | P21: 0.00048098817 | Q21: 0.00048098817 | R21: 0.00048098817 | S21: 0.014532499 | T21: 0.00048098817 | U21: 0.00048098817 | V21: 0.00048098817 | W21: 0.00048098817 | X21: 0.0075067437 | AQ21: =SUM(AS21:BV21) -> 0 | AR21: =+AQ21/K21 -> 0
A22: =+PROYECTO!$B$9 -> Fortalecimiento de la innovación en las MiPymes a partir de los resultados de investigación de las IES del Departamento del Valle del Cauca | B22: ='ACTIVIDADES MGA'!E14 -> Actividad 1.1.5 | C22: ='ACTIVIDADES MGA'!F14 -> 1.1.5 Acompañar la implementación de la nueva normatividad y procesos organizacionales aprobados por las universidades en la relación con las Mipymes beneficiarias | D22: 1 | E22: Validar los informes periódicos entregados por el proveedor del servicio de diagnóstico y normativas de la tercera misión en IES. Planear agenda de acompañamiento en cada MiPymes. Realizar y documentar acompañamiento | F22: Documento que evidencie el acompañamiento realizado en la implementación de las propuestas | G22: Informes entregados a la supervisión | H22: 45565 | I22: ='ACTIVIDADES MGA'!I14 -> 11 | J22: ='ACTIVIDADES MGA'!J14 -> 16 | K22: =SUM(L22:AP22) -> 0.033274669 | V22: 0.016084412 | W22: 0.0020329004 | X22: 0.009058656 | Y22: 0.0020329004 | Z22: 0.0020329004 | AA22: 0.0020329004 | AQ22: =SUM(AS22:BV22) -> 0 | AR22: =+AQ22/K22 -> 0
A23: =+PROYECTO!$B$9 -> Fortalecimiento de la innovación en las MiPymes a partir de los resultados de investigación de las IES del Departamento del Valle del Cauca | B23: ='ACTIVIDADES MGA'!E15 -> Actividad 2.1.1 | C23: ='ACTIVIDADES MGA'!F15 -> 2.1.1 Identificar la demanda por servicios de innovación de las empresas beneficiarias | D23: 1 | E23: Realizar revisión de la literatura que apoye la identificación de demendas por servicios de innovación empresarial. Identificar necesidades, oportunidades y retos de innovación de las MiPymes | F23: Documento con la demanda de servicios de innovación de las MiPymes beneficiarias | G23: Informes entregados a la supervisión | H23: 31/12/22023 | I23: ='ACTIVIDADES MGA'!I15 -> 1 | J23: ='ACTIVIDADES MGA'!J15 -> 7 | K23: =SUM(L23:AP23) -> 0.026072181 | L23: 0.00024830649 | M23: 0.0037245973 | N23: 0.0037245973 | O23: 0.0037245973 | P23: 0.0037245973 | Q23: 0.0037245973 | R23: 0.0072008882 | AQ23: =SUM(AS23:BV23) -> 0 | AR23: =+AQ23/K23 -> 0
A24: =+PROYECTO!$B$9 -> Fortalecimiento de la innovación en las MiPymes a partir de los resultados de investigación de las IES del Departamento del Valle del Cauca | B24: ='ACTIVIDADES MGA'!E16 -> Actividad 2.1 .2 | C24: ='ACTIVIDADES MGA'!F16 -> 2.1.2 Estructurar la oferta de servicios, conocimientos y tecnologías de las IES orientada a la innovación a las empresas | D24: 1 | E24: Estructurar la oferta de servicios, conocimientos y tecnologías de las IES orientada a la innovación en las empresas (Empaquetamiento) | F24: Documento con la estructruación de la oferta de servicios, conocimientos y tecnologías de las IES orientadas a la innovación a las empresas | G24: Informes entregados a la supervisión | H24: 45869 | I24: ='ACTIVIDADES MGA'!I16 -> 6 | J24: ='ACTIVIDADES MGA'!J16 -> 26 | K24: =SUM(L24:AP24) -> 0.024604483 | Q24: 0.0011716421 | R24: 0.0011716421 | S24: 0.0011716421 | T24: 0.0011716421 | U24: 0.0011716421 | V24: 0.0011716421 | W24: 0.0011716421 | X24: 0.0011716421 | Y24: 0.0011716421 | Z24: 0.0011716421 | AA24: 0.0011716421 | AB24: 0.0011716421 | AC24: 0.0011716421 | AD24: 0.0011716421 | AE24: 0.0011716421 | AF24: 0.0011716421 | AG24: 0.0011716421 | AH24: 0.0011716421 | AI24: 0.0011716421 | AJ24: 0.0011716421 | AK24: 0.0011716421 | AQ24: =SUM(AS24:BV24) -> 0 | AR24: =+AQ24/K24 -> 0
A25: =+PROYECTO!$B$9 -> Fortalecimiento de la innovación en las MiPymes a partir de los resultados de investigación de las IES del Departamento del Valle del Cauca | B25: ='ACTIVIDADES MGA'!E17 -> Actividad 2.1.3 | C25: ='ACTIVIDADES MGA'!F17 -> 2.1.3 Divulgar y gestionar los resultados de investigación de las IES en las empresas | D25: 1 | E25: Realizar reuniones con las empresas beneficiarias, visibilizar la oferta de servicios de innovación de las IES a las empresas beneficiarias y demás actores de interés. Alimentar y actualizar el contenido de la plataforma web con el portafolio de servicios de innovación de las IES | F25: Documento con la desripción de las acciones de divulgación y gestión de resultados de investigación de las IES. Oferta de servicios de innovación de las IES divulgados en plataforma web | G25: Informes entregados a la supervisión | H25: 45991 | I25: ='ACTIVIDADES MGA'!I17 -> 9 | J25: ='ACTIVIDADES MGA'!J17 -> 30 | K25: =SUM(L25:AP25) -> 0.03869698 | T25: 0.0017589536 | U25: 0.0017589536 | V25: 0.0017589536 | W25: 0.0017589536 | X25: 0.0017589536 | Y25: 0.0017589536 | Z25: 0.0017589536 | AA25: 0.0017589536 | AB25: 0.0017589536 | AC25: 0.0017589536 | AD25: 0.0017589536 | AE25: 0.0017589536 | AF25: 0.0017589536 | AG25: 0.0017589536 | AH25: 0.0017589536 | AI25: 0.0017589536 | AJ25: 0.0017589536 | AK25: 0.0017589536 | AL25: 0.0017589536 | AM25: 0.0017589536 | AN25: 0.0017589536 | AO25: 0.0017589536 | AQ25: =SUM(AS25:BV25) -> 0 | AR25: =+AQ25/K25 -> 0
A26: =+PROYECTO!$B$9 -> Fortalecimiento de la innovación en las MiPymes a partir de los resultados de investigación de las IES del Departamento del Valle del Cauca | B26: ='ACTIVIDADES MGA'!E18 -> Actividad 2.1 .4 | C26: ='ACTIVIDADES MGA'!F18 -> 2.1.4 Desarrollar la maduración de conocimientos y tecnologías de las IES. Convocatoria y desarrollo de los proyectos ganadores: al menos 10 proyectos | D26: 1 | E26: Realizar convocatoria para maduración de conocimientos y tecnologías de las IES, evaluar y seleccionar las propuestas. Madurar conocimientos y tecnologías de los 10 proyectos seleccionados | F26: Documento con los términos de referencia de la convocatoria. Documento de la descripción del proceso de selección y documentación del acompañamiento a la ejecución de los 10 proyectos de maduración seleccionados | G26: Informes entregados a la supervisión | H26: 45930 | I26: ='ACTIVIDADES MGA'!I18 -> 5 | J26: ='ACTIVIDADES MGA'!J18 -> 28 | K26: =SUM(L26:AP26) -> 0.097571145 | P26: 0.0011380662 | Q26: 0.0011380662 | R26: 0.0011380662 | S26: 0.0011380662 | T26: 0.0011380662 | U26: 0.0011380662 | V26: 0.036266844 | W26: 0.0011380662 | X26: 0.0011380662 | Y26: 0.0011380662 | Z26: 0.0011380662 | AA26: 0.0011380662 | AB26: 0.0011380662 | AC26: 0.036266844 | AD26: 0.0011380662 | AE26: 0.0011380662 | AF26: 0.0011380662 | AG26: 0.0011380662 | AH26: 0.0011380662 | AI26: 0.0011380662 | AJ26: 0.0011380662 | AK26: 0.0011380662 | AL26: 0.0011380662 | AM26: 0.0011380662 | AQ26: =SUM(AS26:BV26) -> 0 | AR26: =+AQ26/K26 -> 0
A27: =+PROYECTO!$B$9 -> Fortalecimiento de la innovación en las MiPymes a partir de los resultados de investigación de las IES del Departamento del Valle del Cauca | B27: ='ACTIVIDADES MGA'!E19 -> Actividad 2.1.5 | C27: ='ACTIVIDADES MGA'!F19 -> 2.1.5 Crear e implementar los espacios de interacción U-E-E buscando fortalecer la productividad empresarial | D27: 1 | E27: Identificar actores clave U-E-E en el proyecto. Desarrollar eventos periódicos de interacción U-E-E, para fortalecer la conexión de oferta y demanda en CTeI. Desarrollar espacios de interacción con apoyo de jóvenes de bae comunitaria | F27: Documento con la descripción de los espacios de interacción U-E-E | G27: Informes entregados a la supervisión | H27: 45991 | I27: ='ACTIVIDADES MGA'!I19 -> 1 | J27: ='ACTIVIDADES MGA'!J19 -> 30 | K27: =SUM(L27:AP27) -> 0.039812222 | L27: 2.5583914e-05 | M27: 0.00038375871 | N27: 0.00055021853 | O27: 0.00055021853 | P27: 0.0036842563 | Q27: 0.001049598 | R27: 0.001049598 | S27: 0.001049598 | T27: 0.001049598 | U27: 0.001049598 | V27: 0.001049598 | W27: 0.001049598 | X27: 0.0055214513 | Y27: 0.0011303541 | Z27: 0.0011303541 | AA27: 0.0011303541 | AB27: 0.0011303541 | AC27: 0.0011303541 | AD27: 0.0011303541 | AE27: 0.0011303541 | AF27: 0.0011303541 | AG27: 0.0011303541 | AH27: 0.0011303541 | AI27: 0.0011303541 | AJ27: 0.0029566122 | AK27: 0.0012001733 | AL27: 0.0012001733 | AM27: 0.0012001733 | AN27: 0.0012001733 | AO27: 0.0012001733 | AP27: 0.0003581748 | AQ27: =SUM(AS27:BV27) -> 0 | AR27: =+AQ27/K27 -> 0
A28: =+PROYECTO!$B$9 -> Fortalecimiento de la innovación en las MiPymes a partir de los resultados de investigación de las IES del Departamento del Valle del Cauca | B28: ='ACTIVIDADES MGA'!E20 -> Actividad 3.1.1 | C28: ='ACTIVIDADES MGA'!F20 -> 3.1.1 Realizar interacción inicial con las MiPymes beneficiarias de la convocatoria | D28: 1 | E28: Gestionar la participación y caracterizar las 20 MiPymes beneficiarias. Apoyar la gestión de espacios y formulación de proyectos IES-MiPymes (20) que se presentarán en convocatoria de maduración | F28: Documento con descripción de la interacción con las MiPymes. Documentos asociados al acuerdo de compromiso de las MiPymes | G28: Informes entregados a la supervisión | H28: 45412 | I28: ='ACTIVIDADES MGA'!I20 -> 1 | J28: ='ACTIVIDADES MGA'!J20 -> 11 | K28: =SUM(L28:AP28) -> 0.024462489 | L28: 0.00014825751 | M28: 0.0022238626 | N28: 0.0022238626 | O28: 0.0022238626 | P28: 0.0022238626 | Q28: 0.0022238626 | R28: 0.0022238626 | S28: 0.0022238626 | T28: 0.0022238626 | U28: 0.0022238626 | V28: 0.0042994678 | AQ28: =SUM(AS28:BV28) -> 0 | AR28: =+AQ28/K28 -> 0
A29: Fortalecimiento de la innovación en las MiPymes a partir de los resultados de investigación de las IES del Departamento del Valle del Cauca | B29: Actividad 3.1.1 | C29: 3.1.1 Realizar interacción inicial con las MiPymes beneficiarias de la convocatoria - REDDI | D29: 1 | E29: Gestionar la participación y caracterizar las 20 MiPymes beneficiarias. Apoyar la gestión de espacios y formulación de proyectos IES-MiPymes (20) que se presentarán en convocatoria de maduración | F29: Documento con descripción de la interacción con las MiPymes. Documentos asociados al acuerdo de compromiso de las MiPymes | G29: Informes entregados a la supervisión | H29: 45412 | I29: 1 | J29: 11 | K29: =SUM(L29:AP29) -> 0.0085621174 | L29: 5.1891621e-05 | M29: 0.00077837431 | N29: 0.00077837431 | O29: 0.00077837431 | P29: 0.00077837431 | Q29: 0.00077837431 | R29: 0.00077837431 | S29: 0.00077837431 | T29: 0.00077837431 | U29: 0.00077837431 | V29: 0.001504857
A30: =+PROYECTO!$B$9 -> Fortalecimiento de la innovación en las MiPymes a partir de los resultados de investigación de las IES del Departamento del Valle del Cauca | B30: ='ACTIVIDADES MGA'!E21 -> Actividad 3.1.2 | C30: ='ACTIVIDADES MGA'!F21 -> 3.1.2 Realizar los procesos de Intervención en Mipymes de los sectores priorizados del departamento | D30: 1 | E30: Generar 20 productos y/o servicios innovadores nuevos o mejorados de las MiPymes beneficiarias. Ejecutar los servicios tecnológicos: 1) apoyo a procesos de innovación entre empresarios e IES, 2) Formulación de 10 proyectos de CTeI en las MiPymes para acceder a beneficios tributarios, 3) Estructuración de 10 modelos de negocio, 4) Estudios de Vigilancia Tecnológica | F30: Informes de la generación de 20 productos y/o servicios innovadores de las MiPymes. Informe acompañamiento en procesos de innovación entre empresarios e IES. Informe formulación de 10 proyectos para beneficios tributarios en CTeI. Informes 10 modelos de negocio. Informes vigilnacias tecnológicas.Documentos asociados con la ejecución de los servicios tecnológicos. | G30: Informes entregados a la supervisión | H30: 45930 | I30: ='ACTIVIDADES MGA'!I21 -> 2 | J30: ='ACTIVIDADES MGA'!J21 -> 28 | K30: =SUM(L30:AP30) -> 0.26839784 | M30: 0.00066803499 | N30: 0.0093186742 | O30: 0.00066803499 | P30: 0.00066803499 | Q30: 0.00066803499 | R30: 0.00066803499 | S30: 0.0093186742 | T30: 0.00066803499 | U30: 0.045089771 | V30: 0.016475985 | W30: 0.016475985 | X30: 0.022878903 | Y30: 0.00066803499 | Z30: 0.011206668 | AA30: 0.022878903 | AB30: 0.019637575 | AC30: 0.00066803499 | AD30: 0.00066803499 | AE30: 0.011206668 | AF30: 0.00066803499 | AG30: 0.00066803499 | AH30: 0.00066803499 | AI30: 0.00066803499 | AJ30: 0.067952156 | AK30: 0.00066803499 | AL30: 0.0059373517 | AM30: 0.00066803499 | AQ30: =SUM(AS30:BV30) -> 0 | AR30: =+AQ30/K30 -> 0
A31: =+PROYECTO!$B$9 -> Fortalecimiento de la innovación en las MiPymes a partir de los resultados de investigación de las IES del Departamento del Valle del Cauca | B31: ='ACTIVIDADES MGA'!E22 -> Actividad 3.1.3 | C31: ='ACTIVIDADES MGA'!F22 -> 3.1.3 Realizar las actividades de administración del proyecto | D31: 1 | E31: Gestionar los componentes administrativos, financieros y jurídicos del proyecto | F31: Informes administrativos, jurídicos y financieros del proyecto | G31: Informes entregados a la supervisión | H31: 45991 | I31: ='ACTIVIDADES MGA'!I22 -> 1 | J31: ='ACTIVIDADES MGA'!J22 -> 30 | K31: =SUM(L31:AP31) -> 0.1538961 | L31: 0.00034372227 | M31: 0.00473883 | N31: 0.00473883 | O31: 0.00473883 | P31: 0.00473883 | Q31: 0.00473883 | R31: 0.00473883 | S31: 0.00473883 | T31: 0.00473883 | U31: 0.00473883 | V31: 0.00473883 | W31: 0.00473883 | X31: 0.0054641537 | Y31: 0.0050471496 | Z31: 0.0050471496 | AA31: 0.0050471496 | AB31: 0.0050471496 | AC31: 0.0050471496 | AD31: 0.0050471496 | AE31: 0.0050471496 | AF31: 0.0050471496 | AG31: 0.0050471496 | AH31: 0.0050471496 | AI31: 0.0046042397 | AJ31: 0.0061121405 | AK31: 0.0059036388 | AL31: 0.0059036388 | AM31: 0.0059036388 | AN31: 0.0059036388 | AO31: 0.0059036388 | AP31: 0.0052550217 | AQ31: =SUM(AS31:BV31) -> 0 | AR31: =+AQ31/K31 -> 0
A32: =+PROYECTO!$B$9 -> Fortalecimiento de la innovación en las MiPymes a partir de los resultados de investigación de las IES del Departamento del Valle del Cauca | B32: ='ACTIVIDADES MGA'!E22 -> Actividad 3.1.3 | C32: 3.1.3 Realizar las actividades de administración del proyecto - UNIVALLE | D32: 1 | E32: Gestionar los componentes administrativos, financieros y jurídicos del proyecto | F32: Informes administrativos, jurídicos y financieros del proyecto | G32: Informes entregados a la supervisión | H32: 45991 | I32: ='ACTIVIDADES MGA'!I22 -> 1 | J32: ='ACTIVIDADES MGA'!J22 -> 30 | K32: =SUM(L32:AP32) -> 0.011603255 | L32: 2.4394985e-05 | M32: 0.00036592477 | N32: 0.00036592477 | O32: 0.00036592477 | P32: 0.00036592477 | Q32: 0.00036592477 | R32: 0.00036592477 | S32: 0.00036592477 | T32: 0.00036592477 | U32: 0.00036592477 | V32: 0.00036592477 | W32: 0.00036592477 | X32: 0.0003915395 | Y32: 0.0003915395 | Z32: 0.0003915395 | AA32: 0.0003915395 | AB32: 0.0003915395 | AC32: 0.0003915395 | AD32: 0.0003915395 | AE32: 0.0003915395 | AF32: 0.0003915395 | AG32: 0.0003915395 | AH32: 0.0003915395 | AI32: 0.0003915395 | AJ32: 0.00041894727 | AK32: 0.00041894727 | AL32: 0.00041894727 | AM32: 0.00041894727 | AN32: 0.00041894727 | AO32: 0.00041894727 | AP32: 0.00034152978
A33: =+PROYECTO!$B$9 -> Fortalecimiento de la innovación en las MiPymes a partir de los resultados de investigación de las IES del Departamento del Valle del Cauca | B33: ='ACTIVIDADES MGA'!E22 -> Actividad 3.1.3 | C33: 3.1.3 Realizar las actividades de administración del proyecto - PUJ Cali | D33: 1 | E33: Gestionar los componentes administrativos, financieros y jurídicos del proyecto | F33: Informes administrativos, jurídicos y financieros del proyecto | G33: Informes entregados a la supervisión | H33: 45991 | I33: ='ACTIVIDADES MGA'!I22 -> 1 | J33: 24 | K33: =SUM(L33:AP33) -> 0.011389112 | L33: 3.1636421e-05 | M33: 0.00047454632 | N33: 0.00047454632 | O33: 0.00047454632 | P33: 0.00047454632 | Q33: 0.00047454632 | R33: 0.00047454632 | S33: 0.00047454632 | T33: 0.00047454632 | U33: 0.00047454632 | V33: 0.00047454632 | W33: 0.00047454632 | X33: 0.00047454632 | Y33: 0.00047454632 | Z33: 0.00047454632 | AA33: 0.00047454632 | AB33: 0.00047454632 | AC33: 0.00047454632 | AD33: 0.00047454632 | AE33: 0.00047454632 | AF33: 0.00047454632 | AG33: 0.00047454632 | AH33: 0.00047454632 | AI33: 0.00091745621
A34: =+PROYECTO!$B$9 -> Fortalecimiento de la innovación en las MiPymes a partir de los resultados de investigación de las IES del Departamento del Valle del Cauca | B34: ='ACTIVIDADES MGA'!E22 -> Actividad 3.1.3 | C34: 3.1.3 Realizar las actividades de administración del proyecto - Icesi | D34: 1 | E34: Gestionar los componentes administrativos, financieros y jurídicos del proyecto | F34: Informes administrativos, jurídicos y financieros del proyecto | G34: Informes entregados a la supervisión | H34: 45991 | I34: ='ACTIVIDADES MGA'!I22 -> 1 | J34: ='ACTIVIDADES MGA'!J22 -> 30 | K34: =SUM(L34:AP34) -> 0.0012916149 | L34: 2.3918795e-06 | M34: 3.5878192e-05 | N34: 3.5878192e-05 | O34: 3.5878192e-05 | P34: 3.5878192e-05 | Q34: 3.5878192e-05 | R34: 3.5878192e-05 | S34: 3.5878192e-05 | T34: 3.5878192e-05 | U34: 3.5878192e-05 | V34: 3.5878192e-05 | W34: 3.5878192e-05 | X34: 3.5878192e-05 | Y34: 3.5878192e-05 | Z34: 3.5878192e-05 | AA34: 3.5878192e-05 | AB34: 3.5878192e-05 | AC34: 3.5878192e-05 | AD34: 3.5878192e-05 | AE34: 3.5878192e-05 | AF34: 3.5878192e-05 | AG34: 3.5878192e-05 | AH34: 3.5878192e-05 | AI34: 3.5878192e-05 | AJ34: 7.1756384e-05 | AK34: 7.1756384e-05 | AL34: 7.1756384e-05 | AM34: 7.1756384e-05 | AN34: 7.1756384e-05 | AO34: 7.1756384e-05 | AP34: 3.3486312e-05
A35: =+PROYECTO!$B$9 -> Fortalecimiento de la innovación en las MiPymes a partir de los resultados de investigación de las IES del Departamento del Valle del Cauca | B35: ='ACTIVIDADES MGA'!E23 -> Actividad 3.1.4 | C35: ='ACTIVIDADES MGA'!F23 -> 3.1.4 Realizar las actividades de supervisión del proyecto | D35: 1 | E35: Gestionar la supervisión por parte de Minciencias | H35: 45991 | I35: ='ACTIVIDADES MGA'!I23 -> 1 | J35: ='ACTIVIDADES MGA'!J23 -> 30 | K35: =SUM(L35:AP35) -> 0.046800841 | L35: 9.9531537e-05 | M35: 0.0014929731 | N35: 0.0014929731 | O35: 0.0014929731 | P35: 0.0014929731 | Q35: 0.0014929731 | R35: 0.0014929731 | S35: 0.0014929731 | T35: 0.0014929731 | U35: 0.0014929731 | V35: 0.0014929731 | W35: 0.0014929731 | X35: 0.0015777798 | Y35: 0.0015777798 | Z35: 0.0015777798 | AA35: 0.0015777798 | AB35: 0.0015777798 | AC35: 0.0015777798 | AD35: 0.0015777798 | AE35: 0.0015777798 | AF35: 0.0015777798 | AG35: 0.0015777798 | AH35: 0.0015777798 | AI35: 0.0015777798 | AJ35: 0.0016586345 | AK35: 0.0016586345 | AL35: 0.0016586345 | AM35: 0.0016586345 | AN35: 0.0016586345 | AO35: 0.0016586345 | AP35: 0.0013934415 | AQ35: =SUM(AS35:BV35) -> 0 | AR35: =+AQ35/K35 -> 0
