Workbook

Sheet SALARIO (2)
A1: MUNICIPIO DE MEDELLIN
A2: SECRETARIA DE BIENESTAR SOCIAL
A3: EQUIPO DE COSTOS
G5: Incremento SMMLV 2010 | J5: 0.0364258
A6: NIVEL DE FORMACION | B6: EXPERIENCIA | E6: ESTUDIOS | I6: SALARIO | O6: SUBSIDIO DE TRANSPORTE 2010 | Q6: Inflación 2011: 3,8% | R6: Inflación 2011: 4%
B7: SIN EXPERIENCIA | C7: 1 A 2 AÑOS | D7: 2 A 5 AÑOS | E7: PREGRADO | F7: ESPECIA LIZACION | G7: MAESTRIA | H7: BILINGÜE | I7: BASICO MENSUAL 2009 | J7: BASICO MENSUAL 2010 | K7: MINISTERIO DE EDUCACIÓN NACIONAL | L7: WWW.TUSALARIO.ORG/COLOMBIA/ | M7: COMPUTRABAJO.COM | N7: PROMEDIO | P7: Proyeccion 2011 al 2,7% | Q7: Proyeccion 2011 al 3,8% | R7: Proyeccion 2011 al 3,373%
A8: COORDINADOR
A9: Coordinador General del Programa (1) | B9: X | E9: X | L9: 1523738 | N9: =+L9 -> 1523738 | P9: =1.027*N9 -> 1564878.9 | Q9: =+N9*1.038 -> 1581640 | R9: =+Q9*1.0373 -> 1640635.2
A10: Coordinador General del Programa (2) | C10: X | E10: X | I10: 1915271.3 | J10: =I10*1.03 -> 1972729.4 | L10: 1951090 | N10: =+AVERAGE(J10:L10) -> 1961909.7 | O10: =+IF(N10<=1030000,61500,0) -> 0 | P10: =1.027*N10 -> 2014881.3 | Q10: =+N10*1.038 -> 2036462.3 | R10: =+Q10*1.0373 -> 2112422.3
A11: Coordinador General del Programa (3) | D11: X | F11: X | I11: 2992611.4 | J11: =I11*1.03 -> 3082389.8 | N11: =+AVERAGE(J11:L11) -> 3082389.8 | O11: =+IF(N11<=1030000,61500,0) -> 0 | P11: =1.027*N11 -> 3165614.3 | Q11: =+N11*1.038 -> 3199520.6 | R11: =+Q11*1.0373 -> 3318862.7
A12: Coordinador General del Programa (4) | D12: X | G12: X | I12: 3202707.2 | J12: =I12*1.03 -> 3298788.4 | N12: =+AVERAGE(J12:L12) -> 3298788.4 | O12: =+IF(N12<=1030000,61500,0) -> 0 | P12: =1.027*N12 -> 3387855.7 | Q12: =+N12*1.038 -> 3424142.4 | R12: =+Q12*1.0373 -> 3551862.9
A13: Coordinador Area | E13: x
A14: Auxiliar Coordinador (1) | C14: X | F14: X | I14: 2510202.9 | J14: =I14*1.03 -> 2585509 | N14: =+AVERAGE(J14:L14) -> 2585509 | O14: =+IF(N14<=1030000,61500,0) -> 0 | P14: =1.027*N14 -> 2655317.7 | Q14: =+N14*1.038 -> 2683758.3 | R14: =+Q14*1.0373 -> 2783862.5
A15: Auxiliar Coordinador (2) | C15: X | I15: 1631632 | J15: =I15*1.03 -> 1680581 | N15: =+AVERAGE(J15:L15) -> 1680581 | O15: =+IF(N15<=1030000,61500,0) -> 0 | P15: =1.027*N15 -> 1725956.7 | Q15: =+N15*1.038 -> 1744443 | R15: =+Q15*1.0373 -> 1809510.8
A16: Operador Coordinador (Bachiller) | D16: X | I16: 957635.65 | J16: =I16*1.03 -> 986364.72 | N16: =+AVERAGE(J16:L16) -> 986364.72 | O16: 63600 | P16: =1.027*N16 -> 1012996.6 | Q16: =+N16*1.038 -> 1023846.6 | R16: =+Q16*1.0373 -> 1062036.1
A17: TÉCNICO | P17: =1.027*N17 -> 0 | Q17: =+N17*1.038 -> 0 | R17: =+Q17*1.0373 -> 0
A18: Técnico (1) | B18: X | J18: 635270 | N18: =+AVERAGE(J18:L18) -> 635270 | O18: =+O16 -> 63600 | P18: =1.027*N18 -> 652422.29 | Q18: =+N18*1.038 -> 659410.26 | R18: =+Q18*1.0373 -> 684006.26
A19: Técnico (2) | C19: X | I19: 753061.1 | J19: =I19*1.03 -> 775652.94 | K19: 653081 | N19: =+AVERAGE(J19:L19) -> 714366.97 | O19: =+O18 -> 63600 | P19: =1.027*N19 -> 733654.88 | Q19: =+N19*1.038 -> 741512.91 | R19: =+Q19*1.0373 -> 769171.35
A20: Técnico (3) | D20: X | J20: 817850 | K20: 807446 | N20: =+AVERAGE(J20:L20) -> 812648 | O20: =+O19 -> 63600 | P20: =1.027*N20 -> 834589.5 | Q20: =+N20*1.038 -> 843528.62 | R20: =+Q20*1.0373 -> 874992.24
A21: Técnico (4) | D21: X | H21: X | K21: 1258666 | N21: =+AVERAGE(J21:L21) -> 1258666 | O21: =+IF(N21<=1030000,61500,0) -> 0 | P21: =1.027*N21 -> 1292650 | Q21: =+N21*1.038 -> 1306495.3 | R21: =+Q21*1.0373 -> 1355227.6
A22: TECNÓLOGO | P22: =1.027*N22 -> 0 | Q22: =+N22*1.038 -> 0 | R22: =+Q22*1.0373 -> 0
A23: Tecnólogo (1) | B23: X | K23: 831194 | N23: =+AVERAGE(J23:L23) -> 831194 | O23: =+O20 -> 63600 | P23: =1.027*N23 -> 853636.24 | Q23: =+N23*1.038 -> 862779.37 | R23: =+Q23*1.0373 -> 894961.04
A24: Tecnólogo (2) | C24: X | I24: 941326.38 | J24: =I24*1.03 -> 969566.17 | K24: 1128050 | N24: =+AVERAGE(J24:L24) -> 1048808.1 | O24: =+IF(N24<=1030000,61500,0) -> 0 | P24: =1.027*N24 -> 1077125.9 | Q24: =+N24*1.038 -> 1088662.8 | R24: =+Q24*1.0373 -> 1129269.9
A25: Tecnólogo (3) | C25: X | H25: X | K25: 1424905 | N25: =+AVERAGE(J25:L25) -> 1424905 | O25: =+IF(N25<=1030000,61500,0) -> 0 | P25: =1.027*N25 -> 1463377.4 | Q25: =+N25*1.038 -> 1479051.4 | R25: =+Q25*1.0373 -> 1534220
A26: Tecnólogo (4) | D26: X | I26: 1089519.1 | J26: =I26*1.03 -> 1122204.6 | K26: 1424905 | N26: =+AVERAGE(J26:L26) -> 1273554.8 | O26: =+IF(N26<=1030000,61500,0) -> 0 | P26: =1.027*N26 -> 1307940.8 | Q26: =+N26*1.038 -> 1321949.9 | R26: =+Q26*1.0373 -> 1371258.6
A27: PROFESIONAL | P27: =1.027*N27 -> 0 | Q27: =+N27*1.038 -> 0 | R27: =+Q27*1.0373 -> 0
A28: Profesional (1) | B28: X | E28: X | K28: 1455313 | L28: 1615279 | N28: =+AVERAGE(J28:L28) -> 1535296 | O28: =+IF(N28<=1030000,61500,0) -> 0 | P28: =1.027*N28 -> 1576749 | Q28: =+N28*1.038 -> 1593637.2 | R28: =+Q28*1.0373 -> 1653079.9
A29: Profesional (2) | B29: X | E29: X | H29: X | K29: 2015049 | N29: =+AVERAGE(J29:L29) -> 2015049 | O29: =+IF(N29<=1030000,61500,0) -> 0 | P29: =1.027*N29 -> 2069455.3 | Q29: =+N29*1.038 -> 2091620.9 | R29: =+Q29*1.0373 -> 2169638.3
A30: Profesional (3) | C30: X | E30: X | I30: 1506121.1 | J30: =I30*1.03 -> 1551304.7 | L30: 1669323 | N30: =+AVERAGE(J30:L30) -> 1610313.8 | O30: =+IF(N30<=1030000,61500,0) -> 0 | P30: =1.027*N30 -> 1653792.3 | Q30: =+N30*1.038 -> 1671505.8 | R30: =+Q30*1.0373 -> 1733852.9
A31: Profesional (4) | D31: X | E31: X | K31: 1791155 | L31: 1777980 | N31: =+AVERAGE(J31:L31) -> 1784567.5 | O31: =+IF(N31<=1030000,61500,0) -> 0 | P31: =1.027*N31 -> 1832750.8 | Q31: =+N31*1.038 -> 1852381.1 | R31: =+Q31*1.0373 -> 1921474.9
A32: Profesional (5) | D32: X | E32: X | H32: X | K32: 2359496 | P32: =1.027*N32 -> 0 | Q32: =+N32*1.038 -> 0 | R32: =+Q32*1.0373 -> 0
A33: Profesional (6) | B33: X | F33: X | K33: 2144996 | N33: =+AVERAGE(J33:L33) -> 2144996 | O33: =+IF(N33<=1030000,61500,0) -> 0 | P33: =1.027*N33 -> 2202910.9 | Q33: =+N33*1.038 -> 2226505.8 | R33: =+Q33*1.0373 -> 2309554.5
A34: Profesional (7) | B34: X | F34: X | H34: X | K34: 2681245 | N34: =+AVERAGE(J34:L34) -> 2681245 | O34: =+IF(N34<=1030000,61500,0) -> 0 | P34: =1.027*N34 -> 2753638.6 | Q34: =+N34*1.038 -> 2783132.3 | R34: =+Q34*1.0373 -> 2886943.1
A35: Profesional (8) | C35: X | F35: X | I35: 2259182.2 | J35: =I35*1.03 -> 2326957.6 | N35: =+AVERAGE(J35:L35) -> 2326957.6 | O35: =+IF(N35<=1030000,61500,0) -> 0 | P35: =1.027*N35 -> 2389785.5 | Q35: =+N35*1.038 -> 2415382 | R35: =+Q35*1.0373 -> 2505475.8
A36: Profesional (9) | D36: X | F36: X | K36: 2681245 | N36: =+AVERAGE(J36:L36) -> 2681245 | O36: =+IF(N36<=1030000,61500,0) -> 0 | P36: =1.027*N36 -> 2753638.6 | Q36: =+N36*1.038 -> 2783132.3 | R36: =+Q36*1.0373 -> 2886943.1
A37: Profesional (10) | D37: X | F37: X | H37: X | K37: 3002995 | N37: =+AVERAGE(J37:L37) -> 3002995 | O37: =+IF(N37<=1030000,61500,0) -> 0 | P37: =1.027*N37 -> 3084075.9 | Q37: =+N37*1.038 -> 3117108.8 | R37: =+Q37*1.0373 -> 3233377
A38: Profesional (11) | B38: X | G38: X | K38: 2788495 | N38: =+AVERAGE(J38:L38) -> 2788495 | O38: =+IF(N38<=1030000,61500,0) -> 0 | P38: =1.027*N38 -> 2863784.4 | Q38: =+N38*1.038 -> 2894457.8 | R38: =+Q38*1.0373 -> 3002421.1
A39: Profesional (12) | B39: X | G39: X | H39: X | K39: 3217494 | N39: =+AVERAGE(J39:L39) -> 3217494 | O39: =+IF(N39<=1030000,61500,0) -> 0 | P39: =1.027*N39 -> 3304366.3 | Q39: =+N39*1.038 -> 3339758.8 | R39: =+Q39*1.0373 -> 3464331.8
A40: Profesional (13) | D40: X | G40: X | I40: 2886732.3 | J40: =I40*1.03 -> 2973334.3 | K40: 3217494 | N40: =+AVERAGE(J40:L40) -> 3095414.1 | O40: =+IF(N40<=1030000,61500,0) -> 0 | P40: =1.027*N40 -> 3178990.3 | Q40: =+N40*1.038 -> 3213039.9 | R40: =+Q40*1.0373 -> 3332886.3
A41: Profesional (14) | D41: X | G41: X | H41: X | K41: 3753743 | N41: =+AVERAGE(J41:L41) -> 3753743 | O41: =+IF(N41<=1030000,61500,0) -> 0 | P41: =1.027*N41 -> 3855094.1 | Q41: =+N41*1.038 -> 3896385.2 | R41: =+Q41*1.0373 -> 4041720.4
...

Sheet KIT agrop..
A1: MUNICIPIO DE MEDELLIN
A2: SECRETARIA DE BIENESTAR SOCIAL
A3: ATENCION Y ORIENTACIÓN A LA POBLACION EN CONDICIÓN DE DESPLAZAMIENTO
A4: ESTUDIO DE COSTOS - VIGENCIA 2010 (Del 21 de enero al 31 de diciembre)
A7: SEGURIDAD ALIMENTARIA Y NUTRICIONAL
A10: KIT AGROPECUARIO
H12: 40082
A13: COMPONENTES DEL KIT | B13: UM | C13: Tierragro | E13: Agropecuaria la Miranda | F13: Agromayorista Ltda. | H13: Semillas y semillas | K13: Costo promedio | M13: Cantidad | N13: TOTAL COSTO
A14: Semillas | M14: Kilos
A15: Frijol ICA Quimbaya | B15: Kilo | E15: 7000 | F15: 7000 | G15: =F15*0.25 -> 1750 | H15: 7300 | I15: kilo | K15: =(E15+F15)/2 -> 7000 | M15: 0.25 | N15: =K15*0.25 -> 1750
A16: Maíz ICA 305 | B16: Kilo | C16: 4900 | D16: kilo | E16: 5200 | F16: 5200 | G16: =F16*0.25 -> 1300 | H16: 4200 | I16: Kilo | K16: =(E16+F16)/2 -> 5200 | M16: 0.25 | N16: =K16*0.25 -> 1300
A17: Hortalizas | M17: Gramos
A18: Arveja | B18: Libra | E18: 6000 | F18: 6000 | G18: =F18/500*20 -> 240 | H18: 6750 | I18: Libra | J18: =H18/454*20 -> 297.35683 | K18: =(E18+F18)/2 -> 6000 | M18: 20 | N18: =K18/500*20 -> 240
A19: Cilantro | B19: Libra | E19: 16300 | F19: 16300 | G19: =F19/500*20 -> 652 | H19: 9900 | I19: Libra | J19: =H19/454*20 -> 436.12335 | K19: =(E19+F19)/2 -> 16300 | M19: 20 | N19: =K19/500*20 -> 652
A20: Habichuela | B20: Libra | C20: 14900 | D20: Libra | E20: 16900 | F20: 16900 | G20: =F20/500*20 -> 676 | H20: 11700 | I20: Libra | J20: =H20/454*20 -> 515.4185 | K20: =(E20+F20)/2 -> 16900 | M20: 20 | N20: =K20/500*20 -> 676
A21: Pepino cohombro | B21: Libra | E21: 32500 | F21: 32500 | G21: =F21/500*20 -> 1300 | H21: 36000 | I21: Libra | J21: =H21/454*20 -> 1585.9031 | K21: =(E21+F21)/2 -> 32500 | M21: 20 | N21: =K21/500*20 -> 1300
A22: Remolacha | B22: Libra | C22: 29700 | D22: 454 gr. | E22: 23800 | F22: 23800 | G22: =F22/500*20 -> 952 | H22: 21600 | I22: Libra | J22: =H22/454*20 -> 951.54185 | K22: =(E22+F22)/2 -> 23800 | M22: 20 | N22: =K22/500*20 -> 952
A23: Tomate | B23: Libra | E23: 93800 | F23: 93800 | G23: =F23/500*20 -> 3752 | H23: 81000 | I23: Libra | J23: =H23/454*20 -> 3568.2819 | K23: =(E23+F23)/2 -> 93800 | M23: 20 | N23: =K23/500*20 -> 3752
A24: Zanahoria | B24: Libra | E24: 25000 | F24: 25000 | G24: =F24/500*20 -> 1000 | H24: 16200 | I24: Libra | J24: =H24/454*20 -> 713.65639 | K24: =(E24+F24)/2 -> 25000 | M24: 20 | N24: =K24/500*20 -> 1000
A25: Lechuga batavia | B25: Libra | E25: 56300 | F25: 56300 | G25: =F25/500*20 -> 2252 | H25: 45000 | I25: Libra | J25: =H25/454*20 -> 1982.3789 | K25: =(E25+F25)/2 -> 56300 | M25: 20 | N25: =K25/500*20 -> 2252
A26: Plantulas | M26: Unidad
A27: Fresa | B27: Unidad | E27: 4000 | F27: 4200 | G27: 4200 | K27: =(E27+F27)/2 -> 4100 | M27: 5 | N27: =K27*5 -> 20500
A28: Caléndula | B28: Unidad | E28: 4000 | F28: 4200 | G28: 4200 | K28: =(E28+F28)/2 -> 4100 | M28: 2 | N28: =K28*2 -> 8200
A29: Limoncillo | B29: Unidad | E29: 4000 | F29: 4200 | G29: 4200 | K29: =(E29+F29)/2 -> 4100 | M29: 2 | N29: =K29*2 -> 8200
A30: Ruda | B30: Unidad | E30: 4000 | F30: 4200 | G30: 4200 | K30: =(E30+F30)/2 -> 4100 | M30: 2 | N30: =K30*2 -> 8200
A31: Uchuva | B31: Unidad | E31: 4000 | F31: 4200 | G31: 4200 | K31: =(E31+F31)/2 -> 4100 | M31: 5 | N31: =K31*5 -> 20500
A32: Yerbabuena | B32: Unidad | E32: 4000 | F32: 4200 | G32: 4200 | K32: =(E32+F32)/2 -> 4100 | M32: 2 | N32: =K32*2 -> 8200
F33: Costo unitario apoyo | N33: =SUM(N15:N32) -> 87674
F34: Costo unitario + Inc.2010 | N34: =N33*1.03 -> 90304.22
F35: Familias beneficiadas | N35: 200
F36: Costo total | N36: =N35*N34 -> 18060844
A40: Nota: Las plantulas, semillas y hortalizas se encuentran exentas de IVA.
A44: Elaboró: Paula Andrea Mosquera Quiroz
A45: 40134

Sheet ELECTROD - Gerencia
A1: DESCRIPCION | B1: Cant. | C1: Foto Japón | D1: Flascamaras | E1: Metrocamaras | F1: Fotolandia | G1: Camaras y acces | H1: COSTO PROMEDIO
A3: Camara digital 12MGP, KODACK V 1273 | B3: 1 | C3: 449000 | D3: 510000 | E3: 450000 | H3: =(C3+D3+E3+F3+G3)/3 -> 469666.67
C4: Credihogar | D4: LM Electrodomest | E4: Navarro Ospina
A5: TV 32" LCD | B5: 1 | C5: 1160000 | E5: 1105000 | H5: =(C5+E5)/2 -> 1132500
A6: Telefono Inhalambrico | B6: 7 | C6: 140000 | E6: 119000 | H6: =(C6+E6)/2 -> 129500
A7: DVD Multizona | B7: 1 | E7: 140000 | H7: =E7 -> 140000
A8: VIDEO BEN | B8: 1
A9: Grabadora digital periodista de voz, 290 horas, con auricular estereo, SONY ICD UX70RED, | B9: 1
A10: Filmadora SONY DCR SR-47, Zoom optico LCD 2.7, Disco duro de 60GB | B10: 1 | C10: 1199000
A11: Impresora, MULTIFUNCIONAL ( Impresion, Escaneo, Fax, Copia, velocidad 28 ppm, resolucion 1200 * 1200 DPI, Duplex incorporado, memoria 128MB, interfase USB 50.000 PAGINAS MES, SANSUNG scx-4828fn | B11: 1

Sheet Insumos
A1: MUNICIPIO DE MEDELLIN
A2: SECRETARIA DE BIENESTAR SOCIAL
A3: ATENCION Y ORIENTACIÓN A LA POBLACION EN CONDICIÓN DE DESPLAZAMIENTO
A4: ESTUDIO DE COSTOS - VIGENCIA 2010 (Del 21 de enero al 31 de diciembre)
A7: SEGURIDAD ALIMENTARIA Y NUTRICIONAL
A10: INSUMOS
A12: PROVEEDOR | B12: PRODUCTO | D12: UM | E12: $ COTIZ. | F12: Equiv.
A13: Vigor Ltda. | B13: Abono orgánico compostado | D13: bulto | E13: 9500 | F13: 50 kilos
A14: Agromayorista ltda. | B14: Abono orgánico compostado | D14: bulto | E14: 12120 | F14: 50 kilos
B15: Cal agrícola | D15: bulto | E15: 9240 | F15: 50 kilos
A16: Promical Ltda. | B16: Cal agrícola | D16: tonelada | E16: 205000 | F16: 1000 kilos
A17: Promical | B17: Cal agrícola | D17: bulto | E17: 4300 | F17: 50 kilos
A18: Tierragro | B18: Cal agrícola | D18: bulto | E18: 8000 | F18: 50 kilos
B19: Sulfato de cobre | D19: 25 kilos | E19: 204800 | F19: 25000 gr.
A20: Quimicos JM SA | B20: Sulfato de cobre | D20: Libra | E20: 3800 | F20: 500 gr.
A21: Quimicos LM | B21: Sulfato de cobre | D21: Libra | E21: 5000 | F21: 500 gr.
A22: abaquim Ltda. | B22: Sulfato de cobre | D22: Libra | E22: 5000 | F22: 500 gr.
A23: Protokimica | B23: Roca fosfórica | D23: bulto | E23: 25000 | F23: 50 kilos
A24: Multiquimica Ltda. | B24: Roca fosfórica | D24: bulto | E24: 20000 | F24: 50 kilos
A25: Quimicotienda | B25: Roca fosfórica | D25: bulto | E25: 20000 | F25: 50 kilos
A30: COMPONENTES DEL KIT | B30: Cantidad | C30: abaquim Ltda. | D30: Vigor Ltda. | E30: Promical | F30: Tierragro | G30: Quimicos JM SA | H30: Quimicos LM | I30: Agromayorista ltda. | J30: Promical Ltda. | K30: Protokimica | L30: Multiquimica Ltda. | M30: Quimicotienda | N30: Costo promedio
A31: Abono orgánico compostado | B31: 25 kilos | D31: =9500/50*25 -> 4750 | I31: =12120/50*25 -> 6060 | N31: =(I31+D31)/2 -> 5405
A32: Cal agrícola | B32: 5 kilos | E32: =4300/50*5 -> 430 | F32: =8000/50*5 -> 800 | I32: =9240/50*5 -> 924 | J32: =205000/1000*5 -> 1025 | N32: =(J32+I32+F32)/3 -> 916.33333
A33: Sulfato de cobre | B33: 200 gr. | C33: =5000/500*200 -> 2000 | F33: =(176552*1.16)/25000*200 -> 1638.4026 | G33: =3800/500*200 -> 1520 | H33: =5000/500*200 -> 2000 | N33: =(H33+F33)/2 -> 1819.2013
A34: Roca fosfórica | B34: 200 gr. | K34: =25000/50/1000*200 -> 100 | L34: =20000/50/1000*200 -> 80 | M34: =20000/50/1000*200 -> 80 | N34: =(K34+L34)/2 -> 90
K35: Costo unitario apoyo | N35: =SUM(N31:N34) -> 8230.5346
K36: Costo unitario + Inc.2010 | N36: =N35*1.03 -> 8477.4507
K37: Familias beneficiadas | N37: 200
K38: Costo total | N38: =N36*N37 -> 1695490.1
A40: Elaboró: Paula Andrea Mosquera Quiroz
A41: 40134

Sheet Herram.
A1: MUNICIPIO DE MEDELLIN
A2: SECRETARIA DE BIENESTAR SOCIAL
A3: ATENCION Y ORIENTACIÓN A LA POBLACION EN CONDICIÓN DE DESPLAZAMIENTO
A4: ESTUDIO DE COSTOS - VIGENCIA 2010 (Del 21 de enero al 31 de diciembre)
A6: SEGURIDAD ALIMENTARIA Y NUTRICIONAL
A8: Codima | B8: Alambre de púas k 16 | D8: 65000 | E8: 400 mts
A9: Agroempaques | B9: Alambre de púas k 16 | D9: 64000 | E9: 400 mts
A11: HERRAMIENTAS
A13: COMPONENTES DEL KIT | D13: Ferrenac. | E13: Ferreteria actual Ltda. | F13: Agromayorista | G13: Codima | H13: Agroempaques | I13: Éxito | J13: Codistribelt Ltda. | K13: Inmuniz. Rionegro | L13: Maderinco S.A. | M13: Maderas Gilberto Builes | N13: Fibolca Distrib. | O13: Agencia de empaques | P13: ESTRA | Q13: Costo promedio | R13: Cant. | S13: Costo total * producto
A14: Azadón con cabo | D14: =19950*1.16 -> 23142 | E14: =18100*1.16 -> 20996 | Q14: =(D14+E14)/2 -> 22069 | R14: 1 | S14: =Q14*R14 -> 22069
A15: Machete 18" | D15: 8000 | E15: =8500*1.16 -> 9860 | Q15: =(D15+E15)/2 -> 8930 | R15: 1 | S15: =Q15*R15 -> 8930
A16: Mangera de 3/4" de 20 mts con acoples | D16: =72000*1.16 -> 83520 | I16: =56000+5950 -> 61950 | J16: 170000 | R16: 1
A17: Kit herram.jardinera (pala, tenedor y rastrillo) | E17: =13990/2*1.16 -> 8114.2 | F17: 8636 | I17: 8350 | Q17: =(E17+F17)/2 -> 8375.1 | R17: 1 | S17: =Q17*R17 -> 8375.1
A18: Canasta para almacenamiento de frutas (60cm*40cm*13 alto) Recuperado | P18: 22400 | Q18: =P18 -> 22400 | R18: 1 | S18: =Q18*R18 -> 22400
A19: Rollo de fibra para amarrar (750 mts) | H19: 8000 | N19: 4500 | O19: 8000 | R19: 1 | S19: =Q19*R19 -> 0
A20: Alambre de púas k 16, 20 mts | G20: =65000/400*20 -> 3250 | H20: =64000/400*20 -> 3200 | Q20: =(G20+H20)/2 -> 3225 | R20: 1 | S20: =Q20 -> 3225 | T20: pendiente que marcela hable con jader
A21: Astilla ganadera (5,5 cm-espesor*2,2-alto) | K21: =5600*1.16 -> 6496 | L21: 6500 | M21: 6500 | Q21: =(K21+L21)/2 -> 6498 | R21: 8 | S21: =Q21*R21 -> 51984
A22: Grapas (caja) | D22: =4800*1.16 -> 5568 | E22: =4400*1.16 -> 5104 | Q22: =(D22+E22)/2 -> 5336 | R22: 31 | S22: =Q22*R22 -> 165416
P23: Costo unitario apoyo | S23: =SUM(S14:S22) -> 282399.1
A24: kit agropecuario | C24: ='KIT agrop..'!N34 -> 90304.22
A25: Insumos | C25: =Insumos!N36 -> 8477.4507
A26: Herramientas | C26: =S23 -> 282399.1
A27: Costo apoyo | C27: =SUM(C24:D26) -> 381180.77
A29: KIT DE CULINARIA
A31: ARTÍCULOS | D31: Makro | E31: Carrefour | F31: Éxito | G31: Casa Gómez | I31: Multihogar | K31: Costo promedio | L31: Cant. | M31: Costo total
A33: Olla de aluminio con tapa, 3 litros | F33: 20900 | G33: 18000 | K33: =(F33+G33)/2 -> 19450 | L33: 4 | M33: =K33*L33 -> 77800
A34: Perol mediano con tapa | F34: 14600 | I34: 28000 | L34: 3 | M34: =K34*L34 -> 0
A35: Cuchillo 5" | E35: 6990 | F35: 6990 | G35: 8000 | K35: =(F35+G35)/2 -> 7495 | L35: 4 | M35: =K35*L35 -> 29980
A36: Cucharón de nylon | E36: 4990 | F36: 4450 | K36: =(E36+F36)/2 -> 4720 | L36: 3 | M36: =K36*L36 -> 14160
A37: Espumadera de nylon | E37: 5990 | F37: 4450 | G37: 5000 | K37: =(E37+F37+G37)/3 -> 5146.6667 | L37: 2 | M37: =K37*L37 -> 10293.333
A38: Tabla plástica para picar | F38: 8900 | I38: 10500 | K38: =(F38+I38)/2 -> 9700 | L38: 3 | M38: =K38*L38 -> 29100
A39: Delantal cocinero en tela | D39: 12990 | F39: 15490 | K39: =(D39+F39)/2 -> 14240 | L39: 40 | M39: =K39*L39 -> 569600
A40: Gorro cocinero en tela | D40: 9990 | F40: 5450 | K40: =(D40+F40)/2 -> 7720 | L40: 40 | M40: =K40*L40 -> 308800
A41: Recipientes plásticos (tazones) | F41: 3590 | I41: 2000 | K41: =(F41+I41)/2 -> 2795 | L41: 5 | M41: =K41*L41 -> 13975
M42: =SUM(M33:M41) -> 1053708.3
A45: Elaboró: Paula Andrea Mosquera Quiroz
A46: 40135

Sheet Partic (3)
A1: ALCALDÍA DE MEDELLÍN
A2: =+'Consolidado '!A2:C2 -> SECRETARIA DE GOBIERNO
A3: UNIDAD DE SEGURIDAD ALIMENTARIA
A4: ALBERGUE TEMPORAL
A5: ESTUDIO DE COSTOS
A7: =+TODAY() -> 43735 | C7: Duración en Dias | D7: =+'Consolidado '!B9 -> 110 | E7: =+'Consolidado '!B8 -> 1
A8: Porcentaje de Participación | C8: =+C25/B25 -> #REF! | D8: =+D25/B25 -> #REF!
A9: CONCEPTO | B9: Costo | C9: Aporte Municipio | D9: Cooperante
A10: RECURSO HUMANO | B10: =+'Consolidado '!#REF! -> #REF! | C10: 0 | D10: =+B10-C10 -> #REF!
A11: GASTOS GENERALES
A12: =+'Consolidado '!A16 -> RECURSO HUMANO | B12: =+'Consolidado '!C16 -> 0 | C12: =+B12 -> 0 | D12: =+B12-C12 -> 0
A13: =+'Consolidado '!#REF! -> #REF! | B13: =+'Consolidado '!#REF! -> #REF! | C13: =+B13 -> #REF! | D13: =+B13-C13 -> #REF!
A14: =+'Consolidado '!#REF! -> #REF! | B14: =+'Consolidado '!#REF! -> #REF! | C14: =+B14 -> #REF! | D14: =+B14-C14 -> #REF!
A15: =+'Consolidado '!#REF! -> #REF! | B15: =+'Consolidado '!#REF! -> #REF! | C15: 0 | D15: =+B15-C15 -> #REF!
A16: =+'Consolidado '!#REF! -> #REF! | B16: =+'Consolidado '!#REF! -> #REF! | C16: 0 | D16: =+B16-C16 -> #REF!
A17: =+'Consolidado '!#REF! -> #REF! | B17: =+'Consolidado '!#REF! -> #REF! | C17: 0 | D17: =+B17-C17 -> #REF!
A18: =+'Consolidado '!#REF! -> #REF! | B18: =+'Consolidado '!#REF! -> #REF! | C18: =+B18 -> #REF! | D18: =+B18-C18 -> #REF!
D20: =+B20-C20 -> 0
A21: TOTAL COSTOS GENERALES | B21: =SUM(B12:B20) -> #REF! | C21: =SUM(C12:C20) -> #REF! | D21: =SUM(D12:D20) -> #REF!
A22: Total Recurso Humano + Generales | B22: =+B10+B21 -> #REF! | C22: =+C10+C21 -> #REF! | D22: =+D10+D21 -> #REF!
A23: Costos Indirectos | B23: =+'Consolidado '!#REF! -> #REF! | C23: 0 | D23: =+#REF! -> #REF!
A25: VALOR TOTAL | B25: =B22+B23 -> #REF! | C25: =C22+C23 -> #REF! | D25: =D22+D23+D24 -> #REF!
A27: Presupuesto Oficial | C27: 1456000000
A28: Diferencia | C28: =+C27-C25 -> #REF!

Sheet Partic (2)
A3: FUNDACION BANCO ARQUIDIOCESANO DE ALIMENTOS DE MEDELLIN
A4: ALCALDIA DE MEDELLIN - SECRETARIA DE INCLUSION SOCIAL Y FAMILIA
A5: PRESUPUESTO GENERAL PROYECTO FORTALECIMIENTO INSTITUCIONAL VITANUT 2013
A6: RUBROS | B6: Alcaldia | C6: FUBAM | D6: VALOR TOTAL | E6: % ALCALDIA | F6: % FUBAM | G6: % TOTAL
A7: Complemento Nutricional - Vitanut | B7: 1500000000 | C7: 0 | D7: =+B7+C7 -> 1500000000 | E7: =+D7/$D$12 -> 0.81753154 | F7: 0 | G7: =SUM(E7:F7) -> 0.81753154
A8: Complemento Nutricional Tipo Compota | B8: =+Compota!H7 -> 0 | C8: 0 | D8: =+B8+C8 -> 0 | E8: =+D8/$D$12 -> 0 | F8: 0 | G8: =SUM(E8:F8) -> 0
A9: Gestion Humana | B9: 0 | C9: 97343382 | D9: =+B9+C9 -> 97343382 | E9: 0 | F9: =+D9/$D$12 -> 0.05305419 | G9: =SUM(E9:F9) -> 0.05305419
A10: Costos Generales | B10: 0 | C10: 189053173 | D10: =+B10+C10 -> 189053173 | E10: 0 | F10: =+D10/$D$12 -> 0.10303795 | G10: =SUM(E10:F10) -> 0.10303795
A11: Costos Indirectos - Gastos Legales | B11: 0 | C11: 48395044 | D11: =+B11+C11 -> 48395044 | E11: 0 | F11: =+D11/$D$12 -> 0.026376317 | G11: =SUM(E11:F11) -> 0.026376317
A12: TOTAL CONTRATO | B12: =SUM(B7:B11) -> 1500000000 | C12: =SUM(C7:C11) -> 334791599 | D12: =SUM(D7:D11) -> 1834791599 | E12: =+B12/D12 -> 0.81753154 | F12: =+C12/D12 -> 0.18246846 | G12: =SUM(E12:F12) -> 1

Sheet Consolidado  (2)
A1: MUNICIPIO DE MEDELLIN
A2: SECRETARIA DE INCLUSION SOCIAL Y FAMILIA
A3: UNIDAD DE SEGURIDAD ALIMENTARIA
A4: CONSOLIDADO - ESTUDIO DE COSTOS
A6: Objeto: Convenio de Asociación para la prevencion de la desnutricion de las mujeres gestantes y lactantes, escolares y familias con vulnerabilidad alimenentaria, favoreciendo los niveles de inseguridad alimentaria
A8: DURACION EN MESES | B8: 7
A9: DURACION EN DIAS CALENDARIO | B9: 110
A10: N° CUPOS | B10: 1
A11: VALOR CUPO MES | B11: 1.2826863e+10
A13: 42397
A14: CONCEPTO | B14: COSTO MES | C14: COSTO TOTAL
A15: COSTOS DIRECTOS
A16: RECURSO HUMANO | B16: 23143029 | C16: 1.620012e+08
A17: COSTOS GENERALES | D17: -35123270
A18: Alquiler de Activos | B18: 866250 | C18: 6063750
A19: Jugo de Naranja | C19: 910770000
A20: Paquete | B20: 5.2541107e+08 | C20: 3.6778775e+09
A21: Empaque | B21: 6098309 | C21: 42688163
A22: Transporte | B22: 0 | C22: 0
A23: Papeleria | B23: 136251.98 | C23: 953763.84
A24: Alquiler de Oficina y Bodega | B24: 3993620 | C24: 27955340
A25: Complemento Alimentario | B25: 1020771600 | C25: 7145401200
A26: TOTAL COSTOS GENERALES | B26: 1.5572771e+09 | C26: 1.181171e+10
A27: TOTAL COSTOS DIRECTOS (RECURSO HUMANO + COSTOS GENERALES) | B27: 1.5804201e+09 | C27: 1.1973711e+10
A28: Costos Indirectos | B28: 28163331 | C28: 1.9714332e+08
A29: Honorarios por Servicios | B29: 0 | C29: 0
A30: TOTAL ESTUDIO DE COSTOS | B30: 1.6085835e+09 | C30: 1.2826863e+10 | D30: Inflacion | E30: 0.0539 | G30: 12612278413 | H30: -2.1458483e+08
A32: DESAGREGACION DEL IVA
A33: BASE DE IVA | C33: 2.3690029e+08
A34: IVA | C34: 37904046
A35: EXCLUIDOS O EXENTOS (Ayuda alimentaria población vulnerable) | C35: 1.098528e+10
A36: TOTAL IVA INCLUIDO | C36: 1.1260084e+10
A38: PRESUPUESTO OFICIAL | C38: 6267000000
A39: DIFERENCIA FRENTE AL ESTUDIO DE COSTOS | C39: -6.5598632e+09
C40: 2685262971 | E40: 3293262971
C41: -8.5748212e+09
A42: OBSERVACIONES
A43: El artículo 92 de la ley 30 de 1992 y el artículo 476 númeral 6 del Estatuto Tributario establecen que las instituciones de educacion superior, los colegios de bachillerato y las instituciones de educacion no formal, no son responsables del IVA.
A44: El Estudio de Costos se realiza de acuerdo a la metodología de costeo establecida por el Municipio de Medellín y a las Especificaciones Técnicas remitidas por la Subsecretaria de Grupos Poblacionles
A45: El Estudio de Costos cobra validez (todos sus componentes y detalles) solo a través de la aprobación por medio del Acta del Comité Interno de Contratación.
...

Sheet Consolidado 
A1: MUNICIPIO DE TURBANA BOLIVAR
A2: SECRETARIA DE GOBIERNO
A3: ESAL-007-2019
A4: FORMATO PARA PRESENTACION DE OFERTA
A6: AUNAR ESFUERZOS ADMINISTRATIVOS, TÉCNICOS Y FINANCIEROS PARA EL ACOMPAÑAMIENTO DEL MANEJO DE RESIDUOS SOLIDOS CON LA COMUNIDAD EN GENERAL DEL MUNICIPIO DE TURBANA
A8: DURACION EN MESES | B8: 1
A9: DURACION EN DIAS CALENDARIO | B9: 110
A10: N° CUPOS | B10: 1
A11: VALOR CUPO MES | B11: =+#REF!/B10 -> #REF!
A13: SEPTIEMBRE DE 2019
A14: CONCEPTO | B14: COSTOS | C14: TIEMP0 | D14: TIPO DE APORTE ASOCIADO
A15: COSTOS DIRECTOS | D15: Dinero | E15: Especie
A16: RECURSO HUMANO | B16: =RH!G14 -> 0
A17: Actividades | B17: =Actividades!E6 -> 0
A18: Transporte | B18: =Transporte!N10 -> 0
A19: Dotacion | B19: =Dotacion!H18 -> 0
A20: Alquiler Equipos y Oficina | B20: =Alqul_Equip!J11 -> 0
A21: Refrigerios e hidratación | B21: =Refrigerios!J10 -> 0
A22: Gestión Documental | B22: ='Gestión documental'!F10 -> 0
A23: Publicidad y Medios de Comunicación | B23: =SUM(D23:E23) -> 0
A24: Valores en Dinero | B24: =SUM(D24:E24) -> 0
A25: TOTAL COSTOS DIRECTOS (RECURSO HUMANO + COSTOS GENERALES + Publicidad Medios de Comunicación y Dinero en Efectivo ) | B25: =SUM(B16:B24) -> 0
A26: Honorarios por Servicios | B26: =+C26/$B$8 -> 0
A28: DESAGREGACION DEL IVA
A29: BASE DE IVA
A30: IVA
A31: EXCLUIDOS O EXENTOS (Ayuda alimentaria población vulnerable)
A32: TOTAL IVA INCLUIDO
A34: PRESUPUESTO OFICIAL | C34: 6267000000
A35: DIFERENCIA FRENTE AL ESTUDIO DE COSTOS | C35: =+C34-#REF! -> #REF!
C36: =2316796953+368466018 -> 2685262971
C37: =+C36-C32 -> 2685262971

Sheet Hoja1 (3)
B5: Presupuesto | C5: % Part.
A6: Paquetes | B6: 3150000000 | C6: =+B6/$B$10 -> 0.41176471 | E6: =+#REF!+#REF! -> #REF! | F6: =+E6/$E$10 -> #REF!
A7: Compota | B7: 0 | C7: =+B7/$B$10 -> 0 | E7: =+Compota!H15 -> 0 | F7: =+E7/$E$10 -> #REF!
A8: Mezcla | B8: 2500000000 | C8: =+B8/$B$10 -> 0.32679739 | E8: =+Vit_Mez!G16 -> 0 | F8: =+E8/$E$10 -> #REF!
A9: Vitanut | B9: 2000000000 | C9: =+B9/$B$10 -> 0.26143791 | E9: =+Vit_Mez!G15 -> 0 | F9: =+E9/$E$10 -> #REF!
A10: Total Presupuesto | B10: =SUM(B6:B9) -> 7650000000 | C10: =+B10/$B$10 -> 1 | E10: =SUM(E6:E9) -> #REF! | F10: =SUM(F6:F9) -> #REF!
F14: =+D27 -> #REF!
A18: Concepto | B18: Alimento | C18: Empaque | D18: Trasporte | E18: R. Humano | F18: Logistica | G18: Bodega y Servicios | H18: Papeleria | I18: Dotacion | J18: Impresos | K18: Indirectos | L18: Total | M18: Presupuesto | N18: Diferencia
A19: Paquetes | B19: =+B47 -> #REF! | C19: =+C47 -> #REF! | D19: =+D47 -> #REF! | E19: =+E47 -> #REF! | F19: =+F47 -> #REF! | G19: =+G47 -> #REF! | H19: =+H47 -> 317921.28 | I19: 0 | J19: 0 | K19: =+#REF!*C6 -> #REF! | L19: =SUM(B19:K19) -> #REF! | M19: =+B6 -> 3150000000 | N19: =+M19-L19 -> #REF! | P19: =SUM(B19:H19) -> #REF! | Q19: =+#REF! -> #REF! | R19: =+P19-Q19 -> #REF! | S19: =+E19 -> #REF! | T19: =+R19-S19 -> #REF!
A20: Vitanut | B20: =+B48 -> 0 | C20: =+C48 -> 0 | D20: =+D48 -> #VALUE! | E20: =+E48 -> #REF! | F20: =+F48 -> #VALUE! | G20: =+G48 -> #REF! | H20: =+H48 -> 317921.28 | I20: 0 | J20: 0 | K20: =+#REF!*C8 -> #REF! | L20: =SUM(B20:K20) -> #VALUE! | M20: 2500000000 | N20: =+M20-L20 -> #VALUE! | P20: =SUM(B20:H20) -> #VALUE! | R20: =+P20-Q20 -> #VALUE! | S20: =+E20 -> #REF! | T20: =+R20-S20 -> #VALUE!
A21: Mezcla | B21: =+B49 -> 0 | C21: =+C49 -> 0 | D21: =+D49 -> #REF! | E21: =+E49 -> #REF! | F21: =+F49 -> #REF! | G21: =+G49 -> #REF! | H21: =+H49 -> 317921.28 | I21: 0 | J21: 0 | K21: =+#REF!*C9 -> #REF! | L21: =SUM(B21:K21) -> #REF! | M21: =+B9 -> 2000000000 | N21: =+M21-L21 -> #REF! | P21: =SUM(B21:H21) -> #REF! | R21: =+P21-Q21 -> #REF! | S21: =+E21 -> #REF! | T21: =+R21-S21 -> #REF!
A22: Total Estudio | B22: =SUM(B19:B21) -> #REF! | C22: =SUM(C19:C21) -> #REF! | D22: =SUM(D19:D21) -> #REF! | E22: =SUM(E19:E21) -> #REF! | F22: =SUM(F19:F21) -> #REF! | G22: =SUM(G19:G21) -> #REF! | H22: =SUM(H19:H21) -> 953763.84 | I22: =SUM(I19:I21) -> 0 | ... N22: =SUM(N19:N21) -> #REF! | P22: =SUM(P19:P21) -> #REF! | S22: =SUM(S19:S21) -> #REF! | T22: =SUM(T19:T21) -> #REF!
A23: Consolidado | B23: =+'Consolidado '!C17+'Consolidado '!#REF! -> #REF! | C23: =+'Consolidado '!#REF! -> #REF! | D23: =+'Consolidado '!#REF! -> #REF! | E23: =+'Consolidado '!#REF! -> #REF! | F23: =+'Consolidado '!C16 -> 0 | G23: =+'Consolidado '!C20 -> 0 | H23: =+'Consolidado '!#REF! -> #REF! | I23: 0 | J23: 0 | K23: =+'Consolidado '!#REF! -> #REF! | L23: =+'Consolidado '!#REF! -> #REF! | M23: =+B10 -> 7650000000 | N23: =+M23-L23 -> #REF! | T23: 3742658565
A24: % Participacion | B24: =+B22/$L$22 -> #REF! | C24: =+C22/$L$22 -> #REF! | D24: =+D22/$L$22 -> #REF! | E24: =+E22/$L$22 -> #REF! | F24: =+F22/$L$22 -> #REF! | G24: =+G22/$L$22 -> #REF! | H24: =+H22/$L$22 -> #REF! | I24: =+I22/$L$22 -> #REF! | ... K24: =+K22/$L$22 -> #REF! | M24: =+M23-L23+#REF! -> #REF! | T24: =+T22-T23 -> #REF!
C26: Numero de Paquetes | D26: Costo Unitario | G26: =+L27 -> 10000 | H26: =+L26 -> 3200 | L26: =+'Consolidado '!B8*3200 -> 3200 | S26: =+S22+Q19 -> #REF!
C27: =+#REF! -> #REF! | D27: =+L19/C27 -> #REF! | F27: Vitanut | G27: 840000 | L27: =+'Consolidado '!B8*10000 -> 10000 | N27: 4667 | S27: =+S26+K22 -> #REF!
F28: Mezcla | G28: 185000 | L28: =+'Consolidado '!B8*140000 -> 140000
A29: Participacion | B29: =+B35/$D$35 -> #REF! | C29: =+C35/$D$35 -> #REF! | L29: =(+'Consolidado '!B8-1.5)*60000 -> -30000
A30: Concepto | B30: Aporte Muncipio | C30: Aporte Fubam | D30: Total
A31: Paquetes | B31: =+D31-C31 -> #REF! | C31: =+K19+H31+C19+D19+E19+F19+G19+H19 -> #REF! | D31: =+L19 -> #REF! | F31: =+B6-B31 -> #REF! | H31: =(9632+K31)*#REF! -> #REF! | K31: 240 | M31: =+M19/D27 -> #REF!
A32: Compota | B32: =+D32-C32 -> #REF! | C32: =+#REF!+#REF!+#REF!+#REF!+#REF!+#REF! -> #REF! | D32: =+#REF! -> #REF! | F32: =+B7-B32 -> #REF! | H32: =8418*#REF! -> #REF!
A33: Mezcla | B33: =+D33-C33 -> #VALUE! | C33: =+K20+D20+E20+F20+G20+H20 -> #REF! | D33: =+L20 -> #VALUE! | F33: =+B8-B33 -> #VALUE!
A34: Vitanut | B34: =+D34-C34 -> #REF! | C34: =+K21+D21+E21+F21+G21+H21 -> #REF! | D34: =+L21 -> #REF! | F34: =+B9-B34 -> #REF! | H34: =9632+8418 -> 18050
A35: Total Estudio | B35: =SUM(B31:B34) -> #REF! | C35: =SUM(C31:C34) -> #REF! | D35: =SUM(D31:D34) -> #REF! | F35: =SUM(F31:F34) -> #REF!
B37: =+B35 -> #REF!
B38: =+B11 -> 0
B39: =+B37-B38 -> #REF! | G39: 2780206
G40: =+G39/#REF! -> #REF!
B43: =+B19/$C$27 -> #REF! | C43: =+C19/$C$27 -> #REF! | D43: =+D19/$C$27 -> #REF! | E43: =+E19/$C$27 -> #REF! | F43: =+F19/$C$27 -> #REF! | G43: =+G19/$C$27 -> #REF! | H43: =+H19/$C$27 -> #REF! | I43: =+I19/$C$27 -> #REF! | ... K43: =+K19/$C$27 -> #REF! | O43: =+L19/#REF! -> #REF!
R45: =+L21/30000 -> #REF!
A46: Concepto | B46: Alimento | C46: Empaque | D46: Trasporte | E46: R. Humano | F46: Logistica | G46: Bodega y Servicios | H46: Papeleria | I46: Dotacion | J46: Impresos | K46: Indirectos | L46: Total | M46: Presupuesto | N46: Diferencia
A47: Paquetes | B47: =+#REF! -> #REF! | C47: =+#REF! -> #REF! | D47: =+Transp!$M$11*C54 -> #REF! | E47: =+#REF!*C54 -> #REF! | F47: =+Alquiact!$K$13*C54 -> #REF! | G47: =+'Bodeg y Log'!$H$21*C54 -> #REF! | H47: =+'Papelería '!$L$60/3 -> 317921.28 | I47: =+I19 -> 0 | J47: =+J19 -> 0 | K47: =+K19 -> #REF! | L47: =+L19 -> #REF! | M47: =+M19 -> 3150000000 | N47: =+L47-M47 -> #REF!
A48: Vitanut | B48: =+Vit_Mez!G7 -> 0 | C48: 0 | D48: =+Transp!$M$11*C55 -> #VALUE! | E48: =+#REF!*C55 -> #REF! | F48: =+Alquiact!$K$13*C55 -> #VALUE! | G48: =+'Bodeg y Log'!$H$21*C55 -> #REF! | H48: =+'Papelería '!$L$60/3 -> 317921.28 | N48: 0
A49: Mezcla | B49: =+Vit_Mez!G8 -> 0 | C49: 0 | D49: =+Transp!$M$11*C56 -> #REF! | E49: =+#REF!*C56 -> #REF! | F49: =+Alquiact!$K$13*C56 -> #REF! | G49: =+'Bodeg y Log'!$H$21*C56 -> #REF! | H49: =+'Papelería '!$L$60/3 -> 317921.28 | K49: =+K47*Transp!P14 -> #REF! | L49: =SUM(B49:K49) -> #REF! | M49: 2000000000 | N49: =+L49-M49 -> #REF!
A50: Mujer Gestante | L50: =SUM(B50:K50) -> 0 | M50: 1500000000 | N50: =+L50-M50 -> -1500000000
A51: Total Estudio | B51: =SUM(B47:B50) -> #REF! | C51: =SUM(C47:C50) -> #REF! | D51: =SUM(D47:D50) -> #REF! | E51: =SUM(E47:E50) -> #REF! | F51: =SUM(F47:F50) -> #REF! | G51: =SUM(G47:G50) -> #REF! | H51: =SUM(H47:H50) -> 953763.84 | I51: =SUM(I47:I50) -> 0 | ... K51: =SUM(K47:K50) -> #REF! | L51: =+L47-L49-L50 -> #REF! | M51: =+M47-M49-M50 -> -350000000 | N51: -3.0749713e+08
A54: Paquete | B54: =+#REF! -> #REF! | C54: =+B54/$B$57 -> #REF! | D54: =+D22-D20-D21 -> #REF! | E54: =+E22-E20-E21 -> #REF! | F54: =+F22-F20-F21 -> #REF! | G54: =+G22-G20-G21 -> #REF! | I54: =+I22-I20-I21 -> 0 | J54: =+J22-J20-J21 -> 0 | K54: =+K22-K20-K21 -> #REF! | L54: =+L22-L20-L21 -> #REF!
A55: Vitanut | B55: =+Vit_Mez!I7 | C55: =+B55/$B$57 -> #VALUE!
A56: Mezcla | B56: =+Vit_Mez!I8 -> 0 | C56: =+B56/$B$57 -> #REF!
B57: =SUM(B54:B56) -> #REF! | L57: =+L49/L54 -> #REF!
...

Sheet Hoja1
B2: Peso Unitariio
A3: P F Vulne | B3: =+[1]Paq_FV!$J$28 -> 9420 | C3: =+#REF! -> #REF! | D3: =+B3*C3 -> #REF!
A4: Paquet Victimas | B4: =+'[1]Paq_Vic '!$H$31 -> 25255 | C4: =+#REF! -> #REF! | D4: =+B4*C4 -> #REF!
A5: Vitanut | B5: =+Vit_Mez!H7 -> 0 | C5: 7 | D5: =+B5*C5 -> 0
A6: Mezcla | B6: =+Vit_Mez!H8 -> 0 | C6: 7 | D6: =+B6*C6 -> 0
A9: Producto | B9: Alimento | C9: Empaque | D9: Sub - Total | E9: Indirectos | F9: Total | G9: Costo Unitario
A10: P F Vulne | B10: =+#REF! -> #REF! | C10: =+#REF!+(#REF!*#REF!) -> #REF! | D10: =SUM(B10:C10) -> #REF! | E10: =+#REF!*H10 -> #REF! | F10: =+D10+E10 -> #REF! | G10: =+F10/C3 -> #REF! | H10: =+D10/$D$14 -> #REF! | I10: =+G10+(G11*5) -> #REF!
A11: Mezcla | B11: =+Vit_Mez!G8 -> 0 | C11: =+#REF!/2 -> #REF! | D11: =SUM(B11:C11) -> #REF! | E11: =+#REF!*H11 -> #REF! | F11: =+D11+E11 -> #REF! | G11: =+F11/D6 -> #REF! | H11: =+D11/$D$14 -> #REF!
A12: Paquet Victimas | B12: =+#REF! -> #REF! | C12: =+#REF!+(#REF!*#REF!) -> #REF! | D12: =SUM(B12:C12) -> #REF! | E12: =+#REF!*H12 -> #REF! | F12: =+D12+E12 -> #REF! | G12: =+F12/C4 -> #REF! | H12: =+D12/$D$14 -> #REF! | I12: =+G12 -> #REF!
A13: Vitanut | B13: =+Vit_Mez!G7 -> 0 | C13: =+C11 -> #REF! | D13: =SUM(B13:C13) -> #REF! | E13: =+#REF!*H13 -> #REF! | F13: =+D13+E13 -> #REF! | G13: =+F13/D5 -> #REF! | H13: =+D13/$D$14 -> #REF! | I13: =+G13*20 -> #REF!
B14: =SUM(B10:B13) -> #REF! | C14: =SUM(C10:C13) -> #REF! | D14: =SUM(D10:D13) -> #REF! | E14: =SUM(E10:E13) -> #REF! | F14: =SUM(F10:F13) -> #REF! | H14: =SUM(H10:H13) -> #REF!
F16: =+F14-#REF! -> #REF!

Sheet RH
A1: MUNICIPIO DE TURBANA BOLIVAR
A2: SECRETARIA DE GOBIERNO
A3: ESAL-007-2019
A4: FORMATO PARA PRESENTACION DE OFERTA
A6: RECURSO HUMANO
A8: RECURSO HUMANO | B8: TOTAL SUELDOS | C8: IVA | D8: TOTAL SUELDO MENSUAL | E8: CANTIDAD | F8: PERIODO CONTRATO | G8: COSTO TOTAL
A9: Coordinador General-Area Administrativa o Social | C9: 0 | E9: 1 | F9: 1 | G9: =+D9*F9*E9 -> 0
A10: Profesionales del Ambiental | E10: 3 | F10: 1 | G10: =+D10*F10*E10 -> 0
A11: Profesionales del área de Trabajo Social | E11: 1 | F11: 1 | G11: =+D11*F11*E11 -> 0
A12: Auxliares | E12: 12 | F12: 1 | G12: =+D12*F12*E12 -> 0
A13: Auxiliar Administrativo | E13: 1 | F13: 1 | G13: =+D13*F13*E13 -> 0
A14: Total periodo contractual | E14: =SUM(E9:E13) -> 18 | G14: =SUM(G9:G13) -> 0

Sheet Paquete_FV
A2: N° | B2: GRUPO DE ALIMENTOS | C2: ALIMENTOS | D2: Unidad de Medida | J2: Promedio | K2: Familias Vulnerables | M2: Gestantes y Lactantes | O2: Peso x Paquete
E3: Olimpico | F3: Éxito | G3: Boom | H3: Euro | K3: Cantidad | L3: Costo Total | M3: Cantidad | N3: Costo Total
A4: 1 | B4: AZUCARES Y DULCES | C4: Azúcar | D4: Libras | E4: 970 | F4: 950 | G4: 920 | H4: 1000 | J4: =+VLOOKUP(C4,[2]Estudiomdo!$A$9:$I$70,9,0) -> 962.7984 | L4: =+#REF!*J4 -> #REF! | N4: 500
A5: 2 | C5: Panela | D5: Libras | E5: 1100 | F5: 1240 | G5: 1150 | H5: 1370 | J5: =+VLOOKUP(C5,#REF!,9,0) -> #REF! | K5: 2 | L5: =+K5*J5 -> #REF! | M5: 2 | N5: =+M5*J5 -> #REF! | O5: 500 | P5: =+O5*K5 -> 1000 | Q5: =+M5*O5 -> 1000
C6: Azúcar | D6: Libras | J6: =+VLOOKUP(C6,#REF!,9,0) -> #REF! | K6: 1 | L6: =+K6*J6 -> #REF! | M6: 0 | N6: =+M6*J6 -> #REF! | O6: 500 | P6: =+O6*K6 -> 500 | Q6: =+M6*O6 -> 0
A7: 3 | B7: BEBIDAS | C7: Bebida Achocolatada | D7: Bolsa de 200 gramos | E7: 2700 | F7: 2980 | J7: =+VLOOKUP(C7,#REF!,9,0) -> #REF! | K7: 1 | L7: =+K7*J7 -> #REF! | M7: 1 | N7: =+M7*J7 -> #REF! | O7: 200 | P7: =+O7*K7 -> 200 | Q7: =+M7*O7 -> 200
A8: 4 | B8: CARNES Y HUEVOS | C8: Atun Aceite | D8: Latas de 170 gramos | E8: 2800 | F8: 3290 | G8: 2580 | H8: 3140 | J8: =+VLOOKUP(C8,#REF!,9,0) -> #REF! | K8: 2 | L8: =+K8*J8 -> #REF! | M8: 2 | N8: =+M8*J8 -> #REF! | O8: 170 | P8: =+O8*K8 -> 340 | Q8: =+M8*O8 -> 340
A9: 5 | C9: Sardina en Salsa | D9: Lata de 425 gramos | E9: 3360 | F9: 3360 | G9: 3680 | H9: 3630 | J9: =+VLOOKUP(C9,#REF!,9,0) -> #REF! | K9: 1 | L9: =+K9*J9 -> #REF! | M9: 1 | N9: =+M9*J9 -> #REF! | O9: 425 | P9: =+O9*K9 -> 425 | Q9: =+M9*O9 -> 425
A10: 6 | C10: Huevo (unidad x 50grs) | D10: Unidad tipo A | E10: 236 | F10: 378.33333 | G10: 338.33333 | H10: 329.16667 | J10: =+VLOOKUP(C10,#REF!,9,0) -> #REF! | K10: 15 | L10: =+K10*J10 -> #REF! | M10: 12 | N10: =+M10*J10 -> #REF! | O10: 58 | P10: =+O10*K10 -> 870 | Q10: =+M10*O10 -> 696
A11: 7 | B11: CEREALES | C11: Arroz | D11: Libras | E11: 1200 | F11: 1230 | G11: 1200 | H11: 1250 | J11: =+VLOOKUP(C11,#REF!,9,0) -> #REF! | K11: 3 | L11: =+K11*J11 -> #REF! | M11: 3 | N11: =+M11*J11 -> #REF! | O11: 500 | P11: =+O11*K11 -> 1500 | Q11: =+M11*O11 -> 1500
A12: 8 | C12: Harina para arepas | D12: Libras | E12: 1250 | F12: 1610 | G12: 1590 | H12: 1430 | J12: =+VLOOKUP(C12,#REF!,9,0) -> #REF! | K12: 1 | L12: =+K12*J12 -> #REF! | M12: 1 | N12: =+M12*J12 -> #REF! | O12: 500 | P12: =+O12*K12 -> 500 | Q12: =+M12*O12 -> 500
A13: 10 | C13: Pastas | D13: Paquete 250 gramos | E13: 1240 | F13: 1270 | G13: 1330 | H13: 1320 | J13: =+VLOOKUP(C13,#REF!,9,0) -> #REF! | K13: 1 | L13: =+K13*J13 -> #REF! | M13: 1 | N13: =+M13*J13 -> #REF! | O13: 500 | P13: =+O13*K13 -> 500 | Q13: =+M13*O13 -> 500
A14: 11 | C14: Espaguetis | D14: Paquete de 250 gramos | E14: 1240 | F14: 1400 | G14: 1330 | H14: 1320 | J14: =+VLOOKUP(C14,#REF!,9,0) -> #REF! | K14: 1 | L14: =+K14*J14 -> #REF! | M14: 1 | N14: =+M14*J14 -> #REF! | O14: 250 | P14: =+O14*K14 -> 250 | Q14: =+M14*O14 -> 250
A15: 14 | C15: Avena Molida | D15: Paquete 250 gramos | E15: 1300 | G15: 1230 | H15: 1540 | J15: =+VLOOKUP(C15,#REF!,9,0) -> #REF! | K15: 1 | L15: =+K15*J15 -> #REF! | M15: 1 | N15: =+M15*J15 -> #REF! | O15: 250 | P15: =+O15*K15 -> 250 | Q15: =+M15*O15 -> 250
A16: 15 | B16: ACEITES Y GRASAS | C16: Aceite | D16: Litro | E16: 4690 | F16: 4930 | G16: 4750 | H16: 4700 | J16: =+VLOOKUP(C16,#REF!,9,0) -> #REF! | K16: 1 | L16: =+K16*J16 -> #REF! | M16: 1 | N16: =+M16*J16 -> #REF! | O16: 1000 | P16: =+O16*K16 -> 1000 | Q16: =+M16*O16 -> 1000
A17: 17 | B17: LECHES Y LÁCTEOS | C17: Leche en polvo _P | D17: Bolsa de 380 gramos | E17: 6130 | F17: 6010 | G17: 6130 | H17: 6660 | J17: =+VLOOKUP(C17,#REF!,9,0) -> #REF! | K17: 1 | L17: =+K17*J17 -> #REF! | M17: 1 | N17: =+M17*J17 -> #REF! | O17: 500 | P17: =+O17*K17 -> 500 | Q17: =+M17*O17 -> 500
A18: 18 | B18: LEGUMINOSAS | C18: Fríjol cargamanto | D18: Libras | E18: 1860 | G18: 2170 | J18: =+VLOOKUP(C18,#REF!,9,0) -> #REF! | K18: 1 | L18: =+K18*J18 -> #REF! | M18: 1 | N18: =+M18*J18 -> #REF! | O18: 500 | P18: =+O18*K18 -> 500 | Q18: =+M18*O18 -> 500
A19: 19 | C19: Lenteja | D19: Libras | E19: 1150 | F19: 1290 | G19: 1150 | J19: =+VLOOKUP(C19,#REF!,9,0) -> #REF! | K19: 1 | L19: =+K19*J19 -> #REF! | M19: 1 | N19: =+M19*J19 -> #REF! | O19: 500 | P19: =+O19*K19 -> 500 | Q19: =+M19*O19 -> 500
A20: 21 | B20: OTROS | C20: Jugo de Naranja | D20: 400 Grs | E20: 430 | F20: 440 | G20: 440 | J20: =+VLOOKUP(C20,#REF!,9,0) -> #REF! | K20: 0 | L20: =+K20*J20 -> #REF! | M20: 1 | N20: =+M20*J20 -> #REF! | O20: 400 | P20: =+O20*K20 -> 0 | Q20: =+M20*O20 -> 400
C21: Verdura en Lata | D21: Lata por 300 gr | E21: 2000 | F21: 2040 | G21: 2000 | J21: =+VLOOKUP(C21,#REF!,9,0) -> #REF! | K21: 1 | L21: =+K21*J21 -> #REF! | M21: 0 | N21: =+M21*J21 -> #REF! | O21: 300 | P21: =+O21*K21 -> 300 | Q21: =+M21*O21 -> 0
A22: 22 | C22: Sal con yodo y flour | D22: Libras | E22: 2000 | F22: 2040 | G22: 2000 | J22: =+VLOOKUP(C22,#REF!,9,0) -> #REF! | K22: 1 | L22: =+K22*J22 -> #REF! | M22: 0 | N22: =+M22*J22 -> #REF! | O22: 500 | P22: =+O22*K22 -> 500 | Q22: =+M22*O22 -> 0
C23: Total Paquete | L23: =SUM(L5:L22) -> #REF! | N23: =SUM(N5:N22) -> #REF! | O23: =SUM(O5:O22) -> 7553 | P23: =SUM(P5:P22) -> 9635 | Q23: =SUM(Q5:Q22) -> 8561 | R23: =+[3]Paquete!$L$25 -> 53330.955
C25: Numero de Paquetes | L25: =+#REF! -> #REF! | N25: =+#REF! -> #REF! | P25: =+L25*P23 -> #REF! | Q25: =+N25*Q23 -> #REF! | R25: =+L25 -> #REF!
C27: Costo Total | L27: =+L23*L25 -> #REF! | N27: =+N23*N25 -> #REF! | R27: =+R23*R25 -> #REF! | S27: =+R27-L27 -> #REF!

Sheet Dotac
A1: =+[4]Web!A1 -> Municipio de Medellin
A2: =+[4]RHno!A2 -> Secretaria de Inclusion Social y Familia
A3: Unidad de Seguridad Alimentaria
A4: =+[4]Web!A5 -> Estudio de Costos
A6: Dotacion
A8: ARTICULO | B8: Unidad | C8: Cantidad | D8: Burgos Dotaciones | E8: Napsa | G8: PRECIO PROMEDIO | H8: VALOR TOTAL
A9: Camisetas | B9: Unidad | C9: 0 | D9: =52000*1.19 -> 61880 | E9: =75000*1.19 -> 89250 | G9: =+AVERAGE(D9:E9) -> 75565 | H9: =C9*G9 -> 0
A10: Gorras | B10: Unidad | C10: 0 | D10: =19000*1.19 -> 22610 | G10: =+D10 -> 22610 | H10: =C10*G10 -> 0
A11: Chalecos | B11: Unidad | C11: 0 | D11: =10000*1.19 -> 11900 | G11: =+D11 -> 11900 | H11: =C11*G11 -> 0
A12: Costo Total | H12: =SUM(H9:H11) -> 0

Sheet Actividades
A1: MUNICIPIO DE TURBANA BOLIVAR
A2: SECRETARIA DE GOBIERNO
A3: ESAL-007-2019
A4: FORMATO PARA PRESENTACION DE OFERTA
D5: TOTAL ACTIVIDADES | E5: 63
C6: TOTAL VALOR | E6: =SUM(E8:E15) -> 0
A7: CANT | B7: Componente | C7: ACTIVIDAD | D7: Valor Unitario de la Actividad | E7: Valor Total de las Actividades
A8: 15 | B8: COMPONENTE SOCIAL | C8: Charlas de trabajo en equipo con los comunidad para el acompañamiento de residuos solidos por los diferentes puntos criticos del municipio | E8: =A8*D8 -> 0
A9: 15 | B9: COMPONENTE SOCIAL | C9: sensibilización a comunidades dirigidos a la comunidad educativa y campesinos, sobre temas de conservación, biodiversidad y métodos de recoleccion de residuos solidos | E9: =A9*D9 -> 0
A10: 15 | B10: COMPONENTE SOCIAL | C10: Talleres con la comunidad para Generar un cambio positivo en los hábitos de consumo, procurando la reducción y reutilización en los residuos generados | E10: =A10*D10 -> 0
A11: 15 | B11: COMPONENTE SOCIAL | C11: Socialización de las normas de código de policía sobre delitos ambientales | E11: =A11*D11 -> 0
A12: 30 | B12: COMPONENTE SOCIAL | C12: Limpieza y recoleccion de franjas lateral sobre las orillas en diferentes barrios del municipio de Turbana | E12: =A12*D12 -> 0
A13: 200 | B13: COMPONENTE SOCIAL | C13: Actividades con la comunidad para el almacenamiento transitorio y/o acondicionamiento de residuos para su transporte
A14: 200 | B14: COMPONENTE SOCIAL | C14: Actividades con la comunidad para Tratamiento: comprende el conjunto de operaciones tendientes al acondicionamiento y valorización de los residuos. Se entiende por acondicionamiento a las operaciones realizadas a fin de adecuar los residuos para su valorización o disposición final. Se entiende por valorización a todo procedimiento que permita el aprovechamiento de los recursos contenidos en los residuos, mediante el reciclaje en sus formas físicos, químicos, mecánicos o biológicos, y la reutilización | E14: =A14*D14 -> 0
A15: 200 | B15: COMPONENTE SOCIAL | C15: Retiro y disposición final l: comprende al conjunto de operaciones destinadas a lograr el depósito permanente de los residuos domiciliarios, así como de las fracciones de rechazo inevitables resultantes de los métodos de tratamiento adoptados. Asimismo, quedan comprendidas en esta etapa las actividades propias de la clausura y postclausura de los centros de disposición fin para una cantidad de 200 metros cubicos | E15: =A15*D15 -> 0

Sheet Transporte
A1: MUNICIPIO DE TURBANA BOLIVAR
A2: SECRETARIA DE GOBIERNO
A3: ESAL-007-2019
A4: FORMATO PARA PRESENTACION DE OFERTA
F5: INCLUYE COMBUSTIBLE Y CONDUCTOR
A6: DESCRIPCIÓN | B6: CANTIDAD DE VEHICULOS | C6: Cotización 1 | D6: Cotización 2 | E6: Cotización 3 | F6: Cotización 4 | G6: Cotización 5 | H6: PROMEDIO VALOR HORA | I6: CANTIDAD DE MESES | J6: VALOR MENSUAL | K6: VALOR TOTAL POR MES | L6: TOTAL MESES | M6: TOTAL | N6: VALOR DEL PROPONENTE ESAL
C7: VALOR MENSUAL | D7: VALOR MENSUAL | E7: VALOR MENSUAL | F7: VALOR MENSUAL | G7: VALOR MENSUAL
A8: Camioneta Doble Cabina 4X4 con volco recorrido área Urbana y Rural del Municipio de TURBANA | B8: 2 | C8: 3600000 | D8: 3400000 | E8: 3500000 | F8: 3900000 | G8: 3500000 | H8: =+(C8+D8+E8+F8+G8)/5 -> 3580000 | I8: 1 | J8: =+H8*I8 -> 3580000 | K8: =+J8 -> 3580000 | L8: =+'Consolidado '!B8 -> 1 | M8: =K8 -> 3580000
A9: transporte y recoleccion , Vehiculo de 12 Metros cubicos en el área Urbana y Rural del Municipio de TURBANA | B9: 3 | C9: 6000000 | D9: 5800000 | E9: 6500000 | F9: 5700000 | G9: 6500000 | H9: =+(C9+D9+E9+F9+G9)/5 -> 6100000 | I9: 1 | J9: =+H9*I9 -> 6100000 | K9: =+J9 -> 6100000 | L9: =+'Consolidado '!B9 -> 110 | M9: =K9 -> 6100000
A10: Total | M10: =+M8 -> 3580000 | N10: =SUM(N8:N9) -> 0
B14: ojo se cmabiaron cantidades de transporte para incrementar el valor | D14: dato real en la descripcion
A17: ZONA | B17: 22- 25 PASAJEROS | C17: 40 PASAJEROS
A18: URBANA | B18: 160000 | C18: 220000
A19: SANTA ELENA | B19: 280000 | C19: 380000
A20: PALMITAS | B20: 280000 | C20: 380000
A21: SAN CRISTOBAL | B21: 200000 | C21: 300000
A22: SAN ANTONIO | B22: 200000 | C22: 300000
A23: ALTAVISTA | B23: 200000 | C23: 300000

Sheet Dotacion
A1: MUNICIPIO DE TURBANA BOLIVAR
A2: SECRETARIA DE GOBIERNO
A3: ESAL-007-2019
A4: FORMATO PARA PRESENTACION DE OFERTA
A6: DOTACION-INCLUYE IMPUESTOS
A8: DESCRIPCIÓN | B8: CANTIDADES | C8: HOME CENTER | D8: MERCADO LIBRE | E8: PROMEDIO | F8: VALOR TOTAL | G8: Valor Unitario del Proponente ESAL | H8: VALOR TOTAL
A9: Chaleco | B9: 100 | C9: =52000*1.19 -> 61880 | D9: 70000 | E9: =+AVERAGE(C9:D9) -> 65940 | F9: =+B9*E9 -> 6594000 | H9: =B9*G9 -> 0
A10: Gorra | B10: 100 | C10: =10000*1.19 -> 11900 | D10: 10000 | E10: =+C10 -> 11900 | F10: =+B10*E10 -> 1190000 | H10: =B10*G10 -> 0
A11: Camisetas | B11: 100 | C11: =9000*1.19 -> 10710 | D11: 10900 | E11: =+C11 -> 10710 | F11: =+B11*E11 -> 1071000 | H11: =B11*G11 -> 0
A12: Guantes | B12: 500 | C12: 5000 | D12: 4500 | E12: =+AVERAGE(C12:D12) -> 4750 | F12: =+B12*E12 -> 2375000 | H12: =B12*G12 -> 0
A13: Tapabocas | B13: 1000 | C13: 600 | D13: 800 | E13: =+AVERAGE(C13:D13) -> 700 | F13: =+B13*E13 -> 700000 | H13: =B13*G13 -> 0
A14: Bolsas de Basura | B14: 5000 | C14: 200 | D14: 250 | E14: =+AVERAGE(C14:D14) -> 225 | F14: =+B14*E14 -> 1125000 | H14: =B14*G14 -> 0
A15: Palas | B15: 12 | C15: 25000 | D15: 24000 | E15: =+AVERAGE(C15:D15) -> 24500 | F15: =+B15*E15 -> 294000 | H15: =B15*G15 -> 0
A16: Rastrillos | B16: 12 | C16: 20000 | D16: 18000 | E16: =+AVERAGE(C16:D16) -> 19000 | F16: =+B16*E16 -> 228000 | H16: =B16*G16 -> 0
A17: Carretillas | B17: 5 | C17: 140000 | D17: 130000 | E17: =+AVERAGE(C17:D17) -> 135000 | F17: =+B17*E17 -> 675000 | H17: =B17*G17 -> 0
A18: VALOR TOTAL DOTACIÓN | F18: =SUM(F9:F10) -> 7784000 | H18: =SUM(H9:H17) -> 0

Sheet Alqul_Equip
A1: MUNICIPIO DE TURBANA BOLIVAR
A2: SECRETARIA DE GOBIERNO
A3: ESAL-007-2019
A4: FORMATO PARA PRESENTACION DE OFERTA
A5: ALQUILER EQUIPOS DE COMPUTO POR 30 DIAS
A6: DESCRIPCIÓN | B6: ALQUILES Y PC | C6: TECCOMPUTO | E6: Promedio | F6: Cantidad | G6: TIEMPO | H6: VALOR T | I6: VALOR UNITARIO DEL PROPONENTE ESAL | J6: VALOR TOTAL DEL PROPONENTE ESAL
A7: PORTATIL ICORE 3 Computador Portatil core i3, Minimo 4GB de memoria RAM, disco minimo de 500 gb, puerto de red, DVD, conexión inalambrica, puertos USB, puerto VGA, puerto HDMI, Licencia Windows original, Licencia Office original | B7: 126140 | C7: 129900 | E7: =+C7 -> 129900 | F7: 1 | G7: 1 | H7: =+E7*G7*F7 -> 129900 | J7: =F7*I7 -> 0
A8: Computador de escritorio core i5, Mínimo 4GB de memoria RAM, disco mínimo de 500 gb, puerto de red, DVD, conexión inalámbrica, puertos USB, puerto VGA, puerto HDMI, Licencia Windows original, Licencia Office original | C8: 119000 | E8: =+C8 -> 119000 | F8: 1 | G8: =+G7 -> 1 | H8: =+E8*G8*F8 -> 119000 | J8: =F8*I8 -> 0
A9: Video Beam | C9: PANAMERICANA | E9: =+C10 -> 83300 | F9: 1 | G9: 1 | H9: =+E9*G9*F9 -> 83300 | J9: =F9*I9 -> 0
C10: 83300
A11: TOTAL ALQUILER DE EQUIPOS DE COMPUTO | H11: =SUM(H7:H10) -> 332200 | J11: =SUM(J7:J10) -> 0

Sheet Vit_Mez
A1: Municipio de Medellin
A2: Secrteraia de Inclusion Social y Familia
A3: Unidad de Seguridad Alimentaria
A5: Complementos
A6: Producto | B6: Caracteristicas | C6: Presentacion | D6: CANTIDAD | E6: Itakate | F6: Promedio Incluido Iva | G6: COSTO TOTAL
A7: Vitanut | B7: Harina de soya, pasta de maní, aceitede canola, avena, maltodextrina,mono y diglicéridos, vitaminas yminerales, cebada malteada, gomacarragena y sucralosa (se anexa ficha nutricional) | C7: 50 Gramos | D7: =+H7*'Consolidado '!$B$8 -> 0 | E7: 2470 | F7: =+E7 -> 2470 | G7: =+D7*F7 -> 0 | H7: 0
A8: Mezcla de Lentejas y Verduras Deshidratadas | B8: Complemento nutricional a base de vegetales; Proteina vegetal texturizada y aislada, arroz y lentejas | C8: 500 Gramos | D8: =+H8*'Consolidado '!$B$8 -> 0 | E8: 14106 | F8: =+E8 -> 14106 | G8: =+D8*F8 -> 0 | H8: 0
A9: Total | G9: =SUM(G7:G8) -> 0
D13: =+D8/5 -> 0
H16: =+G9*1.01 -> 0
D17: =+D8/100 -> 0 | F17: =+H8/100 -> 0 | H17: =+H16-G9 -> 0
F19: =10000*5 -> 50000

Sheet Transp
A1: Municipio de Medellin
A2: Secretaria de Inclusion Social y Familia
A3: Unidad de Seguridad Alimentaria
A4: Estudio de Costos
A6: TRANSPORTE | N6: 4.33 | O6: Semanas
N7: =+'Consolidado '!B8 -> 1 | O7: Meses
A8: Transporte Camión | D8: Observaciones | E8: Tramitar | F8: GRC | G8: Jhony valbuena | H8: GR LOGISTICA | I8: Wilmar Molina | J8: Costo Promedio (por dìa) | K8: Costo por mes | L8: Tiempo | M8: Costo total | N8: 24 | O8: Dias
A9: CAMIÓN | B9: 2 | C9: De 2 Tonelada para el transporte de alimentos. | D9: Los vehículos se requieren por ocho (8) horas semanales al mes | E9: =230000*1.05 -> 241500 | F9: 240000 | G9: 241500 | H9: 250000 | I9: 241500 | J9: =+AVERAGE(E9:G9) -> 241000 | K9: =B9*J9*N6 -> 2087060 | L9: =+N7 -> 1 | M9: =+K9*L9 -> 2087060
A11: Totales | M11: 0

Sheet Alquiact
A1: Municipio de Medellin
A2: Secretaria deIncluson Social y Familia
A3: Unidad de Seguridad Alimentaria
A4: Area Financiera
A5: Estudio de Costos
A7: ALQUILER DE ACTIVOS
A9: ELEMENTOS | B9: CANTIDAD | C9: ESPECIFICACIONES | D9: Tiempo | E9: IEO | F9: Smart Plus | G9: Oscar Ochoa | H9: Òscar Ochoa | I9: PROMEDIO | J9: TOTAL COSTO MES | K9: TOTAL COSTO
A10: COMPUTADORES | B10: 4 | C10: Equipos de mesa con procesador CORE i3, CON 4GB de RAM, Disco duro de 500GB, Tarjeta de red integrada. Puerto de Video y sonido de alta definición HDMI, Puertos USB. Tarjeta de Red inalámbrica PCI. Pantalla LCD 21" Teclado Mouse óptico. | D10: =+'Consolidado '!B8 -> 1 | E10: 130000 | F10: 100000 | G10: 100000 | I10: =+F10 -> 100000 | J10: =+I10*B10*1.05 -> 420000 | K10: =+D10*J10 -> 420000
A11: Scaner | B11: 1 | C11: Con conversor a pdf | D11: =+D10 -> 1 | F11: 325000 | G11: 325000 | I11: =+F11 -> 325000 | J11: =+I11*B11*1.05 -> 341250 | K11: =+D11*J11 -> 341250
A12: Impresora multifuncional (3 en 1) | B12: 1 | C12: Alquiler, Imprime-fotocopia y escanea, monocromática, tarjeta de red, Láser jet, 27 ppm, ciclo de trabajo hasta 15.000 mes. | D12: =+D10 -> 1 | E12: 100000 | F12: 100000 | G12: 100000 | H12: 250000 | I12: =+AVERAGE(E12:F12) -> 100000 | J12: =+I12*B12*1.05 -> 105000 | K12: =+D12*J12 -> 105000
A13: Total | K13: =SUM(K10:K12) -> 866250
B16: COMPUTADOR
A17: Coordinador General | B17: 1
A18: Coordinadora Auxiliar Administrativo y Financiera | B18: 1
A19: Coordinadora Auxiliar Operativo | B19: 2
A20: Profesional Asistente Administrativo | B20: 1
A21: Profesional Asistente Contable | B21: 1
A22: Auxiliar procesos internos | B22: 2
A23: Auxiliar de enlace Medellín Solidaria - Secretaría de Bienestar Social | B23: 0
A24: Profesional Especializado | B24: 2
A25: Profesional Promoción Social | B25: 2
A26: Secretaria | B26: 1
A27: Coordinadores Locales | B27: 14
A28: Profesionales de familias en acción | B28: 18
... A37: Bachiller | B37: 0
B38: =SUM(B17:B37) -> 150

Sheet KitBebe
A1: Municipio de Medellín
A2: Secretaria de Inclusion y Social y Familia
A3: Unidad De Seguridad Alimentaria
A4: Estudio de Costos
A6: Kit Escolar
A8: Concepto | B8: Unidad | C8: Cantidad | D8: Éxito | E8: La Rebaja | F8: Boom | G8: Precio Promedio | H8: Costo Total
A9: Crema Antipañalitis (12 Grs) | B9: Unidad | C9: 1 | D9: 3253 | E9: 1870 | G9: =+E9*1.0251 -> 1916.937 | H9: =+C9*G9 -> 1916.937
A10: Copitos | B10: Unidad | C10: 1 | D10: 2979 | E10: 2800 | F10: 2990 | G10: =+E10*1.0251 -> 2870.28 | H10: =+C10*G10 -> 2870.28
A11: Jabon de Baño | B11: Unidad | C11: 1 | D11: 1845 | E11: 2200 | F11: 1953.3333 | G11: =+AVERAGE(D11,F11)*1.0251 -> 1946.8357 | H11: =+C11*G11 -> 1946.8357
A12: Bolsa | B12: Unidad | C12: 1 | G12: =200*1.0251 -> 205.02 | H12: 200
A13: TOTAL | H13: =SUM(H9:H12) -> 6934.0527
A15: Numero de Kit | H15: 20000
A17: TOTAL | H17: =+H13*H15 -> 1.3868105e+08
A19: Fecha:

Sheet Kitescolar
A1: Municipio de Medellín
A2: Secretaria de Inclusion y Social y Familia
A3: Unidad De Seguridad Alimentaria
A4: Estudio de Costos
A6: Kit Escolar
A8: Concepto | B8: Unidad | C8: Cantidad | D8: Distripel | E8: Papeleria Cucuta | F8: Distripel | G8: Panafargo | H8: Precio Promedio | I8: Costo Total
A9: Cuadernos rayados | B9: 100 Hojas | C9: 2 | E9: 650 | F9: 650 | G9: 675 | H9: =+E9*1.0251 -> 666.315 | I9: =+C9*H9 -> 1332.63
A10: Cuadernos cuadriculados | B10: 100 Hojas | C10: 2 | E10: 650 | F10: 650 | G10: 675 | H10: =+AVERAGE(D10:F10)*1.0251 -> 666.315 | I10: =+C10*H10 -> 1332.63
A11: Lápices | B11: Unidad | C11: 2 | E11: 475 | F11: 472.72727 | G11: 483.33333 | H11: =+AVERAGE(D11:F11)*1.0251 -> 485.75761 | I11: =+C11*H11 -> 971.51523
A12: Lapiceros | B12: Unidad | C12: 2 | E12: 283 | F12: 275 | G12: 275 | H12: =+G12*1.0251 -> 281.9025 | I12: =+C12*H12 -> 563.805
A13: Borrador | B13: Unidad | C13: 2 | E13: 275 | F13: 267.5 | G13: 550 | H13: =+F13*1.0251 -> 274.21425 | I13: =+C13*H13 -> 548.4285
A14: Sacapuntas | B14: Unidad | C14: 1 | E14: 250 | F14: 350 | H14: =+E14*1.0251 -> 256.275 | I14: =+C14*H14 -> 256.275
A15: Cartuchera | B15: Unidad | C15: 1 | E15: 900 | F15: 750 | G15: 1000 | H15: =+F15*1.0251 -> 768.825 | I15: =+C15*H15 -> 768.825
A16: Bolsa | B16: Unidad | C16: 1 | H16: =200*1.0251 -> 205.02 | I16: 200
A17: TOTAL | I17: =SUM(I9:I16) -> 5974.1087
A19: Numero de Kit | I19: 20000
A21: TOTAL | I21: =+I17*I19 -> 1.1948217e+08
A23: Fecha:

Sheet Gtodesp
A1: Municipio de Medellin
A2: Secrteraia de Inclusion Social y Familia
A3: Unidad de Seguridad Alimentaria
A5: CURSO DE MANIPUALACION DE ALIMENTOS
A6: CONCEPTO | B6: CANTIDAD | C6: Tiempo | D6: Promedio | E6: COSTO TOTAL
A7: Gastos de desplazamiento para profesionales | B7: 15 | C7: =+'Consolidado '!B8 -> 1 | D7: 200000 | E7: =+B7*C7*D7 -> 3000000
A8: TOTAL | E8: 0
A10: Fecha: | B10: =+'Consolidado '!A13 -> SEPTIEMBRE DE 2019

Sheet Papelería 
A1: Municipio de Medellin
A2: Secretaria de Inclusion Social y Familia
A3: Unidad de Seguridad Alimentaria
A4: Area Financiera
A5: Estudio de Costos
A7: PAPELERÍA
A9: Implementos | B9: Cantidad | C9: Unidad de Medida | D9: la 14 | H9: Cucuta | I9: Panafargo | K9: Precio Promedio | L9: Costo total
A10: AZ | B10: 20 | C10: Unidad Oficio | H10: 3750 | K10: =+IF(AND(#REF!=0,#REF!=0,#REF!=0,H10=0,I10=0),O,AVERAGEIF(D10:I10,"<>")) -> #REF! | L10: =+K10*B10 -> #REF!
A11: CD | B11: 2 | C11: x 100 Unds Reescribible | H11: 35000 | I11: 33700 | K11: =+IF(AND(#REF!=0,#REF!=0,#REF!=0,H11=0,I11=0),O,AVERAGEIF(D11:I11,"<>")) -> #REF! | L11: =+K11*B11 -> #REF!
A12: Estuche para CD | C12: x 100 Unds | D12: 2500 | K12: =+IF(AND(#REF!=0,#REF!=0,#REF!=0,H12=0,I12=0),O,AVERAGEIF(D12:I12,"<>")) -> #REF! | L12: =+K12*B12 -> #REF!
A13: Post It Guia | B13: 10 | C13: unidad | D13: 3450 | K13: =+IF(AND(#REF!=0,#REF!=0,#REF!=0,H13=0,I13=0),O,AVERAGEIF(D13:I13,"<>")) -> #REF! | L13: =+K13*B13 -> #REF!
A14: Papel Bond Carta | B14: 200 | C14: Resma carta | H14: 7300 | I14: 7200 | K14: =+IF(AND(#REF!=0,#REF!=0,#REF!=0,H14=0,I14=0),O,AVERAGEIF(D14:I14,"<>")) -> #REF! | L14: =+K14*B14 -> #REF!
A15: Papel Bond Oficio | B15: 30 | C15: Resma Oficio | H15: 9400 | I15: 9200 | K15: =+IF(AND(#REF!=0,#REF!=0,#REF!=0,H15=0,I15=0),O,AVERAGEIF(D15:I15,"<>")) -> #REF! | L15: =+K15*B15 -> #REF!
A16: Tóner | C16: Unidad | K16: =+IF(AND(#REF!=0,#REF!=0,#REF!=0,H16=0,I16=0),O,AVERAGEIF(D16:I16,"<>")) -> #REF! | L16: =+K16*B16 -> #REF!
A17: Boligrafo Negro | B17: 10 | C17: Caja x 12 Unds | H17: =250*12 -> 3000 | I17: 3300 | K17: =+IF(AND(#REF!=0,#REF!=0,#REF!=0,H17=0,I17=0),O,AVERAGEIF(D17:I17,"<>")) -> #REF! | L17: =+K17*B17 -> #REF!
A18: Borrador tablero seco | C18: Unidad | H18: 1000 | I18: 1000 | K18: =+IF(AND(#REF!=0,#REF!=0,#REF!=0,H18=0,I18=0),O,AVERAGEIF(D18:I18,"<>")) -> #REF! | L18: =+K18*B18 -> #REF!
A19: Ganchos Cosedora | B19: 20 | C19: caja | H19: 1500 | I19: 1500 | K19: =+IF(AND(#REF!=0,#REF!=0,#REF!=0,H19=0,I19=0),O,AVERAGEIF(D19:I19,"<>")) -> #REF! | L19: =+K19*B19 -> #REF!
A20: Clip Pequeño | B20: 40 | C20: caja | H20: 343.65 | I20: 350 | K20: =+IF(AND(#REF!=0,#REF!=0,#REF!=0,H20=0,I20=0),O,AVERAGEIF(D20:I20,"<>")) -> #REF! | L20: =+K20*B20 -> #REF!
A21: Clip Mariposa | B21: 20 | C21: caja | D21: 1950 | H21: 1250 | I21: 1550 | K21: =+IF(AND(#REF!=0,#REF!=0,#REF!=0,H21=0,I21=0),O,AVERAGEIF(D21:I21,"<>")) -> #REF! | L21: =+K21*B21 -> #REF!
A22: Ganchos legajador | B22: 20 | C22: caja | D22: 2150 | H22: 1500 | K22: =+IF(AND(#REF!=0,#REF!=0,#REF!=0,H22=0,I22=0),O,AVERAGEIF(D22:I22,"<>")) -> #REF! | L22: =+K22*B22 -> #REF!
A23: Resaltadores | B23: 80 | C23: Unidad | H23: 750 | I23: 800 | K23: =+IF(AND(#REF!=0,#REF!=0,#REF!=0,H23=0,I23=0),O,AVERAGEIF(D23:I23,"<>")) -> #REF! | L23: =+K23*B23 -> #REF!
A24: Sobre manila carta | B24: 200 | C24: Unidades | D24: 190 | H24: 68 | I24: 69 | K24: =+AVERAGE(D24:D24) -> 190 | L24: =+K24*B24 -> 38000
A25: Sobre manila oficio | B25: 2 | C25: Unidades x 100 | H25: 8200 | I25: 8000 | K25: =+IF(AND(#REF!=0,#REF!=0,#REF!=0,H25=0,I25=0),O,AVERAGEIF(D25:I25,"<>")) -> #REF! | L25: =+K25*B25 -> #REF!
A26: Pegante Colbon | B26: 4 | C26: Unidad x 225 Grs | D26: 4350 | H26: 3500 | K26: =+IF(AND(#REF!=0,#REF!=0,#REF!=0,H26=0,I26=0),O,AVERAGEIF(D26:I26,"<>")) -> #REF! | L26: =+K26*B26 -> #REF!
A27: Tijera | B27: 40 | C27: Unidad | D27: 2100 | H27: 2500 | K27: =+IF(AND(#REF!=0,#REF!=0,#REF!=0,H27=0,I27=0),O,AVERAGEIF(D27:I27,"<>")) -> #REF! | L27: =+K27*B27 -> #REF!
A28: Carpeta Plastica | C28: Unidad | K28: =+IF(AND(#REF!=0,#REF!=0,#REF!=0,H28=0,I28=0),O,AVERAGEIF(D28:I28,"<>")) -> #REF! | L28: =+K28*B28 -> #REF!
A29: Marcador Permanente | B29: 45 | C29: Unidad | I29: 750 | K29: =+IF(AND(#REF!=0,#REF!=0,#REF!=0,H29=0,I29=0),O,AVERAGEIF(D29:I29,"<>")) -> #REF! | L29: =+K29*B29 -> #REF!
A30: Marcador Borrable | B30: 40 | C30: Unidad | D30: 1600 | H30: 1000 | I30: 1000 | K30: =+IF(AND(#REF!=0,#REF!=0,#REF!=0,H30=0,I30=0),O,AVERAGEIF(D30:I30,"<>")) -> #REF! | L30: =+K30*B30 -> #REF!
A31: Grapadora | B31: 50 | C31: Unidad | D31: 6900 | K31: =+IF(AND(#REF!=0,#REF!=0,#REF!=0,H31=0,I31=0),O,AVERAGEIF(D31:I31,"<>")) -> #REF! | L31: =+K31*B31 -> #REF!
