Workbook

Sheet PROPUESTA ECON
A1: FORMULARIO 4
A2: FORMULARIO DE ÍTEMS, CANTIDADES Y PRECIOS
A5: ITEM | B5: DESCRIPCIÓN | C5: UN | D5: CANT | E5: VR. UNITARIO | F5: VR. PARCIAL
A6: 1 | B6: DESMONTE MANUAL | C6: M2 | D6: 740 | E6: =+APU!H36 -> 426 | F6: =ROUND(D6*E6,0) -> 315240
A7: 2 | B7: EXCAVACIÓN MANUAL MATERIAL COMÚN HÚMEDO 0.10M-1.80M | C7: M3 | D7: 285.51 | E7: =+APU!H70 -> 34422 | F7: =ROUND(D7*E7,0) -> 9827825
A8: 3 | B8: EXCAVACIÓN MECÁNICA EN MATERIAL COMÚN HÚMEDO | C8: M3 | D8: 587.43 | E8: =+APU!H104 -> 6270 | F8: =ROUND(D8*E8,0) -> 3683186
A9: 4 | B9: ACARREO MATERIAL DE EXCAVACIÓN | C9: M3 | D9: =+(D7+D8)*1.2+D6*0.4*1.35 -> 1447.128 | E9: =+APU!H138 -> 11483 | F9: =ROUND(D9*E9,0) -> 16617371
A10: 5 | B10: RETIRO MATERIAL SOBRANTE EN ESCOMBRERA AUTORIZADA | C10: M3 | D10: =+D9 -> 1447.128 | E10: =+APU!H172 -> 35595 | F10: =ROUND(D10*E10,0) -> 51510521
A11: 6 | B11: ASEO Y LIMPIEZA GENERAL | C11: M2 | D11: =+D6 -> 740 | E11: =+APU!H206 -> 362 | F11: =ROUND(D11*E11,0) -> 267880
B12: TOTAL COSTOS DIRECTOS | F12: =SUM(F6:F11) -> 82222023
B13: ADMINISTRACION 26% | F13: =ROUND(F12*26%,0) -> 21377726
B14: UTILIDAD 5% | F14: =ROUND(F12*5%,0) -> 4111101
B15: IMPREVISTO 2% | F15: =ROUND(F12*2%,0) -> 1644440
B16: PGIO 2% | F16: =ROUND(F12*2%,0) -> 1644440
B17: TOTAL PROYECTO | F17: =SUM(F12:F16) -> 110999730
A27: Proponente: ANUAR TUFIC OBEID TOVAR
A28: CC: 92.536.821 de Sincelejo

Sheet APU
A1: FORMULARIO 5
A2: ANÁLISIS DE PRECIOS UNITARIOS
C4: =B5 -> DESMONTE MANUAL | D4: M3 | E4: =G31 -> 508.3 | F4: =H36 -> 426
A5: ITEM: | B5: =+'PROPUESTA ECON'!B6 -> DESMONTE MANUAL | G5: UNIDAD: | H5: =+'PROPUESTA ECON'!C6 -> M2
A6: =+#REF!+1 -> #REF!
A7: 1 | B7: MAQUINARIA Y EQUIPOS
A8: CODIGO | B8: DESCRIPCIÓN | E8: UNIDAD | F8: TARIFA/ UNIDAD | G8: RENDIMIENTO | H8: VALOR UNITARIO
B9: HERRAMIENTAS MENORES | E9: UN | F9: 15.34 | G9: 1 | H9: =ROUND(F9/G9,0) -> 15
H10: =IF(A10<>"",(F10*G10),"")
H11: =IF(A11<>"",(F11*G11),"")
H12: =IF(A12<>"",(F12*G12),"")
F13: Subtotal Maquinaria y Equipos | H13: =SUM(H9:H12) -> 15
J14: =1*K14 -> 38666.667 | K14: =1160000/30 -> 38666.667
A15: 2 | B15: MATERIALES EN OBRA | J15: =1.5*K14 -> 58000
A16: CODIGO | B16: DESCRIPCIÓN | E16: UNIDAD | F16: PRECIO UNITARIO | G16: CANTIDAD | H16: VALOR UNITARIO | J16: =2.5*K14 -> 96666.667
H17: =IF(A17<>"",(F17*G17),"")
H18: =IF(A18<>"",(F18*G18),"")
H19: =IF(A19<>"",(F19*G19),"")
H20: =IF(A20<>"",(F20*G20),"")
F21: Subtotal Materiales en Obra | H21: =SUM(H17:H20) -> 0
A23: 3 | B23: TRANSPORTE
A24: CODIGO | B24: DESCRIPCIÓN | C24: UNIDAD | D24: CANTIDAD | E24: DIST. | F24: UNIDAD/KM | G24: TARIFA | H24: VALOR UNITARIO
H25: =IF(A25<>"",(F25*G25),"")
H26: =IF(A26<>"",(F26*G26),"")
F27: Subtotal Transporte | H27: =SUM(H25:H26) -> 0
A29: 4 | B29: MANO DE OBRA
A30: CODIGO | B30: DESCRIPCIÓN | C30: CANTIDAD | D30: JORNAL | E30: PRESTAC. | F30: JORNAL TOTAL | G30: RENDIMIENTO | H30: VALOR UNITARIO
B31: AYUDANTE | C31: 3 | D31: 38667 | E31: 0.8 | F31: =+C31*D31*(1+E31) -> 208801.8 | G31: 508.3 | H31: =ROUND(F31/G31,0) -> 411
H32: =IF(A32<>"",(F32*G32),"")
H33: =IF(A33<>"",(F33*G33),"")
F34: Subtotal Mano de Obra | H34: =SUM(H31:H33) -> 411
B36: VALOR PRECIO UNITARIO | H36: =ROUND((H13+H21+H27+H34),2) -> 426
A39: ITEM: | B39: =+'PROPUESTA ECON'!B7 -> EXCAVACIÓN MANUAL MATERIAL COMÚN HÚMEDO 0.10M-1.80M | G39: UNIDAD: | H39: =+'PROPUESTA ECON'!C7 -> M3
A40: =+#REF!+1 -> #REF!
A41: 1 | B41: MAQUINARIA Y EQUIPOS
A42: CODIGO | B42: DESCRIPCIÓN | E42: UNIDAD | F42: TARIFA/ UNIDAD | G42: RENDIMIENTO | H42: VALOR UNITARIO
B43: HERRAMIENTAS MENORES | E43: UN | F43: 1648.67 | G43: 1 | H43: =ROUND(F43/G43,0) -> 1649
H44: =IF(A44<>"",(F44*G44),"")
H45: =IF(A45<>"",(F45*G45),"")
H46: =IF(A46<>"",(F46*G46),"")
F47: Subtotal Maquinaria y Equipos | H47: =SUM(H43:H46) -> 1649
A49: 2 | B49: MATERIALES EN OBRA
A50: CODIGO | B50: DESCRIPCIÓN | E50: UNIDAD | F50: PRECIO UNITARIO | G50: CANTIDAD | H50: VALOR UNITARIO
H51: =IF(A51<>"",(F51*G51),"")
H52: =IF(A52<>"",(F52*G52),"")
H53: =IF(A53<>"",(F53*G53),"")
H54: =IF(A54<>"",(F54*G54),"")
F55: Subtotal Materiales en Obra | H55: =SUM(H51:H54) -> 0
A57: 3 | B57: TRANSPORTE
A58: CODIGO | B58: DESCRIPCIÓN | C58: UNIDAD | D58: CANTIDAD | E58: DIST. | F58: UNIDAD/KM | G58: TARIFA | H58: VALOR UNITARIO
H59: =IF(A59<>"",(F59*G59),"")
H60: =IF(A60<>"",(F60*G60),"")
F61: Subtotal Transporte | H61: =SUM(H59:H60) -> 0
A63: 4 | B63: MANO DE OBRA
A64: CODIGO | B64: DESCRIPCIÓN | C64: CANTIDAD | D64: JORNAL | E64: PRESTAC. | F64: JORNAL TOTAL | G64: RENDIMIENTO | H64: VALOR UNITARIO
B65: AYUDANTE | C65: 4 | D65: 38667 | E65: 0.8 | F65: =+C65*D65*(1+E65) -> 278402.4 | G65: 8.495 | H65: =ROUND(F65/G65,0) -> 32773
H66: =IF(A66<>"",(F66*G66),"")
H67: =IF(A67<>"",(F67*G67),"")
F68: Subtotal Mano de Obra | H68: =SUM(H65:H67) -> 32773
B70: VALOR PRECIO UNITARIO | H70: =ROUND((H47+H55+H61+H68),2) -> 34422
A73: ITEM: | B73: =+'PROPUESTA ECON'!B8 -> EXCAVACIÓN MECÁNICA EN MATERIAL COMÚN HÚMEDO | G73: UNIDAD: | H73: =+'PROPUESTA ECON'!C8 -> M3
A74: =+#REF!+1 -> #REF!
A75: 1 | B75: MAQUINARIA Y EQUIPOS
A76: CODIGO | B76: DESCRIPCIÓN | E76: UNIDAD | F76: TARIFA/ UNIDAD | G76: RENDIMIENTO | H76: VALOR UNITARIO
B77: HERRAMIENTAS MENORES | E77: UN | F77: =0.05*H102 -> 0 | G77: 1 | H77: =ROUND(F77/G77,0) -> 0
B78: EXCAVADORA HIDRÁULICA DE ORUGAS | E78: HORA | F78: 160000 | G78: 45 | H78: =ROUND(F78/G78,0) -> 3556
B79: MINICARGADOR | E79: HORA | F79: 95000 | G79: 35 | H79: =ROUND(F79/G79,0) -> 2714
H80: =IF(A80<>"",(F80*G80),"")
F81: Subtotal Maquinaria y Equipos | H81: =SUM(H77:H80) -> 6270
A83: 2 | B83: MATERIALES EN OBRA
A84: CODIGO | B84: DESCRIPCIÓN | E84: UNIDAD | F84: PRECIO UNITARIO | G84: CANTIDAD | H84: VALOR UNITARIO
H85: =IF(A85<>"",(F85*G85),"")
H86: =IF(A86<>"",(F86*G86),"")
H87: =IF(A87<>"",(F87*G87),"")
H88: =IF(A88<>"",(F88*G88),"")
F89: Subtotal Materiales en Obra | H89: =SUM(H85:H88) -> 0
A91: 3 | B91: TRANSPORTE
A92: CODIGO | B92: DESCRIPCIÓN | C92: UNIDAD | D92: CANTIDAD | E92: DIST. | F92: UNIDAD/KM | G92: TARIFA | H92: VALOR UNITARIO
H93: =IF(A93<>"",(F93*G93),"")
H94: =IF(A94<>"",(F94*G94),"")
F95: Subtotal Transporte | H95: =SUM(H93:H94) -> 0
A97: 4 | B97: MANO DE OBRA
A98: CODIGO | B98: DESCRIPCIÓN | C98: CANTIDAD | D98: JORNAL | E98: PRESTAC. | F98: JORNAL TOTAL | G98: RENDIMIENTO | H98: VALOR UNITARIO
H100: =IF(A100<>"",(F100*G100),"")
H101: =IF(A101<>"",(F101*G101),"")
F102: Subtotal Mano de Obra | H102: =SUM(H99:H101) -> 0
B104: VALOR PRECIO UNITARIO | H104: =ROUND((H81+H89+H95+H102),2) -> 6270
A107: ITEM: | B107: =+'PROPUESTA ECON'!B9 -> ACARREO MATERIAL DE EXCAVACIÓN | G107: UNIDAD: | H107: =+'PROPUESTA ECON'!C9 -> M3
A108: =+#REF!+1 -> #REF!
A109: 1 | B109: MAQUINARIA Y EQUIPOS
A110: CODIGO | B110: DESCRIPCIÓN | E110: UNIDAD | F110: TARIFA/ UNIDAD | G110: RENDIMIENTO | H110: VALOR UNITARIO
B111: HERRAMIENTAS MENORES | E111: UN | F111: 364.48 | G111: 1 | H111: =ROUND(F111/G111,0) -> 364
B112: CARRETA BUGGY | E112: DÍA | F112: 5000 | G112: 2 | H112: =ROUND(F112/G112,0) -> 2500
H113: =IF(A113<>"",(F113*G113),"")
H114: =IF(A114<>"",(F114*G114),"")
F115: Subtotal Maquinaria y Equipos | H115: =SUM(H111:H114) -> 2864
A117: 2 | B117: MATERIALES EN OBRA
A118: CODIGO | B118: DESCRIPCIÓN | E118: UNIDAD | F118: PRECIO UNITARIO | G118: CANTIDAD | H118: VALOR UNITARIO
H119: =IF(A119<>"",(F119*G119),"")
H120: =IF(A120<>"",(F120*G120),"")
...
