Workbook

Sheet PROPUESTA ECON
A1: FORMULARIO 4
A2: FORMULARIO DE ÍTEMS, CANTIDADES Y PRECIOS
A5: ITEM | B5: DESCRIPCIÓN | C5: UN | D5: CANT | E5: VR. UNITARIO | F5: VR. PARCIAL
A6: 1 | B6: DESMONTE MANUAL | C6: M2 | D6: 740 | E6: =+APU!H36 -> 426 | F6: =ROUND(D6*E6,0) -> 315240
A7: 2 | B7: EXCAVACIÓN MANUAL MATERIAL COMÚN HÚMEDO 0.10M-1.80M | C7: M3 | D7: 285.51 | E7: =+APU!H70 -> 34422 | F7: =ROUND(D7*E7,0) -> 9827825
A8: 3 | B8: EXCAVACIÓN MECÁNICA EN MATERIAL COMÚN HÚMEDO | C8: M3 | D8: 587.43 | E8: =+APU!H104 -> 6270 | F8: =ROUND(D8*E8,0) -> 3683186
A9: 4 | B9: ACARREO MATERIAL DE EXCAVACIÓN | C9: M3 | D9: =+(D7+D8)*1.2+D6*0.4*1.35 -> 1447.128 | E9: =+APU!H138 -> 11483 | F9: =ROUND(D9*E9,0) -> 16617371
A10: 5 | B10: RETIRO MATERIAL SOBRANTE EN ESCOMBRERA AUTORIZADA | C10: M3 | D10: =+D9 -> 1447.128 | E10: =+APU!H172 -> 35595 | F10: =ROUND(D10*E10,0) -> 51510521
A11: 6 | B11: ASEO Y LIMPIEZA GENERAL | C11: M2 | D11: =+D6 -> 740 | E11: =+APU!H206 -> 362 | F11: =ROUND(D11*E11,0) -> 267880
B12: TOTAL COSTOS DIRECTOS | F12: =SUM(F6:F11) -> 82222023
B13: ADMINISTRACION 26% | F13: =ROUND(F12*26%,0) -> 21377726
B14: UTILIDAD 5% | F14: =ROUND(F12*5%,0) -> 4111101
B15: IMPREVISTO 2% | F15: =ROUND(F12*2%,0) -> 1644440
B16: PGIO 2% | F16: =ROUND(F12*2%,0) -> 1644440
B17: TOTAL PROYECTO | F17: =SUM(F12:F16) -> 110999730
A27: Proponente: ANUAR TUFIC OBEID TOVAR
A28: CC: 92.536.821 de Sincelejo

Sheet APU
A1: FORMULARIO 5
A2: ANÁLISIS DE PRECIOS UNITARIOS
C4: =B5 -> DESMONTE MANUAL | D4: M3 | E4: =G31 -> 508.3 | F4: =H36 -> 426
A5: ITEM: | B5: =+'PROPUESTA ECON'!B6 -> DESMONTE MANUAL | G5: UNIDAD: | H5: =+'PROPUESTA ECON'!C6 -> M2
A6: =+#REF!+1 -> #REF!
A7: 1 | B7: MAQUINARIA Y EQUIPOS
A8: CODIGO | B8: DESCRIPCIÓN | E8: UNIDAD | F8: TARIFA/ UNIDAD | G8: RENDIMIENTO | H8: VALOR UNITARIO
B9: HERRAMIENTAS MENORES | E9: UN | F9: 15.34 | G9: 1 | H9: =ROUND(F9/G9,0) -> 15
H10: =IF(A10<>"",(F10*G10),"")
H11: =IF(A11<>"",(F11*G11),"")
H12: =IF(A12<>"",(F12*G12),"")
F13: Subtotal Maquinaria y Equipos | H13: =SUM(H9:H12) -> 15
J14: =1*K14 -> 38666.667 | K14: =1160000/30 -> 38666.667
A15: 2 | B15: MATERIALES EN OBRA | J15: =1.5*K14 -> 58000
A16: CODIGO | B16: DESCRIPCIÓN | E16: UNIDAD | F16: PRECIO UNITARIO | G16: CANTIDAD | H16: VALOR UNITARIO | J16: =2.5*K14 -> 96666.667
H17: =IF(A17<>"",(F17*G17),"")
H18: =IF(A18<>"",(F18*G18),"")
H19: =IF(A19<>"",(F19*G19),"")
H20: =IF(A20<>"",(F20*G20),"")
F21: Subtotal Materiales en Obra | H21: =SUM(H17:H20) -> 0
A23: 3 | B23: TRANSPORTE
A24: CODIGO | B24: DESCRIPCIÓN | C24: UNIDAD | D24: CANTIDAD | E24: DIST. | F24: UNIDAD/KM | G24: TARIFA | H24: VALOR UNITARIO
H25: =IF(A25<>"",(F25*G25),"")
H26: =IF(A26<>"",(F26*G26),"")
F27: Subtotal Transporte | H27: =SUM(H25:H26) -> 0
A29: 4 | B29: MANO DE OBRA
A30: CODIGO | B30: DESCRIPCIÓN | C30: CANTIDAD | D30: JORNAL | E30: PRESTAC. | F30: JORNAL TOTAL | G30: RENDIMIENTO | H30: VALOR UNITARIO
B31: AYUDANTE | C31: 3 | D31: 38667 | E31: 0.8 | F31: =+C31*D31*(1+E31) -> 208801.8 | G31: 508.3 | H31: =ROUND(F31/G31,0) -> 411
H32: =IF(A32<>"",(F32*G32),"")
H33: =IF(A33<>"",(F33*G33),"")
F34: Subtotal Mano de Obra | H34: =SUM(H31:H33) -> 411
B36: VALOR PRECIO UNITARIO | H36: =ROUND((H13+H21+H27+H34),2) -> 426
A39: ITEM: | B39: =+'PROPUESTA ECON'!B7 -> EXCAVACIÓN MANUAL MATERIAL COMÚN HÚMEDO 0.10M-1.80M | G39: UNIDAD: | H39: =+'PROPUESTA ECON'!C7 -> M3
A40: =+#REF!+1 -> #REF!
A41: 1 | B41: MAQUINARIA Y EQUIPOS
A42: CODIGO | B42: DESCRIPCIÓN | E42: UNIDAD | F42: TARIFA/ UNIDAD | G42: RENDIMIENTO | H42: VALOR UNITARIO
B43: HERRAMIENTAS MENORES | E43: UN | F43: 1648.67 | G43: 1 | H43: =ROUND(F43/G43,0) -> 1649
H44: =IF(A44<>"",(F44*G44),"")
H45: =IF(A45<>"",(F45*G45),"")
H46: =IF(A46<>"",(F46*G46),"")
...
