Workbook

Sheet Promedio_Servicios_Publicos
C3: 2023 | F3: 2022
B4: TIPO SERVICIO | C4: MAR | D4: FEB | E4: ENE | F4: DIC | G4: NOV | H4: OCT | I4: SEP | J4: AGO | K4: JUL | L4: JUN | M4: MAY | N4: ABR | O4: MAR | P4: FEB | Q4: ENE | R4: TOTAL X SERVICIO | T4: Promedio | U4: 0.0082318248 | V4: Valor Anual | W4: Valor Proeyctado
B5: Servicio - Energia | D5: =73203220-D9 -> 71163380 | E5: 54347090 | F5: 59630930 | G5: 67107760 | H5: 64605240 | I5: 72242170 | J5: 66211830 | K5: 65270740 | L5: 50309910 | M5: 53953040 | N5: 60080610 | O5: 51422210 | P5: 58711430 | Q5: =44163770 -> 44163770 | R5: =SUM(C5:Q5) -> 839220110 | T5: =AVERAGE(D5:Q5) -> 59944294 | U5: =T5*$U$4 -> 493450.92 | V5: =U5*12 -> 5921411.1 | W5: =V5*20 -> 1.1842822e+08
B6: Servicio - Agua | C6: 7697740 | D6: 6075250 | E6: 3046130 | F6: 2308100 | G6: 2476290 | H6: 1132150 | I6: 2971822 | J6: 1767172 | K6: 2839122 | L6: 2720212 | M6: 1949592 | N6: 2317406 | O6: 1896058 | P6: 2741242 | Q6: 2811152 | R6: =SUM(C6:Q6) -> 44749438 | T6: =AVERAGE(D6:Q6) -> 2646549.9 | U6: =T6*$U$4 -> 21785.935 | V6: =U6*12 -> 261431.22 | W6: =V6*20 -> 5228624.3
B7: Servicio - Internet | C7: =13995946+3104802 -> 17100748 | D7: =15705642+3059802 -> 18765444 | E7: =15595844+3059802 -> 18655646 | F7: =15595844+3059802 -> 18655646 | G7: =22548174+3059802 -> 25607976 | H7: =21148173+3059802 -> 24207975 | I7: =21291182+3059802 -> 24350984 | J7: =23901775+3059802 -> 26961577 | K7: =23901775+3112469 -> 27014244 | L7: =23939062+3059802 -> 26998864 | M7: =23901775+3059801 -> 26961576 | N7: =24031633+3132521 -> 27164154 | O7: =23901775+3032081 -> 26933856 | P7: =22537509+2795841 -> 25333350 | Q7: 31193791 | R7: =SUM(C7:Q7) -> 365905831 | T7: =AVERAGE(D7:Q7) -> 24914649 | U7: =T7*$U$4 -> 205093.02 | V7: =U7*12 -> 2461116.3 | W7: =V7*20 -> 49222326
B8: Servicio - Vigilancia | C8: 148198319 | D8: 148198319 | E8: 148198319 | F8: 122583794 | G8: 122583794 | H8: 122583794 | I8: 122583794 | J8: 122583794 | K8: 122583794 | L8: 120838289 | M8: 120838289 | N8: 96430537 | O8: 93216186 | P8: 83713795 | Q8: 83998557 | R8: =SUM(C8:Q8) -> 1779133374 | T8: =AVERAGE(D8:Q8) -> 1.1649536e+08 | U8: =T8*$U$4 -> 958969.4 | V8: =U8*12 -> 11507633 | W8: =V8*20 -> 2.3015266e+08
B9: Servicio de Aseo | D9: 2039840 | E9: 2036840 | F9: 2036830 | G9: 1998590 | H9: 1998030 | I9: 2000310 | J9: 1946950 | K9: 7747500 | L9: 9249870 | M9: 1930450 | N9: 566480 | O9: 559070 | P9: 559060 | Q9: 536230 | R9: =SUM(C9:Q9) -> 35206050 | T9: =AVERAGE(D9:Q9) -> 2514717.9 | U9: =T9*$U$4 -> 20700.717 | V9: =U9*12 -> 248408.6 | W9: =V9*20 -> 4968172
B10: TOTAL X MES | C10: =SUM(C5:C9) -> 172996807 | D10: =SUM(D5:D9) -> 246242233 | E10: =SUM(E5:E9) -> 226284025 | F10: =SUM(F5:F9) -> 205215300 | G10: =SUM(G5:G9) -> 219774410 | H10: =SUM(H5:H9) -> 214527189 | I10: =SUM(I5:I9) -> 224149080 | J10: =SUM(J5:J9) -> 219471323 | ... R10: =SUM(R5:R9) -> 3064214803 | T10: =SUM(T5:T9) -> 2.0651557e+08 | U10: =SUM(U5:U9) -> 1700000 | V10: =SUM(V5:V9) -> 20400000 | W10: =SUM(W5:W9) -> 4.08e+08
B13: TIPO SERVICIO | C13: Promedio | D13: % Participacion | E13: Valor por mes | F13: Promedio Anual | G13: Proyeccion Final Estimada | T13: 408000000
B14: Servicio - Energia | C14: 59944294 | D14: =U4 -> 0.0082318248 | E14: =C14*D14 -> 493450.92 | F14: =E14*12 -> 5921411.1 | G14: =F14*20 -> 1.1842822e+08
B15: Servicio - Agua | C15: 2646549.9 | D15: =D14 -> 0.0082318248 | E15: =C15*D15 -> 21785.935 | F15: =E15*12 -> 261431.22 | G15: =F15*20 -> 5228624.3
B16: Servicio - Internet | C16: 24914649 | D16: =D15 -> 0.0082318248 | E16: =C16*D16 -> 205093.02 | F16: =E16*12 -> 2461116.3 | G16: =F16*20 -> 49222326
B17: Servicio - Vigilancia | C17: 1.1649536e+08 | D17: =D16 -> 0.0082318248 | E17: =C17*D17 -> 958969.4 | F17: =E17*12 -> 11507633 | G17: =F17*20 -> 2.3015266e+08
B18: Servicio de Aseo | C18: 2514717.9 | D18: =D17 -> 0.0082318248 | E18: =C18*D18 -> 20700.717 | F18: =E18*12 -> 248408.6 | G18: =F18*20 -> 4968172
B19: TOTALES | C19: 2.0651557e+08 | E19: =SUM(E14:E18) -> 1700000 | F19: =SUM(F14:F18) -> 20400000 | G19: =SUM(G14:G18) -> 4.08e+08

Sheet Detalle_Aportes
C4: SOCIOS | D4: % Participacion | E4: VALOR
C5: DEPARTAMENTO DE SUCRE | D5: 0.51 | E5: =D5*E7 -> 408000000
C6: SOCIO EXTRATEGICO PRIVADO | D6: 0.49 | E6: =D6*E7 -> 392000000
C7: TOTAL CAPITAL | D7: =SUM(D5:D6) -> 1 | E7: 800000000
B11: DETALLE APORTE - SOCIO ESTRATEGICO | G11: DETALLE APORTE - DEPARTAMENTO DE SUCRE
C12: SOCIO ESTRATEGICO | D12: 0.49 | E12: =E6 -> 392000000 | G12: TIPO SERVICIO | H12: Promedio | I12: % Partic. | J12: Valor por mes | K12: Promedio Anual | L12: Proyeccion Final Estimada
G13: Servicio - Energia | H13: =Promedio_Servicios_Publicos!T5 -> 59944294 | I13: =Promedio_Servicios_Publicos!U4 -> 0.0082318248 | J13: =Promedio_Servicios_Publicos!U5 -> 493450.92 | K13: =Promedio_Servicios_Publicos!V5 -> 5921411.1 | L13: =Promedio_Servicios_Publicos!W5 -> 1.1842822e+08
B14: TIPO APORTE | C14: DESCRIPCION DEL APORTE | E14: Valor | G14: Servicio - Agua | H14: =Promedio_Servicios_Publicos!T6 -> 2646549.9 | I14: =I13 -> 0.0082318248 | J14: =Promedio_Servicios_Publicos!U6 -> 21785.935 | K14: =Promedio_Servicios_Publicos!V6 -> 261431.22 | L14: =Promedio_Servicios_Publicos!W6 -> 5228624.3
B15: EFECTIVO | C15: Aportes en Efectivo | E15: =SUM(D16:D21) -> 59500000 | G15: Servicio - Internet | H15: =Promedio_Servicios_Publicos!T7 -> 24914649 | I15: =I14 -> 0.0082318248 | J15: =Promedio_Servicios_Publicos!U7 -> 205093.02 | K15: =Promedio_Servicios_Publicos!V7 -> 2461116.3 | L15: =Promedio_Servicios_Publicos!W7 -> 49222326
B16: EFECTIVO | C16: Adecuaciones Area Administrativa | D16: 18000000 | G16: Servicio - Vigilancia | H16: =Promedio_Servicios_Publicos!T8 -> 1.1649536e+08 | I16: =I15 -> 0.0082318248 | J16: =Promedio_Servicios_Publicos!U8 -> 958969.4 | K16: =Promedio_Servicios_Publicos!V8 -> 11507633 | L16: =Promedio_Servicios_Publicos!W8 -> 2.3015266e+08
B17: EFECTIVO | C17: Muebles y Enseres de Oficina | D17: 9500000 | G17: Servicio de Aseo | H17: =Promedio_Servicios_Publicos!T9 -> 2514717.9 | I17: =I16 -> 0.0082318248 | J17: =Promedio_Servicios_Publicos!U9 -> 20700.717 | K17: =Promedio_Servicios_Publicos!V9 -> 248408.6 | L17: =Promedio_Servicios_Publicos!W9 -> 4968172
B18: EFECTIVO | C18: Equipos de Computo y Perifericos | D18: 17000000 | G18: TOTALES | H18: =SUM(H13:H17) -> 2.0651557e+08 | J18: =SUM(J13:J17) -> 1700000 | K18: =SUM(K13:K17) -> 20400000 | L18: =SUM(L13:L17) -> 4.08e+08
B19: EFECTIVO | C19: Equipos de Video Camara y Seguridad | D19: 3500000
B20: EFECTIVO | C20: Equipos de Refrigeracion | D20: 9500000
B21: EFECTIVO | C21: Utiles de Oficina | D21: 2000000
B22: ESPECIE | C22: Camión tipo furgon modelo hasta 2020, con capacidad de carga de 4 toneladas | E22: 149850000
B23: ESPECIE | C23: Equipos de logistica integral para eventos y camioneta doble cabina modelo hasta 2020, con aire acondicionado y capacidad de 5 personas | E23: 182650000
E24: =SUM(E15:E23) -> 392000000
