Workbook

Sheet Bases
B2: PROYECTO:
B3: SEM LOGÍSTICA INTEGRAL
B4: Evaluación Financiera y Económica
B5: ($000)
B8: 1. SUPUESTOS DE INVERSIÓN
D9: PERIODO PREOPERATIVO
B11: Terrenos | D11: 0
B12: Edificios | D12: 0
B13: Maquinaria y Equipos | D13: 150000
B14: Muebles y Enseres | D14: 150000
B15: Otros | D15: 375000
B16: Gastos Preoperativos | D16: 125000
B18: 2. SUPUESTOS DE FINANCIACIÓN
B19: FINANCIACION LARGO PLAZO
C20: Estructura Financiera Inicial
B21: 2.1. | C21: Capital | F21: 1
B23: 2.2. | C23: Créditos de largo plazo | F23: =1-F21 -> 0
C25: Interés Crédito de Largo Plazo | F25: 0.3139 | G25: Anual
C27: Plazo : | F27: 5 | G27: años
C29: Período de Gracia | F29: 1 | G29: año(s)
B31: FINANCIACION CORTO PLAZO
C33: Interés Crédito de Corto Plazo | F33: 0.3139 | G33: Anual
B36: 3. NECESIDAD OPERATIVA DE FONDOS
C38: Activos Circulantes
B39: 4.1. | C39: Caja Mínima Requerida | G39: 30 | H39: Dias de Costos y gastos desembolsables
G40: =+G39/360 -> 0.083333333
B42: 4.2. | C42: Cuentas por Cobrar | G42: 45 | H42: Dias de Venta
G43: =+G42/360 -> 0.125
B44: 4.3. | C44: Inventarios | G44: 0 | H44: Dias de Venta
G45: =+G44/360 -> 0
C46: Pasivos Operativos
B47: 4.4. | C47: Costos y Gastos por Pagar | G47: 0.0833 | H47: Del Consumo operación
B49: 4.INFLACION Y CRECIMIENTO ECONÓMICO
E51: Año 1 | F51: Año 2 | G51: Año 3 | H51: Año 4 | I51: Año 5 | J51: Año 6 | K51: Año 7 | L51: Año 8 | M51: Año 9 | N51: Año 10 | O51: Año 11 | P51: Año 12 | Q51: Año 13 | R51: Año 14 | S51: Año 15 | T51: Año 16 | U51: Año 17 | V51: Año 18 | W51: Año 19 | X51: Año 20
C53: IPC | E53: 0.12 | F53: 0.07 | G53: 0.044 | H53: 0.038 | I53: 0.034 | J53: 0.03 | K53: 0.03 | L53: 0.03 | M53: 0.03 | N53: 0.03 | O53: 0.03 | P53: 0.03 | Q53: 0.03 | R53: 0.03 | S53: 0.03 | T53: 0.03 | U53: 0.03 | V53: 0.03 | W53: 0.03 | X53: 0.03
C54: PIB | E54: 0.016 | F54: 0.025 | G54: 0.028 | H54: 0.028 | I54: 0.03 | J54: 0.032 | K54: 0.032 | L54: 0.032 | M54: 0.032 | N54: 0.032 | O54: 0.032 | P54: 0.032 | Q54: 0.032 | R54: 0.032 | S54: 0.032 | T54: 0.032 | U54: 0.032 | V54: 0.032 | W54: 0.032 | X54: 0.032
B59: 5. INGRESOS OPERACIONALES
E61: Año 1 | F61: Año 2 | G61: Año 3 | H61: Año 4 | I61: Año 5 | J61: Año 6 | K61: Año 7 | L61: Año 8 | M61: Año 9 | N61: Año 10 | O61: Año 11 | P61: Año 12 | Q61: Año 13 | R61: Año 14 | S61: Año 15 | T61: Año 16 | U61: Año 17 | V61: Año 18 | W61: Año 19 | X61: Año 20
B63: Ingresos Operacionales | E63: 8730953 | F63: =+E63*(1+E$53)*(1+E$54) -> 9935126 | G63: =+F63*(1+F$53)*(1+F$54) -> 10896349 | H63: =+G63*(1+G$53)*(1+G$54) -> 11694311 | I63: =+H63*(1+H$53)*(1+H$54) -> 12478578 | J63: =+I63*(1+I$53)*(1+I$54) -> 13289935 | K63: =+J63*(1+J$53)*(1+J$54) -> 14126670 | L63: =+K63*(1+K$53)*(1+K$54) -> 15016085 | M63: =+L63*(1+L$53)*(1+L$54) -> 15961498 | ... X63: =+W63*(1+W$53)*(1+W$54) -> 31243507
B66: 6. COSTOS Y GASTOS OPERACIONALES
...

Sheet Proyecciones
B3: I. Plan de Inversion
D4: Inversion
D5: Total
B7: Inversión Fija
C8: Terrenos | D8: =+Bases!D11 -> 0
C9: Edificios | D9: =+Bases!D12 -> 0
C10: Maquinaria y Equipos | D10: =+Bases!D13 -> 150000
C11: Muebles y Enseres | D11: 150000
C12: Otros | D12: =+Bases!D15 -> 375000
B14: Total Inversión Fija | D14: =SUM(D8:D12) -> 675000
B16: Inversión Diferida
C17: Gastos Preoperativos | D17: =+Bases!D16 -> 125000
B19: Total Inversión Diferida | D19: =SUM(D16:D17) -> 125000
B21: Inversión Circulante
C22: Cuentas por Cobrar | D22: =+D139 -> 1091369.1
C23: Inventarios | D23: =+D140 -> 0
B25: Total Inversión Circulante | D25: =SUM(D22:D22) -> 1091369.1
B27: TOTAL INVERSIONES | D27: =D14+D19+D25 -> 1891369.1
B30: II. Plan de Financiación
D31: TOTAL
B34: =1-B36 -> 1 | C34: Capital | D34: =+B34*D27 -> 1891369.1
B36: =+Bases!F23 -> 0 | C36: Crédito | D36: =+B36*D27 -> 0
C38: Total | D38: =D34+D36 -> 1891369.1
B42: III. Ingresos Operacionales
D44: Año 1 | E44: Año 2 | F44: Año 3 | G44: Año 4 | H44: Año 5 | I44: Año 6 | J44: Año 7 | K44: Año 8 | L44: Año 9 | M44: Año 10 | N44: Año 11 | O44: Año 12 | P44: Año 13 | Q44: Año 14 | R44: Año 15 | S44: Año 16 | T44: Año 17 | U44: Año 18 | V44: Año 19 | W44: Año 20
C47: Ingresos operacionales ($000) | D47: =+Bases!E63 -> 8730953 | E47: =+Bases!F63 -> 9935126 | F47: =+Bases!G63 -> 10896349 | G47: =+Bases!H63 -> 11694311 | H47: =+Bases!I63 -> 12478578 | I47: =+Bases!J63 -> 13289935 | J47: =+Bases!K63 -> 14126670 | K47: =+Bases!L63 -> 15016085 | ... W47: =+Bases!X63 -> 31243507
B51: IV. Costos Operacionales
D53: Año 1 | E53: Año 2 | F53: Año 3 | G53: Año 4 | H53: Año 5 | I53: Año 6 | J53: Año 7 | K53: Año 8 | L53: Año 9 | M53: Año 10 | N53: Año 11 | O53: Año 12 | P53: Año 13 | Q53: Año 14 | R53: Año 15 | S53: Año 16 | T53: Año 17 | U53: Año 18 | V53: Año 19 | W53: Año 20
C56: =+Bases!C70 -> Costos operacionales | D56: =+Bases!E70 -> 7421310 | E56: =+Bases!F70 -> 8444857.1 | F56: =+Bases!G70 -> 9261897.1 | G56: =+Bases!H70 -> 9940164.3 | H56: =+Bases!I70 -> 10606791 | I56: =+Bases!J70 -> 11296445 | J56: =+Bases!K70 -> 12007669 | K56: =+Bases!L70 -> 12763672 | ... W56: =+Bases!X70 -> 26556981
C58: =+Bases!C71 -> 0 | D58: =+Bases!E71 -> 0 | E58: =+Bases!F71 -> 0 | F58: =+Bases!G71 -> 0 | G58: =+Bases!H71 -> 0 | H58: =+Bases!I71 -> 0 | I58: =+Bases!J71 -> 0 | J58: =+Bases!K71 -> 0 | K58: =+Bases!L71 -> 0 | ... W58: =+Bases!X71 -> 0
C60: =+Bases!C72 -> 0 | D60: =+Bases!E72 -> 0 | E60: =+Bases!F72 -> 0 | F60: =+Bases!G72 -> 0 | G60: =+Bases!H72 -> 0 | H60: =+Bases!I72 -> 0 | I60: =+Bases!J72 -> 0 | J60: =+Bases!K72 -> 0 | K60: =+Bases!L72 -> 0 | ... W60: =+Bases!X72 -> 0
C62: =+Bases!C73 -> 0 | D62: =+Bases!E73 -> 0 | E62: =+Bases!F73 -> 0 | F62: =+Bases!G73 -> 0 | G62: =+Bases!H73 -> 0 | H62: =+Bases!I73 -> 0 | I62: =+Bases!J73 -> 0 | J62: =+Bases!K73 -> 0 | K62: =+Bases!L73 -> 0 | ... W62: =+Bases!X73 -> 0
C64: Total Costos Operacionales ($000) | D64: =SUM(D56:D63) -> 7421310 | E64: =SUM(E56:E63) -> 8444857.1 | F64: =SUM(F56:F63) -> 9261897.1 | G64: =SUM(G56:G63) -> 9940164.3 | H64: =SUM(H56:H63) -> 10606791 | I64: =SUM(I56:I63) -> 11296445 | J64: =SUM(J56:J63) -> 12007669 | K64: =SUM(K56:K63) -> 12763672 | ... W64: =SUM(W56:W63) -> 26556981
B67: V. Gastos Operacionales
D70: Año 1 | E70: Año 2 | F70: Año 3 | G70: Año 4 | H70: Año 5 | I70: Año 6 | J70: Año 7 | K70: Año 8 | L70: Año 9 | M70: Año 10 | N70: Año 11 | O70: Año 12 | P70: Año 13 | Q70: Año 14 | R70: Año 15 | S70: Año 16 | T70: Año 17 | U70: Año 18 | V70: Año 19 | W70: Año 20
C73: =+Bases!C80 -> Personal | D73: =+Bases!E80 -> 514333.66 | E73: =+Bases!F80 -> 585270.56 | F73: =+Bases!G80 -> 641895.49 | G73: =+Bases!H80 -> 688902.78 | H73: =+Bases!I80 -> 735103.35 | I73: =+Bases!J80 -> 782899.77 | J73: =+Bases!K80 -> 832191.14 | K73: =+Bases!L80 -> 884585.89 | ... W73: =+Bases!X80 -> 1840530.7
C75: Honorarios | D75: =Bases!E81 -> 56441.561 | E75: =Bases!F81 -> 64225.981 | F75: =Bases!G81 -> 70439.845 | G75: =Bases!H81 -> 75598.295 | H75: =Bases!I81 -> 80668.219 | I75: =Bases!J81 -> 85913.267 | J75: =Bases!K81 -> 91322.366 | K75: =Bases!L81 -> 97072.022 | ... W75: =Bases!X81 -> 201974.78
C77: Diversos Admon | D77: =Bases!E82+Bases!E83 -> 249412.08 | E77: =Bases!F82+Bases!F83 -> 283810.99 | F77: =Bases!G82+Bases!G83 -> 311269.7 | G77: =Bases!H82+Bases!H83 -> 334064.61 | H77: =Bases!I82+Bases!I83 -> 356468.32 | I77: =Bases!J82+Bases!J83 -> 379645.89 | J77: =Bases!K82+Bases!K83 -> 403548.39 | K77: =Bases!L82+Bases!L83 -> 428955.8 | ... W77: =Bases!X82+Bases!X83 -> 892515.17
C79: =+Bases!C84 -> Diversos Ventas | D79: =+Bases!E84 -> 87309.53 | E79: =+Bases!F84 -> 99351.26 | F79: =+Bases!G84 -> 108963.49 | G79: =+Bases!H84 -> 116943.11 | H79: =+Bases!I84 -> 124785.78 | I79: =+Bases!J84 -> 132899.35 | J79: =+Bases!K84 -> 141266.7 | K79: =+Bases!L84 -> 150160.85 | ... W79: =+Bases!X84 -> 312435.07
C81: =+Bases!C85 -> Depreciacion | D81: =+Bases!E85 -> 0 | E81: =+Bases!F85 -> 0 | F81: =+Bases!G85 -> 0 | G81: =+Bases!H85 -> 0 | H81: =+Bases!I85 -> 0 | I81: =+Bases!J85 -> 0 | J81: =+Bases!K85 -> 0 | K81: =+Bases!L85 -> 0 | ... W81: =+Bases!X85 -> 0
...

Sheet Estructura Organizacional
I1: Gerencia General
I2: Ejerce la representación legal de la sociedad, garantiza su sostenibilidad estableciendo la orientación estratégica de la organización, monitoreando permanentemente los indicadores del negocio y la calidad de los servicios, también verificando el uso óptimo de los recursos.
I3: Se encarga de fijar las políticas de la compañía con base en los parámetros fijados por los cuerpos colegiados, así como de planear, dirigir y controlar las actividades de la empresa.
I4: Es el responsable ante los accionistas, por los resultados de las operaciones y el desempeño organizacional con la administración.
I5: Jurídica
I6: Garantiza la seguridad jurídica de la sociedad creando los instrumentos necesarios para su control e innovando en materia normativa y regulatoria.
I7: Dirección Comercial y de Operaciones
I8: Desarrolla los procesos de cara al cliente como eje central de la estrategia de negocio, como son: prospección, venta y servicio al cliente.
I9: Se encarga de posicionar la marca como facilitadora del alcance de las metas y necesidades de los clientes, la generación de propuestas de valor y negocios innovadores.
I10: Responsable de que la operación responda con los estándares de eficiencia, asegura el cumplimiento de los Acuerdos de Niveles de Servicio – ANS pactados contractualmente y realiza la gerencia de proyectos.
I11: Equipo encargado de cautivar al cliente generando valor constante, permanencia y rentabilidad del negocio.
I12: Desarrolla proyectos que constituyen nuevos productos, servicios, mejoras sensibles a las actuales, al modelo de relacionamiento con el cliente que representen mejoras en las condiciones económicas del negocio.
... I15: Garantiza la infraestructura y suministro de bienes y servicios que permitan el funcionamiento efectivo de los procesos del negocio, también es el órgano de asesoramiento interno con el fin de que la organización genere valor económico sostenible y un crecimiento basado en la innovación y desarrollo de negocios apalancados en modelos de rentabilidad.

Sheet Ingresos_Egresos_Mes
B2: PROYECCION DE INGRESOS Y EGRESOS MENSUALES - VALORES EN MILLONES DE PESOS
C4: Año 1 | D4: Año 2 | E4: Año 3 | F4: Año 4 | G4: Año 5 | H4: Año 6 | I4: Año 7 | J4: Año 8 | K4: Año 9 | L4: Año 10 | M4: Año 11 | N4: Año 12 | O4: Año 13 | P4: Año 14 | Q4: Año 15 | R4: Año 16 | S4: Año 17 | T4: Año 18 | U4: Año 19 | V4: Año 20
B6: INGRESOS | C6: =Bases!E63/1000 -> 8730.953 | D6: =Bases!F63/1000 -> 9935.126 | E6: =Bases!G63/1000 -> 10896.349 | F6: =Bases!H63/1000 -> 11694.311 | G6: =Bases!I63/1000 -> 12478.578 | H6: =Bases!J63/1000 -> 13289.935 | I6: =Bases!K63/1000 -> 14126.67 | J6: =Bases!L63/1000 -> 15016.085 | ... V6: =Bases!X63/1000 -> 31243.507
B7: MESES
B8: Ene | C8: 0 | D8: =$D$6*$AF8 -> 119.22151 | E8: =$E$6*$AF8 -> 130.75619 | F8: =$F$6*$AF8 -> 140.33173 | G8: =$G$6*$AF8 -> 149.74294 | H8: =$H$6*$AF8 -> 159.47922 | I8: =$I$6*$AF8 -> 169.52004 | J8: =$J$6*$AF8 -> 180.19302 | K8: =$K$6*$AF8 -> 191.53797 | L8: =$L$6*$AF8 -> 203.5972 | M8: =$M$6*$AF8 -> 216.41568 | N8: =$N$6*$AF8 -> 230.04121 | O8: =$O$6*$AF8 -> 244.52461 | P8: =$P$6*$AF8 -> 259.91988 | Q8: =$Q$6*$AF8 -> 276.28443 | R8: =$R$6*$AF8 -> 293.6793 | S8: =$S$6*$AF8 -> 312.16935 | T8: =$T$6*$AF8 -> 331.82353 | U8: =$U$6*$AF8 -> 352.71514 | V8: =$V$6*$AF8 -> 374.92208 | AF8: 0.012 | AG8: 1
B9: Feb | C9: 0 | D9: =$D$6*$AF9 -> 298.05378 | E9: =$E$6*$AF9 -> 326.89048 | F9: =$F$6*$AF9 -> 350.82933 | G9: =$G$6*$AF9 -> 374.35735 | H9: =$H$6*$AF9 -> 398.69806 | I9: =$I$6*$AF9 -> 423.80009 | J9: =$J$6*$AF9 -> 450.48254 | K9: =$K$6*$AF9 -> 478.84493 | L9: =$L$6*$AF9 -> 508.993 | M9: =$M$6*$AF9 -> 541.0392 | N9: =$N$6*$AF9 -> 575.10303 | O9: =$O$6*$AF9 -> 611.31152 | P9: =$P$6*$AF9 -> 649.79969 | Q9: =$Q$6*$AF9 -> 690.71108 | R9: =$R$6*$AF9 -> 734.19825 | S9: =$S$6*$AF9 -> 780.42337 | T9: =$T$6*$AF9 -> 829.55882 | U9: =$U$6*$AF9 -> 881.78785 | V9: =$V$6*$AF9 -> 937.30521 | AF9: 0.03 | AG9: 2
B10: Mar | C10: 0 | D10: =$D$6*$AF10 -> 794.81008 | E10: =$E$6*$AF10 -> 871.70796 | F10: =$F$6*$AF10 -> 935.54488 | G10: =$G$6*$AF10 -> 998.28626 | H10: =$H$6*$AF10 -> 1063.1948 | I10: =$I$6*$AF10 -> 1130.1336 | J10: =$J$6*$AF10 -> 1201.2868 | K10: =$K$6*$AF10 -> 1276.9198 | L10: =$L$6*$AF10 -> 1357.3147 | M10: =$M$6*$AF10 -> 1442.7712 | N10: =$N$6*$AF10 -> 1533.6081 | O10: =$O$6*$AF10 -> 1630.164 | P10: =$P$6*$AF10 -> 1732.7992 | Q10: =$Q$6*$AF10 -> 1841.8962 | R10: =$R$6*$AF10 -> 1957.862 | S10: =$S$6*$AF10 -> 2081.129 | T10: =$T$6*$AF10 -> 2212.1569 | U10: =$U$6*$AF10 -> 2351.4343 | V10: =$V$6*$AF10 -> 2499.4806 | AF10: 0.08 | AG10: 3
B11: Abr | C11: 0 | D11: =$D$6*$AF11 -> 834.55059 | E11: =$E$6*$AF11 -> 915.29336 | F11: =$F$6*$AF11 -> 982.32212 | G11: =$G$6*$AF11 -> 1048.2006 | H11: =$H$6*$AF11 -> 1116.3546 | I11: =$I$6*$AF11 -> 1186.6403 | J11: =$J$6*$AF11 -> 1261.3511 | K11: =$K$6*$AF11 -> 1340.7658 | L11: =$L$6*$AF11 -> 1425.1804 | M11: =$M$6*$AF11 -> 1514.9098 | N11: =$N$6*$AF11 -> 1610.2885 | O11: =$O$6*$AF11 -> 1711.6722 | P11: =$P$6*$AF11 -> 1819.4391 | Q11: =$Q$6*$AF11 -> 1933.991 | R11: =$R$6*$AF11 -> 2055.7551 | S11: =$S$6*$AF11 -> 2185.1854 | T11: =$T$6*$AF11 -> 2322.7647 | U11: =$U$6*$AF11 -> 2469.006 | V11: =$V$6*$AF11 -> 2624.4546 | AF11: 0.084 | AG11: 4
B12: May | C12: 0 | D12: =$D$6*$AF12 -> 914.0316 | E12: =$E$6*$AF12 -> 1002.4642 | F12: =$F$6*$AF12 -> 1075.8766 | G12: =$G$6*$AF12 -> 1148.0292 | H12: =$H$6*$AF12 -> 1222.6741 | I12: =$I$6*$AF12 -> 1299.6536 | J12: =$J$6*$AF12 -> 1381.4798 | K12: =$K$6*$AF12 -> 1468.4578 | L12: =$L$6*$AF12 -> 1560.9119 | M12: =$M$6*$AF12 -> 1659.1869 | N12: =$N$6*$AF12 -> 1763.6493 | O12: =$O$6*$AF12 -> 1874.6887 | P12: =$P$6*$AF12 -> 1992.719 | Q12: =$Q$6*$AF12 -> 2118.1806 | R12: =$R$6*$AF12 -> 2251.5413 | S12: =$S$6*$AF12 -> 2393.2983 | T12: =$T$6*$AF12 -> 2543.9804 | U12: =$U$6*$AF12 -> 2704.1494 | V12: =$V$6*$AF12 -> 2874.4026 | AF12: 0.092 | AG12: 5
B13: Jun | C13: 0 | D13: =$D$6*$AF13 -> 894.16134 | E13: =$E$6*$AF13 -> 980.67145 | F13: =$F$6*$AF13 -> 1052.488 | G13: =$G$6*$AF13 -> 1123.072 | H13: =$H$6*$AF13 -> 1196.0942 | I13: =$I$6*$AF13 -> 1271.4003 | J13: =$J$6*$AF13 -> 1351.4476 | K13: =$K$6*$AF13 -> 1436.5348 | L13: =$L$6*$AF13 -> 1526.979 | M13: =$M$6*$AF13 -> 1623.1176 | N13: =$N$6*$AF13 -> 1725.3091 | O13: =$O$6*$AF13 -> 1833.9346 | P13: =$P$6*$AF13 -> 1949.3991 | Q13: =$Q$6*$AF13 -> 2072.1332 | R13: =$R$6*$AF13 -> 2202.5947 | S13: =$S$6*$AF13 -> 2341.2701 | T13: =$T$6*$AF13 -> 2488.6765 | U13: =$U$6*$AF13 -> 2645.3635 | V13: =$V$6*$AF13 -> 2811.9156 | AF13: 0.09 | AG13: 6
B14: Jul | C14: =$C$6*AE14 -> 392.89288 | D14: =$D$6*$AF14 -> 1092.8639 | E14: =$E$6*$AF14 -> 1198.5984 | F14: =$F$6*$AF14 -> 1286.3742 | G14: =$G$6*$AF14 -> 1372.6436 | H14: =$H$6*$AF14 -> 1461.8929 | I14: =$I$6*$AF14 -> 1553.9337 | J14: =$J$6*$AF14 -> 1651.7693 | K14: =$K$6*$AF14 -> 1755.7647 | L14: =$L$6*$AF14 -> 1866.3077 | M14: =$M$6*$AF14 -> 1983.8104 | N14: =$N$6*$AF14 -> 2108.7111 | O14: =$O$6*$AF14 -> 2241.4756 | P14: =$P$6*$AF14 -> 2382.5989 | Q14: =$Q$6*$AF14 -> 2532.6073 | R14: =$R$6*$AF14 -> 2692.0602 | S14: =$S$6*$AF14 -> 2861.5524 | T14: =$T$6*$AF14 -> 3041.7157 | U14: =$U$6*$AF14 -> 3233.2221 | V14: =$V$6*$AF14 -> 3436.7858 | AE14: 0.045 | AF14: 0.11 | AG14: 7
B15: Ago | C15: =$C$6*AE15 -> 1309.6429 | D15: =$D$6*$AF15 -> 1142.5395 | E15: =$E$6*$AF15 -> 1253.0802 | F15: =$F$6*$AF15 -> 1344.8458 | G15: =$G$6*$AF15 -> 1435.0365 | H15: =$H$6*$AF15 -> 1528.3426 | I15: =$I$6*$AF15 -> 1624.567 | J15: =$J$6*$AF15 -> 1726.8498 | K15: =$K$6*$AF15 -> 1835.5722 | L15: =$L$6*$AF15 -> 1951.1398 | M15: =$M$6*$AF15 -> 2073.9836 | N15: =$N$6*$AF15 -> 2204.5616 | O15: =$O$6*$AF15 -> 2343.3608 | P15: =$P$6*$AF15 -> 2490.8988 | Q15: =$Q$6*$AF15 -> 2647.7258 | R15: =$R$6*$AF15 -> 2814.4266 | S15: =$S$6*$AF15 -> 2991.6229 | T15: =$T$6*$AF15 -> 3179.9755 | U15: =$U$6*$AF15 -> 3380.1868 | V15: =$V$6*$AF15 -> 3593.0033 | AE15: 0.15 | AF15: 0.115 | AG15: 8
B16: Sep | C16: =$C$6*AE16 -> 2016.8501 | D16: =$D$6*$AF16 -> 1241.8908 | E16: =$E$6*$AF16 -> 1362.0437 | F16: =$F$6*$AF16 -> 1461.7889 | G16: =$G$6*$AF16 -> 1559.8223 | H16: =$H$6*$AF16 -> 1661.2419 | I16: =$I$6*$AF16 -> 1765.8337 | J16: =$J$6*$AF16 -> 1877.0106 | K16: =$K$6*$AF16 -> 1995.1872 | L16: =$L$6*$AF16 -> 2120.8042 | M16: =$M$6*$AF16 -> 2254.33 | N16: =$N$6*$AF16 -> 2396.2626 | O16: =$O$6*$AF16 -> 2547.1313 | P16: =$P$6*$AF16 -> 2707.4987 | Q16: =$Q$6*$AF16 -> 2877.9628 | R16: =$R$6*$AF16 -> 3059.1594 | S16: =$S$6*$AF16 -> 3251.764 | T16: =$T$6*$AF16 -> 3456.4951 | U16: =$U$6*$AF16 -> 3674.116 | V16: =$V$6*$AF16 -> 3905.4384 | AE16: 0.231 | AF16: 0.125 | AG16: 9
B17: Oct | C17: =$C$6*AE17 -> 2095.4287 | D17: =$D$6*$AF17 -> 1222.0205 | E17: =$E$6*$AF17 -> 1340.251 | F17: =$F$6*$AF17 -> 1438.4002 | G17: =$G$6*$AF17 -> 1534.8651 | H17: =$H$6*$AF17 -> 1634.6621 | I17: =$I$6*$AF17 -> 1737.5804 | J17: =$J$6*$AF17 -> 1846.9784 | K17: =$K$6*$AF17 -> 1963.2642 | L17: =$L$6*$AF17 -> 2086.8713 | M17: =$M$6*$AF17 -> 2218.2607 | N17: =$N$6*$AF17 -> 2357.9224 | O17: =$O$6*$AF17 -> 2506.3772 | P17: =$P$6*$AF17 -> 2664.1787 | Q17: =$Q$6*$AF17 -> 2831.9154 | R17: =$R$6*$AF17 -> 3010.2128 | S17: =$S$6*$AF17 -> 3199.7358 | T17: =$T$6*$AF17 -> 3401.1912 | U17: =$U$6*$AF17 -> 3615.3302 | V17: =$V$6*$AF17 -> 3842.9514 | AE17: 0.24 | AF17: 0.123 | AG17: 10
B18: Nov | C18: =$C$6*AE18 -> 2043.043 | D18: =$D$6*$AF18 -> 904.09647 | E18: =$E$6*$AF18 -> 991.5678 | F18: =$F$6*$AF18 -> 1064.1823 | G18: =$G$6*$AF18 -> 1135.5506 | H18: =$H$6*$AF18 -> 1209.3841 | I18: =$I$6*$AF18 -> 1285.5269 | J18: =$J$6*$AF18 -> 1366.4637 | K18: =$K$6*$AF18 -> 1452.4963 | L18: =$L$6*$AF18 -> 1543.9454 | M18: =$M$6*$AF18 -> 1641.1522 | N18: =$N$6*$AF18 -> 1744.4792 | O18: =$O$6*$AF18 -> 1854.3116 | P18: =$P$6*$AF18 -> 1971.0591 | Q18: =$Q$6*$AF18 -> 2095.1569 | R18: =$R$6*$AF18 -> 2227.068 | S18: =$S$6*$AF18 -> 2367.2842 | T18: =$T$6*$AF18 -> 2516.3284 | U18: =$U$6*$AF18 -> 2674.7565 | V18: =$V$6*$AF18 -> 2843.1591 | AE18: 0.234 | AF18: 0.091 | AG18: 11
B19: Dic | C19: =$C$6*AE19 -> 873.0953 | D19: =$D$6*$AF19 -> 476.88605 | E19: =$E$6*$AF19 -> 523.02478 | F19: =$F$6*$AF19 -> 561.32693 | G19: =$G$6*$AF19 -> 598.97175 | H19: =$H$6*$AF19 -> 637.9169 | I19: =$I$6*$AF19 -> 678.08015 | J19: =$J$6*$AF19 -> 720.77207 | K19: =$K$6*$AF19 -> 766.15188 | L19: =$L$6*$AF19 -> 814.3888 | M19: =$M$6*$AF19 -> 865.66272 | N19: =$N$6*$AF19 -> 920.16485 | O19: =$O$6*$AF19 -> 978.09843 | P19: =$P$6*$AF19 -> 1039.6795 | Q19: =$Q$6*$AF19 -> 1105.1377 | R19: =$R$6*$AF19 -> 1174.7172 | S19: =$S$6*$AF19 -> 1248.6774 | T19: =$T$6*$AF19 -> 1327.2941 | U19: =$U$6*$AF19 -> 1410.8606 | V19: =$V$6*$AF19 -> 1499.6883 | AE19: 0.1 | AF19: 0.048 | AG19: 12
B20: TOTAL INGRESOS | C20: =SUM(C8:C19) -> 8730.953 | D20: =SUM(D8:D19) -> 9935.126 | E20: =SUM(E8:E19) -> 10896.349 | F20: =SUM(F8:F19) -> 11694.311 | G20: =SUM(G8:G19) -> 12478.578 | H20: =SUM(H8:H19) -> 13289.935 | I20: =SUM(I8:I19) -> 14126.67 | J20: =SUM(J8:J19) -> 15016.085 | ... V20: =SUM(V8:V19) -> 31243.507 | AE20: =SUM(AE14:AE19) -> 1 | AF20: =SUM(AF8:AF19) -> 1
B22: COSTOS Y GASTOS | C22: =(Bases!E75+Bases!E87)/1000 -> 8328.8069 | D22: =(Bases!F75+Bases!F87)/1000 -> 9477.5159 | E22: =(Bases!G75+Bases!G87)/1000 -> 10394.466 | F22: =(Bases!H75+Bases!H87)/1000 -> 11155.673 | G22: =(Bases!I75+Bases!I87)/1000 -> 11903.817 | H22: =(Bases!J75+Bases!J87)/1000 -> 12677.803 | I22: =(Bases!K75+Bases!K87)/1000 -> 13475.998 | J22: =(Bases!L75+Bases!L87)/1000 -> 14324.447 | ... V22: =(Bases!X75+Bases!X87)/1000 -> 29804.437
B23: MESES
B24: Ene | C24: 0 | D24: =$D$22*$AF24 -> 113.73019 | E24: =$E$22*$AF24 -> 124.73359 | F24: =$F$22*$AF24 -> 133.86808 | G24: =$G$22*$AF24 -> 142.84581 | H24: =$H$22*$AF24 -> 152.13364 | I24: =$I$22*$AF24 -> 161.71197 | J24: =$J$22*$AF24 -> 171.89336 | K24: =$K$22*$AF24 -> 182.71577 | L24: =$L$22*$AF24 -> 194.21955 | M24: =$M$22*$AF24 -> 206.44761 | N24: =$N$22*$AF24 -> 219.44556 | O24: =$O$22*$AF24 -> 233.26185 | P24: =$P$22*$AF24 -> 247.94801 | Q24: =$Q$22*$AF24 -> 263.55882 | R24: =$R$22*$AF24 -> 280.15248 | S24: =$S$22*$AF24 -> 297.79088 | T24: =$T$22*$AF24 -> 316.5398 | U24: =$U$22*$AF24 -> 336.46914 | V24: =$V$22*$AF24 -> 357.65324 | AF24: =AF8 -> 0.012
B25: Feb | C25: 0 | D25: =$D$22*$AF25 -> 284.32548 | E25: =$E$22*$AF25 -> 311.83397 | F25: =$F$22*$AF25 -> 334.67019 | G25: =$G$22*$AF25 -> 357.11451 | H25: =$H$22*$AF25 -> 380.3341 | I25: =$I$22*$AF25 -> 404.27994 | J25: =$J$22*$AF25 -> 429.7334 | K25: =$K$22*$AF25 -> 456.78941 | L25: =$L$22*$AF25 -> 485.54888 | M25: =$M$22*$AF25 -> 516.11903 | N25: =$N$22*$AF25 -> 548.61389 | O25: =$O$22*$AF25 -> 583.15462 | P25: =$P$22*$AF25 -> 619.87003 | Q25: =$Q$22*$AF25 -> 658.89705 | R25: =$R$22*$AF25 -> 700.38121 | S25: =$S$22*$AF25 -> 744.47721 | T25: =$T$22*$AF25 -> 791.34949 | U25: =$U$22*$AF25 -> 841.17286 | V25: =$V$22*$AF25 -> 894.1331 | AF25: =AF9 -> 0.03
B26: Mar | C26: 0 | D26: =$D$22*$AF26 -> 758.20127 | E26: =$E$22*$AF26 -> 831.55725 | F26: =$F$22*$AF26 -> 892.45385 | G26: =$G$22*$AF26 -> 952.30537 | H26: =$H$22*$AF26 -> 1014.2243 | I26: =$I$22*$AF26 -> 1078.0798 | J26: =$J$22*$AF26 -> 1145.9557 | K26: =$K$22*$AF26 -> 1218.1051 | L26: =$L$22*$AF26 -> 1294.797 | M26: =$M$22*$AF26 -> 1376.3174 | N26: =$N$22*$AF26 -> 1462.9704 | O26: =$O$22*$AF26 -> 1555.079 | P26: =$P$22*$AF26 -> 1652.9868 | Q26: =$Q$22*$AF26 -> 1757.0588 | R26: =$R$22*$AF26 -> 1867.6832 | S26: =$S$22*$AF26 -> 1985.2726 | T26: =$T$22*$AF26 -> 2110.2653 | U26: =$U$22*$AF26 -> 2243.1276 | V26: =$V$22*$AF26 -> 2384.3549 | AF26: =AF10 -> 0.08
B27: Abr | C27: 0 | D27: =$D$22*$AF27 -> 796.11134 | E27: =$E$22*$AF27 -> 873.13511 | F27: =$F$22*$AF27 -> 937.07654 | G27: =$G$22*$AF27 -> 999.92064 | H27: =$H$22*$AF27 -> 1064.9355 | I27: =$I$22*$AF27 -> 1131.9838 | J27: =$J$22*$AF27 -> 1203.2535 | K27: =$K$22*$AF27 -> 1279.0104 | L27: =$L$22*$AF27 -> 1359.5369 | M27: =$M$22*$AF27 -> 1445.1333 | N27: =$N$22*$AF27 -> 1536.1189 | O27: =$O$22*$AF27 -> 1632.8329 | P27: =$P$22*$AF27 -> 1735.6361 | Q27: =$Q$22*$AF27 -> 1844.9117 | R27: =$R$22*$AF27 -> 1961.0674 | S27: =$S$22*$AF27 -> 2084.5362 | T27: =$T$22*$AF27 -> 2215.7786 | U27: =$U$22*$AF27 -> 2355.284 | V27: =$V$22*$AF27 -> 2503.5727 | AF27: =AF11 -> 0.084
B28: May | C28: 0 | D28: =$D$22*$AF28 -> 871.93146 | E28: =$E$22*$AF28 -> 956.29083 | F28: =$F$22*$AF28 -> 1026.3219 | G28: =$G$22*$AF28 -> 1095.1512 | H28: =$H$22*$AF28 -> 1166.3579 | I28: =$I$22*$AF28 -> 1239.7918 | J28: =$J$22*$AF28 -> 1317.8491 | K28: =$K$22*$AF28 -> 1400.8209 | L28: =$L$22*$AF28 -> 1489.0166 | M28: =$M$22*$AF28 -> 1582.765 | N28: =$N$22*$AF28 -> 1682.4159 | O28: =$O$22*$AF28 -> 1788.3408 | P28: =$P$22*$AF28 -> 1900.9348 | Q28: =$Q$22*$AF28 -> 2020.6176 | R28: =$R$22*$AF28 -> 2147.8357 | S28: =$S$22*$AF28 -> 2283.0634 | T28: =$T$22*$AF28 -> 2426.8051 | U28: =$U$22*$AF28 -> 2579.5968 | V28: =$V$22*$AF28 -> 2742.0082 | AF28: =AF12 -> 0.092
B29: Jun | C29: 0 | D29: =$D$22*$AF29 -> 852.97643 | E29: =$E$22*$AF29 -> 935.5019 | F29: =$F$22*$AF29 -> 1004.0106 | G29: =$G$22*$AF29 -> 1071.3435 | H29: =$H$22*$AF29 -> 1141.0023 | I29: =$I$22*$AF29 -> 1212.8398 | J29: =$J$22*$AF29 -> 1289.2002 | K29: =$K$22*$AF29 -> 1370.3682 | L29: =$L$22*$AF29 -> 1456.6466 | M29: =$M$22*$AF29 -> 1548.3571 | N29: =$N$22*$AF29 -> 1645.8417 | O29: =$O$22*$AF29 -> 1749.4639 | P29: =$P$22*$AF29 -> 1859.6101 | Q29: =$Q$22*$AF29 -> 1976.6912 | R29: =$R$22*$AF29 -> 2101.1436 | S29: =$S$22*$AF29 -> 2233.4316 | T29: =$T$22*$AF29 -> 2374.0485 | U29: =$U$22*$AF29 -> 2523.5186 | V29: =$V$22*$AF29 -> 2682.3993 | AF29: =AF13 -> 0.09
B30: Jul | C30: =$C$22*AE30 -> 374.79631 | D30: =$D$22*$AF30 -> 1042.5268 | E30: =$E$22*$AF30 -> 1143.3912 | F30: =$F$22*$AF30 -> 1227.124 | G30: =$G$22*$AF30 -> 1309.4199 | H30: =$H$22*$AF30 -> 1394.5584 | I30: =$I$22*$AF30 -> 1482.3598 | J30: =$J$22*$AF30 -> 1575.6891 | K30: =$K$22*$AF30 -> 1674.8945 | L30: =$L$22*$AF30 -> 1780.3459 | M30: =$M$22*$AF30 -> 1892.4365 | N30: =$N$22*$AF30 -> 2011.5843 | O30: =$O$22*$AF30 -> 2138.2336 | P30: =$P$22*$AF30 -> 2272.8568 | Q30: =$Q$22*$AF30 -> 2415.9559 | R30: =$R$22*$AF30 -> 2568.0644 | S30: =$S$22*$AF30 -> 2729.7498 | T30: =$T$22*$AF30 -> 2901.6148 | U30: =$U$22*$AF30 -> 3084.3005 | V30: =$V$22*$AF30 -> 3278.488 | AE30: =AE14 -> 0.045 | AF30: =AF14 -> 0.11
B31: Ago | C31: =$C$22*AE31 -> 1249.321 | D31: =$D$22*$AF31 -> 1089.9143 | E31: =$E$22*$AF31 -> 1195.3635 | F31: =$F$22*$AF31 -> 1282.9024 | G31: =$G$22*$AF31 -> 1368.939 | H31: =$H$22*$AF31 -> 1457.9474 | I31: =$I$22*$AF31 -> 1549.7398 | J31: =$J$22*$AF31 -> 1647.3114 | K31: =$K$22*$AF31 -> 1751.0261 | L31: =$L$22*$AF31 -> 1861.2707 | M31: =$M$22*$AF31 -> 1978.4563 | N31: =$N$22*$AF31 -> 2103.0199 | O31: =$O$22*$AF31 -> 2235.426 | P31: =$P$22*$AF31 -> 2376.1685 | Q31: =$Q$22*$AF31 -> 2525.772 | R31: =$R$22*$AF31 -> 2684.7946 | S31: =$S$22*$AF31 -> 2853.8293 | T31: =$T$22*$AF31 -> 3033.5064 | U31: =$U$22*$AF31 -> 3224.496 | V31: =$V$22*$AF31 -> 3427.5102 | AE31: =AE15 -> 0.15 | AF31: =AF15 -> 0.115
B32: Sep | C32: =$C$22*AE32 -> 1923.9544 | D32: =$D$22*$AF32 -> 1184.6895 | E32: =$E$22*$AF32 -> 1299.3082 | F32: =$F$22*$AF32 -> 1394.4591 | G32: =$G$22*$AF32 -> 1487.9771 | H32: =$H$22*$AF32 -> 1584.7254 | I32: =$I$22*$AF32 -> 1684.4997 | J32: =$J$22*$AF32 -> 1790.5558 | K32: =$K$22*$AF32 -> 1903.2892 | L32: =$L$22*$AF32 -> 2023.1203 | M32: =$M$22*$AF32 -> 2150.496 | N32: =$N$22*$AF32 -> 2285.8912 | O32: =$O$22*$AF32 -> 2429.8109 | P32: =$P$22*$AF32 -> 2582.7918 | Q32: =$Q$22*$AF32 -> 2745.4044 | R32: =$R$22*$AF32 -> 2918.255 | S32: =$S$22*$AF32 -> 3101.9884 | T32: =$T$22*$AF32 -> 3297.2896 | U32: =$U$22*$AF32 -> 3504.8869 | V32: =$V$22*$AF32 -> 3725.5546 | AE32: =AE16 -> 0.231 | AF32: =AF16 -> 0.125
B33: Oct | C33: =$C$22*AE33 -> 1998.9137 | D33: =$D$22*$AF33 -> 1165.7345 | E33: =$E$22*$AF33 -> 1278.5193 | F33: =$F$22*$AF33 -> 1372.1478 | G33: =$G$22*$AF33 -> 1464.1695 | H33: =$H$22*$AF33 -> 1559.3698 | I33: =$I$22*$AF33 -> 1657.5477 | J33: =$J$22*$AF33 -> 1761.9069 | K33: =$K$22*$AF33 -> 1872.8366 | L33: =$L$22*$AF33 -> 1990.7504 | M33: =$M$22*$AF33 -> 2116.088 | N33: =$N$22*$AF33 -> 2249.3169 | O33: =$O$22*$AF33 -> 2390.9339 | P33: =$P$22*$AF33 -> 2541.4671 | Q33: =$Q$22*$AF33 -> 2701.4779 | R33: =$R$22*$AF33 -> 2871.563 | S33: =$S$22*$AF33 -> 3052.3566 | T33: =$T$22*$AF33 -> 3244.5329 | U33: =$U$22*$AF33 -> 3448.8087 | V33: =$V$22*$AF33 -> 3665.9457 | AE33: =AE17 -> 0.24 | AF33: =AF17 -> 0.123
B34: Nov | C34: =$C$22*AE34 -> 1948.9408 | D34: =$D$22*$AF34 -> 862.45395 | E34: =$E$22*$AF34 -> 945.89637 | F34: =$F$22*$AF34 -> 1015.1663 | G34: =$G$22*$AF34 -> 1083.2474 | H34: =$H$22*$AF34 -> 1153.6801 | I34: =$I$22*$AF34 -> 1226.3158 | J34: =$J$22*$AF34 -> 1303.5246 | K34: =$K$22*$AF34 -> 1385.5946 | L34: =$L$22*$AF34 -> 1472.8316 | M34: =$M$22*$AF34 -> 1565.5611 | N34: =$N$22*$AF34 -> 1664.1288 | O34: =$O$22*$AF34 -> 1768.9023 | P34: =$P$22*$AF34 -> 1880.2724 | Q34: =$Q$22*$AF34 -> 1998.6544 | R34: =$R$22*$AF34 -> 2124.4897 | S34: =$S$22*$AF34 -> 2258.2475 | T34: =$T$22*$AF34 -> 2400.4268 | U34: =$U$22*$AF34 -> 2551.5577 | V34: =$V$22*$AF34 -> 2712.2037 | AE34: =AE18 -> 0.234 | AF34: =AF18 -> 0.091
B35: Dic | C35: =$C$22*AE35 -> 832.88069 | D35: =$D$22*$AF35 -> 454.92076 | E35: =$E$22*$AF35 -> 498.93435 | F35: =$F$22*$AF35 -> 535.47231 | G35: =$G$22*$AF35 -> 571.38322 | H35: =$H$22*$AF35 -> 608.53456 | I35: =$I$22*$AF35 -> 646.8479 | J35: =$J$22*$AF35 -> 687.57344 | K35: =$K$22*$AF35 -> 730.86306 | L35: =$L$22*$AF35 -> 776.8782 | M35: =$M$22*$AF35 -> 825.79045 | N35: =$N$22*$AF35 -> 877.78222 | O35: =$O$22*$AF35 -> 933.04739 | P35: =$P$22*$AF35 -> 991.79205 | Q35: =$Q$22*$AF35 -> 1054.2353 | R35: =$R$22*$AF35 -> 1120.6099 | S35: =$S$22*$AF35 -> 1191.1635 | T35: =$T$22*$AF35 -> 1266.1592 | U35: =$U$22*$AF35 -> 1345.8766 | V35: =$V$22*$AF35 -> 1430.613 | AE35: =AE19 -> 0.1 | AF35: =AF19 -> 0.048
B36: TOTAL COSTOS Y GASTOS | C36: =SUM(C24:C35) -> 8328.8069 | D36: =SUM(D24:D35) -> 9477.5159 | E36: =SUM(E24:E35) -> 10394.466 | F36: =SUM(F24:F35) -> 11155.673 | G36: =SUM(G24:G35) -> 11903.817 | H36: =SUM(H24:H35) -> 12677.803 | I36: =SUM(I24:I35) -> 13475.998 | J36: =SUM(J24:J35) -> 14324.447 | ... V36: =SUM(V24:V35) -> 29804.437 | AE36: =SUM(AE30:AE35) -> 1 | AF36: =SUM(AF24:AF35) -> 1
B38: UTILIDAD BRUTA | C38: =C20-C36 -> 402.14612 | D38: =D20-D36 -> 457.61011 | E38: =E20-E36 -> 501.88389 | F38: =F20-F36 -> 538.63785 | G38: =G20-G36 -> 574.76106 | H38: =H20-H36 -> 612.13203 | I38: =I20-I36 -> 650.67186 | J38: =J20-J36 -> 691.63816 | ... V38: =V20-V36 -> 1439.0703
