Workbook

Sheet COMPARATIVO DE PRECIOS
B2: SECRETARIA DE CULTURA Y TURISMO DE SOACHA
B4: OBJETO: PRESTACIÓN DE SERVICIO DE TRANSPORTE TERRESTRE AUTOMOTOR ESPECIAL DE PASAJEROS PARA LA MOVILIZACION DE GRUPOS ARTISTICOS, TURISTICOS Y CULTURALES A NIVEL MUNICIPAL, DEPARTAMENTAL Y NACIONAL REQUERIDOS POR LA SECRETARÍA DE CULTURA Y TURISMO
B5: COMPARATIVO DE PRECIOS - ESTUDIO DE MERCADO
E6: COTIZACIÓN 1 TRANSPORTES SAAMA EXPRESS S.A.S. | G6: COTIZACIÓN 2 PINTO PAEZ Y CIA S EN C | I6: COTIZACIÓN 3 TRANSPORTES ESPECIALES CBC SAS | K6: COTIZACIÓN 4 TRANSPORTES ESPECIALES GOLDEN SAS BIC | M6: VALOR PROMEDIO POR DIA (incluyendo todos los costos directos e indirectos) | N6: VALOR PROMEDIO HORA (incluyendo todos los costos directos e indirectos) | O6: KM APROXIMADOS POR TRAYECTO
B7: PUNTO DE PARTIDA-PUNTO DE DESTINO | C7: VEHICULO REQUERIDO | D7: CANTIDAD DE VEHICULO | E7: VALOR POR DIA (incluyendo todos los costos directos e indirectos) | F7: VALOR HORA (incluyendo todos los costos directos e indirectos) | G7: VALOR POR DIA (incluyendo todos los costos directos e indirectos) | H7: VALOR HORA (incluyendo todos los costos directos e indirectos) | I7: VALOR POR DIA (incluyendo todos los costos directos e indirectos) | J7: VALOR HORA (incluyendo todos los costos directos e indirectos) | K7: VALOR POR DIA (incluyendo todos los costos directos e indirectos) | L7: VALOR HORA (incluyendo todos los costos directos e indirectos)
B8: SOACHA URBANO (TRASLADOS DENTRO DEL MUNICIPIO) | C8: Autobus de mas de 30 pasajeros | D8: 1 | E8: 890400 | F8: 211680 | G8: 750000 | H8: 180000 | I8: 840000 | J8: 201600 | K8: 600000 | L8: NO OFERTO | M8: =AVERAGE(E8,G8,I8,K8) -> 770100 | N8: =AVERAGE(F8,H8,J8,L8) -> 197760 | O8: N/A
C9: Buseta de 20 a 30 pasajeros | E9: 771680 | F9: 162288 | G9: 650000 | H9: 138000 | I9: 728000 | J9: 154560 | K9: 500000 | M9: =AVERAGE(E9,G9,I9,K9) -> 662420 | N9: =AVERAGE(F9,H9,J9,L9) -> 151616
C10: Microbus de 10 a 19 pasajeros | E10: 629216 | F10: 115248 | G10: 530000 | H10: 98000 | I10: 593600 | J10: 109760 | K10: 450000 | M10: =AVERAGE(E10,G10,I10,K10) -> 550704 | N10: =AVERAGE(F10,H10,J10,L10) -> 107669.33
C11: Pick up cabina sencilla 4x4 | E11: 442825.6 | F11: 88200 | G11: 373000 | H11: 75000 | I11: 417760 | J11: 84000 | K11: 400000 | M11: =AVERAGE(E11,G11,I11,K11) -> 408396.4 | N11: =AVERAGE(F11,H11,J11,L11) -> 82400
B12: SOACHA RURAL (TRASLADO DENTRO DEL MUNICIPIO ZONA RURAL) | C12: Autobus de mas de 30 pasajeros | D12: 1 | E12: 1151584 | F12: 346920 | G12: 970000 | H12: 295000 | I12: 1086400 | J12: 330400 | K12: 700000 | L12: NO OFERTO | M12: =AVERAGE(E12,G12,I12,K12) -> 976996 | N12: =AVERAGE(F12,H12,J12,L12) -> 324106.67 | O12: N/A
C13: Buseta de 20 a 30 pasajeros | E13: 997248 | F13: 270480 | G13: 840000 | H13: 230000 | I13: 940800 | J13: 257600 | K13: 600000 | M13: =AVERAGE(E13,G13,I13,K13) -> 844512 | N13: =AVERAGE(F13,H13,J13,L13) -> 252693.33
C14: Microbus de 10 a 19 pasajeros | E14: 831040 | F14: 188160 | G14: 700000 | H14: 160000 | I14: 784000 | J14: 179200 | K14: 550000 | M14: =AVERAGE(E14,G14,I14,K14) -> 716260 | N14: =AVERAGE(F14,H14,J14,L14) -> 175786.67
C15: Pick up cabina sencilla 4x4 | E15: 510496 | F15: 141120 | G15: 430000 | H15: 120000 | I15: 481600 | J15: 134400 | K15: 500000 | M15: =AVERAGE(E15,G15,I15,K15) -> 480524 | N15: =AVERAGE(F15,H15,J15,L15) -> 131840
B16: De Soacha a Bogotá – Cundinamarca | C16: Autobus de mas de 30 pasajeros | D16: 1 | E16: 1151584 | F16: 211680 | G16: 970000 | H16: 180000 | I16: 1086400 | J16: 330400 | K16: 650000 | L16: NO OFERTO | M16: =AVERAGE(E16,G16,I16,K16) -> 964496 | N16: =AVERAGE(F16,H16,J16,L16) -> 240693.33 | O16: 15.61
C17: Buseta de 20 a 30 pasajeros | E17: 997248 | F17: 162288 | G17: 840000 | H17: 138000 | I17: 940800 | J17: 257600 | K17: 550000 | M17: =AVERAGE(E17,G17,I17,K17) -> 832012 | N17: =AVERAGE(F17,H17,J17,L17) -> 185962.67
C18: Microbus de 10 a 19 pasajeros | E18: 831040 | F18: 115248 | G18: 700000 | H18: 98000 | I18: 784000 | J18: 179200 | K18: 500000 | M18: =AVERAGE(E18,G18,I18,K18) -> 703760 | N18: =AVERAGE(F18,H18,J18,L18) -> 130816
C19: Pick up cabina sencilla 4x4 | E19: 510496 | F19: 88200 | G19: 430000 | H19: 75000 | I19: 481600 | J19: 134400 | K19: 450000 | M19: =AVERAGE(E19,G19,I19,K19) -> 468024 | N19: =AVERAGE(F19,H19,J19,L19) -> 99200
B20: De soacha a Chía – Cundinamarca | C20: Autobus de mas de 30 pasajeros | D20: 1 | E20: 1246560 | F20: N.A | G20: 1050000 | H20: N.A | I20: 1176000 | J20: N.A | K20: 800000 | L20: N.A | M20: =AVERAGE(E20,G20,I20,K20) -> 1068140 | N20: N.A | O20: 35.66
C21: Buseta de 20 a 30 pasajeros | E21: 1127840 | G21: 950000 | I21: 1064000 | K21: 700000 | M21: =AVERAGE(E21,G21,I21,K21) -> 960460
C22: Microbus de 10 a 19 pasajeros | E22: 890400 | G22: 750000 | I22: 840000 | K22: 500000 | M22: =AVERAGE(E22,G22,I22,K22) -> 745100
C23: Pick up cabina sencilla 4x4 | E23: 712320 | G23: 600000 | I23: 672000 | K23: 450000 | M23: =AVERAGE(E23,G23,I23,K23) -> 608580
B24: De soacha A Zipaquirá – Cundinamarca | C24: Autobus de mas de 30 pasajeros | D24: 1 | E24: 1662080 | F24: N.A | G24: 1400000 | H24: N.A | I24: 1568000 | J24: N.A | K24: 800000 | L24: N.A | M24: =AVERAGE(E24,G24,I24,K24) -> 1357520 | N24: N.A | O24: 54.56
C25: Buseta de 20 a 30 pasajeros | E25: 1424640 | G25: 1200000 | I25: 1344000 | K25: 700000 | M25: =AVERAGE(E25,G25,I25,K25) -> 1167160
C26: Microbus de 10 a 19 pasajeros | E26: 1127840 | G26: 950000 | I26: 1064000 | K26: 500000 | M26: =AVERAGE(E26,G26,I26,K26) -> 910460
C27: Pick up cabina sencilla 4x4 | E27: 771680 | G27: 650000 | I27: 728000 | K27: 450000 | M27: =AVERAGE(E27,G27,I27,K27) -> 649920
B28: De soacha a Girardot – Cundinamarca | C28: Autobus de mas de 30 pasajeros | D28: 1 | E28: 2255680 | F28: N.A | G28: 1900000 | H28: N.A | I28: 2128000 | J28: N.A | K28: 1200000 | L28: N.A | M28: =AVERAGE(E28,G28,I28,K28) -> 1870920 | N28: N.A | O28: 72.26
C29: Buseta de 20 a 30 pasajeros | E29: 2018240 | G29: 1700000 | I29: 1904000 | K29: 1100000 | M29: =AVERAGE(E29,G29,I29,K29) -> 1680560
C30: Microbus de 10 a 19 pasajeros | E30: 1543360 | G30: 1300000 | I30: 1456000 | K30: 900000 | M30: =AVERAGE(E30,G30,I30,K30) -> 1299840
C31: Pick up cabina sencilla 4x4 | E31: 831040 | G31: 700000 | I31: 784000 | K31: 600000 | M31: =AVERAGE(E31,G31,I31,K31) -> 728760
B32: De soacha a Fusa – Cundinamarca | C32: Autobus de mas de 30 pasajeros | D32: 1 | E32: 1662080 | F32: N.A | G32: 1400000 | H32: N.A | I32: 1568000 | J32: N.A | K32: 800000 | L32: N.A | M32: =AVERAGE(E32,G32,I32,K32) -> 1357520 | N32: N.A | O32: 31.54
C33: Buseta de 20 a 30 pasajeros | E33: 1424640 | G33: 1200000 | I33: 1344000 | K33: 700000 | M33: =AVERAGE(E33,G33,I33,K33) -> 1167160
C34: Microbus de 10 a 19 pasajeros | E34: 1127840 | G34: 950000 | I34: 1064000 | K34: 500000 | M34: =AVERAGE(E34,G34,I34,K34) -> 910460
C35: Pick up cabina sencilla 4x4 | E35: 771680 | G35: 650000 | I35: 728000 | K35: 450000 | M35: =AVERAGE(E35,G35,I35,K35) -> 649920
B36: De soacha a Sibate – Cundinamarca | C36: Autobus de mas de 30 pasajeros | D36: 1 | E36: 890400 | F36: N.A | G36: 750000 | H36: N.A | I36: 840000 | J36: N.A | K36: 650000 | L36: N.A | M36: =AVERAGE(E36,G36,I36,K36) -> 782600 | N36: N.A | O36: 11.02
C37: Buseta de 20 a 30 pasajeros | E37: 771680 | G37: 650000 | I37: 728000 | K37: 550000 | M37: =AVERAGE(E37,G37,I37,K37) -> 674920
C38: Microbus de 10 a 19 pasajeros | E38: 629216 | G38: 530000 | I38: 593600 | K38: 500000 | M38: =AVERAGE(E38,G38,I38,K38) -> 563204
C39: Pick up cabina sencilla 4x4 | E39: 442825.6 | G39: 373000 | I39: 417760 | K39: 450000 | M39: =AVERAGE(E39,G39,I39,K39) -> 420896.4
B40: De Soacha a Mosquera – Cundinamarca | C40: Autobus de mas de 30 pasajeros | D40: 1 | E40: 1009120 | F40: N.A | G40: 850000 | H40: N.A | I40: 952000 | J40: N.A | K40: 800000 | L40: N.A | M40: =AVERAGE(E40,G40,I40,K40) -> 902780 | N40: N.A | O40: 14.15
C41: Buseta de 20 a 30 pasajeros | E41: 890400 | G41: 750000 | I41: 840000 | K41: 700000 | M41: =AVERAGE(E41,G41,I41,K41) -> 795100
C42: Microbus de 10 a 19 pasajeros | E42: 771680 | G42: 650000 | I42: 728000 | K42: 500000 | M42: =AVERAGE(E42,G42,I42,K42) -> 662420
...

Sheet PRESUPUESTO OFICIAL
A2: SECRETARIA DE CULTURA Y TURISMO DE SOACHA
A4: OBJETO: PRESTACIÓN DE SERVICIO DE TRANSPORTE TERRESTRE AUTOMOTOR ESPECIAL DE PASAJEROS PARA LA MOVILIZACION DE GRUPOS ARTISTICOS, TURISTICOS Y CULTURALES A NIVEL MUNICIPAL, DEPARTAMENTAL Y NACIONAL REQUERIDOS POR LA SECRETARÍA DE CULTURA Y TURISMO
A5: PRESUPUESTO OFICIAL POR RUTA
D6: VALOR PROMEDIO POR DIA (incluyendo todos los costos directos e indirectos) | E6: VALOR PROMEDIO HORA (incluyendo todos los costos directos e indirectos) | F6: KM APROXIMADOS POR TRAYECTO
A7: PUNTO DE PARTIDA-PUNTO DE DESTINO | B7: VEHICULO REQUERIDO | C7: CANTIDAD DE VEHICULO
A8: SOACHA URBANO (TRASLADOS DENTRO DEL MUNICIPIO) | B8: Autobus de mas de 30 pasajeros | C8: 1 | D8: =+'COMPARATIVO DE PRECIOS'!M8 -> 770100 | E8: =+'COMPARATIVO DE PRECIOS'!N8 -> 197760 | F8: N/A
B9: Buseta de 20 a 30 pasajeros | D9: =+'COMPARATIVO DE PRECIOS'!M9 -> 662420 | E9: =+'COMPARATIVO DE PRECIOS'!N9 -> 151616
B10: Microbus de 10 a 19 pasajeros | D10: =+'COMPARATIVO DE PRECIOS'!M10 -> 550704 | E10: =+'COMPARATIVO DE PRECIOS'!N10 -> 107669.33
B11: Pick up cabina sencilla 4x4 | D11: =+'COMPARATIVO DE PRECIOS'!M11 -> 408396.4 | E11: =+'COMPARATIVO DE PRECIOS'!N11 -> 82400
A12: SOACHA RURAL (TRASLADO DENTRO DEL MUNICIPIO ZONA RURAL) | B12: Autobus de mas de 30 pasajeros | C12: 1 | D12: =+'COMPARATIVO DE PRECIOS'!M12 -> 976996 | E12: =+'COMPARATIVO DE PRECIOS'!N12 -> 324106.67 | F12: N/A
B13: Buseta de 20 a 30 pasajeros | D13: =+'COMPARATIVO DE PRECIOS'!M13 -> 844512 | E13: =+'COMPARATIVO DE PRECIOS'!N13 -> 252693.33
B14: Microbus de 10 a 19 pasajeros | D14: =+'COMPARATIVO DE PRECIOS'!M14 -> 716260 | E14: =+'COMPARATIVO DE PRECIOS'!N14 -> 175786.67
B15: Pick up cabina sencilla 4x4 | D15: =+'COMPARATIVO DE PRECIOS'!M15 -> 480524 | E15: =+'COMPARATIVO DE PRECIOS'!N15 -> 131840
A16: De Soacha a Bogotá – Cundinamarca | B16: Autobus de mas de 30 pasajeros | C16: 1 | D16: =+'COMPARATIVO DE PRECIOS'!M16 -> 964496 | E16: =+'COMPARATIVO DE PRECIOS'!N16 -> 240693.33 | F16: 15.61
B17: Buseta de 20 a 30 pasajeros | D17: =+'COMPARATIVO DE PRECIOS'!M17 -> 832012 | E17: =+'COMPARATIVO DE PRECIOS'!N17 -> 185962.67
B18: Microbus de 10 a 19 pasajeros | D18: =+'COMPARATIVO DE PRECIOS'!M18 -> 703760 | E18: =+'COMPARATIVO DE PRECIOS'!N18 -> 130816
B19: Pick up cabina sencilla 4x4 | D19: =+'COMPARATIVO DE PRECIOS'!M19 -> 468024 | E19: =+'COMPARATIVO DE PRECIOS'!N19 -> 99200
A20: De soacha a Chía – Cundinamarca | B20: Autobus de mas de 30 pasajeros | C20: 1 | D20: =+'COMPARATIVO DE PRECIOS'!M20 -> 1068140 | E20: N.A | F20: 35.66
B21: Buseta de 20 a 30 pasajeros | D21: =+'COMPARATIVO DE PRECIOS'!M21 -> 960460
B22: Microbus de 10 a 19 pasajeros | D22: =+'COMPARATIVO DE PRECIOS'!M22 -> 745100
B23: Pick up cabina sencilla 4x4 | D23: =+'COMPARATIVO DE PRECIOS'!M23 -> 608580
A24: De soacha A Zipaquirá – Cundinamarca | B24: Autobus de mas de 30 pasajeros | C24: 1 | D24: =+'COMPARATIVO DE PRECIOS'!M24 -> 1357520 | E24: N.A | F24: 54.56
B25: Buseta de 20 a 30 pasajeros | D25: =+'COMPARATIVO DE PRECIOS'!M25 -> 1167160
B26: Microbus de 10 a 19 pasajeros | D26: =+'COMPARATIVO DE PRECIOS'!M26 -> 910460
B27: Pick up cabina sencilla 4x4 | D27: =+'COMPARATIVO DE PRECIOS'!M27 -> 649920
A28: De soacha a Girardot – Cundinamarca | B28: Autobus de mas de 30 pasajeros | C28: 1 | D28: =+'COMPARATIVO DE PRECIOS'!M28 -> 1870920 | E28: N.A | F28: 72.26
B29: Buseta de 20 a 30 pasajeros | D29: =+'COMPARATIVO DE PRECIOS'!M29 -> 1680560
B30: Microbus de 10 a 19 pasajeros | D30: =+'COMPARATIVO DE PRECIOS'!M30 -> 1299840
B31: Pick up cabina sencilla 4x4 | D31: =+'COMPARATIVO DE PRECIOS'!M31 -> 728760
A32: De soacha a Fusa – Cundinamarca | B32: Autobus de mas de 30 pasajeros | C32: 1 | D32: =+'COMPARATIVO DE PRECIOS'!M32 -> 1357520 | E32: N.A | F32: 31.54
B33: Buseta de 20 a 30 pasajeros | D33: =+'COMPARATIVO DE PRECIOS'!M33 -> 1167160
B34: Microbus de 10 a 19 pasajeros | D34: =+'COMPARATIVO DE PRECIOS'!M34 -> 910460
B35: Pick up cabina sencilla 4x4 | D35: =+'COMPARATIVO DE PRECIOS'!M35 -> 649920
A36: De soacha a Sibate – Cundinamarca | B36: Autobus de mas de 30 pasajeros | C36: 1 | D36: =+'COMPARATIVO DE PRECIOS'!M36 -> 782600 | E36: N.A | F36: 11.02
B37: Buseta de 20 a 30 pasajeros | D37: =+'COMPARATIVO DE PRECIOS'!M37 -> 674920
B38: Microbus de 10 a 19 pasajeros | D38: =+'COMPARATIVO DE PRECIOS'!M38 -> 563204
B39: Pick up cabina sencilla 4x4 | D39: =+'COMPARATIVO DE PRECIOS'!M39 -> 420896.4
A40: De Soacha a Mosquera – Cundinamarca | B40: Autobus de mas de 30 pasajeros | C40: 1 | D40: =+'COMPARATIVO DE PRECIOS'!M40 -> 902780 | E40: N.A | F40: 14.15
B41: Buseta de 20 a 30 pasajeros | D41: =+'COMPARATIVO DE PRECIOS'!M41 -> 795100
B42: Microbus de 10 a 19 pasajeros | D42: =+'COMPARATIVO DE PRECIOS'!M42 -> 662420
...
