Workbook

Sheet RESUMEN
A1: RESUMEN DE EVALUACION
A2: ROPONENTE | B2: CERTIFICACIÓN CUMPLIMIENTO CONDICIONES TÉCNICAS | C2: EXPERIENCIA HABILITANTE | D2: RESULTADO | E2: PUNTAJE
A4: DOKUMA. CREATIVIDAD & TECNOLOGIA SAS | B4: CUMPLE | C4: NO CUMPLE | D4: NO HABILITADO | E4: -
A5: KAPITAL GROUP SAS | B5: CUMPLE | C5: CUMPLE | D5: HABILITADO | E5: =+'CRITERIOS PONDERABLES'!E51 -> 97.694711
A6: SINERGIA E INNOVACIÓN SAS | B6: CUMPLE | C6: NO CUMPLE | D6: NO HABILITADO | E6: -
A7: TRUST AND LEGAL SAS | B7: CUMPLE | C7: CUMPLE | D7: HABILITADO | E7: =+'CRITERIOS PONDERABLES'!G51 -> 96.153626
A8: ESTRADIGITAL SAS | B8: CUMPLE | C8: CUMPLE | D8: HABILITADO | E8: =+'CRITERIOS PONDERABLES'!H51 -> -
A9: ASOCIACIÓN ASECUM | B9: CUMPLE | C9: CUMPLE | D9: HABILITADO | E9: =+'CRITERIOS PONDERABLES'!I51 -> 99.75

Sheet Requisitos técnicos mínimos
A1: MINISTERIO DE JUSTICIA Y DEL DERECHO
A2: SAMC 04 DE 2023
A3: REQUERIMIENTOS TECNICOS - Certificación Cumplimiento condiciones técnicasdel pliego de condiciones
A4: REQUERIMIENTO MÍNIMO | B4: DOKUMA. CREATIVIDAD & TECNOLOGIA SAS | C4: KAPITAL GROUP S.AS | D4: SINERGIA E INNOVACIÓN SAS | E4: TRUST AND LEGAL SAS | F4: ESTRADIGITAL SAS | G4: ASOCIACIÓN ASECUM
A5: Requisitos habilitantes técnicos 3.3.1 Certificación Cumplimiento condiciones técnicasdel pliego de condiciones | B5: CUMPLE 17. Anexo sucrito el formato 1 carta de presentacion FIRMADA | C5: CUMPLE 17. Anexo sucrito el formato 1 carta de presentacion FIRMADA | D5: CUMPLE 17. Anexo sucrito el formato 1 carta de presentacion FIRMADA | E5: CUMPLE 17. Anexo sucrito el formato 1 carta de presentacion FIRMADA | F5: CUMPLE 17. Anexo sucrito el formato 1 carta de presentacion FIRMADA | G5: CUMPLE 17. Anexo sucrito el formato 1 carta de presentacion FIRMADA
A8: COMITÉ EVALUADOR
A10: EDILBERTO LUIS PALMA LOPEZ | C10: CLAUDIA MARCELA PARDO GARCIA | F10: JAIRO ARMANDO MORENO GUERRERO
A11: Contratista Subdirección Tecnologías | C11: Lider estretagia uso y apropiación | F11: Contratista Direccion de Tecnología

Sheet Experiencia habilitante anexo 5
A1: MINISTERIO DE JUSTICIA Y DEL DERECHO
A2: SAMC 04 DE 2023
A3: EXPERIENCIA HABILITANTE (Anexo No. 8)
A5: OBJETO | B5: Implementar la estrategia de uso y apropiación de las TIC para la promoción y difusión de los trámites, servicios y herramientas que ofrecen los sistemas de información y portales del MJD como fortalecimiento institucional de la entidad y capacitación y formación en TI para la DTGIJ
A6: EXPERIENCIA ESPECIFICA Numeral 3.3.2 del pliego de condiciones | C6: REQUERIMIENTO | I6: Ultimos 7 años | J6: Requisito en SMMLV sumatoria Certificaciones | K6: Requisito en $ Colombianos
C7: Este aspecto no dará puntaje, pero habilitará o deshabilitará la oferta. Se evaluarán con "cumple" o "no cumple" Para certificar la experiencia, el Oferente persona natural, jurídica, plural, nacional o extranjera con sucursal en Colombia, deberá acreditar mediante la inscripción en el Registro Único de Proponentes (RUP) la suscripción, ejecución y erminación de máximo tres (3) certificaciones de experiencia registradas en el RUP, sobre contratos ejecutados dentro de los últimos siete (7) años anteriores al cierre del presente proceso de selección, relacionados con el objeto de la presente contratación relacionados con: Procesos de capacitación para el fortalecimiento en temas relacionados en TI (Nuevas tecnologías, y/o innovación, y/o seguridad de la información, y/o transformación digital), que se encuentren inscritos y clasificados en el RUP actualizado según el Decreto 1082 de 2015 en cualquiera de los siguientes códigos del Clasificador de Bienes y servicios, hasta el tercer nivel, y cuya sumatoria sea mayor o igual al presupuesto oficial establecido para el presente proceso de contratación. Esta verificación se realizará respecto de los contratos que se indiquen en el Formato de Experiencia del Proponente – Requisito Habilitante Mínimo, el cual deberá ser diligenciado por todos los proponentes | I7: 42949 | J7: 100584 | K7: 116678468
A9: DOKUMA. CREATIVIDAD & TECNOLOGIA SAS
A10: NOMBRE DEL CONTRATANTE | B10: NUMERO | C10: CONSECUTIVO RUP | D10: CODIGO UNSPSC | E10: OBJETO | F10: FECHA INICIO | G10: FECHA TERMINACION | H10: SMMLV TOTAL | I10: VALOR CONTRATADO | J10: CUMPLE CODIGOS UNSPSC | K10: TIEMPO (SIETE AÑOS) | L10: OBJETO SIMILAR AL DEL PRESENTE CONTRATO | M10: Formato 8
A12: FUNDA CIÓN CENTRO DE INNOVACIÓN ARTE Y TECNOL OGÍA - CIATEC H | C12: 57 | D12: 861016 811118 | E12: Prestació n de servicios para el desarroll o del proyecto de fortaleci miento y asesoría en Tecnolog ías de la Informaci ón y la Comunic ación (TICs) para docentes de institucio nes educativ as del gobierno colombia no. El proyecto incluirá la impleme ntación de los program as "Llegamo s CONTIC" y "STEM", además de otras actividad es de capacita ción y asesoría a nivel nacional. Fortalece r las capacid ades y habilidad es de al menos 15.000 docentes en el uso de herramie 57 8610 1600 8111 1800 15/06/ 2022 30/1 1 / 202 2 $ 280.52 8.420 $ $ ntas y recursos tecnológi cos, a fin de mejorar la calidad de la educaci ón impartid a en las institucio nes a las que pertenec en. | F12: 44727 | G12: 44895 | H12: 280.52 | I12: 280528420 | J12: NO CUMPLE | K12: NO CUMPLE | L12: NO CUMPLE | M12: DILIGENCIADO Y ENTREGADO (CUMPLE)
G13: SUMATORIA CONTRATOS EN SMMLV | L13: NO CUMPLE
G14: CONCLUSIÓN | L14: INHABILITADO
A15: Conclusión: NO HABILITADO; Una vez revisada la documentación se valida y revisa el anexo 8 Experiencia habilitante, no se encuentra la certificación del contrato relcionado con la FUNDA CIÓN CENTRO DE INNOVACIÓN ARTE Y TECNOLOGÍA -CIATECH. Frente a la subsanación de apoyo a la industria nacional, la misma no se tiene en cuenta y se mantiene el puntaje otorgado en la evaluación inicial, lo anterior teniendo en cuenta que conforme lo regulado por la el Decreto 680 de 2021, el proponente debía manifestar cuanto personal de origen nacional vincularía en la ejecución del contrato, por lo cual no es suficiente con el origen de la empresa, pues la manifestación debía ser expresa. Adicional a lo anterior y al ser un requisito que otorga puntaje, el mismo no puede ser subsanado, y teniendo en cuenta que desde el inicio no se indico lo requerido en el pliego de condiciones, no se acepta el documento presentado como subsanación y se mantiene el informe de evaluación inicial.
A17: KAPITAL GROUP S.AS
A18: NOMBRE DEL CONTRATANTE | B18: NUMERO | C18: CONSECUTIVO RUP | D18: CODIGO UNSPSC | E18: OBJETO | F18: FECHA INICIO | G18: FECHA TERMINACION | H18: SMMLV TOTAL | I18: VALOR CONTRATADO | J18: CUMPLE CODIGOS UNSPSC | K18: DENTRO DE LOS SIETE AÑOS | L18: OBJETO SIMILAR AL DEL PRESENTE CONTRATO | M18: Formato 8
A20: MINISTERIO DE JUSTICIA Y DEL DERECHO | B20: 015 DE 2021 | C20: 50 | D20: 861016 811118 | E20: Implementar la estrategia de uso y apropiación de las TIC para la promoción y difusión de los tramites, servicios y herramientas que ofrecen los sistemas de información y portales del MJO como fortalecimient o institucional de la entidad y capacitación y formación en TI para la OTGIJ” | F20: 44371 | G20: 44864 | H20: 111.43 | I20: 101246000 | J20: SI CUMPLE | K20: SI CUMPLE | L20: SI CIUMPLE | M20: DILIGENCIADO Y ENTREGADO (CUMPLE)
A21: FONDO DE TECNOLOGÍAS DE LA INFORMACIÓ N Y LS COMUNICACI ONES | B21: 560 DE 2015 | C21: 29 | E21: Capacitar a un grupo de servidores del Ministerio de Tecnologías de la Información y las Comunicacion es en las siguientes temáticas, para desarrollar sus competencias y establecer mecanismos de aporte en el trabajo: Gerencia Estratégica, Mecanismos de Resolución de Conflictos, Modelos de Gestión, Competitivida d y Productividad Organizaciona l, Normatividad y Riesgos de la Contratación Pública, Ética en el Servicio y Buen Gobierno, Sistema de Gestión de Calidad, Optimización de Procesos y Procedimiento s - Business Process Management, Mejoramiento Continuo, Procesos Orientados a Resultados, Indicadores de Gestión y Resultados, Sistemas de Información en la Lucha Contra la Corrupción, Tecnologías de la Información y las Comunicacion es, Teletrabajo. | F21: 42240 | G21: 42369 | I21: 115878034 | J21: NO CUMPLE | K21: SI CUMPLE | L21: NO CUMPLE | M21: DILIGENCIADO Y ENTREGADO (CUMPLE)
A22: FONDO DE TECNOLOGÍAS DE LA INFORMACIÓ N Y LS COMUNICACI ONES | B22: 575 DE 2016 | C22: 24 | D22: 861016 | E22: Capacitar a un grupo de servidores del Ministerio de Tecnologías de la información y las comunicacion es en temáticas aprobadas en el Plan Institucional de Capacitación 2016, para desarrollar sus competencias y establecer mecanismos de aporte en el trabajo | F22: 44739 | G22: 44926 | H22: 176.32 | I22: 89229120 | J22: SI CUMPLE | K22: SI CUMPLE | L22: NO CUMPLE | M22: DILIGENCIADO Y ENTREGADO (CUMPLE)
G23: SUMATORIA CONTRATOS EN SMMLV | L23: SI CUMPLE
G24: CONCLUSIÓN | L24: HABILITADO
A25: Observación: HABILITADO En relación con el contrato N° 015 DE 2022 - CUMPLE - esta habilitado por que con esta es suficiente para cumplir los requisitos solicitados en el pliego En relación a la certificación del contraro 560 de 2015, al revisar el consecutivo en el Rup se identifica el nombre de otra empresa no la relacionada en la certificación presentada. En relación con la certificación del contrato 575 de 2016 no cumple debido a que el objeto presentado no tiene relación capacitación para el fortalecimiento en temas relacionados en TI (Nuevas tecnologías, y/o innovación, y/o seguridad de la información, y/o transformación digital).
A27: SINERGIA E INNOVACIÓN SAS
A28: NOMBRE DEL CONTRATANTE | B28: NUMERO | C28: CONSECUTIVO RUP | D28: CODIGO UNSPSC | E28: OBJETO | F28: FECHA INICIO | G28: FECHA TERMINACION | H28: SMMLV TOTAL | I28: VALOR CONTRATADO | J28: CUMPLE CODIGOS UNSPSC | K28: DENTRO DE LOS SIETE AÑOS | L28: OBJETO SIMILAR AL DEL PRESENTE CONTRATO | M28: Formato 8
A30: Alcaldia mayor de Bogotá | B30: 197-FDLU-2016 | E30: Contratar servicios que se requieren para llevar a cabo las actividades previas y las programadas en la semana de las Tics, en la localidad de usme"Bogotá es TIC-USME TIC 2016" | F30: 42711 | G30: 42466 | I30: 192000000 | J30: NO CUMPLE | K30: NO CUMPLE | L30: NO CUMPLE | M30: DILIGENCIADO Y ENTREGADO (NO CUMPLE)
A31: Universidad San Buenaventura Sede Bogotá | E31: Capacitación mediante diplomados para funcionarios de la policia nacional | F31: 43001 | G31: 43061 | I31: 359087400 | J31: NO CUMPLE | K31: NO CUMPLE | L31: NO CUMPLE | M31: DILIGENCIADO Y ENTREGADO (NO CUMPLE)
A32: Superinetendencia de servicios Públicos | B32: 579 de 2018 | E32: Prestar los servicios de capacitación a los funcioarios de la Superintendecia de servicio publicos orientads al fortalecimiento de conocimientos y de competencias de acierdo con lo establecido en el plan institucional de capacitación 2018. | F32: 43297 | G32: 43434 | I32: 75000000 | J32: NO CUMPLE | K32: NO CUMPLE | L32: NO CUMPLE | M32: DILIGENCIADO Y ENTREGADO (NO CUMPLE)
G33: SUMATORIA CONTRATOS EN SMMLV | L33: NO CUMPLE
L34: NO HABILITADO
A36: Observación: NO HABILITADO , teniendo en cuenta no presenta el FORMATO No. 8 RELACIÓN DE XPERIENCIA HABILITANTE de manera incompleta y en consecuencia no es posible validar a que consecutivo en el RUP, corresponde el contrato.
A38: TRUST AND LEGAL SAS
A39: NOMBRE DEL CONTRATANTE | B39: NUMERO | C39: CONSECUTIVO RUP | D39: CODIGO UNSPSC | E39: OBJETO | F39: FECHA INICIO | G39: FECHA TERMINACION | H39: SMMLV TOTAL | I39: VALOR CONTRATADO | J39: CUMPLE CODIGOS UNSPSC | K39: DENTRO DE LOS SIETE AÑOS | L39: OBJETO SIMILAR AL DEL PRESENTE CONTRATO | M39: Formato 8
A41: A G E N C I A P A R A LA R E I N C O R P O R A C I ÓN Y LA N O R M A L I Z A C I Ó N | B41: 1224 de 2022 | C41: 33 | D41: 811118 | E41: : Realizar el diagnostico, evaluación, adecuación, sensibilización, concientización, propuesta de mejora de la metodología y controles de cumplimiento para la normatividad de protección de datos y responsabilidad demostrada en la ARN; así como, la realización de la evaluación de los procesos de completitud, exactitud e integridad de datos, ajustes de estos y desarrollo de una metodología de completitud de datos, con el fin de mejorar los componentes del SGSI y del MSPI. | F41: 44812 | G41: 44926 | H41: 756.03 | I41: 756031739 | J41: SI CUMPLE | K41: SI CUMPLE | L41: SI CUMPLE | M41: DILIGENCIADO Y ENTREGADO (CUMPLE)
A42: M I N I S T E R I O D E DEFENSA NACIONAL | B42: Cto No. 172/2019 - MDN - UGG -DA | C42: 11 | D42: 811118 | E42: Prestación de Servicios de Mantenimiento Integral y Soporte para la Infraestructura TI del grupo SILOG de la unidad de gestión general del Ministerio de Defensa Naciona | F42: 43802 | G42: 44165 | H42: 212939 | I42: 1.8691916e+09 | J42: SI CUMPLE | K42: SI CUMPLE | L42: NO CUMPLE | M42: DILIGENCIADO Y ENTREGADO (CUMPLE)
A43: 2SECURE SAS | B43: Cto No. 001 | C43: 18 | D43: 81111818 | E43: CONSULTORIA EN SERVICIOS DE T.I. Y SUMINISTRO” Desarrollo y diagnóstico de los componentes del sistema de seguridad privacidad de la información realizando recomendaciones para su mejora, estión y monitoreo de servicios TIC, incluido el suministro e implementación de sistemas de seguridad cibernética, informática y de dispositivos móviles así como el diagnóstico de componentes del sistema de seguridad y privacidad de la información bajo los lineamientos de seguridad y privacidad de la información de acuerdo a lo contemplado en la norma ISO 27001: 2013, gestión y monitoreo por medio de un centro de Operaciones de Seguridad para el control de la seguridad IT de la empresa (visualización de amenazas, control de actividades de red, entrega informes de datos) | F43: 43710 | G43: 43829 | H43: 27049 | I43: 224000000 | J43: SI CUMPLE | K43: SI CUMPLE | L43: CUMPLEN PARCIALMENTE | M43: DILIGENCIADO Y ENTREGADO (CUMPLE)
G44: SUMATORIA CONTRATOS EN SMMLV | L44: CUMPLE
G45: CONCLUSIÓN | L45: HABILITADO
A47: Observación: HABILITADO En relación con el contrato 172 de 2019 no cumple debido a que el objeto presentado no tiene relación capacitación para el fortalecimiento en temas relacionados en TI (Nuevas tecnologías, y/o innovación, y/o seguridad de la información, y/o transformación digital).
A48: ESTRADIGITAL SAS
A49: NOMBRE DEL CONTRATANTE | B49: NUMERO | C49: CONSECUTIVO RUP | D49: CODIGO UNSPSC | E49: OBJETO | F49: FECHA INICIO | G49: FECHA TERMINACION | H49: SMMLV TOTAL | I49: VALOR CONTRATADO | J49: CUMPLE CODIGOS UNSPSC | K49: DENTRO DE LOS SIETE AÑOS | L49: OBJETO SIMILAR AL DEL PRESENTE CONTRATO | M49: Formato 8
A51: UNIVERSIDAD NACIONAL DE COLOMBIA | B51: 966 de 2020 | C51: 7 | D51: 861016 811118 | E51: PRESTACIÓN DE SERVICIOS DE SITIOS WEB Y SERVICIOS RELACIONADOS PARA LA VISIBILIZACIÓN,SOCIALIZACIÓN Y APROPIACIÓN DEL CONCURSO METROPOLIANO TERRITORIOS AMBIENTALES EJEMPLARES EN EL MARCO DEL CONTRATO INTERADMINISTRATIVO ENTRE EL ÁREA METROPOLITANA Y LA UNIVERSIDAD NACIONAL NO 966 DE 2020 | F51: 44179 | G51: 44286 | H51: 74.04 | I51: 207350571 | J51: SI CUMPLE | K51: SI CUMPLE | L51: NO CUMPLE | M51: DILIGENCIADO Y ENTREGADO (CUMPLE)
A52: CONSORCIO ESTRATEGIA E- COMMERCE 2022 | C52: 23 | D52: 861016 811118 | E52: Servicios de formulación, diseño, implementación y ejecución de una estrategia para el desarrollo de habilidades digitales y competencias comerciales dirigido a comerciantes y empresarios, a través del desarrollo de recursos educativos, formación, uso y apropiación, posicionamiento, marketing digital y comunicaciones, analítica de datos y una plataforma digital para la implementación y desarrollo de canales de comercio digital que les genere visibilidad y les permita crecer, convertir y vender | F52: 44902 | G52: 44985 | H52: 82979 | I52: 926554953 | J52: SI CUMPLE | K52: SI CUMPLE | L52: SI CUMPLE | M52: DILIGENCIADO Y ENTREGADO (CUMPLE)
G53: SUMATORIA CONTRATOS EN SMMLV | L53: CUMPLE
G54: CONCLUSIÓN | L54: HABILITADO
A56: Observación: HABILITADO En relación con el contrato 966 de 2020 no cumple debido a que el objeto presentado no tiene relación capacitación para el fortalecimiento en temas relacionados en TI (Nuevas tecnologías, y/o innovación, y/o seguridad de la información, y/o transformación digital).
A58: ASOCIACIÓN ASECUM
A59: NOMBRE DEL CONTRATANTE | B59: NUMERO | C59: CONSECUTIVO RUP | D59: CODIGO UNSPSC | E59: OBJETO | F59: FECHA INICIO | G59: FECHA TERMINACION | H59: SMMLV TOTAL | I59: VALOR CONTRATADO | J59: CUMPLE CODIGOS UNSPSC | K59: DENTRO DE LOS SIETE AÑOS | L59: OBJETO SIMILAR AL DEL PRESENTE CONTRATO | M59: Formato 8
A61: Computadores Para Educar | B61: Contrato de Prestación de Servicios No. 47-21 | C61: 91 | E61: Prestar los servicios para la ejecución de la “Estrategia de Acceso y apropiación de las TIC” de Computadores para Educar, en la región 1 | F61: 44350 | G61: 44620 | H61: 2,8862,11 | I61: 2862116600 | J61: UN CUMPLE | K61: SI CUMPLE | L61: SI CUMPLE | M61: DILIGENCIADO Y ENTREGADO (CUMPLE)
A62: Departamento Administrativo Para La Prosperidad Social | B62: Contrato de Prestacion de Servicios No. 226 de 2019 Celebrado | C62: 86 | D62: 861016 | E62: Desarrollar las actividades de formación, capacitación y entrenamiento a los servidores públicos de PROSPERIDAD SOCIAL, para fortalecer sus competencias funcionales y comportamentales, acuerdo con el Plan Institucional de Formación y Capacitación 2019 y Ia normatividad vigente aplicable a la formación y capacitación de los servidores públicos. | F62: 43016 | G62: 43090 | H62: 784.91 | I62: 400000000 | J62: SI CUMPLE | K62: SI CUMPLE | L62: SI CUMPLE | M62: SI CUMPLE
A63: Superintendencia de Industria y Comercio | B63: 604 de 2017 | C63: 74 | D63: 811018 | E63: Aunar esfuerzos técnicos, administrativos y humanos para el desarrollo de capacitaciones y acompañamiento pedagógico, así como el diseño y ejecución de cursos de formación presencial y virtual, suministrar la operación, administración, implementación y mantenimiento del campus virtual para la divulgación de cursos, políticas, funciones y servicios de la Superintendencia de Industria y Comercio | F63: 42779 | G63: 43100 | H63: 724.26 | I63: 500000000 | J63: SI CUMPLE | K63: SI CUMPLE | L63: NO CUMPLE | M63: SI CUMPLE
G64: SUMATORIA CONTRATOS EN SMMLV | L64: CUMPLE
G65: CONCLUSIÓN | L65: HABILITADO
A67: Observación HABILITADO: Frente a la certificación del contrato Servicios No. 47-21 no cumple con los codigos UNSPSC. Frente a la certificación del contrato de Prestacion de Servicios No. 604 de 2017 no cumple debido a que el objeto presentado no tiene relación capacitación para el fortalecimiento en temas relacionados en TI (Nuevas tecnologías, y/o innovación, y/o seguridad de la información, y/o transformación digital).
A69: COMITÉ EVALUADOR
A71: EDILBERTO LUIS PALMA LOPEZ | C71: CLAUDIA MARCELA PARDO GARCIA | F71: JAIRO ARMANDO MORENO GUERRERO
A72: Contratista Subdirección Tecnologías | C72: Lider estretagia uso y apropiación | F72: Contratista Direccion de Tecnología

Sheet Evaluación economica
B2: Puntaje máximo --> | C2: 50
B4: Proponente | C4: Valor | D4: Puntaje asignado | E4: OBSERVACIONES
B5: DOKUMA. CREATIVIDAD & TECNOLOGIA SAS | C5: 1.1284185e+08 | D5: - | E5: proponente no habilitado
B6: KAPITAL GROUP S.AS | C6: 110085710 | D6: =+IFERROR(($C$2*$C$12)/C6,"Sin puntaje") -> 47.694711
B7: TRUST AND LEGAL SAS | C7: 113761507 | D7: =+IFERROR(($C$2*$C$12)/C7,"Sin puntaje") -> 46.153626
B8: ESTRADIGITAL SAS | C8: 114101048 | D8: - | E8: No se otorga puntaje debido a que no esta habilitada juridicamente
B9: ASOCIACIÓN ASECUM | C9: 105010122 | D9: =+IFERROR(($C$2*$C$12)/C9,"Sin puntaje") -> 50
B10: SINERGIA E INNOVACIÓN SAS | C10: No diligenció formato económico | D10: - | E10: No presento formato diligenciado
B12: Menor valor | C12: =+MIN(C5:C9) -> 105010122
B16: COMITÉ EVALUADOR
B18: EDILBERTO LUIS PALMA LOPEZ | D18: CLAUDIA MARCELA PARDO GARCIA | G18: JAIRO ARMANDO MORENO GUERRERO
B19: Contratista Subdirección Tecnologías | D19: Lider estretagia uso y apropiación | G19: Contratista Dirección de Tecnología

Sheet CRITERIOS PONDERABLES
A1: MINISTERIO DE JUSTICIA Y DEL DERECHO
A2: SAMC 04 DE 2023
A3: CRITERIOS DE EVALUACIÓN
A5: Cupos adicionales en capacitaciones - Anexo 8
A6: Criterio | B6: Puntaje máximo | D6: DOKUMA. CREATIVIDAD & TECNOLOGIA SAS | E6: KAPITAL GROUP S.AS | F6: SINERGIA E INNOVACIÓN SAS | G6: TRUST AND LEGAL SAS | H6: ESTRADIGITAL SAS | I6: ASOCIACIÓN ASECUM
A7: * Hasta 20 puntos: Si se ofrece cuatro (4) cupos adicionales, en cada una de las capacitaciones establecidas en Tabla7 Ficha técnica 7 - Capacitación para el Personal de TI del numeral 2.2. de los estudios previos, sin costo adicional para la entidad. * Hasta 15 puntos: Si se ofrece tres (3) cupos adicionales en cada una de las capacitaciones establecidas en Tabla 7 Ficha técnica 7 - Capacitación para el Personal de TI del numeral 2.2. de los estudios previos, sin costo adicional para la entidad. * Hasta 10 puntos: Si se ofrece dos (2) cupos adicionales en cada una de las capacitaciones establecidas en Tabla 7 Ficha técnica 7 - Capacitación para el Personal de TI del numeral 2.2. de los estudios previos, sin costo adicional para la entidad. * Hasta 5 puntos: Si se ofrece un (1) cupo adicional en cada una de las capacitaciones establecidas en Tabla 7 Ficha técnica 7 - Capacitación para el Personal de TI del numeral 2.2. de los estudios previos, sin costo adicional para la entidad. Si no hace ofrecimiento el puntaje será 0 | B7: 20 | D7: 21. Anexo - Cupos Adicionales | E7: 21. Anexo- Cupos Adicionales | F7: 21. Anexo- Cupos Adicionales | G7: 21. Anexo- Cupos Adicionales | H7: 0 | I7: FORMATO 8
D8: 20 | E8: 20 | F8: 0 | G8: 20 | H8: No presenta anexo | I8: 20
A9: Puntaje Total | B9: 20 | D9: =D8 -> 20 | E9: =E8 -> 20 | F9: =F8 -> 0 | G9: =G8 -> 20 | H9: 0 | I9: =I8 -> 20
A11: TALLER ADICIONAL DE TRANSFORMACIÓN DIGITAL, INNOVACIÓN, GESTIÓN DE CAMBIO, SEGURIDAD EN REDES SOCIALES:
A12: Criterio | B12: Puntaje máximo | D12: DOKUMA. CREATIVIDAD & TECNOLOGIA SAS | E12: KAPITAL GROUP S.AS | F12: SINERGIA E INNOVACIÓN SAS | G12: TRUST AND LEGAL SAS | H12: ESTRADIGITAL SAS | I12: ASOCIACIÓN ASECUM
A13: Se otorgarán 9.50 puntos si se ofrece un (1) taller adicional integrando los siguientes temas; trasformación digital, innovación, gestión de cambio, seguridad en redes sociales, sin costo adicional para la entidad, dirigido a funcionarios y contratistas de la entidad y personal de entidades del sector, mediante invitación mailing masivo, con una intensidad de 2 horas, cantidad de persona 200 conectadas a través de un evento en línea. | B13: 9.5 | D13: 19. Anexo- taller Adicional | E13: 19 Anexo 10 Taller Adicional | F13: 19. Anexo- Taller Adicional | G13: 19. Anexo- Taller Adicional KO TRUST (1) | H13: 0 | I13: FORMATO 10
D14: 9.5 | E14: 9.5 | F14: No diligenció formato completo | G14: 9.5 | H14: No presenta anexo | I14: 9.5
A15: Puntaje | B15: =B13 -> 9.5 | D15: =D14 -> 9.5 | E15: =E14 -> 9.5 | F15: 0 | G15: =G14 -> 9.5 | H15: 0 | I15: =I14 -> 9.5
A17: TRES (3) SESIONES ADICIONALES DEL CURSO DE OFIMÁTICA
A18: Criterio | B18: Puntaje máximo | D18: DOKUMA. CREATIVIDAD & TECNOLOGIA SAS | E18: KAPITAL GROUP S.AS | F18: SINERGIA E INNOVACIÓN SAS | G18: TRUST AND LEGAL SAS | H18: ESTRADIGITAL SAS | I18: ASOCIACIÓN ASECUM
A19: Se otorgarán 10 puntos si se ofrecen tres (3) sesiones adicionales sin costo para la entidad,cada sesión deberá desarrollarse en una (1) hora, las sesiones se realizarán en diversas fechas y los temas serán los siguientes: Microsoft Word : 1 sesión; Duración 1 hora Microsoft Excel: 1 sesión: Duración 1 hora Microsoft Power Point: 1 sesión: Duración 1 hora Las sesiones se desarrollarán a través de un encuentro sincrónico. | B19: 10 | D19: 18. Anexo- Sesiones adicionales Ofimatica | E19: 18. Anexo- Sesiones adicionales Ofimatica | F19: 18. Anexo- Sesiones adicionales Ofimatica | G19: 18. Anexo- Sesiones adicionales Ofimatica ko | H19: 0 | I19: FORMATO 11
D20: 10 | E20: 10 | F20: No diligenció formato completo | G20: 10 | H20: No presenta anexo | I20: 10
A21: Puntaje | B21: 10 | D21: =D20 -> 10 | E21: =E20 -> 10 | F21: 0 | G21: =G20 -> 10 | H21: 0 | I21: =I20 -> 10
A24: APOYO A LA INDUSTRIA NACIONAL - Anexo 11
A26: Criterio | B26: Puntaje máximo | D26: DOKUMA. CREATIVIDAD & TECNOLOGIA SAS | E26: KAPITAL GROUP S.AS | F26: SINERGIA E INNOVACIÓN SAS | G26: TRUST AND LEGAL SAS | H26: ESTRADIGITAL SAS | I26: ASOCIACIÓN ASECUM
A27: Dando cumplimiento a la Ley 816 de 2003, las entidades de la administración pública que, de acuerdo con el régimen jurídico de contratación que le sea aplicable, deban seleccionar a sus contratistas a través de licitaciones, convocatorias o concursos públicos, o mediante cualquier modalidad contractual, excepto aquellas en que la Ley no obligue a solicitar más de una propuesta, adoptarán criterios objetivos que permitan apoyar a la industria nacional. Se otorgarán hasta 10 puntos al proponente que certifique mediante documento escrito, suscrito por su representante legal, la procedencia del personal de la empresa que ejecutará el contrato de acuerdo con la siguiente asignación de puntaje: PROCEDENCIA DEL PERSONAL PUNTOS 100% Nacional 10 50% Nacional 50% extranjera 5 100% Extranjera 0 Si una vez efectuada la calificación correspondiente, la oferta de un proponente extranjero se encuentra en igualdad de condiciones con la de un proponente nacional, se adjudicará al nacional. Para el efecto, el proponente deberá diligenciar el anexo No. 9 | B27: 10 | D27: No presento manifestacion y/o certificación para acreditar este punto | E27: Manifiesta que aportará el 100% de los trabajadores colombianos | F27: Manifiesta que aportará al menos el 90% de los trabajadores colombianos | G27: Manifiesta que aportará el 100% de los trabajadores colombianos L | H27: Manifiesta que aportará el 100% de los trabajadores colombianos | I27: Manifiesta que aportará el 100% de los trabajadores colombianos
D28: 0 | E28: 10 | F28: 7 | G28: 10 | H28: 10 | I28: 10
D29: No presento manifestacion y/o certificación para acreditar este punto | E29: Manifiesta que aportará el 100% de los trabajadores colombianos | F29: Manifiesta que aportará al menos el 90% de los trabajadores colombianos | G29: Manifiesta que aportará el 100% de los trabajadores colombianos | H29: Manifiesta que aportará el 100% de los trabajadores colombianos | I29: Manifiesta que aportará el 100% de los trabajadores colombianos
A30: Puntaje | B30: =B27 -> 10 | D30: =D28 -> 0 | E30: =E28 -> 10 | F30: =F28 -> 7 | G30: =G28 -> 10 | H30: =H28 -> 10 | I30: =I28 -> 10
A32: PUNTAJE ADICIONAL PARA EMPRENDIMIENTOS Y EMPRESAS DE MUJERES, ART. 2.2.1.2.4.14. DEL DECRETO 1860 DE 2021
A34: Criterio | B34: Puntaje máximo | D34: DOKUMA. CREATIVIDAD & TECNOLOGIA SAS | E34: KAPITAL GROUP S.AS | F34: SINERGIA E INNOVACIÓN SAS | G34: TRUST AND LEGAL SAS | H34: ESTRADIGITAL SAS | I34: ASOCIACIÓN ASECUM
A35: La Entidad asignará un puntaje de cero punto veinticinco (0,25) al Proponente que acredite la calidad de emprendimiento y empresa de mujeres con domicilio en el territorio nacional de conformidad con la previsto en el artículo 2.2.1.2.4.2.14. del Decreto 1082 de 2015 o la norma que lo modifique, sustituya o complemente. Para que el Proponente obtenga este puntaje debe allegar con su oferta, el FORMATO: ACREDITACIÓN DE EMPRENDIMIENTO Y EMPRESA DE MUJERES (PERSONA NATURAL O JURÍDICA SEGÚN CORRESPONDA y aportar la documentación requerida en la normatividad y en el formato correspondiente. Si el Proponente debió subsanar dicho formato y/o los documentos requeridos para acreditar esta condición será válido para los criterios diferenciales en cuanto a los requisitos habilitantes relacionados con el número de contratos aportados para acreditar la experiencia solicitada pero no se tendrán en cuenta para la asignación de puntaje, por lo que obtendrá cero (0) puntos por este criterio de evaluación. Tratándose de Proponentes Plurales este puntaje se otorgará si por lo menos uno de los integrantes acredita la calidad de emprendimiento y empresa de mujeres y tiene una participación igual o superior al diez por ciento (10%) en el consorcio o la unión temporal. La asignación de este puntaje no excluye la aplicación del puntaje para MiPyme. | B35: 0.25 | D35: Anexo 11 Apoyo a la industria nacional
D36: 0 | E36: 0.25 | F36: 0 | G36: 0.25 | H36: 0 | I36: 0
B37: 0.25 | D37: la certificacion aportada debe estar suscrita por el representante legal y el contador. | E37: Acredita mas del 50% de su capacidad accionaria pertenece a mujeres | F37: No acredita la condicion | G37: Acredita mas del 50% de su capacidad accionaria pertenece a mujeres | H37: No acredita la condicion | I37: si bien aporta certificación manifiesta que al menos el 50% de su equipo directivo son mujeres, no relaciona los nombres ni documentos de identificacion de las personas, como lo exige el articulo 2.2.1.2.4.2.14 del decreto 1082 de 2015.
A38: Puntaje | B38: =B37 -> 0.25 | D38: =D36 -> 0 | E38: =E36 -> 0.25 | F38: =F36 -> 0 | G38: =G36 -> 0.25 | H38: 0 | I38: 0
A39: PUNTAJE ADICIONAL PROMOCIÓN DEL ACCESO DE LAS MIPYMES AL MERCADO DE COMPRAS PÚBLICAS (ART. 33 DE LA LEY 2069 DE 2020 y DECRETO 1860 DE 2021): Hasta 0,25 puntos
A40: Criterio | B40: Puntaje máximo | D40: DOKUMA. CREATIVIDAD & TECNOLOGIA SAS | E40: KAPITAL GROUP S.AS | F40: SINERGIA E INNOVACIÓN SAS | G40: TRUST AND LEGAL SAS | H40: ESTRADIGITAL SAS | I40: ASOCIACIÓN ASECUM
A41: La Entidad asignará un puntaje máximo de hasta cero puntos veinticinco (0,25) al Proponente que acredite la calidad de MiPyme domiciliada en Colombia de conformidad con el tamaño empresarial previsto en el artículo 2.2.1.13.2.2 del Decreto 1074 de 2015 o la norma que lo modifique, sustituya o complemente. El puntaje se asignará en función del tamaño empresarial de acuerdo con la siguiente tabla: TAMAÑO EMPRESARIAL PUNTAJE MICROEMPRESA 0,25 PEQUEÑA EMPRESA 0,20 MEDIANA EMPRESA 0,15 Al proponente que responda negativamente, que no responda, o cuyo ofrecimiento no corresponda en su integridad a lo solicitado por el MINISTERIO, será calificado en este subfactor con CERO (0) PUNTOS. | B41: 0.25 | D41: Certificacion Mipyme-1 | E41: 2 Modelo para limitar convocatoria RL | F41: ACREDITACION MIPYME_1 | G41: 0 | H41: FORMATO 10 H - ACREDITACION MIPYME | I41: FORMATO 10H MIPYME
D42: 0.25 | E42: 0.25 | F42: El formato está mal diligenciado, no se puede identificar el tipo de empresa | G42: 0.25 | H42: 0.15 | I42: 0.25
A43: Puntaje | B43: =B41 -> 0.25 | D43: =D42 -> 0.25 | E43: =E42 -> 0.25 | F43: 0 | G43: =+G42 -> 0.25 | H43: =H42 -> 0.15 | I43: =I42 -> 0.25
A44: PUNTAJE TOTAL | B44: =SUM(B43,B38,B30,B21,B15,B9) -> 50 | D44: =SUM(D43,D38,D30,D21,D15,D9) -> 39.75 | E44: =SUM(E43,E38,E30,E21,E15,E9) -> 50 | F44: =SUM(F43,F38,F30,F21,F15,F9) -> 7 | G44: =SUM(G43,G38,G30,G21,G15,G9) -> 50 | H44: =SUM(H43,H38,H30,H21,H15,H9) -> 10.15 | I44: =SUM(I43,I38,I30,I21,I15,I9) -> 49.75
A46: EVALUACION ECONOMICA
A47: VALOR DE LA OFERTA | B47: Puntaje máximo | D47: DOKUMA. CREATIVIDAD & TECNOLOGIA SAS | E47: KAPITAL GROUP S.AS | F47: SINERGIA E INNOVACIÓN SAS | G47: TRUST AND LEGAL SAS | H47: ESTRADIGITAL SAS | I47: ASOCIACIÓN ASECUM
B48: 50 | D48: ='Evaluación economica'!C5 -> 1.1284185e+08 | E48: ='Evaluación economica'!C6 -> 110085710 | F48: ='Evaluación economica'!C10 -> No diligenció formato económico | G48: ='Evaluación economica'!C7 -> 113761507 | H48: ='Evaluación economica'!C8 -> 114101048 | I48: ='Evaluación economica'!C9 -> 105010122
A49: PUNTAJE | D49: ='Evaluación economica'!D5 -> - | E49: ='Evaluación economica'!D6 -> 47.694711 | F49: ='Evaluación economica'!D10 -> - | G49: ='Evaluación economica'!D7 -> 46.153626 | H49: ='Evaluación economica'!D8 -> - | I49: ='Evaluación economica'!D9 -> 50
A51: PUNTAJE TOTAL | D51: - | E51: =+E49+E44 -> 97.694711 | F51: - | G51: =+G44+G49 -> 96.153626 | H51: - | I51: =+I49+I44 -> 99.75
D52: NO HABILITADO | E52: HABILITADO | F52: NO HABILITADO | G52: HABILITADO | H52: HABILITADO | I52: HABILITADO
A53: observacion | H53: No se otorga puntaje debido a que no esta habilitada juridicamente
A55: COMITÉ EVALUADOR
A57: EDILBERTO LUIS PALMA LOPEZ | B57: CLAUDIA MARCELA PARDO GARCIA | G57: JAIRO ARMANDO MORENO GUERRERO
A58: Contratista Subdirección Tecnologías | B58: Lider estretagia uso y apropiación | G58: Contratista Dirección de Tecnología
