Workbook

Sheet VERIFICACIÓN ECONÓMICA
A1: OBJETO: | B1: MANTENIMIENTO PREVENTIVO Y CORRECTIVO Y ADECUACIÓN A TODO COSTO DE LOS CONTENEDORES (SHELTERS) DE LA FTC OMEGA - PAC RADAR DE SAN JOSE DEL GUAVIARE Y TORRE RADAR DE CONFORMIDAD CON LAS ESPECIFICACIONES TECNICAS. | E1: CONSORCIO VENTURA
E2: CANT | G2: VALOR UNITARIO | H2: VALOR PARCIAL
A3: MANTENIMIENTO Y ADECUACION SHELTERS OMEGA $ 30.000.000,00
A4: ÍTEM | B4: ACTIVIDAD | C4: UND | D4: CANTIDAD
A5: 1 | B5: PRELIMINARES
A6: 1.1 | B6: REMOCIÓN (DEMOLICIÓN) DE ACABADO DE PISO Y PAREDES, INCLUYE RETIRO | C6: M² | D6: 84 | E6: =VLOOKUP($A$5:$A$17,'CONSORCIO VENTURA'!$B$18:$F$30,5,0) -> 84 | F6: =+D6-E6 -> 0 | G6: =VLOOKUP($A$5:$A$17,'CONSORCIO VENTURA'!$B$18:$E$30,4,0) -> 15732.771 | H6: =+G6*E6 -> 1321552.8
A7: 1.2 | B7: DESMONTE DE PUERTAS INCLUYE EL MARCO Y TAPA LUCES, INCLUYE RETIRO | C7: Un | D7: 14 | E7: =VLOOKUP($A$5:$A$17,'CONSORCIO VENTURA'!$B$18:$F$30,5,0) -> 14 | F7: =+D7-E7 -> 0 | G7: =VLOOKUP($A$5:$A$17,'CONSORCIO VENTURA'!$B$18:$E$30,4,0) -> 13226.89 | H7: =+G7*E7 -> 185176.46
A8: 1.4 | B8: DESMONTE DE APARATOS SANITARIOS Y DIVISIONES DE DUCHAS Y SANITARIOS. | C8: Un | D8: 14 | E8: =VLOOKUP($A$5:$A$17,'CONSORCIO VENTURA'!$B$18:$F$30,5,0) -> 14 | F8: =+D8-E8 -> 0 | G8: =VLOOKUP($A$5:$A$17,'CONSORCIO VENTURA'!$B$18:$E$30,4,0) -> 17932.227 | H8: =+G8*E8 -> 251051.17
A9: 1.5 | B9: DESMONTE DE CIELO RASO, INCLUYE DESMONTE DE ESTRUCTURA Y RETIRO | C9: M² | D9: 26.25 | E9: =VLOOKUP($A$5:$A$17,'CONSORCIO VENTURA'!$B$18:$F$30,5,0) -> 26.25 | F9: =+D9-E9 -> 0 | G9: =VLOOKUP($A$5:$A$17,'CONSORCIO VENTURA'!$B$18:$E$30,4,0) -> 11641.258 | H9: =+G9*E9 -> 305583.03
A10: 1.6 | B10: DESMONTE DE ESPEJOS, INCLUYE RETIRO | C10: UN | D10: 7 | E10: =VLOOKUP($A$5:$A$17,'CONSORCIO VENTURA'!$B$18:$F$30,5,0) -> 7 | F10: =+D10-E10 -> 0 | G10: =VLOOKUP($A$5:$A$17,'CONSORCIO VENTURA'!$B$18:$E$30,4,0) -> 4242.2936 | H10: =+G10*E10 -> 29696.055
A11: 1.7 | B11: ESCARIFICACIÓN Y RETIRO DE PAÑETE | C11: M² | D11: 1 | E11: =VLOOKUP($A$5:$A$17,'CONSORCIO VENTURA'!$B$18:$F$30,5,0) -> 1 | F11: =+D11-E11 -> 0 | G11: =VLOOKUP($A$5:$A$17,'CONSORCIO VENTURA'!$B$18:$E$30,4,0) -> 8546.8451 | H11: =+G11*E11 -> 8546.8451
A12: 3 | B12: ESTRUCTURA METALICA
A13: 3.3 | B13: LIMPIEZA MANUAL-MECÁNICA TIPO SSPC SP2 Y SSPC SP3 PARA PASARELA METÁLICA TORRE RADAR - ESTRUCTURA METALICA DE CONTENEDORES. INCLUYE SISTEMA DE RECUBRIMIENTO PARA LA ESTRUCTURA METÁLICA MEDIANTE IMPRIMANTE EPÓXICO FOSTATO DE CINC TIPO SIKA O SIMILAR Y/O BARNIZ QDS TIPO SIKA O SIMILAR | C13: M² | D13: 79.4 | E13: 83.7 | F13: =+D13-E13 -> -4.3 | G13: =VLOOKUP($A$5:$A$17,'CONSORCIO VENTURA'!$B$18:$E$30,4,0) -> 143010.33 | H13: =+G13*E13 -> 11969965 | J13: ajustado
A14: 4 | B14: PINTURA
A15: 4.1 | B15: PINTURA ESMALTE | C15: M2 | D15: 586 | E15: =VLOOKUP($A$5:$A$17,'CONSORCIO VENTURA'!$B$18:$F$30,5,0) -> 586 | F15: =+D15-E15 -> 0 | G15: =VLOOKUP($A$5:$A$17,'CONSORCIO VENTURA'!$B$18:$E$30,4,0) -> 13964.257 | H15: =+G15*E15 -> 8183054.5
A16: 5 | B16: CARPINTERIA EN ALUMINIO
A17: 5.1 | B17: MANTENIMIENTO A TODO COSTO DE VENTANERIA, PUERTAS CORREDIZAS EN ALUMINIO | C17: M² | D17: 15.9 | E17: =VLOOKUP($A$5:$A$17,'CONSORCIO VENTURA'!$B$18:$F$30,5,0) -> 15.9 | F17: =+D17-E17 -> 0 | G17: =VLOOKUP($A$5:$A$17,'CONSORCIO VENTURA'!$B$18:$E$30,4,0) -> 19342.758 | H17: =+G17*E17 -> 307549.84
A18: TOTAL COSTOS DIRECTOS | H18: =SUM(H6:H17) -> 22562176
A19: ADMINISTRACIÓN % | C19: A | D19: =SUM('[1]OFERTA ECONOMICA 02-01 '!$L$68:$L$73)+18% -> 0.18 | E19: 0.272 | H19: =+H18*E19 -> 6136911.8
A20: IMPREVISTOS % | C20: I | D20: 0.05 | E20: 0.01 | H20: =+H18*E20 -> 225621.76
A21: UTILIDADES % | C21: U | D21: 0.04 | E21: 0.04 | H21: =+H18*E21 -> 902487.02
A22: IVA SOBRE UTILIDAD | C22: % | D22: 0.19 | E22: 0.19 | H22: =+H21*E22 -> 171472.53
A23: TOTAL COSTOS INDIRECTOS (A.I.U)+ IVA SOBRE UTILIDAD | H23: =+H19+H20+H21+H22 -> 7436493.1
A24: VALOR TOTAL OBRAS CIVILES | H24: =+H18+H23 -> 29998669
A25: " MANTENIMIENTO PREVENTIVO Y CORRECTIVO DE LAS INSTALACIONES DEL RADAR SAN JOSE $ 40.000.000,00"
A26: ÍTEM | B26: ACTIVIDAD | C26: UND | D26: CANTIDAD
A27: 1 | B27: PRELIMINARES
A28: 1.3 | B28: ESCARIFICADO DE PINTURA EN PAREDES | C28: M² | D28: 70 | E28: =VLOOKUP($A$27:$A$50,'CONSORCIO VENTURA'!$B$44:$F$67,5,0) -> 70 | F28: =+D28-E28 -> 0 | G28: =VLOOKUP($A$27:$A$50,'CONSORCIO VENTURA'!$B$44:$E$67,4,0) -> 5145.0334 | H28: =+G28*E28 -> 360152.34
A29: 1.8 | B29: DESMONTE TUBERÍA HIDRÁULICA DE Ø 3" A Ø 6" | C29: ML | D29: 30 | E29: =VLOOKUP($A$27:$A$50,'CONSORCIO VENTURA'!$B$44:$F$67,5,0) -> 30 | F29: =+D29-E29 -> 0 | G29: =VLOOKUP($A$27:$A$50,'CONSORCIO VENTURA'!$B$44:$E$67,4,0) -> 13742.463 | H29: =+G29*E29 -> 412273.89
A30: 2 | B30: MOVIMIENTO DE TIERRAS
A31: 2.1 | B31: EXCAVACION MANUAL EN TERRENO CONSISTENTE, INCLUYE CARGUE, RETIRO Y DISPOCISION FINAL DE EXCAVACION | C31: M³ | D31: 3.6 | E31: =VLOOKUP($A$27:$A$50,'CONSORCIO VENTURA'!$B$44:$F$67,5,0) -> 3.6 | F31: =+D31-E31 -> 0 | G31: =VLOOKUP($A$27:$A$50,'CONSORCIO VENTURA'!$B$44:$E$67,4,0) -> 77643.408 | H31: =+G31*E31 -> 279516.27
A32: 3 | B32: ESTRUCTURA METALICA
A33: 3.1 | B33: LIMPIEZA MANUAL-MECÁNICA TIPO SSPC SP2 Y SSPC SP3 PARA ESTRUCTURA METÁLICA EXISTENTE (TUBO DIAMETRO 7", 10" Y 19", PERIL TIPO C 15 CM X 5 CM, PERFIL TIPO L 8 CM X 8 CM, IPE DE 60 A 270 ). INCLUYE SISTEMA DE RECUBRIMIENTO PARA LA ESTRUCTURA METÁLICA MEDIANTE IMPRIMANTE EPÓXICO FOSTATO DE CINC TIPO SIKA O SIMILAR Y/O BARNIZ QDS TIPO SIKA O SIMILAR | C33: ML | D33: 5 | E33: 10 | F33: =+D33-E33 -> -5 | G33: =VLOOKUP($A$27:$A$50,'CONSORCIO VENTURA'!$B$44:$E$67,4,0) -> 50171.128 | H33: =+G33*E33 -> 501711.28 | J33: ajustado
A34: 4 | B34: PINTURA
A35: 4.2 | B35: VINILO CORRIENTE TIPO-2, 3 MANOS (INCLUYE FILOS Y DILATACIONES) | C35: M² | D35: 85 | E35: =VLOOKUP($A$27:$A$50,'CONSORCIO VENTURA'!$B$44:$F$67,5,0) -> 85 | F35: =+D35-E35 -> 0 | G35: =VLOOKUP($A$27:$A$50,'CONSORCIO VENTURA'!$B$44:$E$67,4,0) -> 12111.111 | H35: =+G35*E35 -> 1029444.4
A36: 4.3 | B36: PINTURA PREMIUM PARA EXTERIORES BASE DE AGUA - TRES MANOS (INCLUYE FILOS Y DILATACIONES) | C36: M² | D36: 70 | E36: =VLOOKUP($A$27:$A$50,'CONSORCIO VENTURA'!$B$44:$F$67,5,0) -> 70 | F36: =+D36-E36 -> 0 | G36: =VLOOKUP($A$27:$A$50,'CONSORCIO VENTURA'!$B$44:$E$67,4,0) -> 22821.419 | H36: =+G36*E36 -> 1597499.3
A37: 4.4 | B37: ESTUCO PLÁSTICO ACRÍLICO PARA EXTERIORES A DOS (2) MANOS SOBRE MUROS, INCLUYE FILOS, DILATACIONES Y TODAS LAS ACTIVIDADES NECESARIAS PARA SU CORRECTA INSTALACIÓN | C37: M2 | D37: 70 | E37: =VLOOKUP($A$27:$A$50,'CONSORCIO VENTURA'!$B$44:$F$67,5,0) -> 70 | F37: =+D37-E37 -> 0 | G37: =VLOOKUP($A$27:$A$50,'CONSORCIO VENTURA'!$B$44:$E$67,4,0) -> 20616.127 | H37: =+G37*E37 -> 1443128.9
A38: 4.5 | B38: ESMALTE POLIURETANO | C38: M2 | D38: 3.78 | E38: =VLOOKUP($A$27:$A$50,'CONSORCIO VENTURA'!$B$44:$F$67,5,0) -> 3.78 | F38: =+D38-E38 -> 0 | G38: =VLOOKUP($A$27:$A$50,'CONSORCIO VENTURA'!$B$44:$E$67,4,0) -> 55696.519 | H38: =+G38*E38 -> 210532.84
A39: 5 | B39: CARPINTERIA EN ALUMINIO
A40: 5.1 | B40: MANTENIMIENTO A TODO COSTO DE VENTANERIA, PUERTAS CORREDIZAS EN ALUMINIO | C40: M² | D40: 1.716 | E40: =VLOOKUP($A$27:$A$50,'CONSORCIO VENTURA'!$B$44:$F$67,5,0) -> 1.716 | F40: =+D40-E40 -> 0 | G40: =VLOOKUP($A$27:$A$50,'CONSORCIO VENTURA'!$B$44:$E$67,4,0) -> 19342.758 | H40: =+G40*E40 -> 33192.172
...

Sheet ECONTAINERS S.A.S.
B2: FUERZAS MILITARES DE COLOMBIA- MINISTERIO DE DEFENSA NACIONAL
B3: FUERZA AÉREA COLOMBIANA
B4: COMANDO AÉREO DE COMBATE No.2
B5: OBJETO: | C5: MANTENIMIENTO PREVENTIVO Y CORRECTIVO Y ADECUACIÓN A TODO COSTO DE LOS CONTENEDORES (SHELTERS) DE LA FTC OMEGA - PAC RADAR DE SAN JOSE DEL GUAVIARE Y TORRE RADAR DE CONFORMIDAD CON LAS ESPECIFICACIONES TECNICAS.
B7: NOTAS:
B8: Las cantidades de obra que a continuación se presentan son aproximadas.
B9: Su pago será determinado por la obra medida, realmente ejecutada, previa medición por parte de la supervision.
B10: Durante la ejecución de la obra se deben verificar las medidas por parte del contratista y la supervision
B11: El contratista deberá prever todos los costos correspondientes a materiales, mano de obra, transportes y demás costos directos e indirectos requeridos para realizar la totalidad de las obras.
B12: ANEXO 7.2.
B13: PRESUPUESTO OFICIAL RUBRO 02-02-02-005-004-01-2 REC 10 $110.000.000,00
B15: OFERTA ECONOMICA
B16: MANTENIMIENTO Y ADECUACION SHELTERS OMEGA $ 30.000.000,00
B17: ÍTEM | C17: ACTIVIDAD | D17: UND | E17: VALOR UNITARIO | F17: CANTIDAD | G17: VALOR PARCIAL | H17: VALOR TOTAL
B18: 1 | C18: PRELIMINARES | H18: =SUM(G19:G24) -> 2093950
B19: 1.1 | C19: REMOCIÓN (DEMOLICIÓN) DE ACABADO DE PISO Y PAREDES, INCLUYE RETIRO | D19: M² | E19: 15800 | F19: 84 | G19: =+E19*F19 -> 1327200
B20: 1.2 | C20: DESMONTE DE PUERTAS INCLUYE EL MARCO Y TAPA LUCES, INCLUYE RETIRO | D20: Un | E20: 12400 | F20: 14 | G20: =+E20*F20 -> 173600
B21: 1.4 | C21: DESMONTE DE APARATOS SANITARIOS Y DIVISIONES DE DUCHAS Y SANITARIOS. | D21: Un | E21: 17600 | F21: 14 | G21: =+E21*F21 -> 246400
B22: 1.5 | C22: DESMONTE DE CIELO RASO, INCLUYE DESMONTE DE ESTRUCTURA Y RETIRO | D22: M² | E22: 11800 | F22: 26.25 | G22: =+E22*F22 -> 309750
B23: 1.6 | C23: DESMONTE DE ESPEJOS, INCLUYE RETIRO | D23: UN | E23: 4100 | F23: 7 | G23: =+E23*F23 -> 28700
B24: 1.7 | C24: ESCARIFICACIÓN Y RETIRO DE PAÑETE | D24: M² | E24: 8300 | F24: 1 | G24: =+E24*F24 -> 8300
B25: 3 | C25: ESTRUCTURA METALICA | H25: =SUM(G26) -> 10480800
B26: 3.3 | C26: LIMPIEZA MANUAL-MECÁNICA TIPO SSPC SP2 Y SSPC SP3 PARA PASARELA METÁLICA TORRE RADAR - ESTRUCTURA METALICA DE CONTENEDORES. INCLUYE SISTEMA DE RECUBRIMIENTO PARA LA ESTRUCTURA METÁLICA MEDIANTE IMPRIMANTE EPÓXICO FOSTATO DE CINC TIPO SIKA O SIMILAR Y/O BARNIZ QDS TIPO SIKA O SIMILAR | D26: M² | E26: 132000 | F26: 79.4 | G26: =+E26*F26 -> 10480800
B27: 4 | C27: PINTURA | H27: =SUM(G28) -> 8086800
B28: 4.1 | C28: PINTURA ESMALTE | D28: M2 | E28: 13800 | F28: 586 | G28: =+E28*F28 -> 8086800
B29: 5 | C29: CARPINTERIA EN ALUMINIO | H29: =SUM(G30) -> 303690
B30: 5.1 | C30: MANTENIMIENTO A TODO COSTO DE VENTANERIA, PUERTAS CORREDIZAS EN ALUMINIO | D30: M² | E30: 19100 | F30: 15.9 | G30: =+E30*F30 -> 303690
B31: TOTAL COSTOS DIRECTOS | H31: =SUM(H18:H30) -> 20965240
B32: ADMINISTRACIÓN % | D32: A | F32: =SUM('[1]OFERTA ECONOMICA 02-01 '!$L$68:$L$73)+18% -> 0.18 | H32: =+H31*F32 -> 3773743.2
B33: IMPREVISTOS % | D33: I | F33: 0.05 | H33: =+H31*F33 -> 1048262
B34: UTILIDADES % | D34: U | F34: 0.04 | H34: =+H31*F34 -> 838609.6
B35: IVA SOBRE UTILIDAD | D35: % | F35: 0.19 | H35: =+H34*F35 -> 159335.82
B36: TOTAL COSTOS INDIRECTOS (A.I.U)+ IVA SOBRE UTILIDAD | H36: =SUM(H32:H35) -> 5819950.6
B37: VALOR TOTAL OBRAS CIVILES | H37: =+H31+H36 -> 26785191
B41: " MANTENIMIENTO PREVENTIVO Y CORRECTIVO DE LAS INSTALACIONES DEL RADAR SAN JOSE $ 40.000.000,00"
B42: SHELTERS 9
B43: ÍTEM | C43: ACTIVIDAD | D43: UND | E43: VALOR UNITARIO | F43: CANTIDAD | G43: VALOR PARCIAL | H43: VALOR TOTAL
B44: 1 | C44: PRELIMINARES | H44: =SUM(G45:G46) -> 731000
B45: 1.3 | C45: ESCARIFICADO DE PINTURA EN PAREDES | D45: M² | E45: 5000 | F45: 70 | G45: =+E45*F45 -> 350000
B46: 1.8 | C46: DESMONTE TUBERÍA HIDRÁULICA DE Ø 3" A Ø 6" | D46: ML | E46: 12700 | F46: 30 | G46: =+E46*F46 -> 381000
...

Sheet PROYECTOS Y SOLUCIONES EN INGEN
B2: FUERZAS MILITARES DE COLOMBIA- MINISTERIO DE DEFENSA NACIONAL
B3: FUERZA AÉREA COLOMBIANA
B4: COMANDO AÉREO DE COMBATE No.2
B5: OBJETO: | C5: MANTENIMIENTO PREVENTIVO Y CORRECTIVO Y ADECUACIÓN A TODO COSTO DE LOS CONTENEDORES (SHELTERS) DE LA FTC OMEGA - PAC RADAR DE SAN JOSE DEL GUAVIARE Y TORRE RADAR DE CONFORMIDAD CON LAS ESPECIFICACIONES TECNICAS.
B7: NOTAS:
B8: Las cantidades de obra que a continuación se presentan son aproximadas.
B9: Su pago será determinado por la obra medida, realmente ejecutada, previa medición por parte de la supervision.
B10: Durante la ejecución de la obra se deben verificar las medidas por parte del contratista y la supervision
B11: El contratista deberá prever todos los costos correspondientes a materiales, mano de obra, transportes y demás costos directos e indirectos requeridos para realizar la totalidad de las obras. | K11: 0.96452086
B12: ANEXO 7.2.
B13: PRESUPUESTO OFICIAL RUBRO 02-02-02-005-004-01-2 REC 10 $110.000.000,00
B15: OFERTA ECONOMICA
B16: MANTENIMIENTO Y ADECUACION SHELTERS OMEGA $ 30.000.000,00
B17: ÍTEM | C17: ACTIVIDAD | D17: UND | E17: VALOR UNITARIO | F17: CANTIDAD | G17: VALOR PARCIAL | H17: VALOR TOTAL
B18: 1 | C18: PRELIMINARES | H18: =SUM(G19:G24) -> 2083739.5
B19: 1.1 | C19: REMOCIÓN (DEMOLICIÓN) DE ACABADO DE PISO Y PAREDES, INCLUYE RETIRO | D19: M² | E19: 15599 | F19: 84 | G19: =+E19*F19 -> 1310316 | J19: =ROUND($K$11*E19,0) -> 15046 | K19: =J19*F19 -> 1263864 | L19: 16173
B20: 1.2 | C20: DESMONTE DE PUERTAS INCLUYE EL MARCO Y TAPA LUCES, INCLUYE RETIRO | D20: Un | E20: 13115 | F20: 14 | G20: =+E20*F20 -> 183610 | J20: =ROUND($K$11*E20,0) -> 12650 | K20: =J20*F20 -> 177100 | L20: 13597
B21: 1.4 | C21: DESMONTE DE APARATOS SANITARIOS Y DIVISIONES DE DUCHAS Y SANITARIOS. | D21: Un | E21: 17780 | F21: 14 | G21: =+E21*F21 -> 248920 | J21: =ROUND($K$11*E21,0) -> 17149 | K21: =J21*F21 -> 240086 | L21: 18434
B22: 1.5 | C22: DESMONTE DE CIELO RASO, INCLUYE DESMONTE DE ESTRUCTURA Y RETIRO | D22: M² | E22: 11542 | F22: 26.25 | G22: =+E22*F22 -> 302977.5 | J22: =ROUND($K$11*E22,0) -> 11132 | K22: =J22*F22 -> 292215 | L22: 11967
B23: 1.6 | C23: DESMONTE DE ESPEJOS, INCLUYE RETIRO | D23: UN | E23: 4206 | F23: 7 | G23: =+E23*F23 -> 29442 | J23: =ROUND($K$11*E23,0) -> 4057 | K23: =J23*F23 -> 28399 | L23: 4361
B24: 1.7 | C24: ESCARIFICACIÓN Y RETIRO DE PAÑETE | D24: M² | E24: 8474 | F24: 1 | G24: =+E24*F24 -> 8474 | J24: =ROUND($K$11*E24,0) -> 8173 | K24: =J24*F24 -> 8173 | L24: 8786
B25: 3 | C25: ESTRUCTURA METALICA | E25: 0 | H25: =SUM(G26) -> 11258682 | J25: =ROUND($K$11*E25,0) -> 0 | K25: =J25*F25 -> 0
B26: 3.3 | C26: LIMPIEZA MANUAL-MECÁNICA TIPO SSPC SP2 Y SSPC SP3 PARA PASARELA METÁLICA TORRE RADAR - ESTRUCTURA METALICA DE CONTENEDORES. INCLUYE SISTEMA DE RECUBRIMIENTO PARA LA ESTRUCTURA METÁLICA MEDIANTE IMPRIMANTE EPÓXICO FOSTATO DE CINC TIPO SIKA O SIMILAR Y/O BARNIZ QDS TIPO SIKA O SIMILAR | D26: M² | E26: 141797 | F26: 79.4 | G26: =+E26*F26 -> 11258682 | J26: =ROUND($K$11*E26,0) -> 136766 | K26: =J26*F26 -> 10859220 | L26: 147012.93
B27: 4 | C27: PINTURA | E27: 0 | H27: =SUM(G28) -> 8113756 | J27: =ROUND($K$11*E27,0) -> 0 | K27: =J27*F27 -> 0
B28: 4.1 | C28: PINTURA ESMALTE | D28: M2 | E28: 13846 | F28: 586 | G28: =+E28*F28 -> 8113756 | J28: =ROUND($K$11*E28,0) -> 13355 | K28: =J28*F28 -> 7826030 | L28: 14355.64
B29: 5 | C29: CARPINTERIA EN ALUMINIO | E29: 0 | H29: =SUM(G30) -> 304946.1 | J29: =ROUND($K$11*E29,0) -> 0 | K29: =J29*F29 -> 0
B30: 5.1 | C30: MANTENIMIENTO A TODO COSTO DE VENTANERIA, PUERTAS CORREDIZAS EN ALUMINIO | D30: M² | E30: 19179 | F30: 15.9 | G30: =+E30*F30 -> 304946.1 | J30: =ROUND($K$11*E30,0) -> 18499 | K30: =J30*F30 -> 294134.1 | L30: 19884.98
B31: TOTAL COSTOS DIRECTOS | H31: =ROUND(SUM(H18:H30),0) -> 21761123 | J31: =ROUND($K$11*E31,0) -> 0 | K31: =J31*F31 -> 0
B32: ADMINISTRACIÓN % | D32: A | F32: 0.272 | H32: =+H31*F32 -> 5919025.5 | J32: =ROUND($K$11*E32,0) -> 0 | K32: =J32*F32 -> 0
B33: IMPREVISTOS % | D33: I | F33: 0.01 | H33: =+H31*F33 -> 217611.23 | J33: =ROUND($K$11*E33,0) -> 0 | K33: =J33*F33 -> 0
B34: UTILIDADES % | D34: U | F34: 0.04 | H34: =+H31*F34 -> 870444.92 | J34: =ROUND($K$11*E34,0) -> 0 | K34: =J34*F34 -> 0
B35: IVA SOBRE UTILIDAD | D35: % | F35: 0.19 | H35: =+H34*F35 -> 165384.53 | J35: =ROUND($K$11*E35,0) -> 0 | K35: =J35*F35 -> 0
B36: TOTAL COSTOS INDIRECTOS (A.I.U)+ IVA SOBRE UTILIDAD | H36: =ROUND(SUM(H32:H35),0) -> 7172466 | J36: =ROUND($K$11*E36,0) -> 0 | K36: =J36*F36 -> 0
B37: VALOR TOTAL OBRAS CIVILES | H37: =ROUND(+H31+H36,0) -> 28933589 | J37: =ROUND($K$11*E37,0) -> 0 | K37: =J37*F37 -> 0
J38: =ROUND($K$11*E38,0) -> 0 | K38: =J38*F38 -> 0
J39: =ROUND($K$11*E39,0) -> 0 | K39: =J39*F39 -> 0
J40: =ROUND($K$11*E40,0) -> 0 | K40: =J40*F40 -> 0
B41: " MANTENIMIENTO PREVENTIVO Y CORRECTIVO DE LAS INSTALACIONES DEL RADAR SAN JOSE $ 40.000.000,00" | J41: =ROUND($K$11*E41,0) -> 0 | K41: =J41*F41 -> 0
B42: SHELTERS 9 | J42: =ROUND($K$11*E42,0) -> 0 | K42: =J42*F42 -> 0
B43: ÍTEM | C43: ACTIVIDAD | D43: UND | E43: VALOR UNITARIO | F43: CANTIDAD | G43: VALOR PARCIAL | H43: VALOR TOTAL
...

Sheet CONSORCIO VENTURA
B2: FUERZAS MILITARES DE COLOMBIA- MINISTERIO DE DEFENSA NACIONAL
B3: FUERZA AÉREA COLOMBIANA
B4: COMANDO AÉREO DE COMBATE No.2
B5: OBJETO: | C5: MANTENIMIENTO PREVENTIVO Y CORRECTIVO Y ADECUACIÓN A TODO COSTO DE LOS CONTENEDORES (SHELTERS) DE LA FTC OMEGA - PAC RADAR DE SAN JOSE DEL GUAVIARE Y TORRE RADAR DE CONFORMIDAD CON LAS ESPECIFICACIONES TECNICAS.
B7: NOTAS:
B8: Las cantidades de obra que a continuación se presentan son aproximadas.
B9: Su pago será determinado por la obra medida, realmente ejecutada, previa medición por parte de la supervision.
B10: Durante la ejecución de la obra se deben verificar las medidas por parte del contratista y la supervision
B11: El contratista deberá prever todos los costos correspondientes a materiales, mano de obra, transportes y demás costos directos e indirectos requeridos para realizar la totalidad de las obras.
B12: ANEXO 7.2.
B13: PRESUPUESTO OFICIAL RUBRO 02-02-02-005-004-01-2 REC 10 $110.000.000,00
B15: OFERTA ECONOMICA
B16: MANTENIMIENTO Y ADECUACION SHELTERS OMEGA $ 30.000.000,00
B17: ÍTEM | C17: ACTIVIDAD | D17: UND | E17: VALOR UNITARIO | F17: CANTIDAD | G17: VALOR PARCIAL | H17: VALOR TOTAL
B18: 1 | C18: PRELIMINARES | H18: =SUM(G19:G24) -> 2101606.3
B19: 1.1 | C19: REMOCIÓN (DEMOLICIÓN) DE ACABADO DE PISO Y PAREDES, INCLUYE RETIRO | D19: M² | E19: =J19-(2.722%*J19) -> 15732.771 | F19: 84 | G19: =+E19*F19 -> 1321552.8 | J19: 16173
B20: 1.2 | C20: DESMONTE DE PUERTAS INCLUYE EL MARCO Y TAPA LUCES, INCLUYE RETIRO | D20: Un | E20: =J20-(2.722%*J20) -> 13226.89 | F20: 14 | G20: =+E20*F20 -> 185176.46 | J20: 13597
B21: 1.4 | C21: DESMONTE DE APARATOS SANITARIOS Y DIVISIONES DE DUCHAS Y SANITARIOS. | D21: Un | E21: =J21-(2.722%*J21) -> 17932.227 | F21: 14 | G21: =+E21*F21 -> 251051.17 | J21: 18434
B22: 1.5 | C22: DESMONTE DE CIELO RASO, INCLUYE DESMONTE DE ESTRUCTURA Y RETIRO | D22: M² | E22: =J22-(2.722%*J22) -> 11641.258 | F22: 26.25 | G22: =+E22*F22 -> 305583.03 | J22: 11967
B23: 1.6 | C23: DESMONTE DE ESPEJOS, INCLUYE RETIRO | D23: UN | E23: =J23-(2.722%*J23) -> 4242.2936 | F23: 7 | G23: =+E23*F23 -> 29696.055 | J23: 4361
B24: 1.7 | C24: ESCARIFICACIÓN Y RETIRO DE PAÑETE | D24: M² | E24: =J24-(2.722%*J24) -> 8546.8451 | F24: 1 | G24: =+E24*F24 -> 8546.8451 | J24: 8786
B25: 3 | C25: ESTRUCTURA METALICA | E25: =J25-(2.722%*J25) -> 0 | H25: =SUM(G26) -> 11355020
B26: 3.3 | C26: LIMPIEZA MANUAL-MECÁNICA TIPO SSPC SP2 Y SSPC SP3 PARA PASARELA METÁLICA TORRE RADAR - ESTRUCTURA METALICA DE CONTENEDORES. INCLUYE SISTEMA DE RECUBRIMIENTO PARA LA ESTRUCTURA METÁLICA MEDIANTE IMPRIMANTE EPÓXICO FOSTATO DE CINC TIPO SIKA O SIMILAR Y/O BARNIZ QDS TIPO SIKA O SIMILAR | D26: M² | E26: =J26-(2.722%*J26) -> 143010.33 | F26: 79.4 | G26: =+E26*F26 -> 11355020 | J26: 147012
B27: 4 | C27: PINTURA | E27: =J27-(2.722%*J27) -> 0 | H27: =SUM(G28) -> 8183054.5
B28: 4.1 | C28: PINTURA ESMALTE | D28: M2 | E28: =J28-(2.722%*J28) -> 13964.257 | F28: 586 | G28: =+E28*F28 -> 8183054.5 | J28: 14355
B29: 5 | C29: CARPINTERIA EN ALUMINIO | E29: =J29-(2.722%*J29) -> 0 | H29: =SUM(G30) -> 307549.84
B30: 5.1 | C30: MANTENIMIENTO A TODO COSTO DE VENTANERIA, PUERTAS CORREDIZAS EN ALUMINIO | D30: M² | E30: =J30-(2.722%*J30) -> 19342.758 | F30: 15.9 | G30: =+E30*F30 -> 307549.84 | J30: 19884
B31: TOTAL COSTOS DIRECTOS | H31: =SUM(H18:H30) -> 21947231
B32: ADMINISTRACIÓN % | D32: A | F32: 0.272 | H32: =+H31*F32 -> 5969646.9
B33: IMPREVISTOS % | D33: I | F33: 0.01 | H33: =+H31*F33 -> 219472.31
B34: UTILIDADES % | D34: U | F34: 0.04 | H34: =+H31*F34 -> 877889.25
B35: IVA SOBRE UTILIDAD | D35: % | F35: 0.19 | H35: =+H34*F35 -> 166798.96
B36: TOTAL COSTOS INDIRECTOS (A.I.U)+ IVA SOBRE UTILIDAD | H36: =SUM(H32:H35) -> 7233807.4
B37: VALOR TOTAL OBRAS CIVILES | H37: =+H31+H36 -> 29181039
B41: " MANTENIMIENTO PREVENTIVO Y CORRECTIVO DE LAS INSTALACIONES DEL RADAR SAN JOSE $ 40.000.000,00"
B42: SHELTERS 9
B43: ÍTEM | C43: ACTIVIDAD | D43: UND | E43: VALOR UNITARIO | F43: CANTIDAD | G43: VALOR PARCIAL | H43: VALOR TOTAL
B44: 1 | C44: PRELIMINARES | H44: =SUM(G45:G46) -> 772426.23
B45: 1.3 | C45: ESCARIFICADO DE PINTURA EN PAREDES | D45: M² | E45: =J45-(2.722%*J45) -> 5145.0334 | F45: 70 | G45: =+E45*F45 -> 360152.34 | J45: 5289
B46: 1.8 | C46: DESMONTE TUBERÍA HIDRÁULICA DE Ø 3" A Ø 6" | D46: ML | E46: =J46-(2.722%*J46) -> 13742.463 | F46: 30 | G46: =+E46*F46 -> 412273.89 | J46: 14127
...

Sheet FABIO GARZON DAZA
B2: FUERZAS MILITARES DE COLOMBIA- MINISTERIO DE DEFENSA NACIONAL
B3: FUERZA AÉREA COLOMBIANA
B4: COMANDO AÉREO DE COMBATE No.2
B5: OBJETO: | C5: MANTENIMIENTO PREVENTIVO Y CORRECTIVO Y ADECUACIÓN A TODO COSTO DE LOS CONTENEDORES (SHELTERS) DE LA FTC OMEGA - PAC RADAR DE SAN JOSE DEL GUAVIARE Y TORRE RADAR DE CONFORMIDAD CON LAS ESPECIFICACIONES TECNICAS.
B7: NOTAS:
B8: Las cantidades de obra que a continuación se presentan son aproximadas.
B9: Su pago será determinado por la obra medida, realmente ejecutada, previa medición por parte de la supervision.
B10: Durante la ejecución de la obra se deben verificar las medidas por parte del contratista y la supervision
B11: El contratista deberá prever todos los costos correspondientes a materiales, mano de obra, transportes y demás costos directos e indirectos requeridos para realizar la totalidad de las obras.
B12: ANEXO 7.2.
B13: PRESUPUESTO OFICIAL RUBRO 02-02-02-005-004-01-2 REC 10 $110.000.000,00
B15: OFERTA ECONOMICA
B16: MANTENIMIENTO Y ADECUACION SHELTERS OMEGA $ 30.000.000,00
B17: ÍTEM | C17: ACTIVIDAD | D17: UND | E17: VALOR UNITARIO | F17: CANTIDAD | G17: VALOR PARCIAL | H17: VALOR TOTAL
B18: 1 | C18: PRELIMINARES | H18: =SUM(G19:G24) -> 1836344
B19: 1.1 | C19: REMOCIÓN (DEMOLICIÓN) DE ACABADO DE PISO Y PAREDES, INCLUYE RETIRO | D19: M² | E19: 13747 | F19: 84 | G19: =+E19*F19 -> 1154748
B20: 1.2 | C20: DESMONTE DE PUERTAS INCLUYE EL MARCO Y TAPA LUCES, INCLUYE RETIRO | D20: Un | E20: 11557 | F20: 14 | G20: =+E20*F20 -> 161798
B21: 1.4 | C21: DESMONTE DE APARATOS SANITARIOS Y DIVISIONES DE DUCHAS Y SANITARIOS. | D21: Un | E21: 15669 | F21: 14 | G21: =+E21*F21 -> 219366
B22: 1.5 | C22: DESMONTE DE CIELO RASO, INCLUYE DESMONTE DE ESTRUCTURA Y RETIRO | D22: M² | E22: 10172 | F22: 26.25 | G22: =+E22*F22 -> 267015
B23: 1.6 | C23: DESMONTE DE ESPEJOS, INCLUYE RETIRO | D23: UN | E23: 3707 | F23: 7 | G23: =+E23*F23 -> 25949
B24: 1.7 | C24: ESCARIFICACIÓN Y RETIRO DE PAÑETE | D24: M² | E24: 7468 | F24: 1 | G24: =+E24*F24 -> 7468
B25: 3 | C25: ESTRUCTURA METALICA | H25: =SUM(G26) -> 11497676
B26: 3.3 | C26: LIMPIEZA MANUAL-MECÁNICA TIPO SSPC SP2 Y SSPC SP3 PARA PASARELA METÁLICA TORRE RADAR - ESTRUCTURA METALICA DE CONTENEDORES. INCLUYE SISTEMA DE RECUBRIMIENTO PARA LA ESTRUCTURA METÁLICA MEDIANTE IMPRIMANTE EPÓXICO FOSTATO DE CINC TIPO SIKA O SIMILAR Y/O BARNIZ QDS TIPO SIKA O SIMILAR | D26: M² | E26: 144807 | F26: 79.4 | G26: =+E26*F26 -> 11497676
B27: 4 | C27: PINTURA | H27: =SUM(G28) -> 8286040
B28: 4.1 | C28: PINTURA ESMALTE | D28: M2 | E28: 14140 | F28: 586 | G28: =+E28*F28 -> 8286040
B29: 5 | C29: CARPINTERIA EN ALUMINIO | H29: =SUM(G30) -> 300351
B30: 5.1 | C30: MANTENIMIENTO A TODO COSTO DE VENTANERIA, PUERTAS CORREDIZAS EN ALUMINIO | D30: M² | E30: 18890 | F30: 15.9 | G30: =+E30*F30 -> 300351
B31: TOTAL COSTOS DIRECTOS | H31: =SUM(H18:H30) -> 21920411
B32: ADMINISTRACIÓN % | D32: A | F32: 0.272 | H32: =+H31*F32 -> 5962351.7
B33: IMPREVISTOS % | D33: I | F33: 0.01 | H33: =+H31*F33 -> 219204.11
B34: UTILIDADES % | D34: U | F34: 0.04 | H34: =+H31*F34 -> 876816.43
B35: IVA SOBRE UTILIDAD | D35: % | F35: 0.19 | H35: =+H34*F35 -> 166595.12
B36: TOTAL COSTOS INDIRECTOS (A.I.U)+ IVA SOBRE UTILIDAD | H36: =SUM(H32:H35) -> 7224967.4
B37: VALOR TOTAL OBRAS CIVILES | H37: =+H31+H36 -> 29145378
B41: " MANTENIMIENTO PREVENTIVO Y CORRECTIVO DE LAS INSTALACIONES DEL RADAR SAN JOSE $ 40.000.000,00"
B42: SHELTERS 9
B43: ÍTEM | C43: ACTIVIDAD | D43: UND | E43: VALOR UNITARIO | F43: CANTIDAD | G43: VALOR PARCIAL | H43: VALOR TOTAL
B44: 1 | C44: PRELIMINARES | H44: =SUM(G45:G46) -> 384620
B45: 1.3 | C45: ESCARIFICADO DE PINTURA EN PAREDES | D45: M² | E45: 4760 | F45: 70 | G45: =+E45*F45 -> 333200
B46: 1.8 | C46: DESMONTE TUBERÍA HIDRÁULICA DE Ø 3" A Ø 6" | D46: ML | E46: 1714 | F46: 30 | G46: =+E46*F46 -> 51420
...

Sheet SKYTECH S.A.S
B2: FUERZAS MILITARES DE COLOMBIA- MINISTERIO DE DEFENSA NACIONAL
B3: FUERZA AÉREA COLOMBIANA
B4: COMANDO AÉREO DE COMBATE No.2
B5: OBJETO: | C5: MANTENIMIENTO PREVENTIVO Y CORRECTIVO Y ADECUACIÓN A TODO COSTO DE LOS CONTENEDORES (SHELTERS) DE LA FTC OMEGA - PAC RADAR DE SAN JOSE DEL GUAVIARE Y TORRE RADAR DE CONFORMIDAD CON LAS ESPECIFICACIONES TECNICAS.
B7: NOTAS:
B8: Las cantidades de obra que a continuación se presentan son aproximadas.
B9: Su pago será determinado por la obra medida, realmente ejecutada, previa medición por parte de la supervision.
B10: Durante la ejecución de la obra se deben verificar las medidas por parte del contratista y la supervision
B11: El contratista deberá prever todos los costos correspondientes a materiales, mano de obra, transportes y demás costos directos e indirectos requeridos para realizar la totalidad de las obras.
B12: ANEXO 7.2.
B13: PRESUPUESTO OFICIAL RUBRO 02-02-02-005-004-01-2 REC 10 $110.000.000,00
B15: OFERTA ECONOMICA
B16: MANTENIMIENTO Y ADECUACION SHELTERS OMEGA $ 30.000.000,00
B17: ÍTEM | C17: ACTIVIDAD | D17: UND | E17: VALOR UNITARIO | F17: CANTIDAD | G17: VALOR PARCIAL | H17: VALOR TOTAL
B18: 1 | C18: PRELIMINARES | H18: =SUM(G19:G24) -> 1836344
B19: 1.1 | C19: REMOCIÓN (DEMOLICIÓN) DE ACABADO DE PISO Y PAREDES, INCLUYE RETIRO | D19: M² | E19: 13747 | F19: 84 | G19: =+E19*F19 -> 1154748
B20: 1.2 | C20: DESMONTE DE PUERTAS INCLUYE EL MARCO Y TAPA LUCES, INCLUYE RETIRO | D20: Un | E20: 11557 | F20: 14 | G20: =+E20*F20 -> 161798
B21: 1.4 | C21: DESMONTE DE APARATOS SANITARIOS Y DIVISIONES DE DUCHAS Y SANITARIOS. | D21: Un | E21: 15669 | F21: 14 | G21: =+E21*F21 -> 219366
B22: 1.5 | C22: DESMONTE DE CIELO RASO, INCLUYE DESMONTE DE ESTRUCTURA Y RETIRO | D22: M² | E22: 10172 | F22: 26.25 | G22: =+E22*F22 -> 267015
B23: 1.6 | C23: DESMONTE DE ESPEJOS, INCLUYE RETIRO | D23: UN | E23: 3707 | F23: 7 | G23: =+E23*F23 -> 25949
B24: 1.7 | C24: ESCARIFICACIÓN Y RETIRO DE PAÑETE | D24: M² | E24: 7468 | F24: 1 | G24: =+E24*F24 -> 7468
B25: 3 | C25: ESTRUCTURA METALICA | H25: =SUM(G26) -> 11497676
B26: 3.3 | C26: LIMPIEZA MANUAL-MECÁNICA TIPO SSPC SP2 Y SSPC SP3 PARA PASARELA METÁLICA TORRE RADAR - ESTRUCTURA METALICA DE CONTENEDORES. INCLUYE SISTEMA DE RECUBRIMIENTO PARA LA ESTRUCTURA METÁLICA MEDIANTE IMPRIMANTE EPÓXICO FOSTATO DE CINC TIPO SIKA O SIMILAR Y/O BARNIZ QDS TIPO SIKA O SIMILAR | D26: M² | E26: 144807 | F26: 79.4 | G26: =+E26*F26 -> 11497676
B27: 4 | C27: PINTURA | H27: =SUM(G28) -> 8286040
B28: 4.1 | C28: PINTURA ESMALTE | D28: M2 | E28: 14140 | F28: 586 | G28: =+E28*F28 -> 8286040
B29: 5 | C29: CARPINTERIA EN ALUMINIO | H29: =SUM(G30) -> 300351
B30: 5.1 | C30: MANTENIMIENTO A TODO COSTO DE VENTANERIA, PUERTAS CORREDIZAS EN ALUMINIO | D30: M² | E30: 18890 | F30: 15.9 | G30: =+E30*F30 -> 300351
B31: TOTAL COSTOS DIRECTOS | H31: =SUM(H18:H30) -> 21920411
B32: ADMINISTRACIÓN % | D32: A | F32: 0.272 | H32: =+H31*F32 -> 5962351.7
B33: IMPREVISTOS % | D33: I | F33: 0.01 | H33: =+H31*F33 -> 219204.11
B34: UTILIDADES % | D34: U | F34: 0.04 | H34: =+H31*F34 -> 876816.43
B35: IVA SOBRE UTILIDAD | D35: % | F35: 0.19 | H35: =+H34*F35 -> 166595.12
B36: TOTAL COSTOS INDIRECTOS (A.I.U)+ IVA SOBRE UTILIDAD | H36: =SUM(H32:H35) -> 7224967.4
B37: VALOR TOTAL OBRAS CIVILES | H37: =+H31+H36 -> 29145378
B41: " MANTENIMIENTO PREVENTIVO Y CORRECTIVO DE LAS INSTALACIONES DEL RADAR SAN JOSE $ 40.000.000,00"
B42: SHELTERS 9
B43: ÍTEM | C43: ACTIVIDAD | D43: UND | E43: VALOR UNITARIO | F43: CANTIDAD | G43: VALOR PARCIAL | H43: VALOR TOTAL
B44: 1 | C44: PRELIMINARES | H44: =SUM(G45:G46) -> 384620
B45: 1.3 | C45: ESCARIFICADO DE PINTURA EN PAREDES | D45: M² | E45: 4760 | F45: 70 | G45: =+E45*F45 -> 333200
B46: 1.8 | C46: DESMONTE TUBERÍA HIDRÁULICA DE Ø 3" A Ø 6" | D46: ML | E46: 1714 | F46: 30 | G46: =+E46*F46 -> 51420
...
