Workbook
Name a: #REF!
Name a: #REF!
Name a: #REF!
Name a: #REF!
Name A_impresión_IM: #REF!
Name A_impresión_IM: #REF!
Name A_impresión_IM: #REF!
Name A_impresión_IM: #REF!
Name inf: #REF!
Name inf: #REF!
Name inf: #REF!
Name inf: #REF!
Name INV_11: '[1]PR 1'!$A$2:$N$655
Name Print_Area_MI: #REF!
Name Print_Area_MI: #REF!
Name Print_Area_MI: #REF!
Name Print_Area_MI: #REF!
Name valor1: #REF!
Name valor1: #REF!
Name valor1: #REF!
Name valor1: #REF!
Name valor2: #REF!
Name valor2: #REF!
Name valor2: #REF!
Name valor2: #REF!
Name VALOR3: #REF!
Name VALOR3: #REF!
Name VALOR3: #REF!
Name VALOR3: #REF!

Sheet PRESUPUESTO OBRA
B3: SECRETARIA DE PLANEACION Y OBRAS PUBLICAS
B4: PROYECTO: CONSTRUCCION DEL PUESTO DE SALUD DEL CORREGIMIENTO DE ARMENIA, ZONA RURAL DEL MUNICIPIO DE PINILLOS, DEPARTAMENTO DE BOLIVAR
B6: Presupuesto de Obra - Ajustado a 2023
B8: ITEM | C8: DESCRIPCION | D8: UNID. | E8: CANT. | F8: Vr. UNIT | G8: Vr. PARCIAL
B10: 1 | C10: OBRAS PRELIMINARES
B11: 1.1 | C11: Localizacion, trazado, replanteo y control topografico de la obra | D11: M2 | E11: ='CANT. DE OBRA '!K12 -> 616.5992 | F11: =APUS!I37 -> 2806 | G11: =E11*F11 -> 1730177.4
B12: 1.2 | C12: Demolición de Estructura existente | D12: M2 | E12: ='CANT. DE OBRA '!K19 -> 450.25 | F12: =APUS!I92 -> 12740 | G12: =E12*F12 -> 5736185
B13: 1.3 | C13: Perfilacion y nivelacion del terreno - Manual | D13: M2 | E13: ='CANT. DE OBRA '!K26 -> 616.5992 | F13: =APUS!I151 -> 7166 | G13: =E13*F13 -> 4418549.9
B14: 1.4 | C14: Relleno con material granular transportado compactado al 90%, Manual- (Relleno para Nivelacion de Terreno de Proyecto) | D14: M3 | E14: ='CANT. DE OBRA '!L33 -> 92.48988 | F14: =APUS!I213 -> 118953 | G14: =E14*F14 -> 11001949
B15: 1.5 | C15: Cargue, transporte y disposición final de material sobrante en sitio autorizado | D15: M3 | E15: ='CANT. DE OBRA '!K41 -> 120.19242 | F15: =APUS!I272 -> 28815 | G15: =E15*F15 -> 3463344.6
C16: Subtotal Items 1 | G16: =SUM(G11:G15) -> 26350206
B18: 2 | C18: EXCAVACIONES, NIVELACIONES Y RELLENOS
B19: 2.1 | C19: Excavaciones manuales (No Incluye retiro de material sobrante) | D19: M3 | E19: ='CANT. DE OBRA '!K60 -> 41.1264 | F19: =APUS!I328 -> 34022 | G19: =E19*F19 -> 1399202.4
B20: 2.2 | C20: Relleno con material comun de excavacion (Zapatas) | D20: M3 | E20: ='CANT. DE OBRA '!K69 -> 5.542 | F20: =APUS!I390 -> 30742 | G20: =E20*F20 -> 170372.16
B21: 2.3 | C21: Relleno con material granular transportado compactado al 90%, Manual con Canguro - (Relleno para Nivelacion de Area Construccion) | D21: M3 | E21: ='CANT. DE OBRA '!L82 -> 52.5194 | F21: =APUS!I451 -> 118953 | G21: =E21*F21 -> 6247340.2
B22: 2.4 | C22: Cargue, transporte y disposición final de material sobrante en sitio autorizado | D22: M3 | E22: ='CANT. DE OBRA '!K89 -> 35.5844 | F22: =APUS!I510 -> 28815 | G22: =E22*F22 -> 1025364.5
C23: Subtotal Items 2 | G23: =SUM(G19:G22) -> 8842279.2
B25: 3 | C25: ESTRUCTURALES
B26: 3.1 | C26: Solado en concreto pobre 1500 p.s.i. (Estructura de Zapatas) | D26: M3 | E26: ='CANT. DE OBRA '!K99 -> 0.9015 | F26: =APUS!I568 -> 602220 | G26: =E26*F26 -> 542901.33
B27: 3.2 | C27: Construcción de Zapatas en concreto 3000 p.s.i. modulacion 1,00 mts x 1,00 mts x alto 0,30 mts, incluye acero: en ambos sentidos de 1/2" cada 0,18 mts | D27: U | E27: ='CANT. DE OBRA '!K106 -> 4 | F27: =APUS!I628 -> 383673 | G27: =E27*F27 -> 1534692
B28: 3.3 | C28: Construcción de Zapatas en concreto 3000 p.s.i. modulacion 0,60 mts x 0,60 mts x alto 0,25 mts, incluye acero: en ambos sentidos de 1/2" cada 0,18 mts | D28: U | E28: ='CANT. DE OBRA '!K113 -> 17 | F28: =APUS!I689 -> 178991 | G28: =E28*F28 -> 3042847
B29: 3.4 | C29: Construcción de Zapatas en concreto 3000 p.s.i. modulacion 0,40 mts x 0,40 mts x alto 0,25 mts, incluye acero: en ambos sentidos de 1/2" cada 0,18 mts | D29: U | E29: ='CANT. DE OBRA '!K120 -> 26 | F29: =APUS!I749 -> 100877 | G29: =E29*F29 -> 2622802
B30: 3.5 | C30: Construcción de Viga de Cimentacion en concreto de 3000 p.s.i, modulacion 0,25 mts x 0,25 mts, incluye acero: longitudinal 4 3/8" - Estnbos 3/8" cada 0,15 mts | D30: M | E30: ='CANT. DE OBRA '!K128 -> 117.61 | F30: =APUS!I810 -> 176417 | G30: =E30*F30 -> 20748403
B31: 3.6 | C31: Construcción de Viga de Cimentacion en concreto de 3000 p.s.i, modulacion 0,25 mts x 0,25 mts, incluye acero: longitudinal 4 3/8" - Estnbos 3/8" cada 0,15 mts | D31: M | E31: ='CANT. DE OBRA '!K140 -> 154.64 | F31: =APUS!I870 -> 124341 | G31: =E31*F31 -> 19228092
B32: 3.7 | C32: Construcción de Viga de Cimentacion en concreto de 3000 p.s.i, modulacion 0,15 mts x 0,25 mts, incluye acero: longitudinal 4 3/8" - Estnbos 3/8" cada 0,20 mts | D32: M | E32: ='CANT. DE OBRA '!K147 -> 33.08 | F32: =APUS!I931 -> 97224 | G32: =E32*F32 -> 3216169.9
B33: 3.8 | C33: Construcción de Pedestal en concreto de 3000 p.s.i, modulacion 0,45 mts x 0,45 mts, incluye acero: longitudinal 8 Fe= 5/8" - Estnbos 3/8" cada 0,10 mts | D33: M | E33: ='CANT. DE OBRA '!K154 -> 4.8 | F33: =APUS!I990 -> 399400 | G33: =E33*F33 -> 1917120
B34: 3.9 | C34: Construcción de Columnas en concreto de 3000 p.s.i, modulacion 0,30 mts x 0,30 mts, incluye acero: longitudinal 6 Fe= 1/2" - Estnbos 3/8" cada 0,10 mts | D34: M | E34: ='CANT. DE OBRA '!K163 -> 18.37 | F34: =APUS!I1050 -> 215650 | G34: =E34*F34 -> 3961490.5
B35: 3.10 | C35: Construcción de Columnas en concreto de 3000 p.s.i, modulacion 0,25 mts x 0,25 mts, incluye acero: longitudinal 4 Fe= 1/2" - Estnbos 3/8" cada 0,15 mts | D35: M | E35: ='CANT. DE OBRA '!K171 -> 75.67 | F35: =APUS!I1111 -> 144471 | G35: =E35*F35 -> 10932121
B36: 3.11 | C36: Construcción de Columnas en concreto de 3000 p.s.i, modulacion 0,20 mts x 0,25 mts, incluye acero: longitudinal 4 Fe= 3/8" - Estnbos 3/8" cada 0,15 mts | D36: M | E36: ='CANT. DE OBRA '!K178 -> 63.7 | F36: =APUS!I1171 -> 122152 | G36: =E36*F36 -> 7781082.4
B37: 3.12 | C37: Construcción de Viga Amarre en concreto 3000 p.s.i. 0.25 X 0.25 mts - 4 Fe= 3/8" - Estribos y ganchos Fe= 3/8 C/. 0,20 mts | D37: M | E37: ='CANT. DE OBRA '!K186 -> 117.61 | F37: =APUS!I1231 -> 122117 | G37: =E37*F37 -> 14362180
B38: 3.13 | C38: Construcción de Viga Amarre en concreto 3000 p.s.i. 0.20 X 0.25 mts - 4 Fe= 3/8" - Estribos y ganchos Fe= 3/8 C/. 0,20 mts | D38: M | E38: ='CANT. DE OBRA '!K193 -> 85.23 | F38: =APUS!I1291 -> 106536 | G38: =E38*F38 -> 9080063.3
B39: 3.14 | C39: Construcción de Viga Dintel en concreto de 3000 p.s.i, modulacion 0,10 mts x 0,15 mts, incluye acero: longitudinal 2 3/8" - Estnbos 3/8" cada 0,20 mts | D39: M | E39: ='CANT. DE OBRA '!K207 -> 53.3 | F39: =APUS!I1351 -> 67957 | G39: =E39*F39 -> 3622108.1
B40: 3.15 | C40: Construcción de Viga Superior en concreto 3000 p.s.i. 0.10 X 0.20 mts - 2 Fe= 3/8" - Estribos y ganchos Fe= 3/8 C/. 0,15 mts | D40: M | E40: ='CANT. DE OBRA '!K218 -> 204.98 | F40: =APUS!I1410 -> 91737 | G40: =E40*F40 -> 18804250
B41: 3.16 | C41: Construcción de Plantilla para pisos esp. 0,10 mts en concreto 3000 p.s.i. - Fe=1/4" temperatura Cada 0.40 mts ambos sentidos | D41: M2 | E41: ='CANT. DE OBRA '!K227 -> 281.638 | F41: =APUS!I1474 -> 119459 | G41: =E41*F41 -> 33644194
B42: 3.17 | C42: Construcción de Sobre-cimentacion con Muro en Bloque No 6 relleno en concreto de 3000 p.s.i. | D42: M2 | E42: ='CANT. DE OBRA '!K241 -> 51.084 | F42: =APUS!I1530 -> 116756 | G42: =E42*F42 -> 5964363.5
B43: 3.18 | C43: Construcción de Viga Canal en concreto 3000 p.s.i. espesor 10 cms, incluye acero: ambos sentidos de 1/2" cada 0,15 mts. | D43: M2 | E43: ='CANT. DE OBRA '!K249 -> 42.745 | F43: =APUS!I1591 -> 252513 | G43: =E43*F43 -> 10793668
B44: 3.19 | C44: Construcción de Placa de Tanque elevado en concreto 3000 p.s.i. espesor 10 cms, incluye acero: ambos sentidos de 1/2" cada 0,15 mts. | D44: M2 | E44: ='CANT. DE OBRA '!K256 -> 1.44 | F44: =APUS!I1651 -> 252513 | G44: =E44*F44 -> 363618.72
C45: Subtotal Items 3 | G45: =SUM(G26:G44) -> 1.7216217e+08
B47: 4 | C47: MAMPOSTERIA
B48: 4.1 | C48: Levante de muro de block No 4 | D48: M2 | E48: ='CANT. DE OBRA '!K270 -> 552.892 | F48: =APUS!I1710 -> 57163 | G48: =E48*F48 -> 31604965
...

Sheet PRESUPUESTO ADMON
A3: SECRETARIA DE PLANEACION Y OBRAS PUBLICAS
A4: PROYECTO: CONSTRUCCION DEL PUESTO DE SALUD DEL CORREGIMIENTO DE ARMENIA, ZONA RURAL DEL MUNICIPIO DE PINILLOS, DEPARTAMENTO DE BOLIVAR
A5: Presupuesto Administracion (A.I.U)
A7: VALOR TOTAL COSTO DIRECTO OBRA | K7: ='PRESUPUESTO OBRA'!G130 -> 5.3846154e+08
A9: 1 | B9: SALARIOS PERSONAL DE OBRA, OFICINA Y VIGILANCIA | K9: =I40+I31+I22 -> 54201000
A10: A | B10: PERSONAL PROFESIONAL | J10: =K9/K7 -> 0.100659
A11: CANT | B11: CONCEPTO | C11: A | D11: B | E11: C | F11: D | G11: E | H11: F | I11: G
B12: PERSONAL PROFESIONAL | C12: SUELDO MES BASICO X PERSONA | D12: SUELDO MES BASICO | E12: % DEDICACION | F12: F.M. | G12: VALOR MES (AXBXC) | H12: No DE MESES | I12: TOTAL (DXE)
A14: 1 | B14: Director de Obra | C14: =1160000*3 -> 3480000 | D14: =C14*A14 -> 3480000 | E14: 25 | F14: 1.75 | G14: =+D14*E14*F14/100 -> 1522500 | H14: 4 | I14: =+G14*H14 -> 6090000
A15: 1 | B15: Residente de Obra | C15: =1160000*1.8 -> 2088000 | D15: =C15*A15 -> 2088000 | E15: 100 | F15: 1.75 | G15: =+D15*E15*F15/100 -> 3654000 | H15: 4 | I15: =+G15*H15 -> 14616000
A16: 1 | B16: Ingeniero Hidarulico | C16: =1160000*2.5 -> 2900000 | D16: =C16*A16 -> 2900000 | E16: 5 | F16: 1.75 | G16: =+D16*E16*F16/100 -> 253750 | H16: 4 | I16: =+G16*H16 -> 1015000
A17: 1 | B17: Ingeniero Estructural | C17: =1160000*2.5 -> 2900000 | D17: =C17*A17 -> 2900000 | E17: 5 | F17: 1.75 | G17: =+D17*E17*F17/100 -> 253750 | H17: 4 | I17: =+G17*H17 -> 1015000
A18: 1 | B18: Trabajadora Social | C18: =1160000*2.5 -> 2900000 | D18: =C18*A18 -> 2900000 | E18: 5 | F18: 1.75 | G18: =+D18*E18*F18/100 -> 253750 | H18: 4 | I18: =+G18*H18 -> 1015000
A19: 1 | B19: Contador Publico | C19: =1160000*2.5 -> 2900000 | D19: =C19*A19 -> 2900000 | E19: 5 | F19: 1.75 | G19: =+D19*E19*F19/100 -> 253750 | H19: 4 | I19: =+G19*H19 -> 1015000
A20: 1 | B20: Profesional SISO | C20: =1160000*1.25 -> 1450000 | D20: =C20*A20 -> 1450000 | E20: 50 | F20: 1.75 | G20: =+D20*E20*F20/100 -> 1268750 | H20: 4 | I20: =+G20*H20 -> 5075000
B22: SUBTOTAL COSTO PERSONAL PROFESIONAL (4) | I22: =SUM(I14:I20) -> 29841000
A24: B | B24: PERSONAL TECNICO Y ADMINISTRATIVO
B25: CONCEPTO | C25: A | D25: B | E25: C | F25: D | G25: E | H25: F | I25: G
B26: PERSONAL TECNICO | C26: SUELDO MES BASICO X PERSONA | D26: SUELDO MES BASICO | E26: % DEDICACION | F26: F.M. | G26: VALOR MES (AXBXC) | H26: No DE MESES | I26: TOTAL (DXE)
A28: 1 | B28: Secretaria | C28: =1160000*1 -> 1160000 | D28: =C28*A28 -> 1160000 | E28: 100 | F28: 1.75 | G28: =+D28*E28*F28/100 -> 2030000 | H28: 4 | I28: =+G28*H28 -> 8120000
A29: 1 | B29: Almacenista | C29: =1160000*1 -> 1160000 | D29: =C29*A29 -> 1160000 | E29: 100 | F29: 1.75 | G29: =+D29*E29*F29/100 -> 2030000 | H29: 4 | I29: =+G29*H29 -> 8120000
B31: SUBTOTAL COSTO PERSONAL TECNICO (2) | I31: =SUM(I28:I29) -> 16240000
A34: C | B34: PERSONAL DE SEGURIDAD Y SERVICIOS
B35: CONCEPTO | C35: A | D35: B | E35: C | F35: D | G35: E | H35: F | I35: G
B36: PERSONAL TECNICO | C36: SUELDO MES BASICO X PERSONA | D36: SUELDO MES BASICO | E36: % DEDICACION | F36: F.M. | G36: VALOR MES (AXBXC) | H36: No DE MESES | I36: TOTAL (DXE)
A38: 1 | B38: Vigilante Nocturno | C38: =1160000*1 -> 1160000 | D38: =C38*A38 -> 1160000 | E38: 100 | F38: 1.75 | G38: =+D38*E38*F38/100 -> 2030000 | H38: 4 | I38: =+G38*H38 -> 8120000
B40: SUBTOTAL COSTO PERSONAL DE SEGURIDAD (1) | I40: =SUM(I38:I38) -> 8120000
A42: 2 | B42: GASTOS OPERACIONALES | K42: =SUM(I43:I53) -> 17559769
A43: 2.1 | B43: Suministro y consumo de servicios Públicos durante la ejecución del proyecto | F43: MES | G43: 4 | H43: 200000 | I43: =H43*G43 -> 800000 | J43: =K42/K7 -> 0.032611
A44: 2.2 | B44: Ensayos de Control de Calidad | F44: MES | G44: 4 | H44: 800000 | I44: =H44*G44 -> 3200000
A45: 2.3 | B45: Papelería/Empastes | F45: MES | G45: 4 | H45: 64942.307 | I45: =H45*G45 -> 259769.23
A46: 2.4 | B46: Copias/ planos/ Fotocopias | F46: MES | G46: 4 | H46: 150000 | I46: =H46*G46 -> 600000
A47: 2.5 | B47: Mantenimiento Equipos/Herramientas | F47: MES | G47: 4 | H47: 700000 | I47: =H47*G47 -> 2800000
A48: 2.6 | B48: Registro Fotográfico/Videos/Informes | F48: U | G48: 1 | H48: 300000 | I48: =H48*G48 -> 300000
A49: 2.7 | B49: Registro y Elaboración Planos Récord | F49: U | G49: 1 | H49: 800000 | I49: =H49*G49 -> 800000
A50: 2.8 | B50: Transportes / almacenamiento | F50: MES | G50: 4 | H50: 900000 | I50: =H50*G50 -> 3600000
A51: 2.9 | B51: Costo Proporcional Oficina Central | F51: MES | G51: 4 | H51: 500000 | I51: =H51*G51 -> 2000000
A52: 2.10 | B52: Valla informativa | F52: U | G52: 1 | H52: 1200000 | I52: =H52*G52 -> 1200000
A53: 2.11 | B53: Campamento Temporal | F53: U | G53: 1 | H53: 2000000 | I53: =H53*G53 -> 2000000
A55: ITEM | B55: DESCRIPCION | F55: % | G55: TOMADO DEL COSTO DIRECTO OBRA | H55: PORCENTAJE VALOR | I55: VALOR POLIZA | J55: % | K55: Vr. PARCIAL
...

Sheet FM ADMON
A3: PROYECTO: CONSTRUCCION DEL PUESTO DE SALUD DEL CORREGIMIENTO DE ARMENIA, ZONA RURAL DEL MUNICIPIO DE PINILLOS, DEPARTAMENTO DE BOLIVAR
A5: Analisis Unitario - Prestaciones Sociales Obra
A7: CALCULO DEL FACTOR PRESTACIONAL
A9: COMPONENTE | B9: DESCRIPCIÓN | C9: CALCULO | D9: VALOR (%)
A10: A | B10: SUELDOS O SALARIOS | D10: 1
A12: B | B12: PRESTACIONES SOCIALES
B13: Cesantías | C13: (%A) | D13: 0.11
B14: Intereses sobre las cesantías | C14: (%A) | D14: 0.01
B15: Prima anual (legal) | C15: (%A) | D15: 0.0833
B16: Vacaciones | C16: (%A) | D16: 0.0417
B17: Seguridad Social (salud ) | C17: (%A) | D17: 0.085
B18: Seguridad Social (pensión) | C18: (%A) | D18: 0.12
B19: ARL | C19: (%A) | D19: 0.0696
B20: SENA | C20: (%A) | D20: 0.02
B21: ICBF | C21: (%A) | D21: 0.03
B22: Caja de Compensación Familiar | C22: (%A) | D22: 0.03
B23: Fondo de Solidaridad Pensional | C23: (%A) | D23: 0.005
B24: Indemnización de ley | C24: (%A) | D24: 0.03
... B26: Otros (Incapacidad no cubierta EPS , Auxilios varios) | C26: (%A) | D26: 0.01
B27: Subtotal B | D27: =SUM(D13:D26) -> 0.6746
A29: C | B29: DOTACION
B30: Dotacion | C30: (%A) | D30: 0.0446
B31: Implementos de Seguridad | C31: (%A) | D31: 0.0357
A33: C. | B33: FACTOR MULTIPLICADOR (SUMA A + B) | D33: =+D10+D27+D30+D31 -> 1.7549
B35: FACTOR MULTIPLICADOR | D35: =D33/100 -> 0.017549

Sheet PRES INTERVENTORIA
A3: SECRETARIA DE PLANEACION Y OBRAS PUBLICAS
A4: PROYECTO: CONSTRUCCION DEL PUESTO DE SALUD DEL CORREGIMIENTO DE ARMENIA, ZONA RURAL DEL MUNICIPIO DE PINILLOS, DEPARTAMENTO DE BOLIVAR
A5: Presupuesto - Interventoria Tecnica
A7: VALOR TOTAL COSTO TOTAL OBRA | K7: ='PRESUPUESTO OBRA'!G130 -> 5.3846154e+08
A8: VALOR TOTAL COSTO INTERVENTORIA TECNICA 6,5% | K8: ='PRESUPUESTO OBRA'!G136 -> 35000000
A10: 1 | B10: SALARIOS PERSONAL DE OBRA, OFICINA Y VIGILANCIA | K10: =I18+I26 -> 24372739
A11: A | B11: PERSONAL PROFESIONAL | J11: %
A12: CANT | B12: CONCEPTO | C12: A | D12: B | E12: C | F12: D | G12: E | H12: F | I12: G | J12: =K10/K7 -> 0.045263659
B13: PERSONAL TECNICO | C13: SUELDO MES BASICO X PERSONA | D13: SUELDO MES BASICO | E13: % DEDICACION | F13: F.M. | G13: VALOR MES (AXBXC) | H13: No DE MESES | I13: TOTAL (DXE)
A15: 1 | B15: Director de Interventoria | C15: =1160000*2.5 -> 2900000 | D15: =C15*A15 -> 2900000 | E15: 25 | F15: 1.9 | G15: =+D15*E15*F15/100 -> 1377500 | H15: 4 | I15: =+G15*H15 -> 5510000
A16: 1 | B16: Residente de Interventoria | C16: =1160000*1.8 -> 2088000 | D16: =C16*A16 -> 2088000 | E16: 100 | F16: 1.9 | G16: =+D16*E16*F16/100 -> 3967200 | H16: 4 | I16: =+G16*H16 -> 15868800
B18: SUBTOTAL COSTO PERSONAL PROFESIONAL (4) | I18: =SUM(I15:I16) -> 21378800
A20: B | B20: PERSONAL TECNICO Y ADMINISTRATIVO
B21: CONCEPTO | C21: A | D21: B | E21: C | F21: D | G21: E | H21: F | I21: G
B22: PERSONAL TECNICO | C22: SUELDO MES BASICO X PERSONA | D22: SUELDO MES BASICO | E22: % DEDICACION | F22: F.M. | G22: VALOR MES (AXBXC) | H22: No DE MESES | I22: TOTAL (DXE)
A24: 1 | B24: Topografo | C24: =1050505*1.5 -> 1575757.5 | D24: =C24*A24 -> 1575757.5 | E24: 25 | F24: 1.9 | G24: =+D24*E24*F24/100 -> 748484.81 | H24: 4 | I24: =+G24*H24 -> 2993939.2
B26: SUBTOTAL COSTO PERSONAL TECNICO (2) | I26: =SUM(I24:I24) -> 2993939.2
A30: 2 | B30: GASTOS OPERACIONALES | K30: =SUM(I31:I34) -> 3753475.5
A31: 2.1 | B31: PAPELERIA | F31: MES | G31: 4 | H31: 70868.865 | I31: =H31*G31 -> 283475.46 | J31: =K30/K7 -> 0.0069707401
A32: 2.2 | B32: TRANSPORTE | F32: MES | G32: 4 | H32: 400000 | I32: =H32*G32 -> 1600000
A33: 2.3 | B33: ENSAYOS DE LABORATORIO (Densidades) | F33: U | G33: 10 | H33: 158500 | I33: =H33*G33 -> 1585000
A34: 2.4 | B34: ENSAYOS DE LABORATORIO (concreto) | F34: U | G34: 10 | H34: 28500 | I34: =H34*G34 -> 285000
A36: ITEM | B36: DESCRIPCION | F36: % | G36: TOMADO DEL COSTO DIRECTO OBRA | H36: PORCENTAJE VALOR | I36: VALOR POLIZA O RETENCION | J36: % | K36: Vr. PARCIAL
A37: 3 | B37: GASTOS DE LEGALIZACIÓN | K37: =SUM(I38:I43) -> 1285550
A38: 3.1 | B38: Estampillas Pro-desarrollo y Pro-cultura | F38: 1 | G38: =K8*F38 -> 35000000 | H38: 0.035 | I38: =H38*G38 -> 1225000 | J38: =K37/K7 -> 0.00238745
A39: 3.2 | B39: Póliza Anticipo | F39: 0.4 | G39: =K8*F39 -> 14000000 | H39: 0.0009 | I39: =H39*G39 -> 12600
A40: 3.3 | B40: Póliza Cumplimiento | F40: 0.1 | G40: =K8*F40 -> 3500000 | H40: 0.0007 | I40: =H40*G40 -> 2450
A41: 3.4 | B41: Póliza Prestaciones | F41: 0.1 | G41: =K8*F41 -> 3500000 | H41: 0.003 | I41: =H41*G41 -> 10500
A42: 3.5 | B42: Póliza Responsabilidad Civil | F42: 0.5 | G42: =K8*F42 -> 17500000 | H42: 0.0012 | I42: =H42*G42 -> 21000
A43: 3.6 | B43: Póliza Estabilidad | F43: 0.5 | G43: =K8*F43 -> 17500000 | H43: 0.0008 | I43: =H43*G43 -> 14000
A45: 1 | B45: COSTO TOTAL (1+2+3) | J45: =J38+J31+J12 -> 0.054621849 | K45: =K37+K30+K10 -> 29411765
A46: 2 | B46: IVA (19%) | J46: =K46/K7 -> 0.010378151 | K46: =K45*0.19 -> 5588235.3
B48: TOTAL INTERVENTORIA TECNICA | K48: =K45+K46 -> 35000000
B58: ARQ. CHEDID PABA PIÑERES
B59: Secretario de Planeación y Obras Públicas

Sheet FM INTERVENTORIA
A3: PROYECTO: CONSTRUCCION DEL PUESTO DE SALUD DEL CORREGIMIENTO DE ARMENIA, ZONA RURAL DEL MUNICIPIO DE PINILLOS, DEPARTAMENTO DE BOLIVAR
A5: CALCULO DEL FACTOR MULTIPLICADOR
A8: COMPONENTE | B8: DESCRIPCIÓN | C8: CALCULO | D8: VALOR (%)
A9: A | B9: SUELDOS O SALARIOS | D9: 1
A11: B | B11: PRESTACIONES SOCIALES
B12: Cesantías | C12: (%A) | D12: 0.11
B13: Intereses sobre las cesantías | C13: (%A) | D13: 0.01
B14: Prima anual (legal) | C14: (%A) | D14: 0.0833
B15: Vacaciones | C15: (%A) | D15: 0.0417
B16: Seguridad Social (salud) | C16: (%A) | D16: 0.085
B17: Seguridad Social (pensión) | C17: (%A) | D17: 0.12
B18: ARL | C18: (%A) | D18: 0.0696
B19: SENA | C19: (%A) | D19: 0.02
B20: ICBF | C20: (%A) | D20: 0.03
B21: Caja de Compensación Familiar | C21: (%A) | D21: 0.03
B22: Fondo de Solidaridad Pensional | C22: (%A) | D22: 0.005
B23: indemnizacion de ley | C23: (%A) | D23: 0.03
... B27: Implementos de Seguridad | C27: (%A) | D27: 0.0357
B28: Subtotal B | D28: =SUM(D12:D27) -> 0.7549
A30: C. | B30: SUMA A + B | D30: =+D9+D28 -> 1.7549
A32: D. | B32: HONORARIOS
B33: HONORARIOS | C33: (%A) | D33: 0.15
B34: Subtotal D | D34: =SUM(D33:D33) -> 0.15
A36: E. | B36: SUBTOTAL C + D | D36: =+D30+D34 -> 1.9049
B38: FACTOR MULTIPLICADOR ( Suma E ) | D38: =+D36 -> 1.9049
B39: FACTOR MULTIPLICADOR | D39: =+D38/100 -> 0.019049

Sheet CRONOGRAMA DE FLUJOS
A2: SECRETARIA DE PLANEACION Y OBRAS PUBLICAS
A3: PROYECTO: CONSTRUCCION DEL PUESTO DE SALUD DEL CORREGIMIENTO DE ARMENIA, ZONA RURAL DEL MUNICIPIO DE PINILLOS, DEPARTAMENTO DE BOLIVAR
A4: Cronograma de Actividasdes y Flujos de Inversion
A6: ITEM | B6: ACTIVIDADES - 6 MESES | C6: VALOR PRESUPUESTO DE OBRA | D6: MES 01 | E6: MES 02 | F6: MES 03 | G6: MES 04
A8: 1 | B8: OBRAS PRELIMINARES
A9: 1.1 | B9: Localizacion, trazado, replanteo y control topografico de la obra | C9: ='PRESUPUESTO OBRA'!G11 -> 1730177.4 | D9: =C9*0.25 -> 432544.34 | E9: =C9*0.25 -> 432544.34 | F9: =C9*0.25 -> 432544.34 | G9: =C9*0.25 -> 432544.34
A10: 1.2 | B10: Demolición de Estructura existente | C10: ='PRESUPUESTO OBRA'!G12 -> 5736185 | D10: =C10 -> 5736185
A11: 1.3 | B11: Perfilacion y nivelacion del terreno - Manual | C11: ='PRESUPUESTO OBRA'!G13 -> 4418549.9 | D11: =C11 -> 4418549.9
A12: 1.4 | B12: Relleno con material granular transportado compactado al 90%, Manual- (Relleno para Nivelacion de Terreno de Proyecto) | C12: ='PRESUPUESTO OBRA'!G14 -> 11001949 | D12: =C12 -> 11001949
A13: 1.5 | B13: Cargue, transporte y disposición final de material sobrante en sitio autorizado | C13: ='PRESUPUESTO OBRA'!G15 -> 3463344.6 | D13: =C13 -> 3463344.6
A14: SUB-TOTAL CAPITILO 01 | C14: =SUM(C9:C13) -> 26350206 | D14: =SUM(D9:D13) -> 25052572 | E14: =SUM(E9:E13) -> 432544.34 | F14: =SUM(F9:F13) -> 432544.34 | G14: =SUM(G9:G13) -> 432544.34
A15: 2 | B15: EXCAVACIONES, NIVELACIONES Y RELLENOS
A16: 2.1 | B16: Excavaciones manuales (No Incluye retiro de material sobrante) | C16: ='PRESUPUESTO OBRA'!G19 -> 1399202.4 | D16: =C16*0.7 -> 979441.67 | E16: =C16*0.3 -> 419760.71
A17: 2.2 | B17: Relleno con material comun de excavacion (Zapatas) | C17: ='PRESUPUESTO OBRA'!G20 -> 170372.16 | E17: =C17 -> 170372.16
A18: 2.3 | B18: Relleno con material granular transportado compactado al 90%, Manual con Canguro - (Relleno para Nivelacion de Area Construccion) | C18: ='PRESUPUESTO OBRA'!G21 -> 6247340.2 | E18: =C18 -> 6247340.2
A19: 2.4 | B19: Cargue, transporte y disposición final de material sobrante en sitio autorizado | C19: ='PRESUPUESTO OBRA'!G22 -> 1025364.5 | E19: =C19 -> 1025364.5
A20: SUB-TOTAL CAPITILO 02 | C20: =SUM(C16:C19) -> 8842279.2 | D20: =SUM(D16:D19) -> 979441.67 | E20: =SUM(E16:E19) -> 7862837.6 | F20: =SUM(F16:F19) -> 0 | G20: =SUM(G16:G19) -> 0
A21: 3 | B21: ESTRUCTURALES
A22: 3.1 | B22: Solado en concreto pobre 1500 p.s.i. (Estructura de Zapatas) | C22: ='PRESUPUESTO OBRA'!G26 -> 542901.33 | D22: =C22 -> 542901.33
A23: 3.2 | B23: Construcción de Zapatas en concreto 3000 p.s.i. modulacion 1,00 mts x 1,00 mts x alto 0,30 mts, incluye acero: en ambos sentidos de 1/2" cada 0,18 mts | C23: ='PRESUPUESTO OBRA'!G27 -> 1534692 | D23: =C23 -> 1534692
A24: 3.3 | B24: Construcción de Zapatas en concreto 3000 p.s.i. modulacion 0,60 mts x 0,60 mts x alto 0,25 mts, incluye acero: en ambos sentidos de 1/2" cada 0,18 mts | C24: ='PRESUPUESTO OBRA'!G28 -> 3042847 | D24: =C24*0.7 -> 2129992.9 | E24: =C24*0.3 -> 912854.1
A25: 3.4 | B25: Construcción de Zapatas en concreto 3000 p.s.i. modulacion 0,40 mts x 0,40 mts x alto 0,25 mts, incluye acero: en ambos sentidos de 1/2" cada 0,18 mts | C25: ='PRESUPUESTO OBRA'!G29 -> 2622802 | D25: =C25*0.7 -> 1835961.4 | E25: =C25*0.3 -> 786840.6
A26: 3.5 | B26: Construcción de Viga de Cimentacion en concreto de 3000 p.s.i, modulacion 0,25 mts x 0,25 mts, incluye acero: longitudinal 4 3/8" - Estnbos 3/8" cada 0,15 mts | C26: ='PRESUPUESTO OBRA'!G30 -> 20748403 | E26: =C26 -> 20748403
A27: 3.6 | B27: Construcción de Viga de Cimentacion en concreto de 3000 p.s.i, modulacion 0,25 mts x 0,25 mts, incluye acero: longitudinal 4 3/8" - Estnbos 3/8" cada 0,15 mts | C27: ='PRESUPUESTO OBRA'!G31 -> 19228092 | E27: =C27 -> 19228092
A28: 3.7 | B28: Construcción de Viga de Cimentacion en concreto de 3000 p.s.i, modulacion 0,15 mts x 0,25 mts, incluye acero: longitudinal 4 3/8" - Estnbos 3/8" cada 0,20 mts | C28: ='PRESUPUESTO OBRA'!G32 -> 3216169.9 | E28: =C28 -> 3216169.9
A29: 3.8 | B29: Construcción de Pedestal en concreto de 3000 p.s.i, modulacion 0,45 mts x 0,45 mts, incluye acero: longitudinal 8 Fe= 5/8" - Estnbos 3/8" cada 0,10 mts | C29: ='PRESUPUESTO OBRA'!G33 -> 1917120 | E29: =C29 -> 1917120
A30: 3.9 | B30: Construcción de Columnas en concreto de 3000 p.s.i, modulacion 0,30 mts x 0,30 mts, incluye acero: longitudinal 6 Fe= 1/2" - Estnbos 3/8" cada 0,10 mts | C30: ='PRESUPUESTO OBRA'!G34 -> 3961490.5 | E30: =C30 -> 3961490.5
A31: 3.10 | B31: Construcción de Columnas en concreto de 3000 p.s.i, modulacion 0,25 mts x 0,25 mts, incluye acero: longitudinal 4 Fe= 1/2" - Estnbos 3/8" cada 0,15 mts | C31: ='PRESUPUESTO OBRA'!G35 -> 10932121 | E31: =C31 -> 10932121
A32: 3.11 | B32: Construcción de Columnas en concreto de 3000 p.s.i, modulacion 0,20 mts x 0,25 mts, incluye acero: longitudinal 4 Fe= 3/8" - Estnbos 3/8" cada 0,15 mts | C32: ='PRESUPUESTO OBRA'!G36 -> 7781082.4 | E32: =C32 -> 7781082.4
A33: 3.12 | B33: Construcción de Viga Amarre en concreto 3000 p.s.i. 0.25 X 0.25 mts - 4 Fe= 3/8" - Estribos y ganchos Fe= 3/8 C/. 0,20 mts | C33: ='PRESUPUESTO OBRA'!G37 -> 14362180 | E33: =C33 -> 14362180
A34: 3.13 | B34: Construcción de Viga Amarre en concreto 3000 p.s.i. 0.20 X 0.25 mts - 4 Fe= 3/8" - Estribos y ganchos Fe= 3/8 C/. 0,20 mts | C34: ='PRESUPUESTO OBRA'!G38 -> 9080063.3 | E34: =C34 -> 9080063.3
A35: 3.14 | B35: Construcción de Viga Dintel en concreto de 3000 p.s.i, modulacion 0,10 mts x 0,15 mts, incluye acero: longitudinal 2 3/8" - Estnbos 3/8" cada 0,20 mts | C35: ='PRESUPUESTO OBRA'!G39 -> 3622108.1 | E35: =C35 -> 3622108.1
A36: 3.15 | B36: Construcción de Viga Superior en concreto 3000 p.s.i. 0.10 X 0.20 mts - 2 Fe= 3/8" - Estribos y ganchos Fe= 3/8 C/. 0,15 mts | C36: ='PRESUPUESTO OBRA'!G40 -> 18804250 | E36: =C36 -> 18804250
A37: 3.16 | B37: Construcción de Plantilla para pisos esp. 0,10 mts en concreto 3000 p.s.i. - Fe=1/4" temperatura Cada 0.40 mts ambos sentidos | C37: ='PRESUPUESTO OBRA'!G41 -> 33644194 | E37: =C37 -> 33644194
... A40: 3.19 | B40: Construcción de Placa de Tanque elevado en concreto 3000 p.s.i. espesor 10 cms, incluye acero: ambos sentidos de 1/2" cada 0,15 mts. | C40: ='PRESUPUESTO OBRA'!G44 -> 363618.72 | E40: =C40 -> 363618.72
A41: SUB-TOTAL CAPITILO 03 | C41: =SUM(C22:C40) -> 1.7216217e+08 | D41: =SUM(D22:D40) -> 6043547.6 | E41: =SUM(E22:E40) -> 1.6611862e+08 | F41: =SUM(F22:F40) -> 0 | G41: =SUM(G22:G40) -> 0
A42: 4 | B42: MAMPOSTERIA
A43: 4.1 | B43: Levante de muro de block No 4 | C43: ='PRESUPUESTO OBRA'!G48 -> 31604965 | E43: =C43 -> 31604965
A44: 4.2 | B44: Pañete para muros mortero: 1:4 imp . Esp = 2 cms (Muros) | C44: ='PRESUPUESTO OBRA'!G49 -> 41302180 | E44: =C44*0.3 -> 12390654 | F44: =C44*0.7 -> 28911526
A45: 4.3 | B45: Pañete para muros mortero: 1:4 imp . Esp = 2 cms (Lineal) | C45: ='PRESUPUESTO OBRA'!G50 -> 4465628.2 | F45: =C45 -> 4465628.2
...

Sheet CANT. DE OBRA 
A1: ALCALDIA MUNICIPAL DE PINILLOS
A2: DEPARTAMENTO DE BOLIVAR
A3: SECRETARIA DE PLANEACION Y OBRAS PUBLICAS
A4: PROYECTO: CONSTRUCCION DEL PUESTO DE SALUD DEL CORREGIMIENTO DE ARMENIA, ZONA RURAL DEL MUNICIPIO DE PINILLOS, DEPARTAMENTO DE BOLIVAR
A5: CUADRO DE CANTIDADES DE OBRA
A7: ITEM | B7: 1.1 - Localizacion, trazado, replanteo y control topografico de la obra | O7: UNIDAD | P7: M2
B9: LOCALIZACIÓN | D9: Area Irregular m2 | E9: DIMENSIONES | H9: CANTIDAD | I9: CANTIDAD EN M2 | J9: UNIDAD | K9: TOTAL
E10: Largo | F10: Ancho | G10: Alto | K10: ACUMULADO
B11: AREA CONSTRUCCION NUEVA TOTAL | D11: 0 | E11: 28.84 | F11: 21.38 | G11: 0 | H11: 1 | I11: =E11*F11 -> 616.5992 | J11: M2 | K11: =I11*H11 -> 616.5992
A12: CANTIDAD TOTAL | K12: =SUM(K11) -> 616.5992
A14: ITEM | B14: 1.2 - Demolición de Estructura existente | O14: UNIDAD | P14: M2
B16: LOCALIZACIÓN | D16: Area Irregular m2 | E16: DIMENSIONES | H16: CANTIDAD | I16: CANTIDAD EN M2 | J16: UNIDAD | K16: TOTAL
E17: Largo | F17: Ancho | G17: Alto | K17: ACUMULADO
B18: MURO CERRAMIENTO FRONTAL | D18: 450.25 | E18: 0 | F18: 0 | G18: 0 | H18: 1 | I18: =D18 -> 450.25 | J18: M2 | K18: =I18*H18 -> 450.25
A19: CANTIDAD TOTAL | K19: =SUM(K18) -> 450.25
A21: ITEM | B21: 1.3 - Perfilacion y nivelacion del terreno - Manual | O21: UNIDAD | P21: M2
B23: LOCALIZACIÓN | D23: Area Irregular m2 | E23: DIMENSIONES | H23: CANTIDAD | I23: CANTIDAD EN M2 | J23: UNIDAD | K23: TOTAL
E24: Largo | F24: Ancho | G24: Alto | K24: ACUMULADO
B25: AREA CONSTRUCCION NUEVA PATIO | D25: 0 | E25: 28.84 | F25: 21.38 | G25: 0 | H25: 1 | I25: =E25*F25 -> 616.5992 | J25: M2 | K25: =I25*H25 -> 616.5992
A26: CANTIDAD TOTAL | K26: =SUM(K25) -> 616.5992
A28: ITEM | B28: 1,4 - Relleno con material granular transportado compactado al 90%, Manual- (Relleno para Nivelacion de Terreno de Proyecto) | O28: UNIDAD | P28: M3
B30: LOCALIZACIÓN | D30: DIMENSIONES | H30: CANTIDAD | I30: CANTIDAD EN M3 | J30: DESC M3 ESTRUCTURAS | K30: UNIDAD | L30: TOTAL
D31: Area M2 | E31: Largo | F31: Ancho | G31: Alto | L31: ACUMULADO
B32: AREA CONSTRUCCION NUEVA PATIO | D32: 0 | E32: 28.84 | F32: 21.38 | G32: 0.15 | H32: 1 | I32: =E32*F32*G32 -> 92.48988 | J32: 0 | K32: M3 | L32: =I32*H32 -> 92.48988
A33: CANTIDAD TOTAL | L33: =SUM(L32) -> 92.48988
A35: ITEM | B35: 1.5 - Cargue, transporte y disposición final de material sobrante en sitio autorizado | O35: UNIDAD | P35: M3
B37: LOCALIZACIÓN | D37: volumen de Expansion % | E37: DIMENSIONES | H37: CANTIDAD | I37: CANTIDAD EN M3 | J37: UNIDAD | K37: TOTAL
E38: CANTIDAD M2 | G38: Espesor | K38: ACUMULADO
B39: PERFILACION | D39: 1 | E39: =K26 -> 616.5992 | G39: 0.1 | H39: 1 | I39: =E39*G39 -> 61.65992 | J39: M3 | K39: =I39*D39 -> 61.65992
B40: DEMOLICIONES | D40: 1 | E40: =K19 -> 450.25 | G40: 0.13 | H40: 1 | I40: =E40*G40 -> 58.5325 | J40: M3 | K40: =I40*D40 -> 58.5325
A41: CANTIDAD TOTAL | K41: =SUM(K39:K40) -> 120.19242
A43: ITEM | B43: 2,1 Excavaciones manuales (No Incluye retiro de material sobrante) | O43: UNIDAD | P43: M3
B45: LOCALIZACIÓN | E45: DIMENSIONES | H45: CANTIDAD | I45: CANTIDAD EN M3 | J45: UNIDAD | K45: TOTAL
E46: Largo | F46: Ancho | G46: Alto | K46: ACUMULADO
B47: ZAPATAS 01 - 1,0 X 1,0 MTS - (OBRA) | E47: 1 | F47: 1 | G47: 1.2 | H47: 4 | I47: =(E47*F47*G47) -> 1.2 | J47: M3 | K47: =I47*H47 -> 4.8
B48: ZAPATAS 02 - 0,6 X 0,6 MTS - (OBRA) | E48: 0.6 | F48: 0.6 | G48: 0.9 | H48: 17 | I48: =(E48*F48*G48) -> 0.324 | J48: M3 | K48: =I48*H48 -> 5.508
B49: ZAPATAS 03 - 0,4 X 0,4 MTS - (CERRAMIENTO) | E49: 0.4 | F49: 0.4 | G49: 0.8 | H49: 26 | I49: =(E49*F49*G49) -> 0.128 | J49: M3 | K49: =I49*H49 -> 3.328
B50: CIMENTACION 01 - 0,30 X 0,30 MTS (OBRA) | E50: 19.3 | F50: 0.3 | G50: 0.3 | H50: 3 | I50: =(E50*F50*G50) -> 1.737 | J50: M3 | K50: =I50*H50 -> 5.211
B51: CIMENTACION 01 - 0,30 X 0,30 MTS (OBRA) | E51: 8.53 | F51: 0.3 | G51: 0.3 | H51: 7 | I51: =(E51*F51*G51) -> 0.7677 | J51: M3 | K51: =I51*H51 -> 5.3739
B52: CIMENTACION 02 - 0,25 X 0,25 MTS (ANDEN INTERNO) | E52: 52.26 | F52: 0.25 | G52: 0.25 | H52: 1 | I52: =(E52*F52*G52) -> 3.26625 | J52: M3 | K52: =I52*H52 -> 3.26625
...

Sheet APU -BASICOS
A1: ALCALDIA MUNICIPAL DE PINILLOS | G1: ANÁLISIS DE PRECIOS UNITARIOS
A2: DEPARTAMENTO DE BOLIVAR
A3: SECRETARIA DE PLANEACION Y OBRAS PUBLICAS | G3: CONCRETO - 3500 P.S.I.
A6: PROYECTO: CONSTRUCCION DEL PUESTO DE SALUD DEL CORREGIMIENTO DE ARMENIA, ZONA RURAL DEL MUNICIPIO DE PINILLOS, DEPARTAMENTO DE BOLIVAR
G11: UNIDAD : | H11: M3
A13: I. EQUIPO
A14: Descripción | D14: Tipo | E14: Tarifa alquiler | F14: Rendimiento | G14: Valor-Unit.
A15: MEZCLADOR DE CONCRETO | E15: ='HERRAMIENTAS Y EQUIPOS'!C21 -> 100000 | F15: 8 | G15: =+E15/F15 -> 12500
A16: HERRAMIENTAS MENORES | G16: 15000
G18: Sub-Total | H18: =SUM(G15:G17) -> 27500
A19: II. MATERIALES EN OBRA
A20: Descripción | D20: Unidad | E20: Precio-Unit. | F20: Cantidad | G20: Valor-Unit.
A21: CEMENTO GRIS | D21: Kg | E21: =MATERIALES!F10 -> 850 | F21: =8.3*50 -> 415 | G21: =F21*E21 -> 352750
A22: PIEDRA 3/4" SELECCIONADA | D22: M3 | E22: =MATERIALES!C12 -> 162000 | F22: 0.774 | G22: =F22*E22 -> 125388
A23: ARENA GRUESA | D23: M3 | E23: =MATERIALES!F14 -> 81000 | F23: 0.488 | G23: =F23*E23 -> 39528
A24: AGUA | D24: LITRO | E24: =MATERIALES!F16 -> 50 | F24: =25*8.3 -> 207.5 | G24: =F24*E24 -> 10375
A25: DESPERDICIO DE MATERIALES 5% | E25: =SUM(G21:G24) -> 528041 | F25: 0.05 | G25: =F25*E25 -> 26402.05
G26: Sub-Total | H26: =SUM(G21:G25) -> 554443.05
A27: III. TRANSPORTES
A28: Material | C28: Vol. Peso ó Cant. | D28: Distancia | E28: M3-Km | F28: Tarifa | G28: Valor-Unit.
A29: CEMENTO | C29: 0.455 | D29: 15 | E29: =D29*C29 -> 6.825 | F29: 1100 | G29: =F29*E29 -> 7507.5
A30: TRITURADO | C30: =F22 -> 0.774 | D30: 15 | E30: =D30*C30 -> 11.61 | F30: 1100 | G30: =F30*E30 -> 12771
A31: ARENA | C31: =F23 -> 0.488 | D31: 15 | E31: =D31*C31 -> 7.32 | F31: 1100 | G31: =F31*E31 -> 8052
A32: AGUA | C32: 0.2 | D32: 15 | E32: =D32*C32 -> 3 | F32: 1100 | G32: =F32*E32 -> 3300
G33: Sub-Total | H33: =SUM(G29:G32) -> 31630.5
A34: IV. MANO DE OBRA
A35: Trabajador | C35: Jornal | D35: Prestaciones | E35: Jornal Total | F35: Rendimiento | G35: Valor-Unit.
G38: Sub-Total | H38: =SUM(G36:G37) -> 0
E40: TOTAL COSTO DIRECTO | H40: =ROUND((H18+H26+H33+H38),0) -> 613574
A57: ALCALDIA MUNICIPAL DE PINILLOS | G57: ANÁLISIS DE PRECIOS UNITARIOS
A58: DEPARTAMENTO DE BOLIVAR
A59: SECRETARIA DE PLANEACION Y OBRAS PUBLICAS | G59: CONCRETO - 3000 P.S.I.
A62: PROYECTO: CONSTRUCCION DEL PUESTO DE SALUD DEL CORREGIMIENTO DE ARMENIA, ZONA RURAL DEL MUNICIPIO DE PINILLOS, DEPARTAMENTO DE BOLIVAR
G67: UNIDAD : | H67: M3
A69: I. EQUIPO
A70: Descripción | D70: Tipo | E70: Tarifa/Dia | F70: Rendimiento | G70: Valor-Unit.
A71: MEZCLADOR DE CONCRETO | E71: ='[2]HERRAMIENTAS Y EQUIPOS'!C20 -> 100000 | F71: 8 | G71: =+E71/F71 -> 12500
A72: HERRAMIENTAS MENORES | G72: 15000
G74: Sub-Total | H74: =SUM(G71:G73) -> 27500
A75: II. MATERIALES EN OBRA
...

Sheet APUS
B1: ALCALDIA MUNICIPAL DE PINILLOS | H1: ANÁLISIS DE PRECIOS UNITARIOS
B2: DEPARTAMENTO DE BOLIVAR
B3: SECRETARIA DE PLANEACION Y OBRAS PUBLICAS | H3: ITEM 1,1 Localizacion, trazado, replanteo y control topografico de la obra
B6: PROYECTO: CONSTRUCCION DEL PUESTO DE SALUD DEL CORREGIMIENTO DE ARMENIA, ZONA RURAL DEL MUNICIPIO DE PINILLOS, DEPARTAMENTO DE BOLIVAR
H9: UNIDAD : | I9: M2
B11: I. EQUIPO
B12: Descripción | E12: Tipo | F12: Tarifa/Dia | G12: Rendimiento | H12: Valor-Unit.
B13: EQUIPO DE TOPOGRAFIA | F13: ='HERRAMIENTAS Y EQUIPOS'!C10 -> 75000 | G13: 300 | H13: =F13/G13 -> 250
B14: HERRAMIENTAS MENORES (5% M.O.) | H14: =I35*0.05 -> 61.930458
H16: Sub-Total | I16: =SUM(H13:H15) -> 311.93046
B17: II. MATERIALES EN OBRA
B18: Descripción | E18: Unidad | F18: Precio-Unit. | G18: Cantidad | H18: Valor-Unit.
B19: Puntillas de hierro 11/2" | E19: Lbrs | F19: =MATERIALES!F8 -> 7500 | G19: 0.025 | H19: =F19*G19 -> 187.5
B20: Cal (10kgrs) | E20: Kgr | F20: =MATERIALES!F20 -> 2100 | G20: =G19 -> 0.025 | H20: =F20*G20 -> 52.5
B21: Liston en madera 4"x2"x3,0mtrs | E21: U. | F21: =MATERIALES!F24 -> 17500 | G21: =G19 -> 0.025 | H21: =F21*G21 -> 437.5
H23: Sub-Total | I23: =SUM(H19:H22) -> 677.5
B24: III. TRANSPORTES
B25: Material | D25: Vol. Peso ó Cant. | E25: Distancia | F25: M3-Km | G25: Tarifa | H25: Valor-Unit.
B26: MATERIALES | D26: 0.035 | E26: 15 | F26: =E26*D26 -> 0.525 | G26: 1100 | H26: =G26*F26 -> 577.5
H28: Sub-Total | I28: =SUM(H26:H27) -> 577.5
B29: IV. MANO DE OBRA
B30: Trabajador | D30: Jornal | E30: Prestaciones | F30: Jornal Total | G30: Rendimiento | H30: Valor-Unit.
B31: TOPOGRAFO | D31: ='MANO DE OBRA'!E19 -> 108333 | E31: 1.75 | F31: =+E31*D31 -> 189582.75 | G31: =G13 -> 300 | H31: =+F31/G31 -> 631.9425
B32: CADENERO | D32: ='MANO DE OBRA'!E20 -> 52000 | E32: 1.75 | F32: =+E32*D32 -> 91000 | G32: =G13 -> 300 | H32: =+F32/G32 -> 303.33333
B33: AUXILIARES (2) | D33: ='MANO DE OBRA'!E14 -> 52000 | E33: 1.75 | F33: =+E33*D33 -> 91000 | G33: =G13 -> 300 | H33: =+F33/G33 -> 303.33333
H35: Sub-Total | I35: =SUM(H31:H34) -> 1238.6092
F37: TOTAL COSTO DIRECTO | I37: =ROUND((I16+I23+I28+I35),0) -> 2806
B60: ALCALDIA MUNICIPAL DE PINILLOS | H60: ANÁLISIS DE PRECIOS UNITARIOS
B61: DEPARTAMENTO DE BOLIVAR
B62: SECRETARIA DE PLANEACION Y OBRAS PUBLICAS | H62: ITEM 1,2 - Demolición de Estructura existente
B65: PROYECTO: CONSTRUCCION DEL PUESTO DE SALUD DEL CORREGIMIENTO DE ARMENIA, ZONA RURAL DEL MUNICIPIO DE PINILLOS, DEPARTAMENTO DE BOLIVAR
H68: UNIDAD : | I68: M2
B70: I. EQUIPO
B71: Descripción | E71: Tipo | F71: Tarifa/Hora | G71: Rendimiento | H71: Valor-Unit.
B72: HERRAMIENTAS MENORES (5% M.O.) | H72: =I90*0.05 -> 606.66667
H74: Sub-Total | I74: =SUM(H72:H72) -> 606.66667
B75: II. MATERIALES EN OBRA
B76: Descripción | E76: Unidad | F76: Precio-Unit. | G76: Cantidad | H76: Valor-Unit.
H80: Sub-Total | I80: =SUM(H77:H79) -> 0
B81: III. TRANSPORTES
...

Sheet MANO DE OBRA
A2: ALCALDIA MUNICIPAL DE PINILLOS
A3: DEPARTAMENTO DE BOLIVAR
A4: SECRETARIA DE PLANEACION Y OBRAS PUBLICAS
A5: PROYECTO: CONSTRUCCION DEL PUESTO DE SALUD DEL CORREGIMIENTO DE ARMENIA, ZONA RURAL DEL MUNICIPIO DE PINILLOS, DEPARTAMENTO DE BOLIVAR
A6: MANO DE OBRA - AJUSTADA 2023
A7: AÑO | D7: 2022 | E7: 2023
A8: SALARIO MINIMO MENSUAL SIN SUBSIDIO DE TRANSPORTE | D8: 1000000 | E8: 1160000
A9: SUBSIDIO DE TRANSPORTE | D9: 117172 | E9: 140000
A10: SALARIO MINIMO MENSUAL CON SUBSIDIO DE TRANSPORTE | D10: =SUM(D8:D9) -> 1117172 | E10: =SUM(E8:E9) -> 1300000
A11: DIAS DE TRABAJO | D11: 30 | E11: 30
A13: TRABAJADOR | D13: VALOR | E13: AJUSTADO
A14: OBRERO | D14: =E10/E11*1.2 -> 52000 | E14: =ROUND((D14),0) -> 52000
A15: OFICIAL | D15: =E10/E11*2.2 -> 95333.333 | E15: =ROUND((D15),0) -> 95333
A16: TECNICO ELECTRICISTA | D16: =E10/E11*2.2 -> 95333.333 | E16: =ROUND((D16),0) -> 95333
A17: SOLDADOR | D17: =E10/E11*2.2 -> 95333.333 | E17: =ROUND((D17),0) -> 95333
A18: MAESTRO | D18: =E10/E11*2.5 -> 108333.33 | E18: =ROUND((D18),0) -> 108333
A19: TOPOGRAFO | D19: =E10/30*2.5 -> 108333.33 | E19: =ROUND((D19),0) -> 108333
A20: AUXILIAR DE TOPOGRAFIA | D20: =E10/E11*1.2 -> 52000 | E20: =ROUND((D20),0) -> 52000
A27: ARQ. CHEDID PABA PIÑERES
A28: Secretario de Planeación y Obras Públicas

Sheet MATERIALES
A1: ALCALDIA MUNICIPAL DE PINILLOS
A2: DEPARTAMENTO DE BOLIVAR
A3: SECRETARIA DE PLANEACION Y OBRAS PUBLICAS
A4: PROYECTO: CONSTRUCCION DEL PUESTO DE SALUD DEL CORREGIMIENTO DE ARMENIA, ZONA RURAL DEL MUNICIPIO DE PINILLOS, DEPARTAMENTO DE BOLIVAR
A5: LISTADO DE MATERIALES DE OBRA REFERENTES DE LA REGION - AJUSTADOS A 2023
A6: MATERIALES EN OBRA | B6: UNIDAD DE MEDIDA | C6: PRECIO PRESUPUESTO | D6: PRECIO MERCADO 2021 | E6: VALOR AJUSTADO 2022 | F6: VALOR INGRESADO
A7: SACO DE LONA O LONA | B7: UNIDAD | C7: 1500 | D7: =C7*0.94 -> 1410 | E7: =+D7*1.06 -> 1494.6 | F7: =C7 -> 1500
A8: PUNTILLAS 11/2" | B8: LIBRA | C8: 7500 | D8: =C8*0.94 -> 7050 | E8: =+D8*1.06 -> 7473 | F8: =C8 -> 7500
A9: CEMENTO BLANCO | B9: KILOGRAMO | C9: 2800 | D9: =C9*0.94 -> 2632 | E9: =+D9*1.06 -> 2789.92 | F9: =C9 -> 2800
A10: CEMENTO GRIS TIPO PORTLAND | B10: KILOGRAMO | C10: 850 | D10: =C10*0.94 -> 799 | E10: =+D10*1.06 -> 846.94 | F10: =C10 -> 850
A11: RELLENO MATERIAL GRANULAR | B11: M3 | C11: =32000*1.35 -> 43200 | D11: =C11*0.94 -> 40608 | E11: =+D11*1.06 -> 43044.48 | F11: =C11 -> 43200
A12: PIEDRA SELECCIONADA 3/4" | B12: M3 | C12: =2000*60*1.35 -> 162000 | D12: =C12*0.94 -> 152280 | E12: =+D12*1.06 -> 161416.8 | F12: =C12 -> 162000
A13: PIEDRA 3 PULGADAS | B13: M3 | C13: =2000*60*1.35 -> 162000 | D13: =C13*0.94 -> 152280 | E13: =+D13*1.06 -> 161416.8 | F13: =C13 -> 162000
A14: ARENA GRUESA | B14: M3 | C14: =1000*60*1.35 -> 81000 | D14: =C14*0.94 -> 76140 | E14: =+D14*1.06 -> 80708.4 | F14: =C14 -> 81000
A15: ARENA DELGADA | B15: M3 | C15: =1000*60*1.35 -> 81000 | D15: =C15*0.94 -> 76140 | E15: =+D15*1.06 -> 80708.4 | F15: =C15 -> 81000
A16: AGUA | B16: LITRO | C16: 50 | D16: =C16*0.94 -> 47 | E16: =+D16*1.06 -> 49.82 | F16: =C16 -> 50
A17: ACERO DE REFUERZO DE 420 Mpa (1) | B17: KILOGRAMO | C17: 7159 | D17: =C17*0.94 -> 6729.46 | E17: =+D17*1.06 -> 7133.2276 | F17: =C17 -> 7159
A18: ACERO DE REFUERZO DE 420 Mpa (2) | B18: KILOGRAMO | C18: 7159 | D18: =C18*0.94 -> 6729.46 | E18: =+D18*1.06 -> 7133.2276 | F18: =C18 -> 7159
A19: ALAMBRE QUEMADO | B19: KILOGRAMO | C19: 9146 | D19: =C19*0.94 -> 8597.24 | E19: =+D19*1.06 -> 9113.0744 | F19: =C19 -> 9146
A20: CAL (BULTO POR 10 KG) | B20: KILOGRAMO | C20: 2100 | D20: =C20*0.94 -> 1974 | E20: =+D20*1.06 -> 2092.44 | F20: =C20 -> 2100
A21: ACRONAL | B21: KILOGRAMO | C21: =21600*1.35 -> 29160 | D21: =C21*0.94 -> 27410.4 | E21: =+D21*1.06 -> 29055.024 | F21: =C21 -> 29160
A22: LISTON DE MADERA 6" x 4" x 4,0 MTS | B22: UNIDAD | C22: 75000 | D22: =C22*0.94 -> 70500 | E22: =+D22*1.06 -> 74730 | F22: =C22 -> 75000
A23: LISTON DE MADERA 4" x 2" x 4,0 MTS | B23: UNIDAD | C23: 40000 | D23: =C23*0.94 -> 37600 | E23: =+D23*1.06 -> 39856 | F23: =C23 -> 40000
A24: LISTON DE MADERA 4" x 2" x 3,0 MTS | B24: UNIDAD | C24: 17500 | D24: =C24*0.94 -> 16450 | E24: =+D24*1.06 -> 17437 | F24: =C24 -> 17500
A25: LISTON DE MADERA 2" x 1" x 3,0 MTS | B25: UNIDAD | C25: 6000 | D25: =C25*0.94 -> 5640 | E25: =+D25*1.06 -> 5978.4 | F25: =C25 -> 6000
A26: TABLA CARACOLI 10" x 1" x 3,0 MTS | B26: UNIDAD | C26: 27000 | D26: =C26*0.94 -> 25380 | E26: =+D26*1.06 -> 26902.8 | F26: =C26 -> 27000
A27: SOLDADURA PVC | B27: GALON | C27: =53000*4*1.35 -> 286200 | D27: =C27*0.94 -> 269028 | E27: =+D27*1.06 -> 285169.68 | F27: =C27 -> 286200
A28: CUBIERTA TIPO ZINC INCLUYE AMARRES | B28: M2 | C28: 24300 | D28: =C28*0.94 -> 22842 | E28: =+D28*1.06 -> 24212.52 | F28: =C28 -> 24300
A29: IMPERMEABILZANTE TIPO SIKA 1 | B29: KILOGRAMO | C29: =13000*1.4 -> 18200 | D29: =C29*0.94 -> 17108 | E29: =+D29*1.06 -> 18134.48 | F29: =C29 -> 18200
A30: IMPERMEABILZANTE TIPO SIKA 101 | B30: KILOGRAMO | C30: =7000*1.4 -> 9800 | D30: =C30*0.94 -> 9212 | E30: =+D30*1.06 -> 9764.72 | F30: =C30 -> 9800
A31: CINTA B-15 | B31: ROLLO | C31: 1303000 | D31: =C31*0.94 -> 1224820 | E31: =+D31*1.06 -> 1298309.2 | F31: =C31 -> 1303000
A32: SELLALON PARA JUNTAS | B32: GALON | C32: 362400 | D32: =C32*0.94 -> 340656 | E32: =+D32*1.06 -> 361095.36 | F32: =C32 -> 362400
A33: CORDON DE ESPUMA EN POLIURETANO | B33: M | C33: 1800 | D33: =C33*0.94 -> 1692 | E33: =+D33*1.06 -> 1793.52 | F33: =C33 -> 1800
A34: GRASA | B34: KILOGRAMO | C34: 7500 | D34: =C34*0.94 -> 7050 | E34: =+D34*1.06 -> 7473 | F34: =C34 -> 7500
A35: DISCO DE CORTE DIAMANTADO 14" | B35: UNIDAD | C35: 775800 | D35: =C35*0.94 -> 729252 | E35: =+D35*1.06 -> 773007.12 | F35: =C35 -> 775800
A36: GEOTEXTIL DE PROTECCION | B36: M2 | C36: 4500 | D36: =C36*0.94 -> 4230 | E36: =+D36*1.06 -> 4483.8 | F36: =C36 -> 4500
A37: ANTISOL | B37: GALON | C37: 85000 | D37: =C37*0.94 -> 79900 | E37: =+D37*1.06 -> 84694 | F37: =C37 -> 85000
A38: ADOQUIN VIBRADO | B38: M2 | C38: =(57000*1.35)*1 -> 76950 | D38: =C38*0.94 -> 72333 | E38: =+D38*1.06 -> 76672.98 | F38: =C38 -> 76950
A39: BLOQUE No 6 - 40 X 20 X 15 cms | B39: UNIDAD | C39: =2300*1.35 -> 3105 | D39: =C39*0.94 -> 2918.7 | E39: =+D39*1.06 -> 3093.822 | F39: =C39 -> 3105
A40: BLOQUE No 6 - 40 X 20 X 9 cms | B40: UNIDAD | C40: =1300*1.35 -> 1755 | D40: =C40*0.94 -> 1649.7 | E40: =+D40*1.06 -> 1748.682 | F40: =C40 -> 1755
...

Sheet HERRAMIENTAS Y EQUIPOS
A3: ALCALDIA MUNICIPAL DE PINILLOS
A4: DEPARTAMENTO DE BOLIVAR
A5: SECRETARIA DE PLANEACION Y OBRAS PUBLICAS
A6: PROYECTO: CONSTRUCCION DEL PUESTO DE SALUD DEL CORREGIMIENTO DE ARMENIA, ZONA RURAL DEL MUNICIPIO DE PINILLOS, DEPARTAMENTO DE BOLIVAR
A7: HERRAMIENTA Y EQUIPOS - AJUSTADOS A 2023
A8: , | B8: UNIDAD | C8: TARIFA
A9: HERRAMIENTAS MENORES | C9: 5% M/O
A10: EQUIPO DE TOPOGRAFIA (NIVEL) | B10: $/DIA | C10: 75000
A11: BOB CAT MARTILLO | B11: $/HORA | C11: 150000
A12: BOB CAT PALA | B12: $/HORA | C12: 130000
A13: RETROEXCAVADORA DE ORUGA | B13: $/HORA | C13: 240000
A14: RETROEXCAVADORA DE LLANTA | B14: $/HORA | C14: 180000
A15: MOTONIVELADORA | B15: $/HORA | C15: 240000
A16: BULDOZER | B16: $/HORA | C16: 240000
A17: VIBRO-COMPACTADOR 3 TON | B17: $/HORA | C17: 120000
A18: VIBRO-COMPACTADOR 8 TON | B18: $/HORA | C18: 180000
A19: VIBRO-COMPACTADOR- RANA | B19: $/DIA | C19: 70000
A20: VIBRO-COMPACTADOR- CANGURO | B20: $/DIA | C20: 100000
A21: MEZCLADOR DE CONCRETO | B21: $/DIA | C21: 100000
... A24: RIELES METALICOS (Unidad) | B24: $UNIDAD/DIA | C24: 4500
A25: FORMALETA METALICA (TABLEROS X 6) | B25: $/DIA | C25: =7500*6 -> 45000
A26: EQUIPO DE SOLDADURA 110/220 V | B26: $/DIA | C26: 150000
A27: GRUA | B27: $/DIA | C27: 180000
A28: EQUIPO DE PERFORACION ROTACIONAL | B28: $/DIA | C28: 377500
A29: FORMALETA METALICA (D=50 CMS/LONG. 3ML) | B29: $/DIA | C29: 20000
A30: EQUIPO TERMOFUSION | B30: $/DIA | C30: 300000
A31: MOTOBOMBA | B31: $/DIA | C31: 108000
A32: CORTADORA DE PAVIMENTO | B32: $/DIA | C32: 180000
A33: FLOTA METALICA | B33: $/DIA | C33: 75000
A34: CEPILLO METALICO | B34: $/DIA | C34: 75000
A35: REGLA VIBRATORIA | B35: $/DIA | C35: 180000
A36: VIBRO DE PUNTA | B36: $/DIA | C36: 80000
A37: GRUA | B37: $/DIA | C37: 180000
... A39: PULIDORA PROFESIONAL | B39: $/DIA | C39: 15000
A45: ARQ. CHEDID PABA PIÑERES
A46: Secretario de Planeación y Obras Públicas

Sheet TRANSPORTE
A3: ALCALDIA MUNICIPAL DE PINILLOS
A4: DEPARTAMENTO DE BOLIVAR
A5: SECRETARIA DE PLANEACION Y OBRAS PUBLICAS
A6: PROYECTO: CONSTRUCCION DEL PUESTO DE SALUD DEL CORREGIMIENTO DE ARMENIA, ZONA RURAL DEL MUNICIPIO DE PINILLOS, DEPARTAMENTO DE BOLIVAR
A7: TRANSPORTE - AJUSTADO A 2023
A9: VALOR | C9: UNIDAD | D9: VALOR | E9: AJUSTADO NORMAL | F9: AJUSTADO DIFICIL ACCESO
A10: TRANSPORTE | C10: M3/KM | D10: =918*1.035 -> 950.13 | E10: =ROUND((D10),0) -> 950 | F10: =(ROUND((E10*1.1577),0)) -> 1100
A16: ARQ. CHEDID PABA PIÑERES
A17: Secretario de Planeación y Obras Públicas
