Workbook
Name ____________________________________________________i1: #REF!
Name ___________________________________________________i1: #REF!
Name __________________________________________________i1: #REF!
Name _________________________________________________i1: #REF!
Name ________________________________________________i1: #REF!
Name _______________________________________________i1: #REF!
Name ______________________________________________i1: #REF!
Name _____________________________________________i1: #REF!
Name ____________________________________________i1: #REF!
Name ___________________________________________i1: #REF!
Name __________________________________________i1: #REF!
Name _________________________________________i1: #REF!
Name ________________________________________i1: #REF!
Name _______________________________________i1: #REF!
Name ______________________________________i1: #REF!
Name _____________________________________i1: #REF!
Name ____________________________________i1: #REF!
Name ___________________________________i1: #REF!
Name __________________________________i1: #REF!
Name _________________________________i1: #REF!
Name ________________________________i1: #REF!
Name _______________________________i1: #REF!
Name ______________________________i1: #REF!
Name _____________________________i1: #REF!
Name ____________________________i1: #REF!
Name ___________________________i1: #REF!
Name __________________________i1: #REF!
Name _________________________i1: #REF!
Name ________________________i1: #REF!
Name _______________________i1: #REF!
Name ______________________i1: #REF!
Name _____________________i1: #REF!
Name ____________________i1: #REF!
Name ___________________i1: #REF!
Name __________________i1: #REF!
Name __________________MA2: #REF!
Name _________________i1: #REF!
Name _________________INF1: #REF!
Name _________________MA2: #REF!
Name ________________i1: #REF!
Name ________________INF1: #REF!
Name ________________MA2: #REF!
Name _______________i1: #REF!
Name _______________INF1: #REF!
Name _______________MA2: #REF!
Name ______________i1: #REF!
Name ______________MA2: #REF!
Name _____________i1: #REF!
Name _____________INF1: #REF!
Name _____________MA2: #REF!
Name ____________i1: #REF!
Name ____________MA2: #REF!
Name ___________i1: #REF!
Name ___________INF1: #REF!
Name ___________MA2: #REF!
Name __________AIU1: #REF!
Name __________Cod1: #REF!
Name __________i1: #REF!
Name __________INF1: #REF!
Name __________MA2: #REF!

Sheet Presupuesto
A1: PRESUPUESTO DE OBRA
A3: ALCALDIA MUNICIPAL
A4: Municipio de Barbosa - Antioquia
A5: Barbosa Social !Es la gente!
A7: Secretaria de Obras Publicas
A8: OBRA:
A9: Adecuaciones locativas para acondicionamiento del albergue animal temporal en el Municipio de Barbosa - Antioquia.
A12: COSTOS DIRECTOS DE OBRA
A14: ITEM | B14: DESCRIPCIÓN | C14: Unidad | D14: Cantidad | E14: Valor Unitario | F14: Valor total | G14: %CAP
A15: 1 | B15: PRELIMINARES | F15: =IFERROR(ROUND(D15*E15,Dc_Total),"") | G15: =IFERROR(F15/$F$34,"")
A16: 1.01 | B16: =+APUs!A9 -> Rocería y limpieza, Incluye cargue, transporte y botada de material en botaderos oficiales o donde indique la interventoria, hasta cualquier altura de la vegetación, incluye desenraice de árboles hasta la altura de la vegetación y de diámetro inferiores a 10 cm. La rocería se realizará a ras de piso. Se utilizará guadaña o machete. | C16: m2 | D16: 150 | E16: =+APUs!D20 -> 4935 | F16: =IFERROR(ROUND(D16*E16,Dc_Total),"") -> 740250 | G16: =IFERROR(F16/$F$34,"") -> 0.029785541
A17: 1.02 | B17: EXCAVACIÓN MANUAL de material heterogéneo DE 0-2 m, bajo cualquier grado de humedad. Incluye: roca descompuesta, bolas de roca de volúmen inferior a 0.35 m³., el cargue, transporte interno de material proveniente de las excavaciones en los sitios donde lo indique la interventoría y su medida sera en el sitio. No incluye entibado. | C17: m3 | D17: 12.5 | E17: =+APUs!D37 -> 53850 | F17: =IFERROR(ROUND(D17*E17,Dc_Total),"") -> 673125 | G17: =IFERROR(F17/$F$34,"") -> 0.027084623
A18: 1.03 | B18: =+APUs!A57 -> RETIRO DE CUBIERTA EN TEJA DE ASBESTO - CEMENTO, teja plástica o teja similar. Incluye cargue, transporte, botada o recuperación de tablilla, alfardas, cargueras y soleras, cargue, transporte y botada de escombros en botaderos oficiales, recuperación de los materiales aprovechables o su transporte hasta el sitio que lo indique la interventoría. Medido en proyección horizontal. | C18: m2 | D18: 35 | E18: =+APUs!D73 -> 18589 | F18: =IFERROR(ROUND(D18*E18,Dc_Total),"") -> 650615 | G18: =IFERROR(F18/$F$34,"") -> 0.026178885
A19: 2 | B19: CUBIERTA | F19: =IFERROR(ROUND(D19*E19,Dc_Total),"") | G19: =IFERROR(F19/$F$34,"")
A20: 2.01 | B20: =+APUs!A40 -> RECORRIDO Y MANTENIMIENTO DE CUBIERTA EN TEJA DE ASBESTO - CEMENTO, teja plástica o teja similar. Incluye reacomodacion, limpieza, amarre de piezas y reparacion de tejas que asi lo permitan. Medido en proyección horizontal. | C20: m2 | D20: 80 | E20: =+APUs!D53 -> 13512 | F20: =IFERROR(ROUND(D20*E20,Dc_Total),"") -> 1080960 | G20: =IFERROR(F20/$F$34,"") -> 0.043494736
A21: 2.02 | B21: =+APUs!A77 -> Suministro, transporte y colocación de teja eternit N.6, Incluye elementos de fijación, amarras, ganchos y todo lo necesario para su correcta instalación y funcionamiento. Según diseño de cubierta. | C21: m2 | D21: 30 | E21: =+APUs!D94 -> 67390 | F21: =IFERROR(ROUND(D21*E21,Dc_Total),"") -> 2021700 | G21: =IFERROR(F21/$F$34,"") -> 0.081347421
A22: 2.03 | B22: =+APUs!A97 -> Suministro, transporte y colocación de cubierta en teja traslúcida. Incluye elementos de fijación, amarras, tornillos, empalmes con fibra y resina y todo lo necesario para su correcta instalación y funcionamiento. Según diseño de cubierta. | C22: m2 | D22: 5 | E22: =+APUs!D114 -> 61718 | F22: =IFERROR(ROUND(D22*E22,Dc_Total),"") -> 308590 | G22: =IFERROR(F22/$F$34,"") -> 0.012416778
A23: 2.04 | B23: =+APUs!A117 -> Suministro, transporte e instalación de caballete eternit a dos aguas Incluye amarras, fijaciones con tonillos autoperforantes, pintura de la cara superior, y todos los demás elementos necesarios para su correcta instalación y funcionamiento. | C23: Unidad | D23: 20 | E23: =+APUs!D133 -> 38661 | F23: =IFERROR(ROUND(D23*E23,Dc_Total),"") -> 773220 | G23: =IFERROR(F23/$F$34,"") -> 0.031112159
A24: 2.05 | B24: =+APUs!A136 -> Suministro, transporte y construcción de cubierta para teja de eternit, alfardas 2"x5" en abarco, larguero 2"x4" (solera) en abarco anclada a viga de amarre con varilla cada 1.5 m., tablilla inmunizada en pino ciprés machiembrada, impermeabilización en frío con tela asfáltica tipo permofit o equivalente. Incluye todos los elementos necesarios para su correcta construcción y funcionamiento. Medido a lo largo de la pendiente. | C24: m2 | D24: 30 | E24: =+APUs!D160 -> 101876.79 | F24: =IFERROR(ROUND(D24*E24,Dc_Total),"") -> 3056303.8 | G24: =IFERROR(F24/$F$34,"") -> 0.12297691
A25: 3 | B25: MUROS Y FACHADA | F25: =IFERROR(ROUND(D25*E25,Dc_Total),"") | G25: =IFERROR(F25/$F$34,"")
A26: 3.01 | B26: =+APUs!A164 -> Hidrolavado y aplicación de ácido nítrico e hidrosolve proporción 1:1:5 para lavada de pisos, techos, muros interiores y exteriores, con todos los elementos necesarios para su correcta instalación y funcionamiento. | C26: m2 | D26: 150 | E26: =+APUs!D180 -> 5707 | F26: =IFERROR(ROUND(D26*E26,Dc_Total),"") -> 856050 | G26: =IFERROR(F26/$F$34,"") -> 0.034445002
A27: 3.02 | B27: =+APUs!A184 -> RESANE Y APLICACION de PINTURA tipo Koraza o equivalente para exteriores (hidrorepelente) de primera calidad que cumpla con la Norma NTC 1335, 2 manos o las que sean necesarias para obtener una superficie pareja y homogénea, a satisfacción de la interventoría. Incluye suministro y transporte de los materiales, preparada y adecuación de la superficie a intervenir. Color a definir según aprobación de la interventoría. | C27: m2 | D27: 120 | E27: =+APUs!D204 -> 15315 | F27: =IFERROR(ROUND(D27*E27,Dc_Total),"") -> 1837800 | G27: =IFERROR(F27/$F$34,"") -> 0.073947811
A28: 4 | B28: CERRAMIENTOS | F28: =IFERROR(ROUND(D28*E28,Dc_Total),"") | G28: =IFERROR(F28/$F$34,"")
A29: 4.01 | B29: Suministro, transporte y colocación de cerramiento perimetral en malla eslabonada cal 10 ojo 5, h=2.0 m incluye fijaciones grapas galvanizadas, pisamalla, alambre, estacón diámetro 4" y h = 2.10 metros libres, excavación para empotrar el estacón, pintura tipo bituminosa negra para proteger la parte enterrada del estacón en una longitud de 40 cm, atraque de concreto pobre, compactación del área aferente para garantizar la estabilidad del estacón y todo lo necesario para su correcta instalación y funcionamiento. Según especificaciones de la supervision. | C29: m | D29: =44.9182910376031-4 -> 40.918291 | E29: =+APUs!D253 -> 152647 | F29: =IFERROR(ROUND(D29*E29,Dc_Total),"") -> 6246054.4 | G29: =IFERROR(F29/$F$34,"") -> 0.25132335
A30: 4.02 | B30: =+APUs!A277 -> Suministro, transporte y colocación de puerta-reja 2.0 x 1.2 m. Con bastidor metálico de 70 mm x 70 mm espesor de 3mm, malla ondulada ojo Nº5 calibre 10, ángulo metálico de 1"x 1/8" perimetral pisa malla, lamina de 3/16 para anclaje a muro com pernos de 3/8" x3", soldadura. Incluye resane de superficie, pintura poliuretano, catalizador, base anticorrosiva y adherente y todos los demás elementos requeridos para su correcta fabricación y instalación, según diseño. La tubería y las platinas son piezas completas, no se admiten soldaduras intermedias. Según diseño. | C30: unidad | D30: 1 | E30: =+APUs!D297 -> 715488 | F30: =IFERROR(ROUND(D30*E30,Dc_Total),"") -> 715488 | G30: =IFERROR(F30/$F$34,"") -> 0.028789189
A31: 4.03 | B31: Suministro, transporte y colocación de modulos para cerramiento de vanos en malla eslabonada cal 10 ojo 5, incluye grapas galvanizadas, platinas pisamalla, diagonales, angulo de acero 1 x 1/8 pulg para marco y fijaciones, alambre, anclaje a columnetas y demas elementos necesarios para su correcta instalacion. | C31: m2 | D31: =48.8-6 -> 42.8 | E31: =+APUs!D274 -> 111438 | F31: =IFERROR(ROUND(D31*E31,Dc_Total),"") -> 4769546.4 | G31: =IFERROR(F31/$F$34,"") -> 0.19191289
A32: 5 | B32: PISOS | F32: =IFERROR(ROUND(D32*E32,Dc_Total),"") | G32: =IFERROR(F32/$F$34,"")
A33: 5.01 | B33: =+APUs!A207 -> Construcción de LOSA CONTRAPISO en concreto de 21 MPa., con un ESPESOR DE 10 cm. Incluye suministro, transporte y la colocación del concreto hasta una altura de 3.0 m, incluye suministro, armado y desarmado de toda la obra falsa necesaria para el correcto vaciado, biseles para cortagotera o donde se requieran, vibrado, protección y curado para estructuras, de acuerdo a las diferentes dimensiones establecidas y todos los demás elementos necesarios para su correcto vaciado. El acero de refuerzo se pagará en su respectivo item según diseño. Incluye malla electrosoldada de 4 mm para refuerzo. | C33: m2 | D33: 10 | E33: =+APUs!D233 -> 112296 | F33: =IFERROR(ROUND(D33*E33,Dc_Total),"") -> 1122960 | G33: =IFERROR(F33/$F$34,"") -> 0.045184696
D34: Valor costo directo = | F34: =+SUM(F15:F33) -> 24852663 | G34: =+SUM(G15:G33) -> 1
A36: TOTAL COSTOS DIRECTOS | F36: =F34 -> 24852663
A37: ADMINISTRACIÓN | E37: 0.27 | F37: =ROUND($F$36*E37,Dc_AIU) -> 6710218.9
A38: UTILIDADES | E38: 0.03 | F38: =ROUND($F$36*E38,Dc_AIU) -> 745579.88
A39: TOTAL COSTOS INDIRECTOS | F39: =SUM(F37:G38) -> 7455798.8
A41: COSTO TOTAL OBRAS | F41: =+F39+F36 -> 32308461

Sheet APUs
A1: MUNICIPIO DE BARBOSA | B1: =+Presupuesto!A9 -> Adecuaciones locativas para acondicionamiento del albergue animal temporal en el Municipio de Barbosa - Antioquia.
A8: ANALISIS DE PRECIOS UNITARIOS
A9: Rocería y limpieza, Incluye cargue, transporte y botada de material en botaderos oficiales o donde indique la interventoria, hasta cualquier altura de la vegetación, incluye desenraice de árboles hasta la altura de la vegetación y de diámetro inferiores a 10 cm. La rocería se realizará a ras de piso. Se utilizará guadaña o machete. | D9: No. Item | E9: Unidad
E10: m2
A11: Mano de Obra | B11: Unidad | C11: Cantidad | D11: V/Unitario | E11: V/Total
A12: Ayudante Raso | B12: jor | C12: 0.05 | D12: 70000 | E12: =ROUND(D12*C12,0) -> 3500
D13: SUBTOTAL | E13: =+E12 -> 3500
A14: Herramienta | B14: Unidad | C14: Cantidad | D14: V/Unitario | E14: V/Total
A15: Herramienta menor (Guadaña) | B15: (%)mo | C15: 0.05 | D15: =+E13 -> 3500 | E15: =ROUND(D15*C15,0) -> 175
D16: SUBTOTAL | E16: =+E15 -> 175
A17: Auxiliares | B17: Unidad | C17: Cantidad | D17: V/Unitario | E17: V/Total
A18: Cargue (Paleros) botada. | B18: m3 | C18: 0.03 | D18: 42000 | E18: =ROUND(D18*C18,0) -> 1260
D19: SUBTOTAL | E19: =+E18 -> 1260
A20: P R E C I O U N I T A R I O | D20: =+E19+E16+E13 -> 4935
A22: ANALISIS DE PRECIOS UNITARIOS
A23: EXCAVACIÓN MANUAL de material heterogéneo DE 0-2 m, bajo cualquier grado de humedad. Incluye: roca descompuesta, bolas de roca de volúmen inferior a 0.35 m³., el cargue, transporte interno de material proveniente de las excavaciones en los sitios donde lo indique la interventoría y su medida sera en el sitio. No incluye entibado. | D23: No. Item | E23: Unidad
E24: m3
A25: Mano de Obra | B25: Unidad | C25: Cantidad | D25: V/Unitario | E25: V/Total
A26: Ayudante Raso | B26: jor | C26: 0.16667 | D26: =+D12 -> 70000 | E26: =ROUND(D26*C26,0) -> 11667
D27: SUBTOTAL | E27: =+E26 -> 11667
A28: Herramienta | B28: Unidad | C28: Cantidad | D28: V/Unitario | E28: V/Total
A29: Herramienta menor | B29: (%)mo | C29: 0.05 | D29: =+E27 -> 11667 | E29: =ROUND(D29*C29,0) -> 583
D30: SUBTOTAL | E30: =+E29 -> 583
A31: Equipo | B31: Unidad | C31: Cantidad | D31: V/Unitario | E31: V/Total
D33: SUBTOTAL | E33: =+E32 -> 0
A34: Auxiliares | B34: Unidad | C34: Cantidad | D34: V/Unitario | E34: V/Total
A35: Cargue (Paleros)-transp-botada. | B35: m3 | C35: 1.3 | D35: =+'[20]EQUIPOS Y HERRAMIENTAS'!$C$8 -> 32000 | E35: =ROUND(D35*C35,0) -> 41600
D36: SUBTOTAL | E36: =+E35 -> 41600
A37: P R E C I O U N I T A R I O | D37: =+E36+E33+E30+E27 -> 53850
A39: ANALISIS DE PRECIOS UNITARIOS
A40: RECORRIDO Y MANTENIMIENTO DE CUBIERTA EN TEJA DE ASBESTO - CEMENTO, teja plástica o teja similar. Incluye reacomodacion, limpieza, amarre de piezas y reparacion de tejas que asi lo permitan. Medido en proyección horizontal. | D40: No. Item | E40: Unidad
E41: m2
A42: Mano de Obra | B42: Unidad | C42: Cantidad | D42: V/Unitario | E42: V/Total
A43: Cuadrilla Cubiertas 1 Oficial + 2 Ayudante | B43: jor | C43: 0.04 | D43: 278400 | E43: =ROUND(D43*C43,0) -> 11136
D44: SUBTOTAL | E44: =+E43 -> 11136
A45: Herramienta | B45: Unidad | C45: Cantidad | D45: V/Unitario | E45: V/Total
A46: Herramienta menor | B46: (%)mo | C46: 0.05 | D46: =+E44 -> 11136 | E46: =ROUND(D46*C46,0) -> 557
A47: Amarras y ganchos | B47: Unidad | C47: 2.5 | D47: 400 | E47: =ROUND(D47*C47,0) -> 1000
D48: SUBTOTAL | E48: =+E46+E47 -> 1557
A49: Equipo | B49: Unidad | C49: Cantidad | D49: V/Unitario | E49: V/Total
...
