Workbook
Name _Hlk63442821: CONSOLIDADO!#REF!
Name ASD: #REF!
Name ASD: #REF!
Name CALI7: #REF!
Name CALI7: #REF!
Name CALI7: #REF!
Name CALI7: #REF!
Name CELDA: 'P1'!$D$51
Name CRITERIO: 'P1'!$R$5:$R$10
Name CRITERIO: '[1]0'!$AA$2:$AA$3
Name CRITERIO2: 'P1'!$R$12:$R$13
Name CUMPLE: 'P1'!$D$51
Name METAAFPDCC: #REF!
Name METAAFPDCC: #REF!
Name METAAFPDCC: #REF!
Name METAAFPDCC: #REF!
Name METAPDCC: #REF!
Name METAPDCC: #REF!
Name METAPDCC: #REF!
Name METAPDCC: #REF!
Name NOMBRE: 'P1'!$A$21:$C$24
Name P: 'P1'!#REF!
Name PERSONA: 'P1'!$S$5:$S$10
Name PERSONA: '[1]0'!$AB$2:$AB$3

Sheet CONSOLIDADO
B1: PROPONENTE | M1: PUNTAJE TOTAL
D2: REPRESENTANTE LEGAL | E2: EXPERIENCIA GENERAL PROPONENTE | F2: EXPERIENCIA ESPECIFICA PROPONENTE | G2: EXPERIENCIA RESIDENTE DE OBRA | H2: EXPERIENCIA SISO | I2: RESUMEN | J2: CRITERIO DE CALIDAD (29,75) | K2: APOYO A INDUSTRIA NACIONAL (10 puntos) | L2: PUNTAJE ADICIONAL ARTICULO 2.2.1.2.4.2.15 DECRETO 1082 DE 2015 ADICIONADO POR EL DECRETO 1860 DE 2021 (0,25 puntos) | N2: OBSERVACIONES
B3: 1 | C3: GUSTAVO GIRALDO MUÑOZ | D3: GUSTAVO GIRALDO MUÑOZ | E3: CUMPLE | F3: CUMPLE | G3: CUMPLE | H3: CUMPLE | I3: HABILITADO | J3: N/A | K3: N/A | L3: N/A | M3: N/A

Sheet P1
C1: EVALUACIÓN TÉCNICA SELECCIÓN MENOR CUANTIA 016 DE 2023
C2: MEJORAMIENTO Y/O MANTENIMIENTO Y/O ADECUACION DEL CAE LA PRIMAVERA DEL MUNICIPIO DE MONTENEGRO, QUINDIO | R2: 1 | S2: m3 | T2: 7
R3: =7*8*0.1 -> 5.6 | S3: m3 | T3: =+R3*T2 -> 39.2
A5: VALORES OFICIALES
A6: PRESUPUESTO OFICIAL | J6: 52199999
A7: SMMLV 2023 | J7: 1160000
A8: PRESUPUESTO OFICIAL EN SMMLV 2023 | J8: =+J6/J7 -> 44.999999
A9: FECHA DE CIERRE | J9: 45146
R10: NO CUMPLE | S10: JURIDICA
A11: CRITERIOS GENERALES | K11: CUMPLE
A12: PROPONENTE : | C12: GUSTAVO GIRALDO MUÑOZ | P12: CUMPLE | R12: CUMPLE | S12: NATURAL
A13: REPRESENTANTE LEGAL: | C13: GUSTAVO GIRALDO MUÑOZ | G13: C.C | H13: 7540459 | P13: NO CUMPLE | R13: NO CUMPLE | S13: JURIDICA
A14: QUIEN AVALA: | C14: GUSTAVO GIRALDO MUÑOZ | R14: NOMBRE
A15: PROFESION : | E15: EXPERIENCIA GENERAL: 37 AÑOS | R15: =+#REF! -> #REF!
A16: COPIA TARJ. PROFESIONAL: | C16: FECHA EXPEDICION MATRICULA: 03-JULIO-1986 | R16: =+A21 -> GUSTAVO GIRALDO MUÑOZ
A17: MATRICULA VIGENTE: | C17: FECHA EXPEDICION COPNIA: 03-07-1986 | R17: =+A22 -> 0
R18: =+A23 -> 0
A19: INTEGRANTES | K19: CUMPLE | R19: =+A24 -> 0
A20: NOMBRE | D20: PERSONA | E20: % PARTICIPACION | G20: MATRICULA - CERTIFICADO | H20: MATRICULA - OBJETO SOCIAL | I20: FECHA MATRICULA CERTIFICADO
A21: GUSTAVO GIRALDO MUÑOZ | D21: NATURAL | E21: 1 | G21: CUMPLE | H21: CUMPLE | I21: 31596 | R21: CONTRATO 2 | U21: NO CUMPLE - FORMATO 7B | AK21: j
R22: CONTRATO 3
R23: CONTRATO 4
R24: CONTRATO 5
A25: 4.3.1 EXPERIENCIA GENERAL-PROPONENTE | K25: CUMPLE
A26: PERSONA NATURAL: Las personas naturales plenamente capaces deberán acreditar el título profesional de INGENIERO CIVIL Y/O ARQUITECTO. Para acreditar este requisito deberá aportar copia de tarjeta o la matricula profesional y certificado de vigencia expedida por la autoridad competente con una vigencia máxima de seis (06) meses, contados a partir de la fecha de cierre del presente proceso de selección. Las personas naturales deberán acreditar una experiencia general de dos (2) años contada a partir de la expedición de la tarjeta y/o matricula profesional del respectivo profesional, a la fecha de cierre del presente proceso. Si el proponente es persona natural y no acredita el título requerido, la propuesta NO podrá ser avalada. Adicional a lo anterior, el proponente deberá acreditar experiencia en calidad de “Contratista” en máximo tres (3) contratos suscritos y ejecutados con entidades públicas y/o privadas, cuyo objeto y/o alcance y/o actividades sea la " MEJORAMIENTO Y/O MANTENIMIENTO Y/O ADECUACION DE: EDIFICACIONES PÚBLICAS" y que sumados sean iguales o superen el 100% del presupuesto oficial actualizado mediante equivalencia de S.M.M.L.V | I26: CUMPLE
A27: PERSONA JURIDICA: Tratándose de personas jurídicas, el representante legal o quien avala su oferta, deberá acreditar su profesión de INGENIERO CIVIL Y/O ARQUITECTO, adicional a esto, el objeto social de la persona jurídica DEBERÁ PERMITIR O ESTAR RELACIONADO CON LA EJECUCIÓN DE OBRAS CIVILES, lo cual será verificado con el certificado de existencia y representación legal. El perfil del representante legal o de quien avala la oferta, deberá ser acreditado con copia de la tarjeta o matricula profesional y certificado de vigencia expedida por la autoridad competente con una vigencia máxima de seis (06) meses, contados a partir de la fecha de cierre del presente proceso de selección. Cuando el representante legal de la persona jurídica no acredite el título requerido, la propuesta deberá ser avalada por un profesional que acredite título de INGENIERO CIVIL Y/O ARQUITECTO con experiencia general de DOS (2) AÑOS contada a partir de la expedición de la tarjeta y/o matricula profesional del respectivo profesional, copia de la matricula profesional y certificado de vigencia expedida por la autoridad competente con una vigencia máxima de seis (06) meses, contados a partir de la fecha de cierre del presente proceso de selección), en virtud de lo previsto en la Ley 842 de 2003. Las personas jurídicas nacionales y extranjeras deberán acreditar el tiempo de constitución mayor o igual DOS (2) AÑOS a la fecha de cierre del presente proceso de selección y su duración no será inferior a la del plazo de ejecución del contrato y por un año más. Deberán anexar el certificado de existencia y representación legal expedido por la Cámara de Comercio con fecha de expedición máxima de 30 días. | I27: NA | R27: CONTRATO 6
A28: CONSORCIOS O UNIONES TEMPORALES: Para el caso de Consorcios y/o Uniones temporales, si uno o varios de los integrantes son personas jurídicas deberá acreditar como mínimo DOS (02) AÑOS de constitución acorde al literal 5.1.1, con aclaración de que los integrantes que son personas naturales del consorcio o unión temporal deberán acreditar como mínimo seis (6) meses de expedición de la matricula profesional acorde al literal 5.1.2. La cual será contada a partir de la expedición de la tarjeta o matricula profesional del respectivo profesional o del registro mercantil o el certificado de existencia y representación legal para personas jurídicas. La representación del Consorcio o Unión Temporal es diferente e independiente de quien avala la propuesta. En tal sentido, si el representante del Consorcio o unión temporal es quien avala la propuesta de un integrante, deberá manifestarlo así en la propuesta y acreditar el título profesional de INGENIERO CIVIL Y/O ARQUITECTO con experiencia general de DOS (2) AÑOS contada a partir de la expedición de la tarjeta y/o matricula profesional del respectivo profesional, copia de la matricula profesional y certificado de vigencia expedida por la autoridad competente con una vigencia máxima de seis (06) meses, contados a partir de la fecha de cierre del presente proceso de selección). Los integrantes del Consorcio o Unión Temporal deberán acreditar su profesión de Ingeniero Civil y/o Arquitecto. Para acreditar este requisito deberán aportar copia del diploma y/o acta de grado y fotocopia de la matrícula y/o tarjeta profesional y certificado de vigencia expedida por la autoridad competente con una vigencia máxima de seis (06) meses contados a partir de la fecha de cierre del presente proceso de selección. deberá acreditar su profesión de Ingeniero Civil y/o Arquitecto, para lo cual debe aportar copia de la matricula profesional y certificado de vigencia expedida por la autoridad competente con una vigencia máxima de seis (06) meses y deberán acreditar como seis (6) meses de expedición de la matricula profesional acorde al literal 2.4.2.1.1. | I28: NA
A29: Acredita condicion de emprendimiento y empresa de Mujeres: | F29: NO | G29: Acredita condicion Mipyme: | J29: SI
A30: 4.3.2 EXPERENCIA ESPECIFICA-PROPONENTE | N30: CUMPLE
A31: Experiencia especifica El proponente deberá acreditar en máximo tres (3) certificados de obra, cuyo objeto u alcance del objeto, y/o actividades tenga relación con el MANTENIMIENTO, Y/O REMODELACIÓN, Y/O MEJORAMIENTO, Y/O ADECUACIÓN, Y/O REHABILITACIÓN DE INFRESTRUCTURA EN EDIFICACIONES PÚBLICAS, TODA VEZ QUE LA NATURALEZA DE DICHAS INSTITUCIONES REQUIEREN UNAS CONDICIONES DE TRABAJO ESPECIALES EN RAZÓN A LOS LINEAMIENTOS PROPIOS DE SEGURIDAD REGLAMENTARIOS ESTABLECIDOS; cuya sumatoria sea mayor o igual al 100% del valor del presente proceso de selección en Salarios Mínimos Mensuales Legales Vigentes para el presente año. Adicional a esto, en uno de los contratos aportados deberán acreditar el 50 % de los ítems representativo así: ACTIVIDAD - Instalación de cubierta teja policarbonato CANTIDAD (100%) = 560 M2 CANTIDAD (50%) = 280 M2 - Suministo e instalación de manto asfáltico para cubierta CANTIDAD (100%) = 258 M2 CANTIDAD (50%) = 179 M2 CRITERIOS DIFERENCIALES A favor de la Mipymes y Emprendimientos y empresas de mujeres con domicilio en el territorio nacional: deberán acreditar experiencia con máximo cuatro (4) certificados una experiencia específica en la ejecución del 75% de las cantidades representativas de acuerdo requerimiento de la experiencia específica y en uno de ellos (contrato) deberá acreditar como mínimo haber ejecutado el 50% de las mismas. Al mismo tiempo, las certificaciones a que se refiere el presente numeral, deberán relacionar dentro de su objeto contractual y/o actividades y/o alcance sea o estén relacionadas con el MANTENIMIENTO, Y/O REMODELACIÓN, Y/O MEJORAMIENTO, Y/O ADECUACIÓN, Y/O REHABILITACIÓN DE INFRESTRUCTURA EN EDIFICACIONES PÚBLICAS, TODA VEZ QUE LA NATURALEZA DE DICHAS INSTITUCIONES REQUIEREN UNAS CONDICIONES DE TRABAJO ESPECIALES EN RAZÓN A LOS LINEAMIENTOS PROPIOS DE SEGURIDAD REGLAMENTARIOS ESTABLECIDOS.
A32: INFORMACION BASE | D32: CONTRATO 1 | G32: CONTRATO 2 | J32: CONTRATO 3 | R32: SUBCONTRATO 2 | AM32: CUMPLE
A33: INTEGRANTE QUE APORTA EXPERIENCIA | D33: GUSTAVO GIRALDO MUÑOZ | G33: GUSTAVO GIRALDO MUÑOZ | J33: GUSTAVO GIRALDO MUÑOZ | R33: SUBCONTRATO 3 | AM33: NO CUMPLE
A34: No CONTRATO/ OBJETO/ENTIDAD CONTRATANTE | D34: OBRAS CIVILES OARA PARA EL MEJORAMIENTO DE CUBIERTAS EN DIFERENTES EDIFICIOS PERTENECIENTES A LA UNIVERSIDAD DEL QUINDÍO | G34: IMPERMEABILIZACION DE LOZA DE LABORATORIO CLINICO, RADIOTERAPIA Y CENTRO POST MORTEM DEL HOSPITAL UNIVERSITARIO DEL VALLE | AM34: NA
A35: % PARTICIPACION EN EL CONTRATO | D35: 0.5 | G35: 1 | R35: SUBCONTRATO 4 | AM35: NA
A36: VALOR DEL CONTRATO ($) | D36: 1187624835 | G36: 35174057 | R36: SUBCONTRATO 5
A37: AÑO DE TERMINACION | D37: 44988 | G37: 38811 | R37: SUBCONTRATO 6 | AM37: ING CIVIL
A38: VALOR DEL SMMLV EN EL AÑO DE TERMINACION | D38: 1160000 | G38: 408000 | AM38: ING SANITARIO
A39: VALOR DEL CONTRATO EN SMMLV | D39: 1023.81 | G39: 86.21 | R39: CRITERIO FINAL | AM39: SEGURIDAD Y SALUD EN EL TRABAJO
A40: DOCUMENTACION CUMPLE/NO CUMPLE | D40: CUMPLE | G40: CUMPLE | J40: NO | R40: EXP. GEN | S40: CUMPLE | T40: =+IF($S$40=D41,1,0) -> 0 | U40: =+IF($S$40=H41,1,0) -> 0 | V40: =+IF($S$40=K41,1,0) -> 0 | W40: =+IF($S$40=#REF!,1,0) -> #REF! | X40: =+IF($S$40=#REF!,1,0) -> #REF! | Y40: =+IF($S$40=#REF!,1,0) -> #REF! | BJ40: 828116
A41: OBJETO DE LA CERTIFICACION VALIDA LA EXPERIENCIA ESPECIFICA | D41: CUMPLE | G41: CUMPLE | R41: RUP | S41: CUMPLE | T41: =+IF($S$41=D52,1,0) -> 0 | U41: =+IF($S$41=H52,1,0) -> 0 | V41: =+IF($S$41=K52,1,0) -> 0 | W41: =+IF($S$41=#REF!,1,0) -> #REF! | X41: =+IF($S$41=#REF!,1,0) -> #REF! | Y41: =+IF($S$41=#REF!,1,0) -> #REF! | BJ41: =+H36/BJ40 -> 0
R42: FE | S42: CUMPLE | T42: =+IF(D51="CUMPLE",1,0) -> 0 | U42: =+IF(H51="CUMPLE",1,0) -> 0 | V42: =+IF(K51="CUMPLE",1,0) -> 0 | W42: =+IF(#REF!="CUMPLE",1,0) -> #REF! | X42: =+IF(#REF!="CUMPLE",1,0) -> #REF! | Y42: =+IF(#REF!="CUMPLE",1,0) -> #REF! | BJ42: 877803
A43: ITEM REPRESENTATIVOS | D43: ANEXA EXPERIENCIA | G43: ANEXA EXPERIENCIA
A44: CONTRATO CUMPLE 50% ITEM REPRESENTATIVOS | D44: CUMPLE | G44: CUMPLE
A45: VALOR CONTRATOS CUMPLE 100% PO 45 SMMLV E ITEM REPRESENTATIVOS | D45: CUMPLE | BJ45: =+H36/BJ42 -> 0
A47: INFORMACION RUP | R47: FR | S47: CUMPLE | T47: =+IF(D49="CUMPLE",1,0) -> 0 | U47: =+IF(H49="CUMPLE",1,0) -> 0 | V47: =+IF(K49="CUMPLE",1,0) -> 0 | W47: =+IF(#REF!="CUMPLE",1,0) -> #REF! | X47: =+IF(#REF!="CUMPLE",1,0) -> #REF! | Y47: =+IF(#REF!="CUMPLE",1,0) -> #REF!
A48: FECHA DE RENOVACIÓN: | R48: RESULT | T48: =+IF((T41+T42+T47=3),1,0) -> 0 | U48: =+IF((U41+U42+U47=3),1,0) -> 0 | V48: =+IF((V41+V42+V47=3),1,0) -> 0 | W48: =+IF((W41+W42+W47=3),1,0) -> #REF! | X48: =+IF((X41+X42+X47=3),1,0) -> #REF! | Y48: =+IF((Y41+Y42+Y47=3),1,0) -> #REF!
A50: FECHA EXPEDICION: | R50: SMMLV | T50: =+ABS(D39-D53) -> 1023.81 | U50: =+ABS(H39-H53) -> 0 | V50: =+ABS(K39-K53) -> 0 | W50: =+ABS(#REF!-#REF!) -> #REF! | X50: =+ABS(#REF!-#REF!) -> #REF! | Y50: =+ABS(#REF!-#REF!) -> #REF!
R51: RESULT | T51: =+IF(D55="CUMPLE",1,0) -> 0 | U51: =+IF(H55="CUMPLE",1,0) -> 0 | V51: =+IF(K55="CUMPLE",1,0) -> 0 | W51: =+IF(#REF!="CUMPLE",1,0) -> #REF! | X51: =+IF(#REF!="CUMPLE",1,0) -> #REF! | Y51: =+IF(#REF!="CUMPLE",1,0) -> #REF!
A52: CONTRATO REGISTRADO EN RUP
A53: VALOR EN SMMLV CONTRATO | J53: =J39 -> 0 | R53: C1 | S53: CUMPLE | T53: =+IF($S$53=D57,1,0) -> 1 | U53: =+IF($S$53=H57,1,0) -> 0 | V53: =+IF($S$53=K57,1,0) -> 0 | W53: =+IF($S$53=#REF!,1,0) -> #REF! | X53: =+IF($S$53=#REF!,1,0) -> #REF! | Y53: =+IF($S$53=#REF!,1,0) -> #REF!
A54: SMMLV EN EL RUP/CON % PARTICIPACION | D54: =D53*D55 -> 0 | J54: =J53*J55 -> 0
A55: % PARTICIPACION | J55: =+J35 -> 0 | R55: C2 | S55: CUMPLE | T55: =+IF($S$55=#REF!,1,0) -> #REF! | U55: =+IF($S$55=#REF!,1,0) -> #REF! | V55: =+IF($S$55=#REF!,1,0) -> #REF! | W55: =+IF($S$55=#REF!,1,0) -> #REF! | X55: =+IF($S$55=#REF!,1,0) -> #REF! | Y55: =+IF($S$55=#REF!,1,0) -> #REF!
A56: CONSECUTIVO/PAGINA EN RUP
A57: CLASIFICACION UNSPSC | C57: 72101500 72103300 72102900 | D57: CUMPLE | G57: CUMPLE | R57: RESULT | T57: =+IF((T53+T55>=1),1,0) -> #REF! | U57: =+IF((U53+U55>=1),1,0) -> #REF! | V57: =+IF((V53+V55>=1),1,0) -> #REF! | W57: =+IF((W53+W55>=1),1,0) -> #REF! | X57: =+IF((X53+X55>=1),1,0) -> #REF! | Y57: =+IF((Y53+Y55>=1),1,0) -> #REF!
A59: 4.4.1 PERSONAL MINIMO REQUERIDO | K59: CUMPLE
A60: RESIDENTE OBRA
A61: RESIDENTE OBRA | D61: PROFESION | F61: EXPERIENCIA GENERAL | H61: EXPERIENCIA ESPECIFICA EN SMMLV
A62: JAVIER CARDONA OSPINA | D62: ING CIVIL | F62: Fecha Expedición Matrícula: | G62: NA | H62: NA
F63: 42657
A64: El oferente debe contar como mínimo con un (1) “RESIDENTE DE OBRA, TECNOLOGO EN OBRAS CIVILES” con una disponibilidad del 100% para la obra, quien deberá acreditar una Experiencia en calidad de “Residente de Obras” en máximo tres (3) contratos suscritos y ejecutados cuyo objeto y/o alcance y/o actividades sean MANTENIMIENTO, Y/O REMODELACIÓN, Y/O MEJORAMIENTO, Y/O ADECUACIÓN, Y/O REHABILITACIÓN DE INFRESTRUCTURA EN EDIFICACIONES PÚBLICAS y que sumados sean iguales o superen el 100% del presupuesto oficial actualizado mediante equivalencia de S.M.M.L.V, este personal de obra debe acreditar curso de alturas vigente. | D64: CUMPLE | F64: CUMPLE | H64: CUMPLE
D65: FOTOCOPIA CEDULA CIUDADANIA | H65: CUMPLE
D66: FOTOCOPIA MATRICULA | H66: CUMPLE
D67: DIPLOMA Y/O ACTA DE GRADO DE LA PROFESION | H67: CUMPLE
D68: COPNIA VIGENTE | H68: CUMPLE
D69: CERTIFICADO DE TRABAJO EN ALTURAS | H69: CUMPLE
D70: CARTA DE INTENCION SUSCRITA POR EL PROFESIONAL O PERSONA PROPUESTA PARA EL CARGO DONDE SE COMPROMETA CON EL 100% DEDICACION DEL CARGO | H70: CUMPLE
A72: SISO | K72: CUMPLE
A73: SISO | D73: PROFESION | F73: EXPERIENCIA GENERAL | H73: EXPERIENCIA ESPECIFICA
A74: LUZ MERCY DURANGO GUTIERREZ | D74: SEGURIDAD Y SALUD EN EL TRABAJO | F74: Fecha Expedición Matrícula: | G74: NA | H74: NA
F75: 36378
A76: El oferente debe contar como mínimo con un (1) “TECNOLOGO EN SEGURIDAD Y SALUD EN EL TRABAJO” con una disponibilidad del 100% para la obra, quien deberá acreditar una Experiencia en calidad de “profesional en salud ocupacional” en máximo tres (3) contratos suscritos y ejecutados, cuyo objeto y/o alcance y/o actividades sea el MANTENIMIENTO, Y/O REMODELACIÓN, Y/O MEJORAMIENTO, Y/O ADECUACIÓN, Y/O REHABILITACIÓN DE INFRESTRUCTURA EN EDIFICACIONES PÚBLICAS, que sumados sean iguales o superen el 100% del presupuesto oficial actualizado mediante equivalencia de S.M.M.L.V. El profesional en Seguridad y Salud en el Trabajo, deberá acreditar certificación como Coordinador de Trabajo en Alturas vigente. | D76: CUMPLE | F76: =+IF(G74>5, "CUMPLE", "NO CUMPLE") -> CUMPLE | H76: CUMPLE
D77: FOTOCOPIA CEDULA CIUDADANIA | H77: CUMPLE
D78: FOTOCOPIA MATRICULA | H78: CUMPLE
D79: DIPLOMA Y/O ACTA DE GRADO DE LA PROFESION | H79: CUMPLE
D80: MATRICULA VIGENTE | H80: CUMPLE
D81: CERTIFICADO DE TRABAJO EN ALTURAS | H81: CUMPLE
D82: CARTA DE INTENCION SUSCRITA POR EL PROFESIONAL O PERSONA PROPUESTA PARA EL CARGO DONDE SE COMPROMETA CON EL 100% DEDICACION DEL CARGO | H82: CUMPLE
A84: =+CONCATENATE("PROPONENTE: ",C12) -> PROPONENTE: GUSTAVO GIRALDO MUÑOZ
A85: OBSERVACIONES | R85: =+IF(#REF!="CUMPLE",1,"NC") -> #REF! | S85: =IF(ISNUMBER(#REF!),#REF!,"") | T85: =+IF(R85=1,S85,"") -> #REF!
R86: =+IF(#REF!="CUMPLE",1,"NC") -> #REF! | S86: =IF(ISNUMBER(#REF!),#REF!,"") | T86: =+IF(R86=1,S86,"") -> #REF!
A87: PROPONENTE | E87: HABILITADO
A88: EXPERIENCIA GENERAL PROPONENTE | E88: EL PROPONENTE DA CLARIDAD A LA SOLICITUD DE OBSERCIONES Y SUBSANA CON DOCUMENTOS FIRMADOS POR LA INTERVENTORIA Y ENCARGADO DE LA ENTIDAD CONTRATANTE ACTA FINAL DE OBRA Y ACTA DE LIQUIDACION DEACUERDO AL NUMERAL 2,7,5 REGLAS PARA VALORAR LA EXPERIENCIA CUMPLE
A89: EXPERIENCIA ESPECIFICA PROPONENTE | E89: EL PROPONENTE DA CLARIDAD A LA SOLICITUD DE OBSERCIONES Y SUBSANA CON DOCUMENTOS FIRMADOS POR LA INTERVENTORIA Y ENCARGADO DE LA ENTIDAD CONTRATANTE ACTA FINAL DE OBRA Y ACTA DE LIQUIDACION DEACUERDO AL NUMERAL 2,7,5 REGLAS PARA VALORAR LA EXPERIENCIA CUMPLE
A90: =A61 -> RESIDENTE OBRA | E90: CUMPLE | W90: 1992 | X90: 65190
A91: SISO | E91: CUMPLE | W91: 1993 | X91: 81510
W92: 1994 | X92: 98700
W93: 1995 | X93: 118934
W94: 1996 | X94: 142125
B95: COMITÉ EVALUADOR | H95: COMITÉ EVALUADOR | W95: 1997 | X95: 172005
B96: INGENIERA VANESSA KATHERINE RINCÓN GAVIRIA | H96: OSCAR FABIAN RODRIGUEZ RIVERA
W97: 1998 | X97: 203826
W98: 1999 | X98: 236460
W99: 1999 | X99: 236460
W100: 2001 | X100: 286000
W101: 2002 | X101: 309000
W102: 2003 | X102: 332000
W103: 2004 | X103: 358000
W104: 2005 | X104: 381500
W105: 2006 | X105: 408000
W106: 2007 | X106: 433700
...

Sheet ANEXO P1
B2: EXPERIENCIA ESPECIFICA RESIDENTE OBRA
B3: No CERTIFICACION | C3: CONTRATANTE | D3: OBJETO | E3: VALOR DEL CONTRATO | F3: AÑO DE TERMINACION | G3: VALOR DEL SMMLV EN EL AÑO DE TERMINACION | H3: VALOR DEL CONTRATO EN SMMLV | I3: CARGO | J3: EXPERIENCIA VALIDA | K3: OBSERVACION
B4: CERTIFICACION 1 | C4: CONSTRUCCIONES, MONTAJES Y PARTES ELECTRICAS SAS - CONSMOELEC | D4: ADECUACION, MANTENIMIENTO Y SAF DE LAS OFICINAS LOCAL DE TIIBU NORTE DE SANTANDER”, para el instituto colombiano de agricultura durante el 25 de noviembre del 2022 al 16 de diciembre de 2022. | E4: 37449298 | F4: 2022 | G4: =+LOOKUP(F4,'P1'!$W$91:$W$122,'P1'!$X$91:$X$122) -> 1000000 | H4: =E4/G4 -> 37.449298 | I4: INGENIERO SUPERVISOR | J4: SI
B5: CERTIFICACION 2 | C5: CONSTRUCCIONES, MONTAJES Y PARTES ELECTRICAS SAS - CONSMOELEC | D5: MANTENIMIENTO, REPARACIÓN, Y ADECUACION DE LA CUBIERTA Y CIELO RASO DEL PRIMER PISO DE LA SEDE CENTRAL DEL INSTITUTO NACIONAL PARA CIEGOS – INCI EN LA CIUDAD DE BOGOTÁ DC, durante el 27 de octubre al 26 de noviembre del 2022 | E5: =4089789+1310399 -> 5400188 | F5: 2022 | G5: =+LOOKUP(F5,'P1'!$W$91:$W$122,'P1'!$X$91:$X$122) -> 1000000 | H5: =E5/G5 -> 5.400188 | I5: INGENIERO SUPERVISOR | J5: SI
B6: CERTIFICACION 3 | C6: CONSTRUCCIONES, MONTAJES Y PARTES ELECTRICAS SAS - CONSMOELEC | D6: MANTENIMIENTO DE CUBIERTA Y TECHO DE LA RAMPA UBICADA EN EL BLOQUE A EXTENSION FACATATIVÁ, para la UNIVERSIDAD DE CUNDINAMARCA durante el 16 de enero al 16 de marzo del 2023. | E6: 24442548 | F6: 2023 | G6: =+LOOKUP(F6,'P1'!$W$91:$W$122,'P1'!$X$91:$X$122) -> 1160000 | H6: =E6/G6 -> 21.071162 | I6: INGENIERO SUPERVISOR | J6: SI
E9: CANTIDAD DE CONTRATOS VALIDADOS | H9: =ROUND(COUNTIF(J4:J8,"SI"),2) -> 3
B11: EXPERIENCIA ESPECIFICA INGENIERO ELECTRICO Y/O INGENIERO ELECTRICISTA
B12: No CERTIFICACION | C12: CONTRATANTE | D12: OBJETO | E12: VALOR DEL CONTRATO | F12: AÑO DE TERMINACION | G12: VALOR DEL SMMLV EN EL AÑO DE TERMINACION | H12: VALOR DEL CONTRATO EN SMMLV | I12: CARGO | J12: EXPERIENCIA VALIDA | K12: OBSERVACION
E18: CANTIDAD DE CONTRATOS VALIDADOS | H18: =ROUND(COUNTIF(J13:J17,"SI"),2) -> 0
B20: EXPERIENCIA ESPECIFICA SISO
B21: No CERTIFICACION | C21: CONTRATANTE | D21: OBJETO | E21: VALOR DEL CONTRATO | F21: AÑO DE TERMINACION | G21: VALOR DEL SMMLV EN EL AÑO DE TERMINACION | H21: VALOR DEL CONTRATO EN SMMLV | I21: CARGO | J21: EXPERIENCIA VALIDA | K21: OBSERVACION
B22: CERTIFICACION 1 | C22: CONSTRUCCIONES, MONTAJES Y PARTES ELECTRICAS SAS - CONSMOELEC | D22: ADECUACION, MANTENIMIENTO Y SAF DE LAS OFICINAS LOCAL DE TIIBU NORTE DE SANTANDER”, para el instituto colombiano de agricultura durante el 25 de noviembre del 2022 al 16 de diciembre de 2022. | E22: 37449298 | F22: 2022 | G22: =+LOOKUP(F22,'P1'!$W$91:$W$122,'P1'!$X$91:$X$122) -> 1000000 | H22: =E22/G22 -> 37.449298 | I22: COORDINADOR HSEQ | J22: SI
B23: CERTIFICACION 2 | C23: CONSTRUCCIONES, MONTAJES Y PARTES ELECTRICAS SAS - CONSMOELEC | D23: MANTENIMIENTO, REPARACIÓN, Y ADECUACION DE LA CUBIERTA Y CIELO RASO DEL PRIMER PISO DE LA SEDE CENTRAL DEL INSTITUTO NACIONAL PARA CIEGOS – INCI EN LA CIUDAD DE BOGOTÁ DC, durante el 27 de octubre al 26 de noviembre del 2022 | E23: =4089789+1310399 -> 5400188 | F23: 2022 | G23: =+LOOKUP(F23,'P1'!$W$91:$W$122,'P1'!$X$91:$X$122) -> 1000000 | H23: =E23/G23 -> 5.400188 | I23: COORDINADOR HSEQ | J23: SI
B24: CERTIFICACION 3 | C24: CONSTRUCCIONES, MONTAJES Y PARTES ELECTRICAS SAS - CONSMOELEC | D24: MANTENIMIENTO DE CUBIERTA Y TECHO DE LA RAMPA UBICADA EN EL BLOQUE A EXTENSION FACATATIVÁ, para la UNIVERSIDAD DE CUNDINAMARCA durante el 16 de enero al 16 de marzo del 2023. | E24: 24442548 | F24: 2023 | G24: =+LOOKUP(F24,'P1'!$W$91:$W$122,'P1'!$X$91:$X$122) -> 1160000 | H24: =E24/G24 -> 21.071162 | I24: COORDINADOR HSEQ | J24: SI
E27: CANTIDAD DE CONTRATOS VALIDADOS | H27: =ROUND(COUNTIF(J22:J26,"SI"),2) -> 3
