Workbook
Name contratación: 'IDENTIFICACION Y ANALISIS'!$B$39:$B$43
Name ejecución: 'IDENTIFICACION Y ANALISIS'!$B$45:$B$64
Name OPCIONES: 'ASIGNACION Y TRATAMIENTO'!$B$52:$B$54
Name planeación: 'IDENTIFICACION Y ANALISIS'!$B$19:$B$29
Name selección: 'IDENTIFICACION Y ANALISIS'!$B$31:$B$37

Sheet CONTEXTO
C1: MATRIZ DE RIESGOS EN CONTRATACIÓN | F1: Código: GCO-GCI-F164 Versión: 01 Vigencia: 16 diciembre de 2021 Caso HOLA: 206942
B5: ESTABLECER EL CONTEXTO
B6: El punto inicial es identificar el contexto en el cual interactúa la Entidad Estatal para conocer el ambiente social, económico y político, e identificar (i) sus propios Riesgos; (ii) los Riesgos comunes a sus Procesos de Contratación; y (iii) los Riesgos del Proceso de Contratación en particular. (Aplica igual para contratos interadministrativos) En este paso la Entidad Estatal debe identificar los aspectos que se mencionan a continuación y los posibles efectos adversos que estos pueden generar.
B7: Objeto del Proceso de Contratación: “REALIZAR A PRECIOS UNITARIOS FIJOS SIN FORMULA DE REAJUSTE A MONTO AGOTABLE LOS MANTENIMIENTOS PREVENTIVO Y/O CORRECTIVO DE LOS SALONES COMUNALES UBICADOS EN LA LOCALIDAD DE BOSA EN BOGOTA DC”
B8: Partícipes del Proceso de Contratación: Agentes externos (Organismos de control, veedurías ciudadanas), agentes internos (supervisores, funcionarios y demás usuarios).
B9: Ciudadanía que se beneficia del Proceso de Contratación: Agentes internos (funcionarios, pasantes) y externos (contratistas, visitantes y usuarios externos en general)
B10: Capacidad de la Entidad Estatal entendida como la disponibilidad de recursos y conocimientos para el Proceso de Contratación: La disponibilidad de la Entidad de sus recursos y el conocimiento de su equipo humano se refleja en los diferentes funcionarios que participarán en las diversas etapas del proceso de selección: participan las áreas que requieren los procesos de contratación (Etapa de Estudios previos), el área de Contratos de la Secretaría General (Etapa contractual), los evaluadores designados, idóneos y con experiencia en el tema.
B11: Suficiencia del presupuesto oficial del Proceso de Contratación: De acuerdo al Plan de contratación para la vigencia (indique el año 2023), se estimaron los recursos necesarios para el desarrollo del proceso de la contratación, el cual tendrá el soporte presupuestal suficiente para su desarrollo.
B12: Condiciones geográficas y de acceso del lugar en el cual se debe cumplir el objeto del Proceso de Contratación: El suministro, obra o servicio se prestará en la Localidad de Bosa
B13: Entorno socio ambiental: Si aplican
B14: Condiciones políticas: Si aplican
B15: Factores ambientales: El contratista debe manejar normas ambientales para el destino final de algunos repuestos que se retiran cuando se hace mantenimiento correctivo al sistema.
B16: Sector del objeto del Proceso de Contratación y su mercado: Todos los clientes (entidades privadas, Estatales y Gubernamentales), alrededor en todo el Territorio Nacional Colombiano y el exterior, quienes solicitan equipos y servicios de seguridad y control de acceso, con niveles elevados de flujo peatonal.
... B18: Experiencia propia y de otras Entidades Estatales en Procesos de Contratación del mismo tipo: La Entidad contrata anualmente el programa de seguros necesario para su funcionamiento, por lo cual es un proceso que ha sido adelantado de manera permanente; así las cosas se cuenta con la experiencia adquirida en el adelantamiento de este tipo de procesos que ha sido la necesaria para prevenir circunstancias inesperadas y lograr el cumplimiento de los fines de la contratación".

Sheet IDENTIFICACION Y ANALISIS
C2: MATRIZ DE RIESGOS DE CONTRATACIÓN | F2: Código: GCO-GCI-F164 Versión: 01 Vigencia: 16 diciembre de 2021 Caso HOLA: 206942
B6: DEFINICIONES
B7: RIESGO: evento que puede generar efectos adversos y de distinta magnitud en el logro de los objetivos del Proceso de Contratación o en la ejecución de un contrato
B8: RIESGOS PREVISIBLES: Son los posibles hechos o circunstancias que por la naturaleza del contrato y de la actividad a ejecutar es factible su ocurrencia.
B9: ETAPA DE PLANEACIÓN: Está comprendida entre la elaboración del Plan Anual de Adquisiciones y la fecha en la cual decide continuar o no con el Proceso de Contratación
B10: ETAPA DE SELECCIÓN: Está comprendida entre el acto de Apertura del Proceso de Contratación y la Adjudicación o la declaración de desierto del Proceso de Contratación
B11: ETAPA DE CONTRATACIÓN: Una vez adjudicado el contrato objeto del Proceso de Contratación, inicia la etapa de contratación en la cual se debe cumplir con el cronograma previsto para la celebración del contrato, el registro presupuestal, la publicación en el SECOP y el cumplimiento de los requisitos para el perfeccionamiento, ejecución y pago.
B12: ETAPA DE EJECUCIÓN: Inicia una vez cumplidos los requisitos previstos para iniciar la ejecución del contrato respectivo y termina con el vencimiento del plazo del contrato o la fecha de liquidación si hay lugar a ella.
B13: RIESGO GENERAL: Es un riesgo de todos los procesos de contratación adelantados por la Entidad Estatal, por lo cual está presente en toda su actividad contractual.
B14: RIEGO ESPECIFICO: Es un riesgo propio del proceso de contratación objeto de análisis.
B15: INSTRUCCIONES PARA LA IDENTIFICACIÓN, ANALISIS, EVALUACIÓN , ASIGNACIÓN Y TRATAMIENTO DE RIESGOS EN LA CONTRATACIÓN
B16: 1) Identifique los riesgos previsibles que le apliquen al objeto contractual que se adelante; En caso de identificar otro riesgo inclúyalo en la proforma e informe al Área de Contratos de la Secretaría General para que sea actualizada en el SIG.
C17: ETAPAS | D17: CLASE | E17: FUENTE | F17: TIPO
C18: PLANEACIÓN
B19: Inadecuada escogencia de la modalidad de contratación | D19: General | E19: Interno | F19: Operacionales
B20: Requisitos habilitantes inapropiados para el proceso de selección | D20: General | E20: Interno | F20: Operacionales
B21: Inadecuado análisis económico estimativo del valor del contrato | D21: General | E21: Interno | F21: Economicos
B22: Inadecuada descripción del bien o servicio requerido | D22: General | E22: Interno | F22: Operacionales
B23: Inadecuada elaboración de estudios y diseños | D23: General | E23: Interno | F23: Operacionales
B24: Requisitos habilitantes que impidan la selección objetiva | D24: General | E24: Interno | F24: Operacionales
B25: Falta de profundidad en el estudio de sector no identificandose claramente aspectos de oferta y demanda | D25: General | E25: Interno | F25: Economicos
B26: Ausencia de fundamentación de la justificación y conveniencia de la contratación | D26: General | E26: Interno | F26: Operacionales
B27: Inadecuada identificación de las condiciones contractuales | D27: General | E27: Interno | F27: Operacionales
B28: No aprobación o demoras en la expedición vigencias futuras | D28: General | E28: Interno | F28: Operacionales
B29: Apertura de procesos sin disponibilidad presupuestal | D29: General | E29: Interno | F29: Operacionales
C30: SELECCIÓN
B31: Inadecuada evaluación de las ofertas y/o verificación de requisitos habilitantes | D31: General | E31: Interno | F31: Operacionales
B32: Inadecuado manejo administrativo del proceso contractual | D32: General | E32: Interno | F32: Operacionales
B33: Falta de claridad en la elaboración de los actos administrativos | D33: General | E33: Interno | F33: Operacionales
B34: Contestación inoportuna a todas las observaciones formuladas a los documentos de la contratación | D34: General | E34: Interno | F34: Operacionales
B35: No publicación de la documentación del proceso de selección en el SECOP | D35: General | E35: Interno | F35: Operacionales
B36: Confabulacion de los proponentes (Colusión) | D36: General | E36: Externo | F36: Operacionales
B37: Selección de ofertas con precios artificialmente bajos. | D37: General | E37: Interno | F37: Operacionales
C38: CONTRATACIÓN
B39: Riesgo de que no se firme el contrato. | D39: General | E39: Interno | F39: Juridicos
B40: Falta de constitución o constitución tardía de la garantía única. Aceptación de garantías que no se ajustan a lo contemplado en el contrato | D40: General | E40: Interno | F40: Juridicos
B41: Falta de solicitud o solicitud tardía del registro presupuestal | D41: General | E41: Interno | F41: Juridicos
B42: No publicación de la documentación del proceso de selección en el SECOP | D42: General | E42: Interno | F42: Juridicos
B43: Presentación de reclamos de terceros sobre la selección del oferente que retrasen el perfeccionamiento del contrato. | D43: General | E43: Externo | F43: Juridicos
C44: EJECUCIÓN
...

Sheet EVALUACION
D1: MATRIZ DE RIESGOS DE CONTRATACIÓN | K1: Código: GCO-GCI-F164 Versión: 01 Vigencia: 16 diciembre de 2021 Caso HOLA: 206942
B5: Objeto Contractual: REALIZAR A PRECIOS UNITARIOS FIJOS SIN FORMULA DE REAJUSTE A MONTO AGOTABLE LOS MANTENIMIENTOS PREVENTIVO Y/O CORRECTIVO DE LOS SALONES COMUNALES UBICADOS EN LA LOCALIDAD DE BOSA EN BOGOTA DC
B6: INSTRUCCIONES PARA LA IDENTIFICACIÓN, ANALISIS, EVALUACIÓN , ASIGNACIÓN Y TRATAMIENTO DE RIESGOS EN LA CONTRATACIÓN
B7: 1) Seleccione el tipo de calificación (Cualitativa ó Monetaria)
B8: 2) Seleccione la(s) etapas y los riesgos que aplican al objeto contractual
B9: 3) Asigne la probabilidad de ocurrencia del riesgo, de conformidad con la tabla de probabilidad
B10: 4) Asigne el impacto que generaría la materialización del riesgo, de conformidad con la tabla de impacto
B11: 5) Al realizar las anteriores actividades se obtendrá la calificación total y la valoración del riesgo (prioridad) , traslde al formato evaluación con controles, los que tengan un nivel de criticidad diferente a bajo.
B12: 6) Continúe en la hoja de evaluación de controles
B14: CALIFICACIÓN | H14: Cualitativa
B15: ETAPA | C15: Descripción (Que puede pasar y, cómo puede ocurrir) | H15: Consecuencias de la ocurrencia del evento | I15: Probabilidad de Ocurrencia | J15: Impacto | K15: Calificación Total | L15: Prioridad
B16: SELECCIÓN | C16: Inadecuada evaluación de las ofertas y/o verificación de requisitos habilitantes | H16: Retraso en la ejecución del contrato. Generación de incumplimiento. | I16: 3 | J16: 4 | K16: =+I16+J16 -> 7 | L16: =IF(K16<=4,"BAJO",IF(K16=5,"MEDIO",IF(K16=6,"ALTO",IF(K16=7,"ALTO","EXTREMO")))) -> ALTO
B17: EJECUCIÓN | C17: Inexistencia o limitaciones de medios de acceso y/o transporte de personas, materiales y/o equipos. | H17: Retraso en la ejecución del cronograma. | I17: 2 | J17: 4 | K17: =+I17+J17 -> 6 | L17: =IF(K17<=4,"BAJO",IF(K17=5,"MEDIO",IF(K17=6,"ALTO",IF(K17=7,"ALTO","EXTREMO")))) -> ALTO
B18: EJECUCIÓN | C18: Variación de los precios del mercado | H18: Retraso en la ejecución del cronograma. Mayores cantidades obra | I18: 1 | J18: 4 | K18: =+I18+J18 -> 5 | L18: =IF(K18<=4,"BAJO",IF(K18=5,"MEDIO",IF(K18=6,"ALTO",IF(K18=7,"ALTO","EXTREMO")))) -> MEDIO
B19: EJECUCIÓN | C19: Incremento en las cantidades de mano de obra y/o materiales por causas imputables al contratista | H19: Afectación del cronograma. | I19: 3 | J19: 4 | K19: =+I19+J19 -> 7 | L19: =IF(K19<=4,"BAJO",IF(K19=5,"MEDIO",IF(K19=6,"ALTO",IF(K19=7,"ALTO","EXTREMO")))) -> ALTO
B20: EJECUCIÓN | C20: Demora en la solicitud y suministro de materiales de obra y pago inoportuno a proveedores por parte del contratista | H20: Retraso o parálisis de la ejecución de obra y la generación de incumplimientos | I20: 2 | J20: 4 | K20: =+I20+J20 -> 6 | L20: =IF(K20<=4,"BAJO",IF(K20=5,"MEDIO",IF(K20=6,"ALTO",IF(K20=7,"ALTO","EXTREMO")))) -> ALTO
B21: EJECUCIÓN | C21: Daño, pérdida o hurto de materiales o equipos. | H21: Retraso en la ejecución de las obras | I21: 4 | J21: 5 | K21: =+I21+J21 -> 9 | L21: =IF(K21<=4,"BAJO",IF(K21=5,"MEDIO",IF(K21=6,"ALTO",IF(K21=7,"ALTO","EXTREMO")))) -> EXTREMO
B22: EJECUCIÓN | C22: Incumplimiento del cronograma de obra por actividades no previstas | H22: Retraso en la ejecución de las obras | I22: 4 | J22: 5 | K22: =+I22+J22 -> 9 | L22: =IF(K22<=4,"BAJO",IF(K22=5,"MEDIO",IF(K22=6,"ALTO",IF(K22=7,"ALTO","EXTREMO")))) -> EXTREMO
B23: EJECUCIÓN | C23: Incumplimiento del cronograma de obra por falta de equipo humano | H23: Retraso en la ejecución de las obras | I23: 2 | J23: 4 | K23: =+I23+J23 -> 6 | L23: =IF(K23<=4,"BAJO",IF(K23=5,"MEDIO",IF(K23=6,"ALTO",IF(K23=7,"ALTO","EXTREMO")))) -> ALTO
B24: EJECUCIÓN | C24: Errores en programación de la ejecución de las actividades de obra | H24: Retraso en la ejecución del cronograma. Generación de planes de contingencia | I24: 4 | J24: 4 | K24: =+I24+J24 -> 8 | L24: =IF(K24<=4,"BAJO",IF(K24=5,"MEDIO",IF(K24=6,"ALTO",IF(K24=7,"ALTO","EXTREMO")))) -> EXTREMO
B25: EJECUCIÓN | C25: Cambio de personal propuesto y aprobado | H25: Interrupción de las actividades de obra. | I25: 2 | J25: 2 | K25: =+I25+J25 -> 4 | L25: =IF(K25<=4,"BAJO",IF(K25=5,"MEDIO",IF(K25=6,"ALTO",IF(K25=7,"ALTO","EXTREMO")))) -> BAJO
B26: EJECUCIÓN | C26: Fluctuación de los precios de los insumos | H26: Sobrecostos y retraso en la ejecución de las obras. | I26: 4 | J26: 4 | K26: =+I26+J26 -> 8 | L26: =IF(K26<=4,"BAJO",IF(K26=5,"MEDIO",IF(K26=6,"ALTO",IF(K26=7,"ALTO","EXTREMO")))) -> EXTREMO
B27: EJECUCIÓN | C27: Daños a redes internas de servicios públicos | H27: Trabajos adicionales a los contratados | I27: 3 | J27: 4 | K27: =+I27+J27 -> 7 | L27: =IF(K27<=4,"BAJO",IF(K27=5,"MEDIO",IF(K27=6,"ALTO",IF(K27=7,"ALTO","EXTREMO")))) -> ALTO
... B35: EJECUCIÓN | C35: Productos incompletos para el inicio de la liquidación | H35: Retraso en la liquidación del contrato de obra | I35: 3 | J35: 3 | K35: =+I35+J35 -> 6 | L35: =IF(K35<=4,"BAJO",IF(K35=5,"MEDIO",IF(K35=6,"ALTO",IF(K35=7,"ALTO","EXTREMO")))) -> ALTO
B38: Probabilidad | C38: Catagoria | E38: Valoración | G38: Impacto | H38: Categoria | I38: Valoración
C39: Raro (puede ocurrir excepcionalmente) | E39: 1 | H39: Insignificante | I39: 1
C40: Improbable (puede ocurrir ocasionalmente) | E40: 2 | H40: Menor | I40: 2
C41: Posible (puede ocurrir en cualquier momento futuro) | E41: 3 | H41: Moderado | I41: 3
C42: Probable (probablemente va a ocurrir) | E42: 4 | H42: Mayor | I42: 4
C43: Casi cierto (ocurre en la mayoria de circunstancias) | E43: 5 | H43: Catastrófico | I43: 5
C45: Valoración del Riesgo
C46: Calificación Cualitativa | F46: Obstruye la ejecución del contrato de manera intrascendente. | G46: Dificulta la ejecución del contrato de manera baja, aplicando medidas mínimas se pueden lograr el objeto contractual | H46: Afecta la ejecución del contrato sin alterar el beneficio para las partes | I46: Obstruye la ejecución del contrato sustancialmente pero aun así permite la consecución del objeto contractual | K46: Perturba la ejecución del contrato de manera grave imposibilitando la consecución del objeto contractual.
C47: Calificación Monetaria | F47: Los sobrecostos no representan más del uno por ciento (1%) del valor del contrato. | G47: Los sobrecostos no representan más del cinco por ciento (5%) del valor del contrato. | H47: Genera un impacto sobre el valor del contrato entre el cinco (5%) y el quince por ciento (15%). | I47: Incrementa el valor del contrato entre el quince (15%) y el treinta por ciento (30%). | K47: Impacto sobre el valor del contrato en más del treinta por ciento (30%).
C48: Categoría | E48: Valoración | F48: Insignificante | G48: Menor | H48: Moderado | I48: Mayor | K48: Catastrófico
F49: 1 | G49: 2 | H49: 3 | I49: 4 | K49: 5
C50: Raro (puede ocurrir excepcionalmente) | E50: 1 | F50: 2 | G50: 3 | H50: 4 | I50: 5 | K50: 6
C51: Improbable (puede ocurrir ocasionalmente) | E51: 2 | F51: 3 | G51: 4 | H51: 5 | I51: 6 | K51: 7
C52: Posible (puede ocurrir en cualquier momento futuro) | E52: 3 | F52: 4 | G52: 5 | H52: 6 | I52: 7 | K52: 8
C53: Probable (probablemente va a ocurrir) | E53: 4 | F53: 5 | G53: 6 | H53: 7 | I53: 8 | K53: 9
C54: Casi cierto (ocurre en la mayoria de circunstancias) | E54: 5 | F54: 6 | G54: 7 | H54: 8 | I54: 9 | K54: 10
...

Sheet EVALUACION CON CONTROLES
D2: MATRIZ DE RIESGOS DE CONTRATACIÓN | P2: Código: GCO-GCI-F164 Versión: 01 Vigencia: 16 diciembre de 2021 Caso HOLA: 206942
A6: =+EVALUACION!B5 -> Objeto Contractual: REALIZAR A PRECIOS UNITARIOS FIJOS SIN FORMULA DE REAJUSTE A MONTO AGOTABLE LOS MANTENIMIENTOS PREVENTIVO Y/O CORRECTIVO DE LOS SALONES COMUNALES UBICADOS EN LA LOCALIDAD DE BOSA EN BOGOTA DC
A7: INSTRUCCIONES PARA LA IDENTIFICACIÓN, ANALISIS, EVALUACIÓN , ASIGNACIÓN Y TRATAMIENTO DE RIESGOS EN LA CONTRATACIÓN
A8: 1) Describa el tratamiento/controles a ser implementados
A9: 2) Teniendo en cuenta el tratamiento descrito, asigne la probabilidad de ocurrencia del riesgo, de conformidad con la tabla de probabilidad
A10: 3) Teniendo en cuenta el tratamiento descrito, asigne el impacto que generaría la materialización del riesgo, de conformidad con la tabla de impacto
A11: 4) Al realizar las anteriores actividades se obtendrá la calificación total y la valoración del riesgo (prioridad)
A12: 5) Diligencie la información de las démas columnas
A13: 7) Continúe en la hoja de asignación y tratamiento
A15: ETAPA | B15: Descripción (Que puede pasar y, cómo puede ocurrir) | F15: Tratamiento/Controles a ser implementados | H15: Probabilidad de Ocurrencia | I15: Impacto | J15: Calificación Total | K15: Prioridad | L15: ¿Afecta el equilibrio económico del contrato? | M15: Persona responsable por implementar el tratamiento | N15: Fecha estimada en que se inicia el tratamiento | O15: Fecha estimada en que se completa el tratamiento | P15: ¿Cómo se realiza el monitoreo? | Q15: Periodicidad ¿Cuándo?
A16: =+EVALUACION!B16 -> SELECCIÓN | B16: =+EVALUACION!C16 -> Inadecuada evaluación de las ofertas y/o verificación de requisitos habilitantes | F16: Cumplir con los requerimientos de personal y garantías establecidos en los pliegos de condiciones. Expedición oportuna del CRP. Aprobación oportuna de garantías Aplicación de pólizas, iniciación de procesos de incumplimiento. | H16: =+EVALUACION!I16 -> 3 | I16: =+EVALUACION!J16 -> 4 | J16: =+H16+I16 -> 7 | K16: =IF(J16<=4,"BAJO",IF(J16=5,"MEDIO",IF(J16=6,"ALTO",IF(J16=7,"ALTO","EXTREMO")))) -> ALTO | L16: no | M16: contratista | N16: Ejecución del contrato | O16: Ejecución del contrato | P16: Realizar seguimiento al cumplimiento de los requisitos de ejecucion del contrato y entrega documentacon del personal para la firma de acta de inicio | Q16: En el momento del trámite
A17: =+EVALUACION!B17 -> EJECUCIÓN | B17: =+EVALUACION!C17 -> Inexistencia o limitaciones de medios de acceso y/o transporte de personas, materiales y/o equipos. | F17: Implementar en el pliego de condiciones la realización de visita al proyecto a contratar con el fin de que desde el inicio se contemplen las condiciones de accesibilidad y transporte, Tener en cuenta en los APU las actividades que involucren transporte de material y equipos. | H17: =+EVALUACION!I17 -> 2 | I17: =+EVALUACION!J17 -> 4 | J17: =+H17+I17 -> 6 | K17: =IF(J17<=4,"BAJO",IF(J17=5,"MEDIO",IF(J17=6,"ALTO",IF(J17=7,"ALTO","EXTREMO")))) -> ALTO | L17: no | M17: contratista | N17: Ejecución del contrato | O17: Ejecución del contrato | P17: Revisión de la formulación de la propuesta | Q17: Ejecución del contrato
A18: =+EVALUACION!B18 -> EJECUCIÓN | B18: =+EVALUACION!C18 -> Variación de los precios del mercado | F18: Establecer en el pliego de condiciones la posibilidad de que en caso de reducción de la oferta de materiales y/o equipos requeridos para la ejecución del contrato se pueda proponer la utilización de materiales y/o equipo con características similares o mejores a los solicitados en el anexo técnico y especificaciones particulares. el contratista adelantara el análisis y propondrá el materia y/o equipo que remplazara para aprobación del interventor y tramite ante la supervisión. Proveer la compra de materiales necesarios para la ejecución en mediano plazo. | H18: =+EVALUACION!I18 -> 1 | I18: =+EVALUACION!J18 -> 4 | J18: =+H18+I18 -> 5 | K18: =IF(J18<=4,"BAJO",IF(J18=5,"MEDIO",IF(J18=6,"ALTO",IF(J18=7,"ALTO","EXTREMO")))) -> MEDIO | L18: si | M18: contratista | N18: Ejecución del contrato | O18: Ejecución del contrato | P18: Proveer la compra de materiales necesarios para la ejecución en mediano plazo. Realizar ensayos de laboratorio y solicitar certificaciones de calidad del material a proponer para remplazar, expedidos por el proveedor. | Q18: En el momento del trámite
A19: =+EVALUACION!B19 -> EJECUCIÓN | B19: =+EVALUACION!C19 -> Incremento en las cantidades de mano de obra y/o materiales por causas imputables al contratista | F19: El supervisor realizara seguimiento a las actividades ejecutadas por parte del contratista. El contratista contara con personal de obra calificado y atenderá los planes de contingencia propuestos. El contratista asumirá los costos generados. | H19: =+EVALUACION!I19 -> 3 | I19: =+EVALUACION!J19 -> 4 | J19: =+H19+I19 -> 7 | K19: =IF(J19<=4,"BAJO",IF(J19=5,"MEDIO",IF(J19=6,"ALTO",IF(J19=7,"ALTO","EXTREMO")))) -> ALTO | L19: si | M19: contratista | N19: Ejecución del contrato | O19: Ejecución del contrato | P19: Revisando la ejecución de las actividades de obra | Q19: Ejecución del contrato
A20: =+EVALUACION!B20 -> EJECUCIÓN | B20: =+EVALUACION!C20 -> Demora en la solicitud y suministro de materiales de obra y pago inoportuno a proveedores por parte del contratista | F20: Implementar un adecuado control de adquisición de materiales teniendo en cuenta el desarrollo del cronograma de ejecución del contrato. Disponer de los recursos financieros necesarios para atender la solicitudes de material. | H20: =+EVALUACION!I20 -> 2 | I20: =+EVALUACION!J20 -> 4 | J20: =+H20+I20 -> 6 | K20: =IF(J20<=4,"BAJO",IF(J20=5,"MEDIO",IF(J20=6,"ALTO",IF(J20=7,"ALTO","EXTREMO")))) -> ALTO | L20: si | M20: contratista | N20: Ejecución del contrato | O20: Ejecución del contrato | P20: Seguimiento a las actividades de obra y su desarrollo | Q20: Ejecución del contrato
A21: =+EVALUACION!B21 -> EJECUCIÓN | B21: =+EVALUACION!C21 -> Daño, pérdida o hurto de materiales o equipos. | F21: Implementar la seguridad necesaria para la ejecución de las obras. Asumir los costos adicionales que se generen en razón a daño, pérdida o hurto de materiales o equipos. | H21: =+EVALUACION!I21 -> 4 | I21: =+EVALUACION!J21 -> 5 | J21: =+H21+I21 -> 9 | K21: =IF(J21<=4,"BAJO",IF(J21=5,"MEDIO",IF(J21=6,"ALTO",IF(J21=7,"ALTO","EXTREMO")))) -> EXTREMO | L21: si | M21: contratista | N21: Ejecución del contrato | O21: Ejecución del contrato | P21: Seguimiento a los tratamientos y controles que se sugieren implementar. | Q21: Ejecución del contrato
A22: =+EVALUACION!B22 -> EJECUCIÓN | B22: =+EVALUACION!C22 -> Incumplimiento del cronograma de obra por actividades no previstas | F22: Proveer y solicitar la radicación de la documentación relacionada con el trámite de las actividades no previstas en un tiempo no mayor a 15 días posterior a la identificación de la actividad. Implementación de planes de contingencia. | H22: =+EVALUACION!I22 -> 4 | I22: =+EVALUACION!J22 -> 5 | J22: =+H22+I22 -> 9 | K22: =IF(J22<=4,"BAJO",IF(J22=5,"MEDIO",IF(J22=6,"ALTO",IF(J22=7,"ALTO","EXTREMO")))) -> EXTREMO | L22: si | M22: contratista | N22: Ejecución del contrato | O22: Ejecución del contrato | P22: Realizando seguimiento a las actividades de obra | Q22: Ejecución del contrato
A23: =+EVALUACION!B23 -> EJECUCIÓN | B23: =+EVALUACION!C23 -> Incumplimiento del cronograma de obra por falta de equipo humano | F23: Elaborar la programación de equipo y recurso humano que permita ejecutar cada una de las actividades contratadas con el objetivo de proveer la cantidad de personal necesario para el cumplimiento del objetivo. Verificación y seguimiento en sitio del personal propuesto y aprobado para la ejecución de las actividades. En el caso de ser necesario contar con personal adicional los costos serán asumidos por el contratista en los casos atribuibles a este. | H23: =+EVALUACION!I23 -> 2 | I23: =+EVALUACION!J23 -> 4 | J23: =+H23+I23 -> 6 | K23: =IF(J23<=4,"BAJO",IF(J23=5,"MEDIO",IF(J23=6,"ALTO",IF(J23=7,"ALTO","EXTREMO")))) -> ALTO | L23: no | M23: contratista | N23: Ejecución del contrato | O23: Ejecución del contrato | P23: Realizando seguimiento a la programación de equipo y verificar el recurso humano propuesto y aprobado para las actividades de obra. | Q23: Ejecución del contrato
A24: =+EVALUACION!B24 -> EJECUCIÓN | B24: =+EVALUACION!C24 -> Errores en programación de la ejecución de las actividades de obra | F24: Presentación del cronograma de ejecución de obra en los aplicativos o software de control de obras solicitadas en los pliegos de condiciones. | H24: =+EVALUACION!I24 -> 4 | I24: =+EVALUACION!J24 -> 4 | J24: =+H24+I24 -> 8 | K24: =IF(J24<=4,"BAJO",IF(J24=5,"MEDIO",IF(J24=6,"ALTO",IF(J24=7,"ALTO","EXTREMO")))) -> EXTREMO | L24: si | M24: contratista | N24: Ejecución del contrato | O24: Ejecución del contrato | P24: Verificación del cruce de variables en el cronograma propuesto. | Q24: Ejecución del contrato
A25: =+EVALUACION!B25 -> EJECUCIÓN | B25: =+EVALUACION!C25 -> Cambio de personal propuesto y aprobado | F25: Aplicación del procedimiento establecido en el pliego para el cambio de personal. | H25: =+EVALUACION!I25 -> 2 | I25: =+EVALUACION!J25 -> 2 | J25: =+H25+I25 -> 4 | K25: =IF(J25<=4,"BAJO",IF(J25=5,"MEDIO",IF(J25=6,"ALTO",IF(J25=7,"ALTO","EXTREMO")))) -> BAJO | L25: no | M25: contratista | N25: Ejecución del contrato | O25: Ejecución del contrato | P25: Verificación del cumplimiento de las funciones de la interventoría en el proceso de cambio de personal. | Q25: Ejecución del contrato
A26: =+EVALUACION!B26 -> EJECUCIÓN | B26: =+EVALUACION!C26 -> Fluctuación de los precios de los insumos | F26: El contratista deberá realizar un análisis de precios de mercado para la presentación de la propuesta. Los sobrecostos ocasionados por la falta de análisis del mercado serán a cargo del contratista. | H26: =+EVALUACION!I26 -> 4 | I26: =+EVALUACION!J26 -> 4 | J26: =+H26+I26 -> 8 | K26: =IF(J26<=4,"BAJO",IF(J26=5,"MEDIO",IF(J26=6,"ALTO",IF(J26=7,"ALTO","EXTREMO")))) -> EXTREMO | L26: si | M26: contratista | N26: Ejecución del contrato | O26: Ejecución del contrato | P26: Revisión de estudio de mercado | Q26: Ejecución del contrato
A27: =+EVALUACION!B27 -> EJECUCIÓN | B27: =+EVALUACION!C27 -> Daños a redes internas de servicios públicos | F27: Verificación en planos de existencias de redes y su localización. Realización de apiques para localizar redes no evidenciadas en planos (complementar con impresión). El contratista asumirá los costos que se ocasionen como producto del daño a las redes de servicios públicos e implementara el respectivo plan de contingencia. | H27: =+EVALUACION!I27 -> 3 | I27: =+EVALUACION!J27 -> 4 | J27: =+H27+I27 -> 7 | K27: =IF(J27<=4,"BAJO",IF(J27=5,"MEDIO",IF(J27=6,"ALTO",IF(J27=7,"ALTO","EXTREMO")))) -> ALTO | L27: si | M27: contratista | N27: Ejecución del contrato | O27: Ejecución del contrato | P27: Garantizar a través de la interventoría la localización física de redes previo al inicio de las actividades de obra. Verificar el tratamiento oportuno por parte de la interventoría del daño a redes de servicios públicos afectados. | Q27: Ejecución del contrato
... A35: =+EVALUACION!B35 -> EJECUCIÓN | B35: =+EVALUACION!C35 -> Productos incompletos para el inicio de la liquidación | F35: Entrega de productos a lo largo de la ejecución de la obra una vez haya finalizado cada etapa constructiva. Realizar seguimiento a los productos solicitados en el transcurso del desarrollo del contrato de obra y solicitar para pagos parciales. Complementar las listas de chequeo con documentación inherente al proceso de liquidación de acuerdo a la entrega de cada etapa constructiva. | H35: =+EVALUACION!I35 -> 3 | I35: =+EVALUACION!J35 -> 3 | J35: =+H35+I35 -> 6 | K35: =IF(J35<=4,"BAJO",IF(J35=5,"MEDIO",IF(J35=6,"ALTO",IF(J35=7,"ALTO","EXTREMO")))) -> ALTO | L35: si | M35: contratista | N35: Ejecución del contrato | O35: Ejecución del contrato | P35: Solicitud de productos en el transcurso del desarrollo del contrato | Q35: Ejecución del contrato
B37: Categoria del Riesgo | G37: Impacto del Riesgo
A38: Probabilidad | B38: Catagoria | E38: Valoración | G38: Categoria | I38: Valoración | M38: Categoria del Riesgo
B39: Raro (puede ocurrir excepcionalmente) | E39: 1 | G39: Insignificante | I39: 1 | M39: Valoración del Riesgo | O39: Categoría
B40: Improbable (puede ocurrir ocasionalmente) | E40: 2 | G40: Menor | I40: 2 | M40: 8, 9 y 10 | O40: Riesgo extremo
B41: Posible (puede ocurrir en cualquier momento futuro) | E41: 3 | G41: Moderado | I41: 3 | M41: 6 y 7 | O41: Riesgo alto
B42: Probable (probablemente va a ocurrir) | E42: 4 | G42: Mayor | I42: 4 | M42: 5 | O42: Riesgo medio
B43: Casi cierto (ocurre en la mayoria de circunstancias) | E43: 5 | G43: Catastrófico | I43: 5 | M43: 2, 3 y 4 | O43: Riesgo bajo
B45: Valoración del Riesgo
B46: Calificación Cualitativa | F46: Obstruye la ejecución del contrato de manera intrascendente. | H46: Dificulta la ejecución del contrato de manera baja, aplicando medidas mínimas se pueden lograr el objeto contractual | K46: Afecta la ejecución del contrato sin alterar el beneficio para las partes | M46: Obstruye la ejecución del contrato sustancialmente pero aun así permite la consecución del objeto contractual | O46: Perturba la ejecución del contrato de manera grave imposibilitando la consecución del objeto contractual.
B47: Calificación Monetaria | F47: Los sobrecostos no representan más del uno por ciento (1%) del valor del contrato. | H47: Los sobrecostos no representan más del cinco por ciento (5%) del valor del contrato. | K47: Genera un impacto sobre el valor del contrato entre el cinco (5%) y el quince por ciento (15%). | M47: Incrementa el valor del contrato entre el quince (15%) y el treinta por ciento (30%). | O47: Impacto sobre el valor del contrato en más del treinta por ciento (30%).
B48: Catagoria | E48: Valoración | F48: Insignificante | H48: Menor | K48: Moderado | M48: Mayor | O48: Catastrófico
F49: 1 | H49: 2 | K49: 3 | M49: 4 | O49: 5
B50: Raro (puede ocurrir excepcionalmente) | E50: 1 | F50: 2 | H50: 3 | K50: 4 | M50: 5 | O50: 6
B51: Improbable (puede ocurrir ocasionalmente) | E51: 2 | F51: 3 | H51: 4 | K51: 5 | M51: 6 | O51: 7
B52: Posible (puede ocurrir en cualquier momento futuro) | E52: 3 | F52: 4 | H52: 5 | K52: 6 | M52: 7 | O52: 8
B53: Probable (probablemente va a ocurrir) | E53: 4 | F53: 5 | H53: 6 | K53: 7 | M53: 8 | O53: 9
B54: Casi cierto (ocurre en la mayoria de circunstancias) | E54: 5 | F54: 6 | H54: 7 | K54: 8 | M54: 9 | O54: 10

Sheet ASIGNACION Y TRATAMIENTO
D2: MATRIZ DE RIESGOS DE CONTRATACIÓN | W2: Código: GCO-GCI-F164 Versión: 01 Vigencia: 16 diciembre de 2021 Caso HOLA: 206942
B6: =+EVALUACION!B5 -> Objeto Contractual: REALIZAR A PRECIOS UNITARIOS FIJOS SIN FORMULA DE REAJUSTE A MONTO AGOTABLE LOS MANTENIMIENTOS PREVENTIVO Y/O CORRECTIVO DE LOS SALONES COMUNALES UBICADOS EN LA LOCALIDAD DE BOSA EN BOGOTA DC
B7: IDENTIFICACIÓN, ANALISIS, EVALUACIÓN , ASIGNACIÓN Y TRATAMIENTO DE RIESGOS EN LA CONTRATACIÓN
B8: Esta matriz es un documento anexo del Estudio Previo
B10: No | C10: Descripción (Que puede pasar y, cómo puede ocurrir) | D10: Etapa | E10: Clase | F10: Fuente | G10: Consecuencias de la ocurrencia del evento | H10: Probabilidad | I10: Impacto | J10: Calificación total | K10: Prioridad | L10: ¿A quien se le asigna? | M10: % | N10: Tratamiento/Controles a ser implementados | O10: Probabilidad | P10: Impacto | Q10: Calificación total | R10: Prioridad | S10: ¿Afecta el equilibrio económico del contrato? | T10: Persona responsable por implementar el tratamiento | U10: Fecha estimada en que se inicia el tratamiento | V10: Fecha estimada en que se completa el tratamiento | W10: ¿Cómo se realiza el monitoreo | X10: Periodicidad ¿Cuándo?
B11: 1 | C11: =+'EVALUACION CON CONTROLES'!B16 -> Inadecuada evaluación de las ofertas y/o verificación de requisitos habilitantes | D11: =+'EVALUACION CON CONTROLES'!A16 -> SELECCIÓN | E11: =VLOOKUP(C11,'IDENTIFICACION Y ANALISIS'!$B$19:$F$64,3,FALSE) -> General | F11: =VLOOKUP(C11,'IDENTIFICACION Y ANALISIS'!$B$19:$F$64,4,FALSE) -> Interno | G11: =+EVALUACION!H16 -> Retraso en la ejecución del contrato. Generación de incumplimiento. | H11: =+EVALUACION!I16 -> 3 | I11: =+EVALUACION!J16 -> 4 | J11: =+EVALUACION!K16 -> 7 | K11: =+EVALUACION!L16 -> ALTO | L11: CONTRATISTA Y SDG | M11: 50 | N11: =+'EVALUACION CON CONTROLES'!F16 -> Cumplir con los requerimientos de personal y garantías establecidos en los pliegos de condiciones. Expedición oportuna del CRP. Aprobación oportuna de garantías Aplicación de pólizas, iniciación de procesos de incumplimiento. | O11: =+'EVALUACION CON CONTROLES'!H16 -> 3 | P11: =+'EVALUACION CON CONTROLES'!I16 -> 4 | Q11: =+'EVALUACION CON CONTROLES'!J16 -> 7 | R11: =+'EVALUACION CON CONTROLES'!K16 -> ALTO | S11: =+'EVALUACION CON CONTROLES'!L16 -> no | T11: =+'EVALUACION CON CONTROLES'!M16 -> contratista | U11: =+'EVALUACION CON CONTROLES'!N16 -> Ejecución del contrato | V11: =+'EVALUACION CON CONTROLES'!O16 -> Ejecución del contrato | ... X11: =+'EVALUACION CON CONTROLES'!Q16 -> En el momento del trámite
B12: 2 | C12: =+'EVALUACION CON CONTROLES'!B17 -> Inexistencia o limitaciones de medios de acceso y/o transporte de personas, materiales y/o equipos. | D12: =+'EVALUACION CON CONTROLES'!A17 -> EJECUCIÓN | E12: =VLOOKUP(C12,'IDENTIFICACION Y ANALISIS'!$B$19:$F$64,3,FALSE) -> General | F12: =VLOOKUP(C12,'IDENTIFICACION Y ANALISIS'!$B$19:$F$64,4,FALSE) -> Externo | G12: =+EVALUACION!H17 -> Retraso en la ejecución del cronograma. | H12: =+EVALUACION!I17 -> 2 | I12: =+EVALUACION!J17 -> 4 | J12: =+EVALUACION!K17 -> 6 | K12: =+EVALUACION!L17 -> ALTO | L12: CONTRATISTA | M12: 100 | N12: =+'EVALUACION CON CONTROLES'!F17 -> Implementar en el pliego de condiciones la realización de visita al proyecto a contratar con el fin de que desde el inicio se contemplen las condiciones de accesibilidad y transporte, Tener en cuenta en los APU las actividades que involucren transporte de material y equipos. | O12: =+'EVALUACION CON CONTROLES'!H17 -> 2 | P12: =+'EVALUACION CON CONTROLES'!I17 -> 4 | Q12: =+'EVALUACION CON CONTROLES'!J17 -> 6 | R12: =+'EVALUACION CON CONTROLES'!K17 -> ALTO | S12: =+'EVALUACION CON CONTROLES'!L17 -> no | T12: =+'EVALUACION CON CONTROLES'!M17 -> contratista | U12: =+'EVALUACION CON CONTROLES'!N17 -> Ejecución del contrato | V12: =+'EVALUACION CON CONTROLES'!O17 -> Ejecución del contrato | ... X12: =+'EVALUACION CON CONTROLES'!Q17 -> Ejecución del contrato
B13: 3 | C13: =+'EVALUACION CON CONTROLES'!B18 -> Variación de los precios del mercado | D13: =+'EVALUACION CON CONTROLES'!A18 -> EJECUCIÓN | E13: =VLOOKUP(C13,'IDENTIFICACION Y ANALISIS'!$B$19:$F$64,3,FALSE) -> General | F13: =VLOOKUP(C13,'IDENTIFICACION Y ANALISIS'!$B$19:$F$64,4,FALSE) -> Externo | G13: =+EVALUACION!H18 -> Retraso en la ejecución del cronograma. Mayores cantidades obra | H13: =+EVALUACION!I18 -> 1 | I13: =+EVALUACION!J18 -> 4 | J13: =+EVALUACION!K18 -> 5 | K13: =+EVALUACION!L18 -> MEDIO | L13: CONTRATISTA | M13: 100 | N13: =+'EVALUACION CON CONTROLES'!F18 -> Establecer en el pliego de condiciones la posibilidad de que en caso de reducción de la oferta de materiales y/o equipos requeridos para la ejecución del contrato se pueda proponer la utilización de materiales y/o equipo con características similares o mejores a los solicitados en el anexo técnico y especificaciones particulares. el contratista adelantara el análisis y propondrá el materia y/o equipo que remplazara para aprobación del interventor y tramite ante la supervisión. Proveer la compra de materiales necesarios para la ejecución en mediano plazo. | O13: =+'EVALUACION CON CONTROLES'!H18 -> 1 | P13: =+'EVALUACION CON CONTROLES'!I18 -> 4 | Q13: =+'EVALUACION CON CONTROLES'!J18 -> 5 | R13: =+'EVALUACION CON CONTROLES'!K18 -> MEDIO | S13: =+'EVALUACION CON CONTROLES'!L18 -> si | T13: =+'EVALUACION CON CONTROLES'!M18 -> contratista | U13: =+'EVALUACION CON CONTROLES'!N18 -> Ejecución del contrato | V13: =+'EVALUACION CON CONTROLES'!O18 -> Ejecución del contrato | ... X13: =+'EVALUACION CON CONTROLES'!Q18 -> En el momento del trámite
B14: 4 | C14: =+'EVALUACION CON CONTROLES'!B19 -> Incremento en las cantidades de mano de obra y/o materiales por causas imputables al contratista | D14: =+'EVALUACION CON CONTROLES'!A19 -> EJECUCIÓN | E14: =VLOOKUP(C14,'IDENTIFICACION Y ANALISIS'!$B$19:$F$64,3,FALSE) -> General | F14: =VLOOKUP(C14,'IDENTIFICACION Y ANALISIS'!$B$19:$F$64,4,FALSE) -> Externo | G14: =+EVALUACION!H19 -> Afectación del cronograma. | H14: =+EVALUACION!I19 -> 3 | I14: =+EVALUACION!J19 -> 4 | J14: =+EVALUACION!K19 -> 7 | K14: =+EVALUACION!L19 -> ALTO | L14: CONTRATISTA | M14: 100 | N14: =+'EVALUACION CON CONTROLES'!F19 -> El supervisor realizara seguimiento a las actividades ejecutadas por parte del contratista. El contratista contara con personal de obra calificado y atenderá los planes de contingencia propuestos. El contratista asumirá los costos generados. | O14: =+'EVALUACION CON CONTROLES'!H19 -> 3 | P14: =+'EVALUACION CON CONTROLES'!I19 -> 4 | Q14: =+'EVALUACION CON CONTROLES'!J19 -> 7 | R14: =+'EVALUACION CON CONTROLES'!K19 -> ALTO | S14: =+'EVALUACION CON CONTROLES'!L19 -> si | T14: =+'EVALUACION CON CONTROLES'!M19 -> contratista | U14: =+'EVALUACION CON CONTROLES'!N19 -> Ejecución del contrato | V14: =+'EVALUACION CON CONTROLES'!O19 -> Ejecución del contrato | ... X14: =+'EVALUACION CON CONTROLES'!Q19 -> Ejecución del contrato
B15: 5 | C15: =+'EVALUACION CON CONTROLES'!B20 -> Demora en la solicitud y suministro de materiales de obra y pago inoportuno a proveedores por parte del contratista | D15: =+'EVALUACION CON CONTROLES'!A20 -> EJECUCIÓN | E15: =VLOOKUP(C15,'IDENTIFICACION Y ANALISIS'!$B$19:$F$64,3,FALSE) -> General | F15: =VLOOKUP(C15,'IDENTIFICACION Y ANALISIS'!$B$19:$F$64,4,FALSE) -> Externo | G15: =+EVALUACION!H20 -> Retraso o parálisis de la ejecución de obra y la generación de incumplimientos | H15: =+EVALUACION!I20 -> 2 | I15: =+EVALUACION!J20 -> 4 | J15: =+EVALUACION!K20 -> 6 | K15: =+EVALUACION!L20 -> ALTO | L15: CONTRATISTA | M15: 100 | N15: =+'EVALUACION CON CONTROLES'!F20 -> Implementar un adecuado control de adquisición de materiales teniendo en cuenta el desarrollo del cronograma de ejecución del contrato. Disponer de los recursos financieros necesarios para atender la solicitudes de material. | O15: =+'EVALUACION CON CONTROLES'!H20 -> 2 | P15: =+'EVALUACION CON CONTROLES'!I20 -> 4 | Q15: =+'EVALUACION CON CONTROLES'!J20 -> 6 | R15: =+'EVALUACION CON CONTROLES'!K20 -> ALTO | S15: =+'EVALUACION CON CONTROLES'!L20 -> si | T15: =+'EVALUACION CON CONTROLES'!M20 -> contratista | U15: =+'EVALUACION CON CONTROLES'!N20 -> Ejecución del contrato | V15: =+'EVALUACION CON CONTROLES'!O20 -> Ejecución del contrato | ... X15: =+'EVALUACION CON CONTROLES'!Q20 -> Ejecución del contrato
B16: 6 | C16: =+'EVALUACION CON CONTROLES'!B21 -> Daño, pérdida o hurto de materiales o equipos. | D16: =+'EVALUACION CON CONTROLES'!A21 -> EJECUCIÓN | E16: =VLOOKUP(C16,'IDENTIFICACION Y ANALISIS'!$B$19:$F$64,3,FALSE) -> General | F16: =VLOOKUP(C16,'IDENTIFICACION Y ANALISIS'!$B$19:$F$64,4,FALSE) -> Externo | G16: =+EVALUACION!H21 -> Retraso en la ejecución de las obras | H16: =+EVALUACION!I21 -> 4 | I16: =+EVALUACION!J21 -> 5 | J16: =+EVALUACION!K21 -> 9 | K16: =+EVALUACION!L21 -> EXTREMO | L16: CONTRATISTA | M16: 100 | N16: =+'EVALUACION CON CONTROLES'!F21 -> Implementar la seguridad necesaria para la ejecución de las obras. Asumir los costos adicionales que se generen en razón a daño, pérdida o hurto de materiales o equipos. | O16: =+'EVALUACION CON CONTROLES'!H21 -> 4 | P16: =+'EVALUACION CON CONTROLES'!I21 -> 5 | Q16: =+'EVALUACION CON CONTROLES'!J21 -> 9 | R16: =+'EVALUACION CON CONTROLES'!K21 -> EXTREMO | S16: =+'EVALUACION CON CONTROLES'!L21 -> si | T16: =+'EVALUACION CON CONTROLES'!M21 -> contratista | U16: =+'EVALUACION CON CONTROLES'!N21 -> Ejecución del contrato | V16: =+'EVALUACION CON CONTROLES'!O21 -> Ejecución del contrato | ... X16: =+'EVALUACION CON CONTROLES'!Q21 -> Ejecución del contrato
B17: 7 | C17: =+'EVALUACION CON CONTROLES'!B22 -> Incumplimiento del cronograma de obra por actividades no previstas | D17: =+'EVALUACION CON CONTROLES'!A22 -> EJECUCIÓN | E17: =VLOOKUP(C17,'IDENTIFICACION Y ANALISIS'!$B$19:$F$64,3,FALSE) -> General | F17: =VLOOKUP(C17,'IDENTIFICACION Y ANALISIS'!$B$19:$F$64,4,FALSE) -> Externo | G17: =+EVALUACION!H22 -> Retraso en la ejecución de las obras | H17: =+EVALUACION!I22 -> 4 | I17: =+EVALUACION!J22 -> 5 | J17: =+EVALUACION!K22 -> 9 | K17: =+EVALUACION!L22 -> EXTREMO | L17: CONTRATISTA | M17: 100 | N17: =+'EVALUACION CON CONTROLES'!F22 -> Proveer y solicitar la radicación de la documentación relacionada con el trámite de las actividades no previstas en un tiempo no mayor a 15 días posterior a la identificación de la actividad. Implementación de planes de contingencia. | O17: =+'EVALUACION CON CONTROLES'!H22 -> 4 | P17: =+'EVALUACION CON CONTROLES'!I22 -> 5 | Q17: =+'EVALUACION CON CONTROLES'!J22 -> 9 | R17: =+'EVALUACION CON CONTROLES'!K22 -> EXTREMO | S17: =+'EVALUACION CON CONTROLES'!L22 -> si | T17: =+'EVALUACION CON CONTROLES'!M22 -> contratista | U17: =+'EVALUACION CON CONTROLES'!N22 -> Ejecución del contrato | V17: =+'EVALUACION CON CONTROLES'!O22 -> Ejecución del contrato | ... X17: =+'EVALUACION CON CONTROLES'!Q22 -> Ejecución del contrato
B18: 8 | C18: =+'EVALUACION CON CONTROLES'!B23 -> Incumplimiento del cronograma de obra por falta de equipo humano | D18: =+'EVALUACION CON CONTROLES'!A23 -> EJECUCIÓN | E18: =VLOOKUP(C18,'IDENTIFICACION Y ANALISIS'!$B$19:$F$64,3,FALSE) -> General | F18: =VLOOKUP(C18,'IDENTIFICACION Y ANALISIS'!$B$19:$F$64,4,FALSE) -> Externo | G18: =+EVALUACION!H23 -> Retraso en la ejecución de las obras | H18: =+EVALUACION!I23 -> 2 | I18: =+EVALUACION!J23 -> 4 | J18: =+EVALUACION!K23 -> 6 | K18: =+EVALUACION!L23 -> ALTO | L18: CONTRATISTA | M18: 100 | N18: =+'EVALUACION CON CONTROLES'!F23 -> Elaborar la programación de equipo y recurso humano que permita ejecutar cada una de las actividades contratadas con el objetivo de proveer la cantidad de personal necesario para el cumplimiento del objetivo. Verificación y seguimiento en sitio del personal propuesto y aprobado para la ejecución de las actividades. En el caso de ser necesario contar con personal adicional los costos serán asumidos por el contratista en los casos atribuibles a este. | O18: =+'EVALUACION CON CONTROLES'!H23 -> 2 | P18: =+'EVALUACION CON CONTROLES'!I23 -> 4 | Q18: =+'EVALUACION CON CONTROLES'!J23 -> 6 | R18: =+'EVALUACION CON CONTROLES'!K23 -> ALTO | S18: =+'EVALUACION CON CONTROLES'!L23 -> no | T18: =+'EVALUACION CON CONTROLES'!M23 -> contratista | U18: =+'EVALUACION CON CONTROLES'!N23 -> Ejecución del contrato | V18: =+'EVALUACION CON CONTROLES'!O23 -> Ejecución del contrato | ... X18: =+'EVALUACION CON CONTROLES'!Q23 -> Ejecución del contrato
B19: 9 | C19: =+'EVALUACION CON CONTROLES'!B24 -> Errores en programación de la ejecución de las actividades de obra | D19: =+'EVALUACION CON CONTROLES'!A24 -> EJECUCIÓN | E19: =VLOOKUP(C19,'IDENTIFICACION Y ANALISIS'!$B$19:$F$64,3,FALSE) -> General | F19: =VLOOKUP(C19,'IDENTIFICACION Y ANALISIS'!$B$19:$F$64,4,FALSE) -> Interno | G19: =+EVALUACION!H24 -> Retraso en la ejecución del cronograma. Generación de planes de contingencia | H19: =+EVALUACION!I24 -> 4 | I19: =+EVALUACION!J24 -> 4 | J19: =+EVALUACION!K24 -> 8 | K19: =+EVALUACION!L24 -> EXTREMO | L19: CONTRATISTA | M19: 100 | N19: =+'EVALUACION CON CONTROLES'!F24 -> Presentación del cronograma de ejecución de obra en los aplicativos o software de control de obras solicitadas en los pliegos de condiciones. | O19: =+'EVALUACION CON CONTROLES'!H24 -> 4 | P19: =+'EVALUACION CON CONTROLES'!I24 -> 4 | Q19: =+'EVALUACION CON CONTROLES'!J24 -> 8 | R19: =+'EVALUACION CON CONTROLES'!K24 -> EXTREMO | S19: =+'EVALUACION CON CONTROLES'!L24 -> si | T19: =+'EVALUACION CON CONTROLES'!M24 -> contratista | U19: =+'EVALUACION CON CONTROLES'!N24 -> Ejecución del contrato | V19: =+'EVALUACION CON CONTROLES'!O24 -> Ejecución del contrato | ... X19: =+'EVALUACION CON CONTROLES'!Q24 -> Ejecución del contrato
B20: 10 | C20: =+'EVALUACION CON CONTROLES'!B25 -> Cambio de personal propuesto y aprobado | D20: =+'EVALUACION CON CONTROLES'!A25 -> EJECUCIÓN | E20: =VLOOKUP(C20,'IDENTIFICACION Y ANALISIS'!$B$19:$F$64,3,FALSE) -> General | F20: =VLOOKUP(C20,'IDENTIFICACION Y ANALISIS'!$B$19:$F$64,4,FALSE) -> Externo | G20: =+EVALUACION!H25 -> Interrupción de las actividades de obra. | H20: =+EVALUACION!I25 -> 2 | I20: =+EVALUACION!J25 -> 2 | J20: =+EVALUACION!K25 -> 4 | K20: =+EVALUACION!L25 -> BAJO | L20: CONTRATISTA | M20: 100 | N20: =+'EVALUACION CON CONTROLES'!F25 -> Aplicación del procedimiento establecido en el pliego para el cambio de personal. | O20: =+'EVALUACION CON CONTROLES'!H25 -> 2 | P20: =+'EVALUACION CON CONTROLES'!I25 -> 2 | Q20: =+'EVALUACION CON CONTROLES'!J25 -> 4 | R20: =+'EVALUACION CON CONTROLES'!K25 -> BAJO | S20: =+'EVALUACION CON CONTROLES'!L25 -> no | T20: =+'EVALUACION CON CONTROLES'!M25 -> contratista | U20: =+'EVALUACION CON CONTROLES'!N25 -> Ejecución del contrato | V20: =+'EVALUACION CON CONTROLES'!O25 -> Ejecución del contrato | ... X20: =+'EVALUACION CON CONTROLES'!Q25 -> Ejecución del contrato
B21: 11 | C21: =+'EVALUACION CON CONTROLES'!B26 -> Fluctuación de los precios de los insumos | D21: =+'EVALUACION CON CONTROLES'!A26 -> EJECUCIÓN | E21: =VLOOKUP(C21,'IDENTIFICACION Y ANALISIS'!$B$19:$F$64,3,FALSE) -> General | F21: =VLOOKUP(C21,'IDENTIFICACION Y ANALISIS'!$B$19:$F$64,4,FALSE) -> Externo | G21: =+EVALUACION!H26 -> Sobrecostos y retraso en la ejecución de las obras. | H21: =+EVALUACION!I26 -> 4 | I21: =+EVALUACION!J26 -> 4 | J21: =+EVALUACION!K26 -> 8 | K21: =+EVALUACION!L26 -> EXTREMO | L21: CONTRATISTA | M21: 100 | N21: =+'EVALUACION CON CONTROLES'!F26 -> El contratista deberá realizar un análisis de precios de mercado para la presentación de la propuesta. Los sobrecostos ocasionados por la falta de análisis del mercado serán a cargo del contratista. | O21: =+'EVALUACION CON CONTROLES'!H26 -> 4 | P21: =+'EVALUACION CON CONTROLES'!I26 -> 4 | Q21: =+'EVALUACION CON CONTROLES'!J26 -> 8 | R21: =+'EVALUACION CON CONTROLES'!K26 -> EXTREMO | S21: =+'EVALUACION CON CONTROLES'!L26 -> si | T21: =+'EVALUACION CON CONTROLES'!M26 -> contratista | U21: =+'EVALUACION CON CONTROLES'!N26 -> Ejecución del contrato | V21: =+'EVALUACION CON CONTROLES'!O26 -> Ejecución del contrato | ... X21: =+'EVALUACION CON CONTROLES'!Q26 -> Ejecución del contrato
B22: 12 | C22: =+'EVALUACION CON CONTROLES'!B27 -> Daños a redes internas de servicios públicos | D22: =+'EVALUACION CON CONTROLES'!A27 -> EJECUCIÓN | E22: =VLOOKUP(C22,'IDENTIFICACION Y ANALISIS'!$B$19:$F$64,3,FALSE) -> General | F22: =VLOOKUP(C22,'IDENTIFICACION Y ANALISIS'!$B$19:$F$64,4,FALSE) -> Externo | G22: =+EVALUACION!H27 -> Trabajos adicionales a los contratados | H22: =+EVALUACION!I27 -> 3 | I22: =+EVALUACION!J27 -> 4 | J22: =+EVALUACION!K27 -> 7 | K22: =+EVALUACION!L27 -> ALTO | L22: CONTRATISTA | M22: 100 | N22: =+'EVALUACION CON CONTROLES'!F27 -> Verificación en planos de existencias de redes y su localización. Realización de apiques para localizar redes no evidenciadas en planos (complementar con impresión). El contratista asumirá los costos que se ocasionen como producto del daño a las redes de servicios públicos e implementara el respectivo plan de contingencia. | O22: =+'EVALUACION CON CONTROLES'!H27 -> 3 | P22: =+'EVALUACION CON CONTROLES'!I27 -> 4 | Q22: =+'EVALUACION CON CONTROLES'!J27 -> 7 | R22: =+'EVALUACION CON CONTROLES'!K27 -> ALTO | S22: =+'EVALUACION CON CONTROLES'!L27 -> si | T22: =+'EVALUACION CON CONTROLES'!M27 -> contratista | U22: =+'EVALUACION CON CONTROLES'!N27 -> Ejecución del contrato | V22: =+'EVALUACION CON CONTROLES'!O27 -> Ejecución del contrato | ... X22: =+'EVALUACION CON CONTROLES'!Q27 -> Ejecución del contrato
... B30: 20 | C30: =+'EVALUACION CON CONTROLES'!B35 -> Productos incompletos para el inicio de la liquidación | D30: =+'EVALUACION CON CONTROLES'!A35 -> EJECUCIÓN | E30: =VLOOKUP(C30,'IDENTIFICACION Y ANALISIS'!$B$19:$F$64,3,FALSE) -> General | F30: =VLOOKUP(C30,'IDENTIFICACION Y ANALISIS'!$B$19:$F$64,4,FALSE) -> Externo | G30: =+EVALUACION!H35 -> Retraso en la liquidación del contrato de obra | H30: =+EVALUACION!I35 -> 3 | I30: =+EVALUACION!J35 -> 3 | J30: =+EVALUACION!K35 -> 6 | K30: =+EVALUACION!L35 -> ALTO | L30: CONTRATISTA | M30: 100 | N30: =+'EVALUACION CON CONTROLES'!F35 -> Entrega de productos a lo largo de la ejecución de la obra una vez haya finalizado cada etapa constructiva. Realizar seguimiento a los productos solicitados en el transcurso del desarrollo del contrato de obra y solicitar para pagos parciales. Complementar las listas de chequeo con documentación inherente al proceso de liquidación de acuerdo a la entrega de cada etapa constructiva. | O30: =+'EVALUACION CON CONTROLES'!H35 -> 3 | P30: =+'EVALUACION CON CONTROLES'!I35 -> 3 | Q30: =+'EVALUACION CON CONTROLES'!J35 -> 6 | R30: =+'EVALUACION CON CONTROLES'!K35 -> ALTO | S30: =+'EVALUACION CON CONTROLES'!L35 -> si | T30: =+'EVALUACION CON CONTROLES'!M35 -> contratista | U30: =+'EVALUACION CON CONTROLES'!N35 -> Ejecución del contrato | V30: =+'EVALUACION CON CONTROLES'!O35 -> Ejecución del contrato | ... X30: =+'EVALUACION CON CONTROLES'!Q35 -> Ejecución del contrato
F32: Categoria | J32: Impacto del Riesgo
E33: Probabilidad | F33: Catagoria | G33: Valoración | J33: Categoria | L33: Valoración
F34: Raro (puede ocurrir excepcionalmente) | G34: 1 | J34: Insignificante | L34: 1
F35: Improbable (puede ocurrir ocasionalmente) | G35: 2 | J35: Menor | L35: 2
F36: Posible (puede ocurrir en cualquier momento futuro) | G36: 3 | J36: Moderado | L36: 3
F37: Probable (probablemente va a ocurrir) | G37: 4 | J37: Mayor | L37: 4
F38: Casi cierto (ocurre en la mayoria de circunstancias) | G38: 5 | J38: Catastrófico | L38: 5
D40: Valoración del Riesgo
D41: Catagoria | E41: Valoración | F41: Insignificante | H41: Menor | J41: Moderado | K41: Mayor | L41: Catastrófico | P41: Categoria del Riesgo
F42: 1 | H42: 2 | J42: 3 | K42: 4 | L42: 5 | P42: Valoración del Riesgo | S42: Categoría
D43: Raro (puede ocurrir excepcionalmente) | E43: 1 | F43: 2 | H43: 3 | J43: 4 | K43: 5 | L43: 6 | P43: 8, 9 y 10 | S43: Riesgo extremo
D44: Improbable (puede ocurrir ocasionalmente) | E44: 2 | F44: 3 | H44: 4 | J44: 5 | K44: 6 | L44: 7 | P44: 6 y 7 | S44: Riesgo alto
D45: Posible (puede ocurrir en cualquier momento futuro) | E45: 3 | F45: 4 | H45: 5 | J45: 6 | K45: 7 | L45: 8 | P45: 5 | S45: Riesgo medio
D46: Probable (probablemente va a ocurrir) | E46: 4 | F46: 5 | H46: 6 | J46: 7 | K46: 8 | L46: 9 | P46: 2, 3 y 4 | S46: Riesgo bajo
D47: Casi cierto (ocurre en la mayoria de circunstancias) | E47: 5 | F47: 6 | H47: 7 | J47: 8 | K47: 9 | L47: 10
B52: CONTRATISTA
B53: SDG
B54: CONTRATISTA Y SDG
