Workbook
Name SALARIO: [1]SALARIOS!$A$3:$B$40

Sheet Capacidad Contra
A2: =+#REF! -> #REF!
A3: =+#REF! -> #REF!
A4: =+#REF! -> #REF!
A5: =+#REF! -> #REF!
A6: CLASIFICACION REGISTRO UNICO DE PROPONENTES
A7: =+#REF! -> #REF!
A8: NOMBRES | C8: CALSIFICACIÓN UNSPSC | E8: CUMPLE
A9: PROPONENTE | B9: CONSORCIADOS | C9: 701717 | D9: 811015 | E9: SI | F9: NO
A36: =+#REF! -> #REF!
A41: =+#REF! -> #REF! | C41: =+#REF! -> #REF!

Sheet Hoja2
D3: Clasificador de bienes y servicios | G3: GRUPO | H3: DEPARTAMENTO | I3: SMMLV
D4: 70101900 | G4: I | H4: Bolivar | I4: 5028 | L4: CUMPLE
D5: 70121500 | G5: II | H5: Casanare | I5: 4036 | L5: NO CUMPLE | N5: SI
D6: 70141600 | G6: III | H6: Guainía | I6: 2274 | N6: NO
D7: 70141500 | G7: IV | H7: Magdalena | I7: 2675 | N7: N/A
D8: 70141800 | G8: V | H8: Nariño | I8: 4100
D9: 70141700 | H9: total | I9: =SUM(I4:I8) -> 18113
D10: 861015
D11: 931419

Sheet CONFORMACION
A2: AGENCIA DE DESARROLLO RURAL - ADR
A3: EVALUACIÓN TÉCNICA
A4: LICITACION PUBLICA No. 06 DE 2019
A5: OBJETO: CONTRATAR LA PRESTACIÓN DEL SERVICIO PÚBLICO DE EXTENSIÓN AGROPECUARIA, A TRAVÉS DE LAS ENTIDADES PRESTADORAS DEL SERVICIO DE EXTENSION AGROPECUARIA EPSEA, DEBIDAMENTE HABILITADAS, EN LOS DEPARTAMENTOS QUE CUENTEN CON PROYECTOS DE EXTENSIÓN AGROPECUARIA CONFORME A LOS PLANES DEPARTAMENTALES DE EXTENSIÓN AGROPECUARIA – PDEA, ADOPTADOS POR ASAMBLEA.
A6: CONFORMACIÓN DEL PROPONENTE
A9: GRUPO | B9: PROPONENTE | C9: INTEGRANTES | D9: ACUERDO CONSORCIAL | F9: REPRESENTANTE LEGAL DEL PROPONENTE | G9: CUMPLE/NO CUMPLE
D10: PARTICIPACIÓN (%) | E10: EPSEA HABILITADA
A11: Nariño | B11: Unión Temporal Desarrollo Nariñense | C11: Corporación para el Desarrollo Social y Ambiental - CODESA | D11: 0.5 | E11: SI | F11: Robert Adrian Perez Díaz | G11: CUMPLE
C12: Fundación EMSSANAR | D12: 0.5 | E12: SI
A14: EVALUADORES TÉCNICOS:

Sheet FORMATO ACEPTACIÓN
A1: AGENCIA DE DESARROLLO RURAL - ADR
A2: DIRECCION DE ASISTENCIA TECNICA
A3: EVALUACIÓN TECNICA
A5: LICITACION PUBLICA No. 06 DE 2019
A6: OBJETO: CONTRATAR LA PRESTACIÓN DEL SERVICIO PÚBLICO DE EXTENSIÓN AGROPECUARIA, A TRAVÉS DE LAS ENTIDADES PRESTADORAS DEL SERVICIO DE EXTENSION AGROPECUARIA EPSEA, DEBIDAMENTE HABILITADAS, EN LOS DEPARTAMENTOS QUE CUENTEN CON PROYECTOS DE EXTENSIÓN AGROPECUARIA CONFORME A LOS PLANES DEPARTAMENTALES DE EXTENSIÓN AGROPECUARIA – PDEA, ADOPTADOS POR ASAMBLEA.
A7: ESPECIFICACIONES Y REQUISITOS TECNICOS MINIMOS
A9: GRUPO | B9: PROPONENTE | C9: El proponente deberá aceptar expresamente con la firma del FORMATO ACEPTACIÓN DE ESPECIFICACIONES Y REQUISITOS TÉCNICOS MÍNIMOS, que conoce y acepta la totalidad de las especificaciones, condiciones, requisitos, personal y demás aspectos técnicos mínimos establecidos en el Anexo Técnico. | D9: CUMPLE/NO CUMPLE
A10: =IF(CONFORMACION!A11=Hoja2!H4,Hoja2!G4,IF(CONFORMACION!A11=Hoja2!H5,Hoja2!G5,IF(CONFORMACION!A11=Hoja2!H6,Hoja2!G6,IF(CONFORMACION!A11=Hoja2!H7,Hoja2!G7,IF(CONFORMACION!A11=Hoja2!H8,Hoja2!G8,0))))) -> V | B10: =CONFORMACION!B11 -> Unión Temporal Desarrollo Nariñense | C10: X | D10: =IF(C10="X",Hoja2!L4,Hoja2!L5) -> CUMPLE
A12: EVALUADORES TECNICOS:

Sheet EXP. GENERAL HAB
A1: =+[2]Plazo!A1 -> AGENCIA DE DESARROLLO RURAL - ADR
A2: DIRECCION DE ASISTENCIA TECNICA
A3: =+[2]Plazo!A3 -> EVALUACION TECNICA
A4: LICITACION PUBLICA No. 06 DE 2019
A5: OBJETO: CONTRATAR LA PRESTACIÓN DEL SERVICIO PÚBLICO DE EXTENSIÓN AGROPECUARIA, A TRAVÉS DE LAS ENTIDADES PRESTADORAS DEL SERVICIO DE EXTENSION AGROPECUARIA EPSEA, DEBIDAMENTE HABILITADAS, EN LOS DEPARTAMENTOS QUE CUENTEN CON PROYECTOS DE EXTENSIÓN AGROPECUARIA CONFORME A LOS PLANES DEPARTAMENTALES DE EXTENSIÓN AGROPECUARIA – PDEA, ADOPTADOS POR ASAMBLEA.
A6: EXPERIENCIA HABILITANTE DEL PROPONENTE
A8: Los proponentes deberán acreditar la experiencia con contratos registrados en el RUP y que hayan sido terminados y/o ejecutados, y cuya sumatoria sea igual o superior al presupuesto oficial asignado a al departamento para el que se presente, .en por lo menos tres (3) de los siguientes códigos 70101900, 70121500, 70141600, 70141500, 70141800, 70141700, 861015,931419.
A9: PROPONENTE | B9: ENTIDAD CONTRATANTE | C9: No. DE CONTRATO | D9: CONTRATISTA | E9: Porcentaje de Participación (%) | F9: Objeto | G9: Folio RUP No. | H9: Valor Facturado en SMMLV Actualizado (Afectado por Porcentaje de Participación) | I9: Clasificador de bienes y servicios | J9: Cumple condiciones Clasificador de bienes y servicios | K9: Fecha de Inicio | L9: Fecha de Terminación | M9: Valor Facturado en SMMLV (Afectado por Porcentaje de Participación) | N9: Cumple condiciones Valor Facturado en SMMLV (Afectado por Porcentaje de Participación) | O9: CUMPLE
A11: =CONFORMACION!B11 -> Unión Temporal Desarrollo Nariñense | B11: Gobernación de Nariño | C11: 1569-14 | D11: CODESA | E11: 1 | F11: Ejecución técnica, administrativa y financiera del proyecto denominado "Recuperación del patrimonio agrícola para la soberania y seguridad alimentaria autosostenible de los productores rurales del departamento de Nariño" | G11: 6 | H11: 4264.12 | I11: 70141600 | J11: CUMPLE | K11: 41999 | L11: 42460 | M11: =E11*H11 -> 4264.12 | N11: =IF(AND(CONFORMACION!$A$11=Hoja2!H4,SUM(M11:M34)>Hoja2!I4),"CUMPLE",IF(AND(CONFORMACION!$A$11=Hoja2!H5,SUM(M11:M34)>Hoja2!I5),"CUMPLE",IF(AND(CONFORMACION!$A$11=Hoja2!H6,SUM(M11:M34)>Hoja2!I6),"CUMPLE",IF(AND(CONFORMACION!$A$11=Hoja2!H7,SUM(M11:M34)>Hoja2!I7),"CUMPLE",IF(AND(CONFORMACION!$A$11=Hoja2!H8,SUM(M11:M34)>Hoja2!I8),"CUMPLE","NO CUMPLE"))))) -> CUMPLE | O11: =IF(AND(N11="CUMPLE",J11="CUMPLE"),"CUMPLE","NO CUMPLE") -> CUMPLE
I12: 70141500
I13: 70141800
I14: 70141700
I15: 931419
I16: 861015
B17: Gobernación de Nariño | C17: 1202-14 | D17: CODESA | E17: 1 | F17: Prestación de servicios para lam operación asistencia técnico-administrativa y apoyo en la ejecución de recursos direccionados a garantizar la implementación del poryectop denomiando "Apooyo integral en seguridad alimentaria, acompñamaiento psicosocial y partiicpación efectiva a victimas por desplamzamiento forzado en los municipios de Tuqeurres, Pasto e Ipiales en el departamento de Nariño" | G17: 7 | H17: 935.31 | I17: 70141500 | K17: 41892 | L17: 42369 | M17: =H17*E17 -> 935.31
I18: 70141600
I19: 70141700
I20: 861015
I21: 931419
B22: Alcaldia Municipal Chachaguï | C22: 246-2013 | D22: CODESA | E22: 1 | F22: Contrato de prestación de servicios profesionales para la ejecución y desarrollo del Plan General de Asistencia Técnica Directa Rural Agropecuaria - 2013 | G22: 9 | H22: 479.93 | I22: 70141600 | K22: 41639 | L22: 41851 | M22: =480*100% -> 480
I23: 70141500
I24: 70141700
I25: 70141800
B26: Fudnación EMSSANAR | C26: 327-2017 | D26: CODESA | E26: 1 | F26: Contrato de prestación de servicios profesionales para la ejecución y desarrollo del Plan General de Asistencia Técnica Directa Rural Agropecuaria de los municipios de Cordoba, El Tam,bo, Ipiales, Ospina, Sapuyes y San Lorenzo. | G26: 26 | H26: 601.12 | I26: 70141600 | K26: 42990 | L26: 43099 | M26: =601.12 -> 601.12
I27: 70141500
I28: 70141800
I29: 70141700
I30: 861015
B31: CERLALC | C31: 491-2007 | D31: Fundación EMSSANAR | E31: 1 | F31: Aunar esfuerzos técnicos, administrativos y financieros para apoyar la cofinanciación de la prestación del servicio público de asistencia técncia a través de la estructuración del andamiaje necesario para su prestación, seguimiento, orientación y acompañamiento a los municipios en la misma y en la prestación del servicio en forma directa e indirecta. | G31: 9 | H31: 968.41 | I31: 70141600 | K31: 39353 | L31: 39447 | M31: =968.1 -> 968.1
I32: 70141700
I33: 861015
I34: 931419
A36: NOTA:
A37: =+[2]Plazo!A19 -> COMITÉ EVALUADOR TÉCNICO

Sheet FACTOR METODO
A1: AGENCIA DE DESARROLLO RURAL - ADR
A2: DIRECCION DE ASISTENCIA TECNICA
A3: EVALUACIÓN TECNICA
A5: LICITACION PUBLICA No. 06 DE 2019
A6: OOBJETO: CONTRATAR LA PRESTACIÓN DEL SERVICIO PÚBLICO DE EXTENSIÓN AGROPECUARIA, A TRAVÉS DE LAS ENTIDADES PRESTADORAS DEL SERVICIO DE EXTENSION AGROPECUARIA EPSEA, DEBIDAMENTE HABILITADAS, EN LOS DEPARTAMENTOS QUE CUENTEN CON PROYECTOS DE EXTENSIÓN AGROPECUARIA CONFORME A LOS PLANES DEPARTAMENTALES DE EXTENSIÓN AGROPECUARIA – PDEA, ADOPTADOS POR ASAMBLEA.
A7: Método de extensión adicional a los definidos en el proyecto para el que se postula
A9: GRUPO | B9: PROPONENTE | C9: Hasta un (1) método de extensión adicional a los definidos en el proyecto para el que se postula | D9: De 2 a 3 Métodos de extensión adicionales a los definidos en el proyecto al que se postula | E9: 4 o más métodos de extensión adicionales a los definidos en el proyecto al que se postula | F9: PUNTAJE
A10: =IF(CONFORMACION!A11=Hoja2!H4,Hoja2!G4,IF(CONFORMACION!A11=Hoja2!H5,Hoja2!G5,IF(CONFORMACION!A11=Hoja2!H6,Hoja2!G6,IF(CONFORMACION!A11=Hoja2!H7,Hoja2!G7,IF(CONFORMACION!A11=Hoja2!H8,Hoja2!G8,0))))) -> V | B10: =CONFORMACION!B11 -> Unión Temporal Desarrollo Nariñense | E10: X | F10: =IF(C10="X",4,IF(D10="X",8,IF(E10="X",12,0))) -> 12
A12: EVALUADORES TECNICOS:

Sheet FACTOR VIDEO
A1: AGENCIA DE DESARROLLO RURAL - ADR
A2: DIRECCION DE ASISTENCIA TECNICA
A3: EVALUACIÓN TECNICA
A5: LICITACION PUBLICA No. 06 DE 2019
A6: OOBJETO: CONTRATAR LA PRESTACIÓN DEL SERVICIO PÚBLICO DE EXTENSIÓN AGROPECUARIA, A TRAVÉS DE LAS ENTIDADES PRESTADORAS DEL SERVICIO DE EXTENSION AGROPECUARIA EPSEA, DEBIDAMENTE HABILITADAS, EN LOS DEPARTAMENTOS QUE CUENTEN CON PROYECTOS DE EXTENSIÓN AGROPECUARIA CONFORME A LOS PLANES DEPARTAMENTALES DE EXTENSIÓN AGROPECUARIA – PDEA, ADOPTADOS POR ASAMBLEA.
A7: Preproducción, Producción y posproducción de video que compile la ejecución del proyecto en el departamento
A9: GRUPO | B9: PROPONENTE | C9: Preproducción, Producción y posproducción de video que compile la ejecución del proyecto en el departamento | D9: PUNTAJE
A10: =IF(CONFORMACION!A11=Hoja2!H4,Hoja2!G4,IF(CONFORMACION!A11=Hoja2!H5,Hoja2!G5,IF(CONFORMACION!A11=Hoja2!H6,Hoja2!G6,IF(CONFORMACION!A11=Hoja2!H7,Hoja2!G7,IF(CONFORMACION!A11=Hoja2!H8,Hoja2!G8,0))))) -> V | B10: =CONFORMACION!B11 -> Unión Temporal Desarrollo Nariñense | C10: X | D10: =IF(C10="X",12,0) -> 12
A12: EVALUADORES TECNICOS:

Sheet IND NAL
A1: AGENCIA DE DESARROLLO RURAL - ADR
A2: DIRECCION DE ASISTENCIA TECNICA
A3: EVALUACIÓN TECNICA
A5: LICITACION PUBLICA No. 06 DE 2019
A6: OOBJETO: CONTRATAR LA PRESTACIÓN DEL SERVICIO PÚBLICO DE EXTENSIÓN AGROPECUARIA, A TRAVÉS DE LAS ENTIDADES PRESTADORAS DEL SERVICIO DE EXTENSION AGROPECUARIA EPSEA, DEBIDAMENTE HABILITADAS, EN LOS DEPARTAMENTOS QUE CUENTEN CON PROYECTOS DE EXTENSIÓN AGROPECUARIA CONFORME A LOS PLANES DEPARTAMENTALES DE EXTENSIÓN AGROPECUARIA – PDEA, ADOPTADOS POR ASAMBLEA.
A7: APOYO A LA INDUSTRIA NACIONAL
A9: GRUPO | B9: PROPONENTE | C9: Al proponente que ofrezca servicios 100% colombianos, o servicios extranjeros con trato nacional , se le asignarán diez (10) puntos. | D9: Al proponente extranjero que incorpore servicios profesionales, técnicos u operativos colombianos, se le asignarán cinco (5) puntos. | E9: PUNTAJE
A10: =IF(CONFORMACION!A11=Hoja2!H4,Hoja2!G4,IF(CONFORMACION!A11=Hoja2!H5,Hoja2!G5,IF(CONFORMACION!A11=Hoja2!H6,Hoja2!G6,IF(CONFORMACION!A11=Hoja2!H7,Hoja2!G7,IF(CONFORMACION!A11=Hoja2!H8,Hoja2!G8,0))))) -> V | B10: Unión Temporal Desarrollo Nariñense | C10: X | E10: =IF(C10="X",10,IF(D10="X",5,0)) -> 10
A12: EVALUADORES TECNICOS:

Sheet VINC. TRABAJADORES DISC
A1: AGENCIA DE DESARROLLO RURAL - ADR
A2: DIRECCION DE ASISTENCIA TECNICA
A3: EVALUACIÓN TECNICA
A5: LICITACION PUBLICA No. 06 DE 2019
A6: OOBJETO: CONTRATAR LA PRESTACIÓN DEL SERVICIO PÚBLICO DE EXTENSIÓN AGROPECUARIA, A TRAVÉS DE LAS ENTIDADES PRESTADORAS DEL SERVICIO DE EXTENSION AGROPECUARIA EPSEA, DEBIDAMENTE HABILITADAS, EN LOS DEPARTAMENTOS QUE CUENTEN CON PROYECTOS DE EXTENSIÓN AGROPECUARIA CONFORME A LOS PLANES DEPARTAMENTALES DE EXTENSIÓN AGROPECUARIA – PDEA, ADOPTADOS POR ASAMBLEA.
A7: VINCULACIÓN TRABAJADORES CON DISCAPACIDAD EN PLANTA DE PERSONAL
A9: GRUPO | B9: PROPONENTE | C9: Entre 1 y 30 | D9: Entre 31 y 100 | E9: Entre 101 y 150 | F9: Entre 151 y 200 | G9: Más de 200 | H9: PUNTAJE
A10: V | B10: Unión Temporal Desarrollo Nariñense | H10: 0
A12: EVALUADORES TECNICOS:

Sheet PUNTAJE TOTAL
A2: =+'[3]Ind Nal -I'!A1:E1 -> AGENCIA DE DESARROLLO RURAL - ADR
A3: =+'[3]Ind Nal -I'!A2:E2 -> VICEPRESICENCIA DE INTEGRACION PRODUCTIVA
A4: =+'[3]Ind Nal -I'!A3:E3 -> EVALUACIÓN TECNICA
A6: LICITACION PUBLICA No. 06 DE 2019
A7: OBJETO: CONTRATAR LA PRESTACIÓN DEL SERVICIO PÚBLICO DE EXTENSIÓN AGROPECUARIA, A TRAVÉS DE LAS ENTIDADES PRESTADORAS DEL SERVICIO DE EXTENSION AGROPECUARIA EPSEA, DEBIDAMENTE HABILITADAS, EN LOS DEPARTAMENTOS QUE CUENTEN CON PROYECTOS DE EXTENSIÓN AGROPECUARIA CONFORME A LOS PLANES DEPARTAMENTALES DE EXTENSIÓN AGROPECUARIA – PDEA, ADOPTADOS POR ASAMBLEA.
A9: RESUMEN EVALUACIÓN TÉCNICA
A12: DESCRPCION | C12: CUMPLE/NO CUMPLE
A14: REQUISITOS HABILITANTES
A15: EXPERIENCIA DEL PROPONENTE | C15: =IF('EXP. GENERAL HAB'!J11=Hoja2!L4,Hoja2!L4,Hoja2!L5) -> CUMPLE
A16: ACEPTACION ESPECIFICACIONES Y REQUERIMIENTOS TECNICOS | C16: =IF('FORMATO ACEPTACIÓN'!D10=Hoja2!L4,Hoja2!L4,Hoja2!L5) -> CUMPLE
A17: EPSEA HABILITADA | C17: CUMPLE
A18: RESULTADO | C18: =IF(AND(C15="CUMPLE",C16="CUMPLE",C17="CUMPLE"),"HABILITADA","NO HABILITADA") -> HABILITADA
A19: DESCRPCION | C19: PUNTAJE
A20: FACTOR DE CALIDAD 1
A21: METODO DE EXTENSION | C21: ='FACTOR METODO'!F10 -> 12
A22: FACTOR DE CALIDAD 2
A23: PRODUCCION DE VIDEO | C23: ='FACTOR VIDEO'!D10 -> 12
A24: VINCULACIÓN TRABAJADORES CON DISCAPACIDAD EN PLANTA DE PERSONAL | C24: ='VINC. TRABAJADORES DISC'!H10 -> 0
A25: APOYO A LA INDUSTRIA NACIONAL | C25: ='IND NAL'!E10 -> 10
A26: PUNTAJE TOTAL ADICIONAL
C27: =C25+C24+C23+C21 -> 34
A28: =+'[3]Ind Nal -I'!$A$12:$B$12 -> EVALUADORES TECNICOS:

Sheet Hoja1
B3: AÑO | C3: SALARIO
B4: 1950 | C4: 60 | E4: =+LOOKUP(F4,B4:B66,C4:C66) -> 118933 | F4: =+G5 -> 1995 | G4: 34824
B5: 1951 | C5: 60 | G5: =+YEAR(G4) -> 1995
B6: 1952 | C6: 60
B7: 1953 | C7: 60
B8: 1954 | C8: 60
B9: 1955 | C9: 60
B10: 1956 | C10: 135
B11: 1957 | C11: 155
B12: 1958 | C12: 155
B13: 1959 | C13: 155
B14: 1960 | C14: 198
B15: 1962 | C15: 219
B16: 1962 | C16: 300
B17: 1963 | C17: 420
... B66: 2014 | C66: 616000
