Workbook
Name PRINT_AREA: #N/A
Name PRINT_AREA: #N/A
Name PRINT_AREA_MI: #N/A
Name PRINT_AREA_MI: #N/A
Name PRINT_TITLES: #N/A
Name PRINT_TITLES: #N/A
Name PRINT_TITLES_MI: #N/A
Name PRINT_TITLES_MI: #N/A

Sheet INFORME FINAL
A1: FONDO DE DESARROLLO LOCAL DE USAQUEN
A2: CONCURSO DE MERITOS ABIERTO - FDLUSA-CMA-004-2023
A3: INTERVENTORÍA TÉCNICA, ADMINISTRA-TIVA, FINANCIERA, JURÍDICA, AMBIENTAL Y SOCIAL AL CONTRATO DE OBRA PÚBLICA RESULTANTE DEL PROCESO DE LICITACIÓN PÚBLICA CUYO OBJETO ES: CONTRATAR POR EL SISTEMA DE PRECIOS UNITARIOS FIJOS Y A MONTO AGOTABLE EL MANTENIMIENTO Y/O ADECUACIÓN Y/O REPARACIÓN DEL EQUIPAMIENTO CULTURAL CDC TEATRO SERVITÁ UBICADO EN LA CALLE 165 No. 7-52.”
B5: OFERENTE | C5: EVALUACIÓN FINANCIERA | D5: EVALUACIÓN JURIDICA | E5: EVALUACIÓN TÉCNICA | F5: EVALUACION JURIDICA | G5: INFORME FINAL | H5: OBSERVACIONES
A6: 1 | B6: VELNEC S.A. | E6: CUMPLE | F6: CUMPLE
A7: 2 | B7: ANZA INGENIERIA | E7: CUMPLE | F7: CUMPLE
A8: 3 | B8: JET INGENIERIA SAS | E8: CUMPLE | F8: CUMPLE
A9: 4 | B9: CONSORCIO TEATRO AM | E9: CUMPLE | F9: RECHAZADO | H9: NO CUMPLE JURIDICAMENTE
A10: 5 | B10: HUPK S.A.S. | E10: CUMPLE | F10: CUMPLE
A11: 6 | B11: GB10 CONSULTORES S.A.S. | E11: CUMPLE | F11: CUMPLE
A12: 7 | B12: Camilo Moncaleano | E12: CUMPLE | F12: RECHAZADO | H12: NO CUMPLE JURIDICAMENTE
A13: 8 | B13: CONSORCIO ING SERVITÁ | E13: CUMPLE | F13: CUMPLE
A14: 9 | B14: flm ingenieros contratistas consultores S.A.S. | E14: CUMPLE | F14: CUMPLE
A15: 10 | B15: R&M CONSTRUCCIONES E INTERVENTORIAS S.A.S. | E15: CUMPLE | F15: CUMPLE
A16: 11 | B16: IA ingenieria y Arquitectura de Colombia SAS | E16: CUMPLE | F16: CUMPLE
A17: 12 | B17: PROYECTOS URBANOS Y CONSTRUCCIONES DEL CARIBE S.A.S | E17: RECHAZADO | F17: CUMPLE
A18: 13 | B18: KRIBA INGENIEROS LTDA | E18: CUMPLE | F18: RECHAZADO | H18: NO CUMPLE JURIDICAMENTE

Sheet EVA HABILITANTE PROFESIONALES 
A1: FONDO DE DESARROLLO LOCAL DE USAQUEN
A2: =+'INFORME FINAL'!A2:H2 -> CONCURSO DE MERITOS ABIERTO - FDLUSA-CMA-004-2023
A3: REQUISITOS HABILITANTES TÉCNICOS PROFESIONALES DIRECTOR Y RESIDENTE
A6: =+'INFORME FINAL'!A6 -> 1 | D6: =+'INFORME FINAL'!B6 -> VELNEC S.A.
A7: CONDICIONES DE EXPERIENCIA | D7: CONDICION DIRECTOR DE INTERVENTORIA | F7: CONDICION RESIDENTE | G7: Observación y respuesta a observaciones
A8: Objeto del Contrato | B8: Empleador | C8: Cargo | D8: Postgrado en gerencia de proyectos o gerencia de construccion, o gerencia de obras o gerencia de empresas constructoras o similares | E8: Experiencia General (6 años general / 4 CONTRATOS especificos director) | F8: Experiencia MINIMA DE 3 AÑOS Y 1 CONTRATO ESPECIFICAO COMO RESIDENTE
A16: EXPERIENCIA DEL DIRECTOR | D16: CUMPLE | E16: CUMPLE | F16: N/A | G16: CUMPLE
A23: EXPERIENCIA DEL RESIDENTE 1 | D23: N/A | E23: N/A | F23: CUMPLE | G23: CUMPLE
A30: EXPERIENCIA DEL RESIDENTE 2 | D30: N/A | E30: N/A | F30: CUMPLE | G30: CUMPLE
A32: =+'INFORME FINAL'!A7 -> 2 | D32: =+'INFORME FINAL'!B7 -> ANZA INGENIERIA
A33: CONDICIONES DE EXPERIENCIA | D33: CONDICION DIRECTOR DE INTERVENTORIA | F33: CONDICION RESIDENTE | G33: Observación y respuesta a observaciones
A34: Objeto del Contrato | B34: Empleador | C34: Cargo | D34: Postgrado en gerencia de proyectos o gerencia de construccion, o gerencia de obras o gerencia de empresas constructoras o similares | E34: Experiencia General (6 años general / 4 CONTRATOS especificos director) | F34: Experiencia MINIMA DE 3 AÑOS Y 1 CONTRATO ESPECIFICAO COMO RESIDENTE
A42: EXPERIENCIA DEL DIRECTOR | D42: CUMPLE | E42: CUMPLE | F42: N/A | G42: CUMPLE
A49: EXPERIENCIA DEL RESIDENTE 1 | D49: N/A | E49: N/A | F49: CUMPLE | G49: CUMPLE
A56: EXPERIENCIA DEL RESIDENTE 2 | D56: N/A | E56: N/A | F56: CUMPLE | G56: CUMPLE
A58: =+'INFORME FINAL'!A8 -> 3 | D58: =+'INFORME FINAL'!B8 -> JET INGENIERIA SAS
A59: CONDICIONES DE EXPERIENCIA | D59: CONDICION DIRECTOR DE INTERVENTORIA | F59: CONDICION RESIDENTE | G59: Observación y respuesta a observaciones
A60: Objeto del Contrato | B60: Empleador | C60: Cargo | D60: Postgrado en gerencia de proyectos o gerencia de construccion, o gerencia de obras o gerencia de empresas constructoras o similares | E60: Experiencia General (6 años general / 4 CONTRATOS especificos director) | F60: Experiencia MINIMA DE 3 AÑOS Y 1 CONTRATO ESPECIFICAO COMO RESIDENTE
A68: EXPERIENCIA DEL DIRECTOR | D68: CUMPLE | E68: CUMPLE | F68: N/A | G68: CUMPLE
A75: EXPERIENCIA DEL RESIDENTE 1 | D75: N/A | E75: N/A | F75: CUMPLE | G75: CUMPLE
A82: EXPERIENCIA DEL RESIDENTE 2 | D82: N/A | E82: N/A | F82: CUMPLE | G82: CUMPLE
A84: =+'INFORME FINAL'!A9 -> 4 | D84: =+'INFORME FINAL'!B9 -> CONSORCIO TEATRO AM
A85: CONDICIONES DE EXPERIENCIA | D85: CONDICION DIRECTOR DE INTERVENTORIA | F85: CONDICION RESIDENTE | G85: Observación y respuesta a observaciones
A86: Objeto del Contrato | B86: Empleador | C86: Cargo | D86: Postgrado en gerencia de proyectos o gerencia de construccion, o gerencia de obras o gerencia de empresas constructoras o similares | E86: Experiencia General (6 años general / 4 CONTRATOS especificos director) | F86: Experiencia MINIMA DE 3 AÑOS Y 1 CONTRATO ESPECIFICAO COMO RESIDENTE
A94: EXPERIENCIA DEL DIRECTOR | D94: CUMPLE | E94: CUMPLE | F94: N/A | G94: CUMPLE
A101: EXPERIENCIA DEL RESIDENTE 1 | D101: N/A | E101: N/A | F101: CUMPLE | G101: CUMPLE
A108: EXPERIENCIA DEL RESIDENTE 2 | D108: N/A | E108: N/A | F108: CUMPLE | G108: CUMPLE
A110: =+'INFORME FINAL'!A10 -> 5 | D110: =+'INFORME FINAL'!B10 -> HUPK S.A.S.
A111: CONDICIONES DE EXPERIENCIA | D111: CONDICION DIRECTOR DE INTERVENTORIA | F111: CONDICION RESIDENTE | G111: Observación y respuesta a observaciones
A112: Objeto del Contrato | B112: Empleador | C112: Cargo | D112: Postgrado en gerencia de proyectos o gerencia de construccion, o gerencia de obras o gerencia de empresas constructoras o similares | E112: Experiencia General (6 años general / 4 CONTRATOS especificos director) | F112: Experiencia MINIMA DE 3 AÑOS Y 1 CONTRATO ESPECIFICAO COMO RESIDENTE
A120: EXPERIENCIA DEL DIRECTOR | D120: CUMPLE | E120: CUMPLE | F120: N/A | G120: CUMPLE
A127: EXPERIENCIA DEL RESIDENTE 1 | D127: N/A | E127: N/A | F127: CUMPLE | G127: CUMPLE
A134: EXPERIENCIA DEL RESIDENTE 2 | D134: N/A | E134: N/A | F134: CUMPLE | G134: CUMPLE
A136: =+'INFORME FINAL'!A11 -> 6 | D136: =+'INFORME FINAL'!B11 -> GB10 CONSULTORES S.A.S.
A137: CONDICIONES DE EXPERIENCIA | D137: CONDICION DIRECTOR DE INTERVENTORIA | F137: CONDICION RESIDENTE | G137: Observación y respuesta a observaciones
A138: Objeto del Contrato | B138: Empleador | C138: Cargo | D138: Postgrado en gerencia de proyectos o gerencia de construccion, o gerencia de obras o gerencia de empresas constructoras o similares | E138: Experiencia General (6 años general / 4 CONTRATOS especificos director) | F138: Experiencia MINIMA DE 3 AÑOS Y 1 CONTRATO ESPECIFICAO COMO RESIDENTE
A146: EXPERIENCIA DEL DIRECTOR | D146: CUMPLE | E146: CUMPLE | F146: N/A | G146: CUMPLE
A153: EXPERIENCIA DEL RESIDENTE 1 | D153: N/A | E153: N/A | F153: CUMPLE | G153: CUMPLE
A160: EXPERIENCIA DEL RESIDENTE 2 | D160: N/A | E160: N/A | F160: CUMPLE | G160: CUMPLE
A162: =+'INFORME FINAL'!A12 -> 7 | D162: =+'INFORME FINAL'!B12 -> Camilo Moncaleano
...

Sheet EVALUACION TECNICA PROPONE HAB
A1: FONDO DE DESARROLLO LOCAL DE USAQUEN
A2: =+'INFORME FINAL'!A2:H2 -> CONCURSO DE MERITOS ABIERTO - FDLUSA-CMA-004-2023
A3: REQUISITOS HABILITANTES PROPONENTE TÉCNICOS | T3: CUMPLE
T4: NO CUMPLE
B6: =+'INFORME FINAL'!A6 -> 1 | C6: =+'INFORME FINAL'!B6 -> VELNEC S.A.
B7: FORMATO 9 – ACEPTACIÓN Y CUMPLIMIENTO DE LA FORMACIÓN Y EXPERIENCIA DEL PERSONAL CLAVE
B9: FORMATO 11- FACTOR DE SOSTENIBILIDAD
B10: CONDICIONES DE EXPERIENCIA | I10: CODIGO UNSPSC 80101600, 81101500 | J10: Observación y respuesta a observaciones
A11: # | B11: OBJETO | C11: VALOR CONTRATO EN EL RUP SMMLV | D11: PORCENTAJE DE PARTICIPACION | E11: VALOR EJECUTADO EN SMMLV AFECTADO POR EL % DE PARTICIPACION | F11: No. CONSECUTIVO EN RUP | G11: En caso de consorcios o uniones temporales o acuerdos de sociedad futura, esta experiencia podra ser acreditada por solo uno de los integrantes | H11: % DEL PROCESO
B12: VELNEC S.A 100%
A13: 1 | B13: INTERVENTORÍA TÉCNICA, ADMINISTRATIVA Y FINANCIERA A LA OBRA DEL JARDÍN SOCIAL EL PORVENIR, LOCALIDAD DE BOSA EN BOGOTÁ D.C. | C13: 482.43 | D13: 0.5 | E13: =+IF(C13="","",C13*D13) -> 241.215 | F13: 33 | G13: CUMPLE | H13: =(SUM(E13:E16))/$C$189 -> 7.0841925 | I13: CUMPLE | J13: experiencia general y especifica
A14: 2 | B14: INTERVENTORÍA TÉCNICA, ADMINISTRATIVA, FINANCIERA, LEGAL Y AMBIENTAL PARA LA CONSTRUCCIÓN DEL CAI PERIFÉRICO LA AVANZADA EN EL MUNICIPIO DE MEDELLIN. | C14: 177.65 | D14: 1 | E14: =+IF(C14="","",C14*D14) -> 177.65 | F14: 72 | I14: CUMPLE | J14: experiencia general y especifica
A15: 3 | B15: INTERVENTORÍA TÉCNICA Y ADMINISTRATIVA PARA LA CONSTRUCCIÓN DE LA TORRE DE CONTROL DEL AEROPUERTO EL CARAÑO DE QUIBDO-CHOCO. | C15: 69.7 | D15: 1 | E15: =+IF(C15="","",C15*D15) -> 69.7 | F15: 85 | I15: CUMPLE | J15: experiencia general y especifica
E16: =+IF(C16="","",C16*D16) | I16: CUMPLE
A17: =COUNTA(A13:A16) -> 3 | B17: EXPERIENCIA DEL PROPONENTE | E17: =SUM(E13:E16) -> 488.565 | H17: =IF(AND(H13>=100%),"CUMPLE","NO CUMPLE") -> CUMPLE | J17: CUMPLE
B20: =+'INFORME FINAL'!A7 -> 2 | C20: =+'INFORME FINAL'!B7 -> ANZA INGENIERIA
B21: FORMATO 9 – ACEPTACIÓN Y CUMPLIMIENTO DE LA FORMACIÓN Y EXPERIENCIA DEL PERSONAL CLAVE
B23: FORMATO 11- FACTOR DE SOSTENIBILIDAD
B24: CONDICIONES DE EXPERIENCIA | I24: CODIGO UNSPSC 80101600, 81101500 | J24: Observación y respuesta a observaciones
A25: # | B25: OBJETO | C25: VALOR CONTRATO EN EL RUP SMMLV | D25: PORCENTAJE DE PARTICIPACION | E25: VALOR EJECUTADO EN SMMLV AFECTADO POR EL % DE PARTICIPACION | F25: No. CONSECUTIVO EN RUP | G25: En caso de consorcios o uniones temporales o acuerdos de sociedad futura, esta experiencia podra ser acreditada por solo uno de los integrantes | H25: % DEL PROCESO
B26: ANZA INGENIERIA 100%
A27: 1 | B27: INTERVENTORÍA TÉCNICA, ADMINISTRATIVA, FINANCIERA, CONTABLE Y JURÍDICA DEL PROYECTO DE MANTENIMIENTO ADECUACION Y REPARACION DE BIENES INMUEBLES DEL CACOM-4. | C27: 110.06 | D27: 1 | E27: =+IF(C27="","",C27*D27) -> 110.06 | F27: 12 | G27: CUMPLE | H27: =(SUM(E27:E30))/$C$189 -> 1.59587 | I27: CUMPLE | J27: “El Proponente cumplirá con la exigencia mínima de experiencia descrita en el pliego de condiciones y demás documentación que lo complemente. De acuerdo con lo anterior, si el Proponente debió subsanar el cumplimiento de la experiencia mínima, para la asignación de puntaje no se tendrán en cuenta los contratos que hayan sido objeto de subsanación" por lo anterior solo se tiene en cuenta el contrato, que no fue objeto de subsanación-.
B28: NTERVENTORÍA TÉCNICA, ADMINISTRATIVA, FINANCIERA, AMBIENTAL, JURIDICA Y CONTABLE AL CONTRATO DE OBRA RESULTANTE DEL PROCESO DE SELECCIÓN ABREVIADA PARA LA ADQUISICIÓN DE BIENES Y SERVICIOS PARA LA DEFENSA Y SEGURIDAD NACIONAL No. 084-DIAD-CADCO-CENAC INGENIEROS 2017 CUYO OBJETO ES “ACTIVIDADES CONSTRUCTIVAS, SUMINISTRO, INSTALACIÓN Y PUESTA EN FUNCIONAMIENTO DE LOS EQUIPOS PARA LA SEGUNDA ETAPA DEL EDIFICIO DE JUSTICIA PENAL MILITAR, UBICADO EN LA CIUDAD DE BOGOTÁ”. | C28: 445.21 | D28: 0.25 | F28: 4 | I28: CUMPLE
B29: NTERVENTORIA MANTENIMIENTO RESTAURATIVO A TODO COSTO DE HABITACIONES EN LA SEDE PRINCIPAL DEL CLUB MILITAR | C29: 200 | D29: 0.75 | F29: 18 | I29: CUMPLE
E30: =+IF(C30="","",C30*D30) | I30: CUMPLE
A31: =COUNTA(A27:A30) -> 1 | B31: EXPERIENCIA DEL PROPONENTE | E31: =SUM(E27:E30) -> 110.06 | H31: =IF(AND(H27>=100%),"CUMPLE","NO CUMPLE") -> CUMPLE | J31: CUMPLE
B34: =+'INFORME FINAL'!A8 -> 3 | C34: =+'INFORME FINAL'!B8 -> JET INGENIERIA SAS
B35: FORMATO 9 – ACEPTACIÓN Y CUMPLIMIENTO DE LA FORMACIÓN Y EXPERIENCIA DEL PERSONAL CLAVE
B37: FORMATO 11- FACTOR DE SOSTENIBILIDAD
B38: CONDICIONES DE EXPERIENCIA | I38: CODIGO UNSPSC 80101600, 81101500 | J38: Observación y respuesta a observaciones
A39: # | B39: OBJETO | C39: VALOR CONTRATO EN EL RUP SMMLV | D39: PORCENTAJE DE PARTICIPACION | E39: VALOR EJECUTADO EN SMMLV AFECTADO POR EL % DE PARTICIPACION | F39: No. CONSECUTIVO EN RUP | G39: En caso de consorcios o uniones temporales o acuerdos de sociedad futura, esta experiencia podra ser acreditada por solo uno de los integrantes | H39: % DEL PROCESO
B40: JET INGENIERIA SAS 100%
A41: 1 | B41: Interventoría Técnica, Administrativa, Financiera, Contable y Ambiental a la Construcción de la Biblioteca Digital- Centro Cultural Barrio Pie de la Popa | C41: 690.89 | D41: 0.55 | E41: =+IF(C41="","",C41*D41) -> 379.9895 | F41: 21 | G41: CUMPLE | H41: =(SUM(E41:E44))/$C$189 -> 22.410265 | I41: CUMPLE | J41: experiencia general y especifica
A42: 2 | B42: Interventoría Técnica, Adminsitrativa, Financiera y Juridica para la Construcción de la segunda etapa de la Biblioteca Distrital el Pie de la Popa, en el Distrito de Cartagena de Indias, Departamento de Bolívar | C42: 204.25 | D42: 1 | E42: =+IF(C42="","",C42*D42) -> 204.25 | F42: 30 | I42: CUMPLE | J42: experiencia general y especifica
A43: 3 | B43: Interventoría Técnica, Administrativa, Financiera, Ambiental, Contable y Juridica a la Construcción Casa de Rehabilitación y Bienestar Animal Bolívar Si Avanza, Municipio de Santa Rosa, Departamento de Bolívar | C43: 1201.62 | D43: 0.8 | E43: =+IF(C43="","",C43*D43) -> 961.296 | F43: 33 | I43: CUMPLE | J43: experiencia general y especifica
E44: =+IF(C44="","",C44*D44) | I44: CUMPLE
A45: =COUNTA(A41:A44) -> 3 | B45: EXPERIENCIA DEL PROPONENTE | E45: =SUM(E41:E44) -> 1545.5355 | H45: =IF(AND(H41>=100%),"CUMPLE","NO CUMPLE") -> CUMPLE | J45: CUMPLE
B48: =+'INFORME FINAL'!A9 -> 4 | C48: =+'INFORME FINAL'!B9 -> CONSORCIO TEATRO AM
B49: FORMATO 9 – ACEPTACIÓN Y CUMPLIMIENTO DE LA FORMACIÓN Y EXPERIENCIA DEL PERSONAL CLAVE
B51: FORMATO 11- FACTOR DE SOSTENIBILIDAD
...

Sheet PONDERACIÓN PROPONENTE
A1: FONDO DE DESARROLLO LOCAL DE USAQUEN
A2: =+'INFORME FINAL'!A2:H2 -> CONCURSO DE MERITOS ABIERTO - FDLUSA-CMA-004-2023
A3: PONDERACION ADICIONAL PROPONENTE TÉCNICOS | Z3: CUMPLE
Z4: NO CUMPLE
A6: =+'INFORME FINAL'!A6 -> 1 | D6: =+'INFORME FINAL'!B6 -> VELNEC S.A.
A7: FORMATO 7- MANIFESTACIÓN PERSONAL CLAVE Y FORMATOS | C7: CUMPLE
A9: CONDICIONES DE EXPERIENCIA | M9: CODIGO UNSPSC 81101500 - 80102200 -80101600 | N9: Observación y respuesta a observaciones
A10: OBJETO | B10: FECHA DE INICIO D/M/A | C10: FECHA DE TERMINACION D/M/A | D10: ENTIDAD | E10: VALOR CONTRATO | F10: VALOR EN SMMLV AÑO DE TERMINACION | G10: PORCENTAJE DE PARTICIPACION | H10: VALOR EJECUTADO EN PESOS AFECTADO POR EL % DE PARTICIPACION | I10: VALOR EJECUTADO EN SMMLV AFECTADO POR EL % DE PARTICIPACION | J10: No. CONSECUTIVO EN RUP | K10: uno de los integrantes del Proponente debe aportar como mínimo el cincuenta (50%) por ciento de la experiencia | L10: % DEL PROCESO
A11: INTERCONDI SAS 100%
F12: =IF(C12="","",E12/(VLOOKUP(YEAR(C12),$C$805:$D$841,2,FALSE))) | H12: =+E12*G12 -> 0 | I12: =+IF(E12="","",F12*G12) | L12: =(SUM(I12:I13))/$C$791 -> 0 | P12: =IF(L799="","",#REF!/(VLOOKUP(YEAR(#REF!),$XEU$1045872:$XEV$1045907,2,FALSE)))
F13: =IF(C13="","",E13/(VLOOKUP(YEAR(C13),$C$805:$D$841,2,FALSE))) | H13: 0 | I13: =+IF(E13="","",F13*G13)
A14: EXPERIENCIA DEL PROPONENTE | L14: =IF(AND(L12>=100%),"CUMPLE","NO CUMPLE") -> NO CUMPLE | N14: NO CUMPLE
A17: =+'INFORME FINAL'!A7 -> 2 | D17: =+'INFORME FINAL'!B7 -> ANZA INGENIERIA
A18: FORMATO 7- MANIFESTACIÓN PERSONAL CLAVE Y FORMATOS | C18: NO CUMPLE
A20: CONDICIONES DE EXPERIENCIA | M20: CODIGO UNSPSC 81101500 - 80102200 -80101600 | N20: Observación y respuesta a observaciones
A21: OBJETO | B21: FECHA DE INICIO D/M/A | C21: FECHA DE TERMINACION D/M/A | D21: ENTIDAD | E21: VALOR CONTRATO | F21: VALOR EN SMMLV AÑO DE TERMINACION | G21: PORCENTAJE DE PARTICIPACION | H21: VALOR EJECUTADO EN PESOS AFECTADO POR EL % DE PARTICIPACION | I21: VALOR EJECUTADO EN SMMLV AFECTADO POR EL % DE PARTICIPACION | J21: No. CONSECUTIVO EN RUP | K21: uno de los integrantes del Proponente debe aportar como mínimo el cincuenta (50%) por ciento de la experiencia | L21: % DEL PROCESO
A22: CEAS SAS 100%
F23: =IF(C23="","",E23/(VLOOKUP(YEAR(C23),$C$805:$D$841,2,FALSE))) | H23: =+E23*G23 -> 0 | I23: =+IF(E23="","",F23*G23) | L23: =(SUM(I23:I26))/$C$791 -> 0 | P23: =IF(L810="","",#REF!/(VLOOKUP(YEAR(#REF!),$XEU$1045872:$XEV$1045907,2,FALSE)))
F24: =IF(C24="","",E24/(VLOOKUP(YEAR(C24),$C$805:$D$841,2,FALSE))) | H24: 0 | I24: =+IF(E24="","",F24*G24)
F25: =IF(C25="","",E25/(VLOOKUP(YEAR(C25),$C$805:$D$841,2,FALSE))) | H25: =+E25*G25 -> 0 | I25: =+IF(E25="","",F25*G25) | P25: =IF(L812="","",#REF!/(VLOOKUP(YEAR(#REF!),$XEU$1045872:$XEV$1045907,2,FALSE)))
F26: =IF(C26="","",E26/(VLOOKUP(YEAR(C26),$C$805:$D$841,2,FALSE))) | H26: 0 | I26: =+IF(E26="","",F26*G26)
A27: EXPERIENCIA DEL PROPONENTE | L27: =IF(AND(L23>=100%),"CUMPLE","NO CUMPLE") -> NO CUMPLE | N27: NO CUMPLE
A30: =+'INFORME FINAL'!A8 -> 3 | D30: =+'INFORME FINAL'!B8 -> JET INGENIERIA SAS
A31: FORMATO 7- MANIFESTACIÓN PERSONAL CLAVE Y FORMATOS | C31: NO CUMPLE
A33: CONDICIONES DE EXPERIENCIA | M33: CODIGO UNSPSC 81101500 - 80102200 -80101600 | N33: Observación y respuesta a observaciones
A34: OBJETO | B34: FECHA DE INICIO D/M/A | C34: FECHA DE TERMINACION D/M/A | D34: ENTIDAD | E34: VALOR CONTRATO | F34: VALOR EN SMMLV AÑO DE TERMINACION | G34: PORCENTAJE DE PARTICIPACION | H34: VALOR EJECUTADO EN PESOS AFECTADO POR EL % DE PARTICIPACION | I34: VALOR EJECUTADO EN SMMLV AFECTADO POR EL % DE PARTICIPACION | J34: No. CONSECUTIVO EN RUP | K34: uno de los integrantes del Proponente debe aportar como mínimo el cincuenta (50%) por ciento de la experiencia | L34: % DEL PROCESO
A35: DPC INGENIEROS S.A.S. 60%
F36: =IF(C36="","",E36/(VLOOKUP(YEAR(C36),$C$805:$D$841,2,FALSE))) | H36: =+E36*G36 -> 0 | I36: =+IF(E36="","",F36*G36) | L36: =(SUM(I36:I37))/$C$791 -> 0 | P36: =IF(L823="","",#REF!/(VLOOKUP(YEAR(#REF!),$XEU$1045872:$XEV$1045907,2,FALSE)))
F37: =IF(C37="","",E37/(VLOOKUP(YEAR(C37),$C$805:$D$841,2,FALSE))) | H37: 0 | I37: =+IF(E37="","",F37*G37)
A38: FRONTERAS CONSTRUCTORA S.A.S. 40%
A39: EXPERIENCIA DEL PROPONENTE | L39: =IF(AND(L36>=100%),"CUMPLE","NO CUMPLE") -> NO CUMPLE | N39: NO CUMPLE
A42: =+'INFORME FINAL'!A9 -> 4 | D42: =+'INFORME FINAL'!B9 -> CONSORCIO TEATRO AM
A43: FORMATO 7- MANIFESTACIÓN PERSONAL CLAVE Y FORMATOS | C43: CUMPLE
A45: CONDICIONES DE EXPERIENCIA | M45: CODIGO UNSPSC 81101500 - 80102200 -80101600 | N45: Observación y respuesta a observaciones
A46: OBJETO | B46: FECHA DE INICIO D/M/A | C46: FECHA DE TERMINACION D/M/A | D46: ENTIDAD | E46: VALOR CONTRATO | F46: VALOR EN SMMLV AÑO DE TERMINACION | G46: PORCENTAJE DE PARTICIPACION | H46: VALOR EJECUTADO EN PESOS AFECTADO POR EL % DE PARTICIPACION | I46: VALOR EJECUTADO EN SMMLV AFECTADO POR EL % DE PARTICIPACION | J46: No. CONSECUTIVO EN RUP | K46: uno de los integrantes del Proponente debe aportar como mínimo el cincuenta (50%) por ciento de la experiencia | L46: % DEL PROCESO
A47: NORBERTO BAYONA ESPITIA 100%
F48: =IF(C48="","",E48/(VLOOKUP(YEAR(C48),$C$805:$D$841,2,FALSE))) | H48: =+E48*G48 -> 0 | I48: =+IF(E48="","",F48*G48) | L48: =(SUM(I48:I49))/$C$791 -> 0 | P48: =IF(L835="","",#REF!/(VLOOKUP(YEAR(#REF!),$XEU$1045872:$XEV$1045907,2,FALSE)))
F49: =IF(C49="","",E49/(VLOOKUP(YEAR(C49),$C$805:$D$841,2,FALSE))) | H49: 0 | I49: =+IF(E49="","",F49*G49)
A50: EXPERIENCIA DEL PROPONENTE | L50: =IF(AND(L48>=100%),"CUMPLE","NO CUMPLE") -> NO CUMPLE | N50: NO CUMPLE
A53: =+'INFORME FINAL'!A10 -> 5 | D53: =+'INFORME FINAL'!B10 -> HUPK S.A.S.
...

Sheet F. PONDERABLES
A1: FONDO DE DESARROLLO LOCAL DE USAQUEN
A2: =+'INFORME FINAL'!A2:H2 -> CONCURSO DE MERITOS ABIERTO - FDLUSA-CMA-004-2023
A3: FACTORES PONDERABLES
A7: FACTORES PONDERABLES / PUNTAJE FINAL | C7: EXPERIENCIA DEL PROPONENTE (68,5 PUNTOS) | D7: EQUIPO DE TRABAJO (PERSONAL CLAVE AVALUABLE) (10 PUNTOS) | E7: APOYO A LA INDUSTRIA NACIONAL (20 PUNTOS) | F7: VINCULACION DE PERSONAS CON DISCAPACIDAD (1 PUNTO) | G7: EMPRENDIMIENTOS Y EMPRESAS DE MUJERES (0,25 PUNTOS) | H7: MIPYME (0,25 PUNTOS) | I7: PUNTAJE TOTAL | J7: OBSERVACIONES
A8: =+'INFORME FINAL'!A6 -> 1 | B8: =+'INFORME FINAL'!B6 -> VELNEC S.A. | C8: =+'FORMULA EXPERIENCIA'!G12 -> 16.302963 | D8: 10 | E8: 20 | F8: 1 | G8: 0.25 | H8: 0.25 | I8: =+C8+D8+F8+H8+E8+G8 -> 47.802963
A9: =+'INFORME FINAL'!A7 -> 2 | B9: =+'INFORME FINAL'!B7 -> ANZA INGENIERIA | C9: =+'FORMULA EXPERIENCIA'!G13 -> 11.017802 | D9: 10 | E9: 20 | F9: 1 | G9: 0.25 | H9: 0.25 | I9: =+C9+D9+F9+H9+E9+G9 -> 42.517802
A10: =+'INFORME FINAL'!A8 -> 3 | B10: =+'INFORME FINAL'!B8 -> JET INGENIERIA SAS | C10: 68.5 | D10: 10 | E10: 20 | F10: 1 | G10: 0.25 | H10: 0.25 | I10: =+C10+D10+F10+H10+E10+G10 -> 100
A11: =+'INFORME FINAL'!A9 -> 4 | B11: =+'INFORME FINAL'!B9 -> CONSORCIO TEATRO AM | J11: RECHAZADO
A12: =+'INFORME FINAL'!A10 -> 5 | B12: =+'INFORME FINAL'!B10 -> HUPK S.A.S. | C12: =+'FORMULA EXPERIENCIA'!G16 -> 28.625529 | D12: 10 | E12: 20 | F12: 1 | G12: 0.25 | H12: 0.25 | I12: =+C12+D12+F12+H12+E12+G12 -> 60.125529 | J12: No tiene el formato de MIPYME - acreditado por el RUP
A13: =+'INFORME FINAL'!A11 -> 6 | B13: =+'INFORME FINAL'!B11 -> GB10 CONSULTORES S.A.S. | C13: =+'FORMULA EXPERIENCIA'!G17 -> -2.7518671 | D13: 10 | E13: 20 | F13: 1 | G13: 0.25 | H13: 0.25 | I13: =+C13+D13+F13+H13+E13+G13 -> 28.748133
A14: =+'INFORME FINAL'!A12 -> 7 | B14: =+'INFORME FINAL'!B12 -> Camilo Moncaleano | J14: RECHAZADO
A15: =+'INFORME FINAL'!A13 -> 8 | B15: =+'INFORME FINAL'!B13 -> CONSORCIO ING SERVITÁ | C15: =+'FORMULA EXPERIENCIA'!G19 -> 36.463558 | D15: 10 | E15: 20 | F15: 1 | G15: 0.25 | H15: 0.25 | I15: =+C15+D15+F15+H15+E15+G15 -> 67.963558 | J15: INGECINCO PEQUEÑA EMPRESA. RUP GRUP ASV MICROEMPRESA
A16: =+'INFORME FINAL'!A14 -> 9 | B16: =+'INFORME FINAL'!B14 -> flm ingenieros contratistas consultores S.A.S. | C16: =+'FORMULA EXPERIENCIA'!G20 -> 12.024213 | D16: 10 | E16: 20 | F16: 1 | G16: 0.25 | H16: 0.25 | I16: =+C16+D16+F16+H16+E16+G16 -> 43.524213 | J16: SE VERIFICA EN EL RUP TAMAÑO DE LA EMPRESA
A17: =+'INFORME FINAL'!A15 -> 10 | B17: =+'INFORME FINAL'!B15 -> R&M CONSTRUCCIONES E INTERVENTORIAS S.A.S. | C17: =+'FORMULA EXPERIENCIA'!G21 -> 9.781811 | D17: 10 | E17: 20 | F17: 1 | G17: 0.25 | H17: 0.25 | I17: =+C17+D17+F17+H17+E17+G17 -> 41.281811
A18: =+'INFORME FINAL'!A16 -> 11 | B18: =+'INFORME FINAL'!B16 -> IA ingenieria y Arquitectura de Colombia SAS | C18: =+'FORMULA EXPERIENCIA'!G22 -> 25.951698 | D18: 10 | E18: 20 | F18: 1 | G18: 0.25 | H18: 0.25 | I18: =+C18+D18+F18+H18+E18+G18 -> 57.451698
A19: =+'INFORME FINAL'!A17 -> 12 | B19: =+'INFORME FINAL'!B17 -> PROYECTOS URBANOS Y CONSTRUCCIONES DEL CARIBE S.A.S | J19: RECHAZADO
A20: =+'INFORME FINAL'!A18 -> 13 | B20: =+'INFORME FINAL'!B18 -> KRIBA INGENIEROS LTDA | J20: RECHAZADO

Sheet FORMULA EXPERIENCIA
B1: FACTOR PONDERABLE EXPERIENCA- MEDIA ARITMETICA ALTA
B2: Para la asignación de puntaje, se tomará el promedio de los contratos válidos aportados expresados en SMMLV registrados en el RUP o en alguno de los documentos válidos señalados en el numeral Documentos Válidos para la Acreditación de la Experiencia Requerida, que acredite su experiencia relacionada en el RUP, y que en total hayan cumplido con lo mencionado en el literal A de esta sección. Dicho promedio será el valor que lo hará participar para la asignación del puntaje
G7: SMMLV
D8: n = | E8: Número de propuestas hábiles
E9: Puntaje Maximo
B11: No. | C11: OFERENTES | D11: NÚMERO SMMLV APORTADOS | E11: No. De Contratos Validados | F11: Promedio SMMLV | G11: Puntaje M.C.V.A | H11: OBSERVACIONES
B12: 1 | C12: =+'INFORME FINAL'!B6 -> VELNEC S.A. | D12: =+'EVALUACION TECNICA PROPONE HAB'!E17 -> 488.565 | E12: =+'EVALUACION TECNICA PROPONE HAB'!A17 -> 3 | F12: =+D12/E12 -> 162.855 | G12: =+$G$31*(1-(($G$30-F12)/($G$30))) -> 16.302963
B13: 2 | C13: =+'INFORME FINAL'!B7 -> ANZA INGENIERIA | D13: =+'EVALUACION TECNICA PROPONE HAB'!E27 -> 110.06 | E13: =+'EVALUACION TECNICA PROPONE HAB'!A31 -> 1 | F13: =+D13/E13 -> 110.06 | G13: =+$G$31*(1-(($G$30-F13)/($G$30))) -> 11.017802
B14: 3 | C14: =+'INFORME FINAL'!B8 -> JET INGENIERIA SAS | D14: =+'EVALUACION TECNICA PROPONE HAB'!E45 -> 1545.5355 | E14: =+'EVALUACION TECNICA PROPONE HAB'!A45 -> 3 | F14: =+D14/E14 -> 515.1785 | G14: =+$G$31*(1-(($G$30-F14)/($G$30))) -> 51.573092 | H14: 68.5
B15: 4 | C15: =+'INFORME FINAL'!B9 -> CONSORCIO TEATRO AM | H15: RECHAZADO | J15: SEGUNDO DIA HABIL APERTURA DE OFERTAS: | N15: 45146 | O15: 4077.9
B16: 5 | C16: =+'INFORME FINAL'!B10 -> HUPK S.A.S. | D16: =+'EVALUACION TECNICA PROPONE HAB'!E72 -> 857.846 | E16: =+'EVALUACION TECNICA PROPONE HAB'!A72 -> 3 | F16: =+D16/E16 -> 285.94867 | G16: =+$G$31*(1-(($G$30-F16)/($G$30))) -> 28.625529
B17: 6 | C17: =+'INFORME FINAL'!B11 -> GB10 CONSULTORES S.A.S. | D17: =+'EVALUACION TECNICA PROPONE HAB'!E86 -> 4160.576 | E17: =+'EVALUACION TECNICA PROPONE HAB'!A86 -> 4 | F17: =+D17/E17 -> 1040.144 | G17: =+$G$31*(1-2*(ABS($G$30-F17)/($G$30))) -> -2.7518671
B18: 7 | C18: =+'INFORME FINAL'!B12 -> Camilo Moncaleano | H18: RECHAZADO
B19: 8 | C19: =+'INFORME FINAL'!B13 -> CONSORCIO ING SERVITÁ | D19: =+'EVALUACION TECNICA PROPONE HAB'!E114 -> 728.49 | E19: =+'EVALUACION TECNICA PROPONE HAB'!A114 -> 2 | F19: =+D19/E19 -> 364.245 | G19: =+$G$31*(1-(($G$30-F19)/($G$30))) -> 36.463558
B20: 9 | C20: =+'INFORME FINAL'!B14 -> flm ingenieros contratistas consultores S.A.S. | D20: =+'EVALUACION TECNICA PROPONE HAB'!E128 -> 360.34 | E20: =+'EVALUACION TECNICA PROPONE HAB'!A128 -> 3 | F20: =+D20/E20 -> 120.11333 | G20: =+$G$31*(1-(($G$30-F20)/($G$30))) -> 12.024213
B21: 10 | C21: =+'INFORME FINAL'!B15 -> R&M CONSTRUCCIONES E INTERVENTORIAS S.A.S. | D21: =+'EVALUACION TECNICA PROPONE HAB'!E141 -> 293.14 | E21: =+'EVALUACION TECNICA PROPONE HAB'!A141 -> 3 | F21: =+D21/E21 -> 97.713333 | G21: =+$G$31*(1-(($G$30-F21)/($G$30))) -> 9.781811
B22: 11 | C22: =+'INFORME FINAL'!B16 -> IA ingenieria y Arquitectura de Colombia SAS | D22: =+'EVALUACION TECNICA PROPONE HAB'!E155 -> 777.717 | E22: =+'EVALUACION TECNICA PROPONE HAB'!A155 -> 3 | F22: =+D22/E22 -> 259.239 | G22: =+$G$31*(1-(($G$30-F22)/($G$30))) -> 25.951698
B23: 12 | C23: =+'INFORME FINAL'!B17 -> PROYECTOS URBANOS Y CONSTRUCCIONES DEL CARIBE S.A.S | H23: RECHAZADO
B24: 13 | C24: =+'INFORME FINAL'!B18 -> KRIBA INGENIEROS LTDA | H24: RECHAZADO
B25: CALCULO
F28: VMAX | G28: =+F17 -> 1040.144
F29: X | G29: =AVERAGE(F12,F14,F13,F16,F17,F19,F20,F21,F22) -> 328.38854
F30: XA | G30: =(G28+G29)/2 -> 684.26627
F31: PUNTAJE MAXIMO | G31: 68.5
