Workbook
Name contratación: 'IDENTIFICACION Y ANALISIS'!$B$39:$B$43
Name ejecución: 'IDENTIFICACION Y ANALISIS'!$B$45:$B$68
Name OPCIONES: 'ASIGNACION Y TRATAMIENTO'!$B$52:$B$54
Name planeación: 'IDENTIFICACION Y ANALISIS'!$B$19:$B$29
Name selección: 'IDENTIFICACION Y ANALISIS'!$B$31:$B$37

Sheet CONTEXTO
C1: MATRIZ DE RIESGOS EN CONTRATACIÓN | F1: Código: GCO-GCI-F164 Versión: 01 Vigencia: 16 diciembre de 2021 Caso HOLA: 206942
B5: ESTABLECER EL CONTEXTO
B6: El punto inicial es identificar el contexto en el cual interactúa la Entidad Estatal para conocer el ambiente social, económico y político, e identificar (i) sus propios Riesgos; (ii) los Riesgos comunes a sus Procesos de Contratación; y (iii) los Riesgos del Proceso de Contratación en particular. (Aplica igual para contratos interadministrativos) En este paso la Entidad Estatal debe identificar los aspectos que se mencionan a continuación y los posibles efectos adversos que estos pueden generar.
B7: Objeto del Proceso de Contratación: CONTRATAR EL SUMINISTRO DE MENCIONES HONORIFICAS, PLACAS DE RECONOCIMIENTO, PENDONES Y REFRIGERIOS Y/O ALIMENTOS PREPARADOS A PRECIOS UNITARIOS, NECESARIOS EN LAS ACTIVIDADES A REALIZAR EN EL MARCO DE LA ASAMBLEA DISTRITAL DE SABIAS Y SABIOS COMO APOYO POR PARTE DE LA ADMINISTRACIÓN LOCAL DE LOS MÁRTIRES
B8: Partícipes del Proceso de Contratación: Agentes externos (Organismos de control, veedurías ciudadanas), agentes internos (supervisores, funcionarios y demás usuarios).
B9: Ciudadanía que se beneficia del Proceso de Contratación: Agentes internos comunidad en general población mayor de la localidad de los Mártires)
B10: Capacidad de la Entidad Estatal entendida como la disponibilidad de recursos y conocimientos para el Proceso de Contratación: La disponibilidad de la Entidad de sus recursos y el conocimiento de su equipo humano se refleja en los diferentes funcionarios que participarán en las diversas etapas del proceso de selección: participan las áreas que requieren los procesos de contratación (Etapa de Estudios previos), el área de Contratos del FDLM (Etapa contractual), los evaluadores designados, idóneos y con experiencia en el tema, supervisión y/o apoyo a la supervisión designado.
B11: Suficiencia del presupuesto oficial del Proceso de Contratación: De acuerdo al Plan de contratación para la vigencia (2022), se estimaron los recursos necesarios para el desarrollo del proceso de la contratación, el cual tendrá el soporte presupuestal suficiente para su desarrollo, se define presupuesto oficial mediante el estudio del mercado.
B12: Condiciones geográficas y de acceso del lugar en el cual se debe cumplir el objeto del Proceso de Contratación: se desarrollaran las actividades en el lugar indicado en los estudios previos del proceso.
B13: Entorno socio ambiental: Si aplican
B14: Condiciones políticas: Si aplican
B15: Factores ambientales: El contratista debe manejar normas ambientales para el destino final de algunos repuestos que se retiran cuando se hace mantenimiento correctivo al sistema ademas de tener en cuenta las fichas de contratación sostenible de la SDG.
B16: Sector del objeto del Proceso de Contratación y su mercado: Servicios sociales y de apoyo a la comunidad, proyectos de interes social y beneficio de población mayor.
... B18: Experiencia propia y de otras Entidades Estatales en Procesos de Contratación del mismo tipo: --El FDLM ha promovido la participación ciudadana dentro de la localidad de los mártires apoyando las distintas actividades desde su competencia como entidad del sector gobierno. El proceso cuyo objeto es ,“CONTRATAR EL SUMINISTRO DE MENCIONES HONORIFICAS, PLACAS DE RECONOCIMIENTO, PENDONES Y REFRIGERIOS Y/O ALIMENTOS PREPARADOS A PRECIOS UNITARIOS, NECESARIOS EN LAS ACTIVIDADES A REALIZAR EN EL MARCO DE LA ASAMBLEA DISTRITAL DE SABIAS Y SABIOS COMO APOYO POR PARTE DE LA ADMINISTRACIÓN LOCAL DE LOS MÁRTIRES”, al ser un proceso adelantado con antecedentes y con EL se cuenta con la experiencia adquirida en la ejecución de este tipo de procesos mediante anteriores adquisiciones, se adelanta el presente documento con la necesaria de prevenir circunstancias inesperadas y lograr el cumplimiento de los fines de la contratación". Adquisiciones Previas Otras Entidades Estatales: Para el análisis de las adquisiciones de otras entidades en servicios similares dentro de las vigencias anteriores, se realizó una búsqueda en el Sistema Electrónico de Contratación Pública (SECOP II), con el fin que estas se consideren pertinente a la hora del análisis del mercado de la presente investigación. Los resultados de esta búsqueda se presentan en el Anexo 4. Documento análisis del sector.

Sheet IDENTIFICACION Y ANALISIS
C2: MATRIZ DE RIESGOS DE CONTRATACIÓN | F2: Código: GCO-GCI-F164 Versión: 01 Vigencia: 16 diciembre de 2021 Caso HOLA: 206942
B6: DEFINICIONES
B7: RIESGO: evento que puede generar efectos adversos y de distinta magnitud en el logro de los objetivos del Proceso de Contratación o en la ejecución de un contrato
B8: RIESGOS PREVISIBLES: Son los posibles hechos o circunstancias que por la naturaleza del contrato y de la actividad a ejecutar es factible su ocurrencia.
B9: ETAPA DE PLANEACIÓN: Está comprendida entre la elaboración del Plan Anual de Adquisiciones y la fecha en la cual decide continuar o no con el Proceso de Contratación
B10: ETAPA DE SELECCIÓN: Está comprendida entre el acto de Apertura del Proceso de Contratación y la Adjudicación o la declaración de desierto del Proceso de Contratación
B11: ETAPA DE CONTRATACIÓN: Una vez adjudicado el contrato objeto del Proceso de Contratación, inicia la etapa de contratación en la cual se debe cumplir con el cronograma previsto para la celebración del contrato, el registro presupuestal, la publicación en el SECOP y el cumplimiento de los requisitos para el perfeccionamiento, ejecución y pago.
B12: ETAPA DE EJECUCIÓN: Inicia una vez cumplidos los requisitos previstos para iniciar la ejecución del contrato respectivo y termina con el vencimiento del plazo del contrato o la fecha de liquidación si hay lugar a ella.
B13: RIESGO GENERAL: Es un riesgo de todos los procesos de contratación adelantados por la Entidad Estatal, por lo cual está presente en toda su actividad contractual.
B14: RIEGO ESPECIFICO: Es un riesgo propio del proceso de contratación objeto de análisis.
B15: INSTRUCCIONES PARA LA IDENTIFICACIÓN, ANALISIS, EVALUACIÓN , ASIGNACIÓN Y TRATAMIENTO DE RIESGOS EN LA CONTRATACIÓN
B16: 1) Identifique los riesgos previsibles que le apliquen al objeto contractual que se adelante; En caso de identificar otro riesgo inclúyalo en la proforma e informe al Área de Contratos de la Secretaría General para que sea actualizada en el SIG.
C17: ETAPAS | D17: CLASE | E17: FUENTE | F17: TIPO
C18: PLANEACIÓN
B19: Inadecuada escogencia de la modalidad de contratación | D19: Especifico | E19: Interno | F19: Operacionales
B20: Requisitos habilitantes inapropiados para el proceso de selección | D20: General | E20: Interno | F20: Operacionales
B21: Inadecuado análisis económico estimativo del valor del contrato | D21: General | E21: Interno | F21: Economicos
B22: Inadecuada descripción del bien o servicio requerido | D22: General | E22: Interno | F22: Operacionales
B23: Inadecuada elaboración de estudios y diseños | D23: General | E23: Interno | F23: Operacionales
B24: Requisitos habilitantes que impidan la selección objetiva | D24: General | E24: Interno | F24: Operacionales
B25: Falta de profundidad en el estudio de sector no identificandose claramente aspectos de oferta y demanda | D25: General | E25: Interno | F25: Economicos
B26: Ausencia de fundamentación de la justificación y conveniencia de la contratación | D26: General | E26: Interno | F26: Operacionales
B27: Inadecuada identificación de las condiciones contractuales | D27: General | E27: Interno | F27: Operacionales
B28: No aprobación o demoras en la expedición vigencias futuras | D28: General | E28: Interno | F28: Operacionales
B29: Apertura de procesos sin disponibilidad presupuestal | D29: General | E29: Interno | F29: Operacionales
C30: SELECCIÓN | D30: General | E30: Interno
B31: Inadecuada evaluación de las ofertas y/o verificación de requisitos habilitantes | D31: General | E31: Interno | F31: Operacionales
B32: Inadecuado manejo administrativo del proceso contractual | D32: General | E32: Interno | F32: Operacionales
B33: Falta de claridad en la elaboración de los actos administrativos | D33: General | E33: Interno | F33: Operacionales
B34: Contestación inoportuna a todas las observaciones formuladas a los documentos de la contratación | D34: General | E34: Interno | F34: Operacionales
B35: No publicación de la documentación del proceso de selección en el SECOP | D35: General | E35: Interno | F35: Operacionales
B36: Confabulacion de los proponentes (Colusión) | D36: General | E36: Interno | F36: Operacionales
B37: Selección de ofertas con precios artificialmente bajos. | D37: General | E37: Interno | F37: Operacionales
C38: CONTRATACIÓN | D38: General | E38: Externo
B39: Riesgo de que no se firme el contrato. | D39: General | E39: Interno | F39: Operacionales
B40: Falta de constitución o constitución tardía de la garantía única. Aceptación de garantías que no se ajustan a lo contemplado en el contrato | D40: General | E40: Externo | F40: Operacionales
B41: Falta de solicitud o solicitud tardía del registro presupuestal | D41: General | E41: Externo | F41: Operacionales
B42: No publicación de la documentación del proceso de selección en el SECOP | D42: General | E42: Interno | F42: Operacionales
B43: Presentación de reclamos de terceros sobre la selección del oferente que retrasen el perfeccionamiento del contrato. | D43: General | E43: Interno | F43: Operacionales
C44: EJECUCIÓN | D44: General | E44: Externo
...

Sheet EVALUACION
D1: MATRIZ DE RIESGOS DE CONTRATACIÓN | K1: Código: GCO-GCI-F164 Versión: 01 Vigencia: 16 diciembre de 2021 Caso HOLA: 206942
B5: Objeto Contractual: “CONTRATAR A MONTO AGOTABLE EL SUMINISTRO DE INSUMOS DE REFRIGERIOS, ELEMENTOS DE MERCHANDISING Y LOGISTICOS REQUERIDOS PARA EL DESARROLLO OPERATIVO Y ACTIVIDADES DEL PROGRAMA “PARCEROS POR BOGOTÁ” EN LA LOCALIDAD DE LOS MÁRTIRES”
B6: INSTRUCCIONES PARA LA IDENTIFICACIÓN, ANALISIS, EVALUACIÓN , ASIGNACIÓN Y TRATAMIENTO DE RIESGOS EN LA CONTRATACIÓN
B7: 1) Seleccione el tipo de calificación (Cualitativa ó Monetaria)
B8: 2) Seleccione la(s) etapas y los riesgos que aplican al objeto contractual
B9: 3) Asigne la probabilidad de ocurrencia del riesgo, de conformidad con la tabla de probabilidad
B10: 4) Asigne el impacto que generaría la materialización del riesgo, de conformidad con la tabla de impacto
B11: 5) Al realizar las anteriores actividades se obtendrá la calificación total y la valoración del riesgo (prioridad) , traslde al formato evaluación con controles, los que tengan un nivel de criticidad diferente a bajo.
B12: 6) Continúe en la hoja de evaluación de controles
B14: CALIFICACIÓN | H14: Cualitativa
B15: ETAPA | C15: Descripción (Que puede pasar y, cómo puede ocurrir) | H15: Consecuencias de la ocurrencia del evento | I15: Probabilidad de Ocurrencia | J15: Impacto | K15: Calificación Total | L15: Prioridad
B16: PLANEACIÓN | C16: Inadecuada descripción del bien o servicio requerido | H16: Se publique proceso de contratación que induzca al error de los proponentes y que no satisfaga las necesidades de la Entidad | I16: 3 | J16: 2 | K16: =+I16+J16 -> 5 | L16: =IF(K16<=4,"BAJO",IF(K16=5,"MEDIO",IF(K16=6,"ALTO",IF(K16=7,"ALTO","EXTREMO")))) -> MEDIO
B17: PLANEACIÓN | C17: Inadecuada elaboración de estudios y diseños | H17: Se publique proceso de contratación que induzca al error de los proponentes y que no satisfaga las necesidades de la Entidad | I17: 3 | J17: 3 | K17: =+I17+J17 -> 6 | L17: =IF(K17<=4,"BAJO",IF(K17=5,"MEDIO",IF(K17=6,"ALTO",IF(K17=7,"ALTO","EXTREMO")))) -> ALTO
B18: SELECCIÓN | C18: Inadecuada evaluación de las ofertas y/o verificación de requisitos habilitantes | H18: Falta de perfeccionamiento del contrato | I18: 3 | J18: 2 | K18: =+I18+J18 -> 5 | L18: =IF(K18<=4,"BAJO",IF(K18=5,"MEDIO",IF(K18=6,"ALTO",IF(K18=7,"ALTO","EXTREMO")))) -> MEDIO
B19: SELECCIÓN | C19: Selección de ofertas con precios artificialmente bajos. | H19: Modificacion de los plazos y actividades de acuerdo a las condiciones establecidas para estas situaciones | I19: 3 | J19: 4 | K19: =+I19+J19 -> 7 | L19: =IF(K19<=4,"BAJO",IF(K19=5,"MEDIO",IF(K19=6,"ALTO",IF(K19=7,"ALTO","EXTREMO")))) -> ALTO
B20: CONTRATACIÓN | C20: No publicación de la documentación del proceso de selección en el SECOP | H20: Falta de claridad en el proceso lo que induce al error a los proponentes en la preparación de sus ofertas No se presenten proponentes interesados en el proceso con posibilidad de declaración de desierto | I20: 2 | J20: 4 | K20: =+I20+J20 -> 6 | L20: =IF(K20<=4,"BAJO",IF(K20=5,"MEDIO",IF(K20=6,"ALTO",IF(K20=7,"ALTO","EXTREMO")))) -> ALTO
B21: CONTRATACIÓN | C21: Presentación de reclamos de terceros sobre la selección del oferente que retrasen el perfeccionamiento del contrato. | H21: Atraso sobre el inicio del contrato y afectación sobre el desarrollo del objeto contractual | I21: 2 | J21: 2 | K21: =+I21+J21 -> 4 | L21: =IF(K21<=4,"BAJO",IF(K21=5,"MEDIO",IF(K21=6,"ALTO",IF(K21=7,"ALTO","EXTREMO")))) -> BAJO
B22: EJECUCIÓN | C22: Factores políticos o macroeconómicos. | H22: Modificacion de los plazos y actividades de acuerdo a las condiciones establecidas para estas situaciones, reprocesos en convocatorias y actividades | I22: 2 | J22: 2 | K22: =+I22+J22 -> 4 | L22: =IF(K22<=4,"BAJO",IF(K22=5,"MEDIO",IF(K22=6,"ALTO",IF(K22=7,"ALTO","EXTREMO")))) -> BAJO
B23: EJECUCIÓN | C23: Variación en la disponibilidad o en el costo de los insumos necesarios para prestar los servicios. | H23: Modificacion de los plazos y actividades de acuerdo a las condiciones establecidas para estas situaciones | I23: 3 | J23: 3 | K23: =+I23+J23 -> 6 | L23: =IF(K23<=4,"BAJO",IF(K23=5,"MEDIO",IF(K23=6,"ALTO",IF(K23=7,"ALTO","EXTREMO")))) -> ALTO
B24: EJECUCIÓN | C24: Incumplimiento de compromisos adquiridos por el contratista seleccionado con sus subcontratistas, suministradores de bienes y servicios. | H24: Detrimento patrimonial Posible incumplimiento del contrato Afectacion de polizas | I24: 2 | J24: 4 | K24: =+I24+J24 -> 6 | L24: =IF(K24<=4,"BAJO",IF(K24=5,"MEDIO",IF(K24=6,"ALTO",IF(K24=7,"ALTO","EXTREMO")))) -> ALTO
B25: EJECUCIÓN | C25: Riesgo de que no se firme el contrato. | H25: Detrimento patrimonial Posible incumplimiento del contrato Afectacion de polizas | I25: 2 | J25: 4 | K25: =+I25+J25 -> 6 | L25: =IF(K25<=4,"BAJO",IF(K25=5,"MEDIO",IF(K25=6,"ALTO",IF(K25=7,"ALTO","EXTREMO")))) -> ALTO
B26: EJECUCIÓN | C26: Falta de constitución o constitución tardía de la garantía única. Aceptación de garantías que no se ajustan a lo contemplado en el contrato | H26: Demoras en el inicio del contrato y no cumplimiento en las actividades planteadas dentro de la ejecución del contrato | I26: 2 | J26: 3 | K26: =+I26+J26 -> 5 | L26: =IF(K26<=4,"BAJO",IF(K26=5,"MEDIO",IF(K26=6,"ALTO",IF(K26=7,"ALTO","EXTREMO")))) -> MEDIO
B27: EJECUCIÓN | C27: No publicación de la documentación del proceso de selección en el SECOP | H27: Falta de transparencia el proceso de selección publicacion de la informacion | I27: 2 | J27: 2 | K27: =+I27+J27 -> 4 | L27: =IF(K27<=4,"BAJO",IF(K27=5,"MEDIO",IF(K27=6,"ALTO",IF(K27=7,"ALTO","EXTREMO")))) -> BAJO
... B31: EJECUCIÓN | C31: Presentación de reclamos de terceros sobre la selección del oferente que retrasen el perfeccionamiento del contrato. | H31: Demoras en el inicio del contrato y no cumplimiento en las actividades planteadas dentro de la ejecución del contrato | I31: 3 | J31: 3 | K31: =+I31+J31 -> 6 | L31: =IF(K31<=4,"BAJO",IF(K31=5,"MEDIO",IF(K31=6,"ALTO",IF(K31=7,"ALTO","EXTREMO")))) -> ALTO
B33: Probabilidad | C33: Catagoria | E33: Valoración | G33: Impacto | H33: Categoria | I33: Valoración
C34: Raro (puede ocurrir excepcionalmente) | E34: 1 | H34: Insignificante | I34: 1
C35: Improbable (puede ocurrir ocasionalmente) | E35: 2 | H35: Menor | I35: 2
C36: Posible (puede ocurrir en cualquier momento futuro) | E36: 3 | H36: Moderado | I36: 3
C37: Probable (probablemente va a ocurrir) | E37: 4 | H37: Mayor | I37: 4
C38: Casi cierto (ocurre en la mayoria de circunstancias) | E38: 5 | H38: Catastrófico | I38: 5
C40: Valoración del Riesgo
C41: Calificación Cualitativa | F41: Obstruye la ejecución del contrato de manera intrascendente. | G41: Dificulta la ejecución del contrato de manera baja, aplicando medidas mínimas se pueden lograr el objeto contractual | H41: Afecta la ejecución del contrato sin alterar el beneficio para las partes | I41: Obstruye la ejecución del contrato sustancialmente pero aun así permite la consecución del objeto contractual | K41: Perturba la ejecución del contrato de manera grave imposibilitando la consecución del objeto contractual.
C42: Calificación Monetaria | F42: Los sobrecostos no representan más del uno por ciento (1%) del valor del contrato. | G42: Los sobrecostos no representan más del cinco por ciento (5%) del valor del contrato. | H42: Genera un impacto sobre el valor del contrato entre el cinco (5%) y el quince por ciento (15%). | I42: Incrementa el valor del contrato entre el quince (15%) y el treinta por ciento (30%). | K42: Impacto sobre el valor del contrato en más del treinta por ciento (30%).
C43: Categoría | E43: Valoración | F43: Insignificante | G43: Menor | H43: Moderado | I43: Mayor | K43: Catastrófico
F44: 1 | G44: 2 | H44: 3 | I44: 4 | K44: 5
C45: Raro (puede ocurrir excepcionalmente) | E45: 1 | F45: 2 | G45: 3 | H45: 4 | I45: 5 | K45: 6
C46: Improbable (puede ocurrir ocasionalmente) | E46: 2 | F46: 3 | G46: 4 | H46: 5 | I46: 6 | K46: 7
C47: Posible (puede ocurrir en cualquier momento futuro) | E47: 3 | F47: 4 | G47: 5 | H47: 6 | I47: 7 | K47: 8
C48: Probable (probablemente va a ocurrir) | E48: 4 | F48: 5 | G48: 6 | H48: 7 | I48: 8 | K48: 9
C49: Casi cierto (ocurre en la mayoria de circunstancias) | E49: 5 | F49: 6 | G49: 7 | H49: 8 | I49: 9 | K49: 10
...

Sheet EVALUACION CON CONTROLES
D2: MATRIZ DE RIESGOS DE CONTRATACIÓN | P2: Código: GCO-GCI-F164 Versión: 01 Vigencia: 16 diciembre de 2021 Caso HOLA: 206942
A6: =+EVALUACION!B5 -> Objeto Contractual: “CONTRATAR A MONTO AGOTABLE EL SUMINISTRO DE INSUMOS DE REFRIGERIOS, ELEMENTOS DE MERCHANDISING Y LOGISTICOS REQUERIDOS PARA EL DESARROLLO OPERATIVO Y ACTIVIDADES DEL PROGRAMA “PARCEROS POR BOGOTÁ” EN LA LOCALIDAD DE LOS MÁRTIRES”
A7: INSTRUCCIONES PARA LA IDENTIFICACIÓN, ANALISIS, EVALUACIÓN , ASIGNACIÓN Y TRATAMIENTO DE RIESGOS EN LA CONTRATACIÓN
A8: 1) Describa el tratamiento/controles a ser implementados
A9: 2) Teniendo en cuenta el tratamiento descrito, asigne la probabilidad de ocurrencia del riesgo, de conformidad con la tabla de probabilidad
A10: 3) Teniendo en cuenta el tratamiento descrito, asigne el impacto que generaría la materialización del riesgo, de conformidad con la tabla de impacto
A11: 4) Al realizar las anteriores actividades se obtendrá la calificación total y la valoración del riesgo (prioridad)
A12: 5) Diligencie la información de las démas columnas
A13: 7) Continúe en la hoja de asignación y tratamiento
A15: ETAPA | B15: Descripción (Que puede pasar y, cómo puede ocurrir) | F15: Tratamiento/Controles a ser implementados | H15: Probabilidad de Ocurrencia | I15: Impacto | J15: Calificación Total | K15: Prioridad | L15: ¿Afecta el equilibrio económico del contrato? | M15: Persona responsable por implementar el tratamiento | N15: Fecha estimada en que se inicia el tratamiento | O15: Fecha estimada en que se completa el tratamiento | P15: ¿Cómo se realiza el monitoreo? | Q15: Periodicidad ¿Cuándo?
A16: PLANEACIÓN | B16: Inadecuada descripción del bien o servicio requerido | F16: Los bienes y suministros a necesidad de la administración local deben contar con la identificación plena de acuerdo con los códigos del Clasificador de bienes y servicios para la adecuada contratación y los documentos que la sustentan debe estar alineada con el Plan de Desarrollo Local, los procesos y PAA de la entidad y debe ser presentados al Comité de Contratación para tener en cuenta sus recomendaciones. | H16: =+EVALUACION!I16 -> 3 | I16: =+EVALUACION!J16 -> 2 | J16: =+H16+I16 -> 5 | K16: =IF(J16<=4,"BAJO",IF(J16=5,"MEDIO",IF(J16=6,"ALTO",IF(J16=7,"ALTO","EXTREMO")))) -> MEDIO | L16: Si | M16: Gestor de Proyecto Oficina de Planeación | N16: Proceso de formulación | O16: Duarante el desarrollo y estructuración de documentos previos que integren el proceso | P16: Revisión documantl del proceso - Planeación y Contrataciópn y presentación de la información a Comité de Contratación | Q16: Permanente
A17: PLANEACIÓN | B17: Inadecuada elaboración de estudios y diseños | F17: Secretaria de Gobierno ha establecido procesos y formatos que orientan la formulación de los procesos de contratación y es menester de los profesionales de Planeación acatar y cumplir estos procedimientos y revisiones por parte de Contratación, Planeación y Comité de Contratación | H17: =+EVALUACION!I17 -> 3 | I17: =+EVALUACION!J17 -> 3 | J17: =+H17+I17 -> 6 | K17: =IF(J17<=4,"BAJO",IF(J17=5,"MEDIO",IF(J17=6,"ALTO",IF(J17=7,"ALTO","EXTREMO")))) -> ALTO | L17: Si | M17: Gestor de Proyecto Oficina de Planeación | N17: Proceso de formulación | O17: Duarante el desarrollo y estructuración de documentos previos que integren el proceso | P17: Revisión documantl del proceso - Planeación y Contrataciópn y presentación de la información a Comité de Contratación | Q17: Permanente
A18: SELECCIÓN | B18: Inadecuada evaluación de las ofertas y/o verificación de requisitos habilitantes | F18: Requerimientos para que se adjudique el contrato / Posibilitar los parámetros del proceso para que se pueda presentar una pluralidad de proponentes. | H18: =+EVALUACION!I18 -> 3 | I18: =+EVALUACION!J18 -> 2 | J18: =+H18+I18 -> 5 | K18: =IF(J18<=4,"BAJO",IF(J18=5,"MEDIO",IF(J18=6,"ALTO",IF(J18=7,"ALTO","EXTREMO")))) -> MEDIO | L18: Si | M18: oficina de contratación y planeación local | N18: desde el cargue del proceso y pliego de condiciones | O18: hasta la adjudicación del proceso | P18: seguimiento en la plataforma SECOP II | Q18: Cuando se requiera
A19: SELECCIÓN | B19: Selección de ofertas con precios artificialmente bajos. | F19: Verificación con el proponente previo a la evaluación y solicitud de subsanación si se presenta el caso de presuntos precios artificialmente bajos, generar la alerta correspondiente para que el comité evaluador tenga conocimiento. Exigir pólizas de calidad y cumplimiento. | H19: =+EVALUACION!I19 -> 3 | I19: =+EVALUACION!J19 -> 4 | J19: =+H19+I19 -> 7 | K19: =IF(J19<=4,"BAJO",IF(J19=5,"MEDIO",IF(J19=6,"ALTO",IF(J19=7,"ALTO","EXTREMO")))) -> ALTO | L19: Si | M19: Gestor de Proyecto | N19: Al inicio del proceso | O19: Permanente/hasta la terminación del contrato | P19: Solicitud de información al contratista y Comité Técnico de Seguimiento | Q19: Permanente
A20: CONTRATACIÓN | B20: No publicación de la documentación del proceso de selección en el SECOP | F20: Realizar la respectiva verificación y seguimiento a las guías orientativas, manuales de procesos y formatos establecido como orientación del proceso de contratación. Así mismo el proceso de contratación está planificado de tal manera que haya diferentes actores participando y se evidencie la completitud de los pasos para seguir en el proceso. así mismo, la plataforma SECOP ha definido manuales de usuario que orientan la forma en que se gestiona la información en la herramienta.. | H20: =+EVALUACION!I20 -> 2 | I20: =+EVALUACION!J20 -> 4 | J20: =+H20+I20 -> 6 | K20: =IF(J20<=4,"BAJO",IF(J20=5,"MEDIO",IF(J20=6,"ALTO",IF(J20=7,"ALTO","EXTREMO")))) -> ALTO | L20: Si | M20: oficina de contratación y planeación local | N20: desde el cargue del proceso y pliego de condiciones | O20: hasta la adjudicación del proceso | P20: seguimiento en la plataforma SECOP II | Q20: Permanente
A21: CONTRATACIÓN | B21: Presentación de reclamos de terceros sobre la selección del oferente que retrasen el perfeccionamiento del contrato. | F21: Atraso sobre el inicio del contrato y afectación sobre el desarrollo del objeto contractual | H21: =+EVALUACION!I21 -> 2 | I21: =+EVALUACION!J21 -> 2 | J21: =+H21+I21 -> 4 | K21: =IF(J21<=4,"BAJO",IF(J21=5,"MEDIO",IF(J21=6,"ALTO",IF(J21=7,"ALTO","EXTREMO")))) -> BAJO | L21: Si | M21: oficina de contratación y planeación local | N21: desde el cargue del proceso y pliego de condiciones | O21: hasta la adjudicación del proceso | P21: seguimiento en la plataforma SECOP II | Q21: Permanente
A22: EJECUCIÓN | B22: Factores políticos o macroeconómicos. | F22: Monitoreo constante y permanente de las situaciones y contexto del país y el mundo, específicamente en la ciudad de Bogotá, localidad de Los Mártires en aspectos sociales, políticos, económicos de acuerdo con las actividades previstas en el contrato, gestionando su ejecución en el momento en que las condiciones sean las más adecuadas y convenientes. | H22: =+EVALUACION!I22 -> 2 | I22: =+EVALUACION!J22 -> 2 | J22: =+H22+I22 -> 4 | K22: =IF(J22<=4,"BAJO",IF(J22=5,"MEDIO",IF(J22=6,"ALTO",IF(J22=7,"ALTO","EXTREMO")))) -> BAJO | L22: Si | M22: Gestor de Proyecto / Apoyo a la Supervisión / Comité Técnico de Seguimiento | N22: Al inicio del proceso y en Comités de Seguimiento | O22: Permanente/hasta la terminación del contrato | P22: Solicitud de información al contratista y Comité Técnico de Seguimiento | Q22: Permanente
A23: EJECUCIÓN | B23: Variación en la disponibilidad o en el costo de los insumos necesarios para prestar los servicios. | F23: Solicitud al posible adjudicatario para que mantenga los precios ofertados inicialmente para mantener las condiciones pactadas en cantidad, calidad y especificaciones. Ejecutar el contrato en los tiempos previstos. | H23: =+EVALUACION!I23 -> 3 | I23: =+EVALUACION!J23 -> 3 | J23: =+H23+I23 -> 6 | K23: =IF(J23<=4,"BAJO",IF(J23=5,"MEDIO",IF(J23=6,"ALTO",IF(J23=7,"ALTO","EXTREMO")))) -> ALTO | L23: Si | M23: Apoyo a la Supervisión | N23: Al inicio del proceso | O23: Permanente/hasta la terminación del contrato | P23: Solicitud de información al contratista y Comité Técnico de Seguimiento | Q23: Permanente
A24: EJECUCIÓN | B24: Incumplimiento de compromisos adquiridos por el contratista seleccionado con sus subcontratistas, suministradores de bienes y servicios. | F24: Monitoreo permanente del cumplimiento de las actividades y acciones adelantadas por el contratista para con sus proveedores, solicitar los paz y salvos correspondientes para la verificación del cumplimiento, seguimiento en los comités y verificación de los informes por el apoyo a la supervisión. | H24: =+EVALUACION!I24 -> 2 | I24: =+EVALUACION!J24 -> 4 | J24: =+H24+I24 -> 6 | K24: =IF(J24<=4,"BAJO",IF(J24=5,"MEDIO",IF(J24=6,"ALTO",IF(J24=7,"ALTO","EXTREMO")))) -> ALTO | L24: Si | M24: Apoyo a la Supervisión / | N24: Al inicio del proceso y en Comités de Seguimiento | O24: Permanente/hasta la terminación del contrato | P24: Solicitud de información al contratista y Comité Técnico de Seguimiento | Q24: Permanente
A25: EJECUCIÓN | B25: Riesgo de que no se firme el contrato. | F25: Comunicación constante con el representante del proponente adjudicatario para articular las acciones correspondientes a la suscripcion del contrato | H25: =+EVALUACION!I25 -> 2 | I25: =+EVALUACION!J25 -> 4 | J25: =+H25+I25 -> 6 | K25: =IF(J25<=4,"BAJO",IF(J25=5,"MEDIO",IF(J25=6,"ALTO",IF(J25=7,"ALTO","EXTREMO")))) -> ALTO | L25: Si | M25: Gestor de Proyecto | N25: Al inicio del proceso | O25: Permanente/ | P25: Solicitud de información al contratista | Q25: Permanente
A26: EJECUCIÓN | B26: Falta de constitución o constitución tardía de la garantía única. Aceptación de garantías que no se ajustan a lo contemplado en el contrato | F26: Seguimiento por parte del supervisor para que se constituyan las garantias de forma oportuna y de forma adecuada para iniciar el contrato con los documentos perfeccionados | H26: =+EVALUACION!I25 -> 2 | I26: =+EVALUACION!J25 -> 4 | J26: =+H26+I26 -> 6 | K26: =IF(J26<=4,"BAJO",IF(J26=5,"MEDIO",IF(J26=6,"ALTO",IF(J26=7,"ALTO","EXTREMO")))) -> ALTO | L26: No | M26: Gestor de Proyecto | N26: Al inicio del proceso | O26: Permanente/hasta la terminación del contrato | P26: Solicitud de información al contratista y Comité Técnico de Seguimiento | Q26: Permanente
A27: EJECUCIÓN | B27: No publicación de la documentación del proceso de selección en el SECOP | F27: Seguimiento y verificacion del manual de colombia compra para tener claro los la documentacion correspondiente a cargar, seguimiento al cumplimiento de publicacion del informe de evaluacion y selección del proponente | H27: =+EVALUACION!I26 -> 2 | I27: =+EVALUACION!J26 -> 3 | J27: =+H27+I27 -> 5 | K27: =IF(J27<=4,"BAJO",IF(J27=5,"MEDIO",IF(J27=6,"ALTO",IF(J27=7,"ALTO","EXTREMO")))) -> MEDIO | L27: No | M27: Gestor de Proyecto | N27: Al inicio del proceso | O27: Permanente/ | P27: Solicitud de información al contratista | Q27: Permanente
A28: EJECUCIÓN | B28: Incumplimiento de compromisos adquiridos por el contratista seleccionado con sus subcontratistas, suministradores de bienes y servicios. | F28: Monitoreo permanente del cumplimiento de las actividades y acciones adelantadas por el contratista para con sus proveedores, solicitar los paz y salvos correspondientes para la verificación del cumplimiento, seguimiento en los comités y verificación de los informes por el apoyo a la supervisión. | H28: =+EVALUACION!I27 -> 2 | I28: =+EVALUACION!J27 -> 2 | J28: =+H28+I28 -> 4 | K28: =IF(J28<=4,"BAJO",IF(J28=5,"MEDIO",IF(J28=6,"ALTO",IF(J28=7,"ALTO","EXTREMO")))) -> BAJO | L28: Si | M28: Gestor de Proyecto / Apoyo a la Supervisión / Comité Técnico de Seguimiento | N28: Al inicio del proceso y en Comités de Seguimiento | O28: Permanente/hasta la terminación del contrato | P28: Solicitud de información al contratista y Comité Técnico de Seguimiento | Q28: Permanente
B31: Categoria del Riesgo | G31: Impacto del Riesgo
A32: Probabilidad | B32: Catagoria | E32: Valoración | G32: Categoria | I32: Valoración | M32: Categoria del Riesgo
B33: Raro (puede ocurrir excepcionalmente) | E33: 1 | G33: Insignificante | I33: 1 | M33: Valoración del Riesgo | O33: Categoría
B34: Improbable (puede ocurrir ocasionalmente) | E34: 2 | G34: Menor | I34: 2 | M34: 8, 9 y 10 | O34: Riesgo extremo
B35: Posible (puede ocurrir en cualquier momento futuro) | E35: 3 | G35: Moderado | I35: 3 | M35: 6 y 7 | O35: Riesgo alto
B36: Probable (probablemente va a ocurrir) | E36: 4 | G36: Mayor | I36: 4 | M36: 5 | O36: Riesgo medio
B37: Casi cierto (ocurre en la mayoria de circunstancias) | E37: 5 | G37: Catastrófico | I37: 5 | M37: 2, 3 y 4 | O37: Riesgo bajo
B39: Valoración del Riesgo
B40: Calificación Cualitativa | F40: Obstruye la ejecución del contrato de manera intrascendente. | H40: Dificulta la ejecución del contrato de manera baja, aplicando medidas mínimas se pueden lograr el objeto contractual | K40: Afecta la ejecución del contrato sin alterar el beneficio para las partes | M40: Obstruye la ejecución del contrato sustancialmente pero aun así permite la consecución del objeto contractual | O40: Perturba la ejecución del contrato de manera grave imposibilitando la consecución del objeto contractual.
B41: Calificación Monetaria | F41: Los sobrecostos no representan más del uno por ciento (1%) del valor del contrato. | H41: Los sobrecostos no representan más del cinco por ciento (5%) del valor del contrato. | K41: Genera un impacto sobre el valor del contrato entre el cinco (5%) y el quince por ciento (15%). | M41: Incrementa el valor del contrato entre el quince (15%) y el treinta por ciento (30%). | O41: Impacto sobre el valor del contrato en más del treinta por ciento (30%).
B42: Catagoria | E42: Valoración | F42: Insignificante | H42: Menor | K42: Moderado | M42: Mayor | O42: Catastrófico
F43: 1 | H43: 2 | K43: 3 | M43: 4 | O43: 5
B44: Raro (puede ocurrir excepcionalmente) | E44: 1 | F44: 2 | H44: 3 | K44: 4 | M44: 5 | O44: 6
B45: Improbable (puede ocurrir ocasionalmente) | E45: 2 | F45: 3 | H45: 4 | K45: 5 | M45: 6 | O45: 7
B46: Posible (puede ocurrir en cualquier momento futuro) | E46: 3 | F46: 4 | H46: 5 | K46: 6 | M46: 7 | O46: 8
B47: Probable (probablemente va a ocurrir) | E47: 4 | F47: 5 | H47: 6 | K47: 7 | M47: 8 | O47: 9
B48: Casi cierto (ocurre en la mayoria de circunstancias) | E48: 5 | F48: 6 | H48: 7 | K48: 8 | M48: 9 | O48: 10

Sheet ASIGNACION Y TRATAMIENTO
D2: MATRIZ DE RIESGOS DE CONTRATACIÓN | W2: Código: GCO-GCI-F164 Versión: 01 Vigencia: 16 diciembre de 2021 Caso HOLA: 206942
B6: =+EVALUACION!B5 -> Objeto Contractual: “CONTRATAR A MONTO AGOTABLE EL SUMINISTRO DE INSUMOS DE REFRIGERIOS, ELEMENTOS DE MERCHANDISING Y LOGISTICOS REQUERIDOS PARA EL DESARROLLO OPERATIVO Y ACTIVIDADES DEL PROGRAMA “PARCEROS POR BOGOTÁ” EN LA LOCALIDAD DE LOS MÁRTIRES”
B7: IDENTIFICACIÓN, ANALISIS, EVALUACIÓN , ASIGNACIÓN Y TRATAMIENTO DE RIESGOS EN LA CONTRATACIÓN
B8: Esta matriz es un documento anexo del Estudio Previo
B10: No | C10: Descripción (Que puede pasar y, cómo puede ocurrir) | D10: Etapa | E10: Clase | F10: Fuente | G10: Consecuencias de la ocurrencia del evento | H10: Probabilidad | I10: Impacto | J10: Calificación total | K10: Prioridad | L10: ¿A quien se le asigna? | M10: % | N10: Tratamiento/Controles a ser implementados | O10: Probabilidad | P10: Impacto | Q10: Calificación total | R10: Prioridad | S10: ¿Afecta el equilibrio económico del contrato? | T10: Persona responsable por implementar el tratamiento | U10: Fecha estimada en que se inicia el tratamiento | V10: Fecha estimada en que se completa el tratamiento | W10: ¿Cómo se realiza el monitoreo | X10: Periodicidad ¿Cuándo?
B11: 1 | C11: Inadecuada descripción del bien o servicio requerido | D11: =+'EVALUACION CON CONTROLES'!A16 -> PLANEACIÓN | E11: =VLOOKUP(C11,'IDENTIFICACION Y ANALISIS'!$B$19:$F$68,3,FALSE) -> General | F11: =VLOOKUP(C11,'IDENTIFICACION Y ANALISIS'!$B$19:$F$68,4,FALSE) -> Interno | G11: =+EVALUACION!H16 -> Se publique proceso de contratación que induzca al error de los proponentes y que no satisfaga las necesidades de la Entidad | H11: =+EVALUACION!I16 -> 3 | I11: =+EVALUACION!J16 -> 2 | J11: =+EVALUACION!K16 -> 5 | K11: =+EVALUACION!L16 -> MEDIO | L11: SDG | M11: 1 | N11: =+'EVALUACION CON CONTROLES'!F16 -> Los bienes y suministros a necesidad de la administración local deben contar con la identificación plena de acuerdo con los códigos del Clasificador de bienes y servicios para la adecuada contratación y los documentos que la sustentan debe estar alineada con el Plan de Desarrollo Local, los procesos y PAA de la entidad y debe ser presentados al Comité de Contratación para tener en cuenta sus recomendaciones. | O11: =+'EVALUACION CON CONTROLES'!H16 -> 3 | P11: =+'EVALUACION CON CONTROLES'!I16 -> 2 | Q11: =+'EVALUACION CON CONTROLES'!J16 -> 5 | R11: =+'EVALUACION CON CONTROLES'!K16 -> MEDIO | S11: =+'EVALUACION CON CONTROLES'!L16 -> Si | T11: =+'EVALUACION CON CONTROLES'!M16 -> Gestor de Proyecto Oficina de Planeación | U11: =+'EVALUACION CON CONTROLES'!N16 -> Proceso de formulación | V11: =+'EVALUACION CON CONTROLES'!O16 -> Duarante el desarrollo y estructuración de documentos previos que integren el proceso | ... X11: =+'EVALUACION CON CONTROLES'!Q16 -> Permanente
B12: 2 | C12: Inadecuada elaboración de estudios y diseños | D12: =+'EVALUACION CON CONTROLES'!A17 -> PLANEACIÓN | E12: =VLOOKUP(C12,'IDENTIFICACION Y ANALISIS'!$B$19:$F$68,3,FALSE) -> General | F12: =VLOOKUP(C12,'IDENTIFICACION Y ANALISIS'!$B$19:$F$68,4,FALSE) -> Interno | G12: =+EVALUACION!H17 -> Se publique proceso de contratación que induzca al error de los proponentes y que no satisfaga las necesidades de la Entidad | H12: =+EVALUACION!I17 -> 3 | I12: =+EVALUACION!J17 -> 3 | J12: =+EVALUACION!K17 -> 6 | K12: =+EVALUACION!L17 -> ALTO | L12: SDG | M12: 1 | N12: =+'EVALUACION CON CONTROLES'!F17 -> Secretaria de Gobierno ha establecido procesos y formatos que orientan la formulación de los procesos de contratación y es menester de los profesionales de Planeación acatar y cumplir estos procedimientos y revisiones por parte de Contratación, Planeación y Comité de Contratación | O12: =+'EVALUACION CON CONTROLES'!H17 -> 3 | P12: =+'EVALUACION CON CONTROLES'!I17 -> 3 | Q12: =+'EVALUACION CON CONTROLES'!J17 -> 6 | R12: =+'EVALUACION CON CONTROLES'!K17 -> ALTO | S12: =+'EVALUACION CON CONTROLES'!L17 -> Si | T12: =+'EVALUACION CON CONTROLES'!M17 -> Gestor de Proyecto Oficina de Planeación | U12: =+'EVALUACION CON CONTROLES'!N17 -> Proceso de formulación | V12: =+'EVALUACION CON CONTROLES'!O17 -> Duarante el desarrollo y estructuración de documentos previos que integren el proceso | ... X12: =+'EVALUACION CON CONTROLES'!Q17 -> Permanente
B13: 3 | C13: Inadecuada evaluación de las ofertas y/o verificación de requisitos habilitantes | D13: =+'EVALUACION CON CONTROLES'!A18 -> SELECCIÓN | E13: =VLOOKUP(C13,'IDENTIFICACION Y ANALISIS'!$B$19:$F$68,3,FALSE) -> General | F13: =VLOOKUP(C13,'IDENTIFICACION Y ANALISIS'!$B$19:$F$68,4,FALSE) -> Interno | G13: =+EVALUACION!H18 -> Falta de perfeccionamiento del contrato | H13: =+EVALUACION!I18 -> 3 | I13: =+EVALUACION!J18 -> 2 | J13: =+EVALUACION!K18 -> 5 | K13: =+EVALUACION!L18 -> MEDIO | L13: SDG | M13: 1 | N13: =+'EVALUACION CON CONTROLES'!F18 -> Requerimientos para que se adjudique el contrato / Posibilitar los parámetros del proceso para que se pueda presentar una pluralidad de proponentes. | O13: =+'EVALUACION CON CONTROLES'!H18 -> 3 | P13: =+'EVALUACION CON CONTROLES'!I18 -> 2 | Q13: =+'EVALUACION CON CONTROLES'!J18 -> 5 | R13: =+'EVALUACION CON CONTROLES'!K18 -> MEDIO | S13: =+'EVALUACION CON CONTROLES'!L18 -> Si | T13: =+'EVALUACION CON CONTROLES'!M18 -> oficina de contratación y planeación local | U13: =+'EVALUACION CON CONTROLES'!N18 -> desde el cargue del proceso y pliego de condiciones | V13: =+'EVALUACION CON CONTROLES'!O18 -> hasta la adjudicación del proceso | ... X13: =+'EVALUACION CON CONTROLES'!Q18 -> Cuando se requiera
B14: 4 | C14: Selección de ofertas con precios artificialmente bajos. | D14: =+'EVALUACION CON CONTROLES'!A19 -> SELECCIÓN | E14: =VLOOKUP(C14,'IDENTIFICACION Y ANALISIS'!$B$19:$F$68,3,FALSE) -> General | F14: =VLOOKUP(C14,'IDENTIFICACION Y ANALISIS'!$B$19:$F$68,4,FALSE) -> Interno | G14: =+EVALUACION!H19 -> Modificacion de los plazos y actividades de acuerdo a las condiciones establecidas para estas situaciones | H14: =+EVALUACION!I19 -> 3 | I14: =+EVALUACION!J19 -> 4 | J14: =+EVALUACION!K19 -> 7 | K14: =+EVALUACION!L19 -> ALTO | L14: SDG | M14: 1 | N14: =+'EVALUACION CON CONTROLES'!F19 -> Verificación con el proponente previo a la evaluación y solicitud de subsanación si se presenta el caso de presuntos precios artificialmente bajos, generar la alerta correspondiente para que el comité evaluador tenga conocimiento. Exigir pólizas de calidad y cumplimiento. | O14: =+'EVALUACION CON CONTROLES'!H19 -> 3 | P14: =+'EVALUACION CON CONTROLES'!I19 -> 4 | Q14: =+'EVALUACION CON CONTROLES'!J19 -> 7 | R14: =+'EVALUACION CON CONTROLES'!K19 -> ALTO | S14: =+'EVALUACION CON CONTROLES'!L19 -> Si | T14: =+'EVALUACION CON CONTROLES'!M19 -> Gestor de Proyecto | U14: =+'EVALUACION CON CONTROLES'!N19 -> Al inicio del proceso | V14: =+'EVALUACION CON CONTROLES'!O19 -> Permanente/hasta la terminación del contrato | ... X14: =+'EVALUACION CON CONTROLES'!Q19 -> Permanente
B15: 5 | C15: No publicación de la documentación del proceso de selección en el SECOP | D15: =+'EVALUACION CON CONTROLES'!A20 -> CONTRATACIÓN | E15: =VLOOKUP(C15,'IDENTIFICACION Y ANALISIS'!$B$19:$F$68,3,FALSE) -> General | F15: =VLOOKUP(C15,'IDENTIFICACION Y ANALISIS'!$B$19:$F$68,4,FALSE) -> Interno | G15: =+EVALUACION!H20 -> Falta de claridad en el proceso lo que induce al error a los proponentes en la preparación de sus ofertas No se presenten proponentes interesados en el proceso con posibilidad de declaración de desierto | H15: =+EVALUACION!I20 -> 2 | I15: =+EVALUACION!J20 -> 4 | J15: =+EVALUACION!K20 -> 6 | K15: =+EVALUACION!L20 -> ALTO | L15: SDG | M15: 1 | N15: =+'EVALUACION CON CONTROLES'!F20 -> Realizar la respectiva verificación y seguimiento a las guías orientativas, manuales de procesos y formatos establecido como orientación del proceso de contratación. Así mismo el proceso de contratación está planificado de tal manera que haya diferentes actores participando y se evidencie la completitud de los pasos para seguir en el proceso. así mismo, la plataforma SECOP ha definido manuales de usuario que orientan la forma en que se gestiona la información en la herramienta.. | O15: =+'EVALUACION CON CONTROLES'!H20 -> 2 | P15: =+'EVALUACION CON CONTROLES'!I20 -> 4 | Q15: =+'EVALUACION CON CONTROLES'!J20 -> 6 | R15: =+'EVALUACION CON CONTROLES'!K20 -> ALTO | S15: =+'EVALUACION CON CONTROLES'!L20 -> Si | T15: =+'EVALUACION CON CONTROLES'!M20 -> oficina de contratación y planeación local | U15: =+'EVALUACION CON CONTROLES'!N20 -> desde el cargue del proceso y pliego de condiciones | V15: =+'EVALUACION CON CONTROLES'!O20 -> hasta la adjudicación del proceso | ... X15: =+'EVALUACION CON CONTROLES'!Q20 -> Permanente
B16: 6 | C16: Presentación de reclamos de terceros sobre la selección del oferente que retrasen el perfeccionamiento del contrato. | D16: =+'EVALUACION CON CONTROLES'!A21 -> CONTRATACIÓN | E16: =VLOOKUP(C16,'IDENTIFICACION Y ANALISIS'!$B$19:$F$68,3,FALSE) -> General | F16: =VLOOKUP(C16,'IDENTIFICACION Y ANALISIS'!$B$19:$F$68,4,FALSE) -> Interno | G16: =+EVALUACION!H21 -> Atraso sobre el inicio del contrato y afectación sobre el desarrollo del objeto contractual | H16: =+EVALUACION!I21 -> 2 | I16: =+EVALUACION!J21 -> 2 | J16: =+EVALUACION!K21 -> 4 | K16: =+EVALUACION!L21 -> BAJO | L16: SDG | M16: 1 | N16: =+'EVALUACION CON CONTROLES'!F21 -> Atraso sobre el inicio del contrato y afectación sobre el desarrollo del objeto contractual | O16: =+'EVALUACION CON CONTROLES'!H21 -> 2 | P16: =+'EVALUACION CON CONTROLES'!I21 -> 2 | Q16: =+'EVALUACION CON CONTROLES'!J21 -> 4 | R16: =+'EVALUACION CON CONTROLES'!K21 -> BAJO | S16: =+'EVALUACION CON CONTROLES'!L21 -> Si | T16: =+'EVALUACION CON CONTROLES'!M21 -> oficina de contratación y planeación local | U16: =+'EVALUACION CON CONTROLES'!N21 -> desde el cargue del proceso y pliego de condiciones | V16: =+'EVALUACION CON CONTROLES'!O21 -> hasta la adjudicación del proceso | ... X16: =+'EVALUACION CON CONTROLES'!Q21 -> Permanente
B17: 7 | C17: Factores políticos o macroeconómicos. | D17: =+'EVALUACION CON CONTROLES'!A22 -> EJECUCIÓN | E17: =VLOOKUP(C17,'IDENTIFICACION Y ANALISIS'!$B$19:$F$68,3,FALSE) -> General | F17: =VLOOKUP(C17,'IDENTIFICACION Y ANALISIS'!$B$19:$F$68,4,FALSE) -> Externo | G17: =+EVALUACION!H22 -> Modificacion de los plazos y actividades de acuerdo a las condiciones establecidas para estas situaciones, reprocesos en convocatorias y actividades | H17: =+EVALUACION!I22 -> 2 | I17: =+EVALUACION!J22 -> 2 | J17: =+EVALUACION!K22 -> 4 | K17: =+EVALUACION!L22 -> BAJO | L17: CONTRATISTA Y SDG | M17: 1 | N17: =+'EVALUACION CON CONTROLES'!F22 -> Monitoreo constante y permanente de las situaciones y contexto del país y el mundo, específicamente en la ciudad de Bogotá, localidad de Los Mártires en aspectos sociales, políticos, económicos de acuerdo con las actividades previstas en el contrato, gestionando su ejecución en el momento en que las condiciones sean las más adecuadas y convenientes. | O17: =+'EVALUACION CON CONTROLES'!H22 -> 2 | P17: =+'EVALUACION CON CONTROLES'!I22 -> 2 | Q17: =+'EVALUACION CON CONTROLES'!J22 -> 4 | R17: =+'EVALUACION CON CONTROLES'!K22 -> BAJO | S17: =+'EVALUACION CON CONTROLES'!L22 -> Si | T17: =+'EVALUACION CON CONTROLES'!M22 -> Gestor de Proyecto / Apoyo a la Supervisión / Comité Técnico de Seguimiento | U17: =+'EVALUACION CON CONTROLES'!N22 -> Al inicio del proceso y en Comités de Seguimiento | V17: =+'EVALUACION CON CONTROLES'!O22 -> Permanente/hasta la terminación del contrato | ... X17: =+'EVALUACION CON CONTROLES'!Q22 -> Permanente
B18: 8 | C18: Variación en la disponibilidad o en el costo de los insumos necesarios para prestar los servicios. | D18: =+'EVALUACION CON CONTROLES'!A23 -> EJECUCIÓN | E18: =VLOOKUP(C18,'IDENTIFICACION Y ANALISIS'!$B$19:$F$68,3,FALSE) -> General | F18: =VLOOKUP(C18,'IDENTIFICACION Y ANALISIS'!$B$19:$F$68,4,FALSE) -> Externo | G18: =+EVALUACION!H23 -> Modificacion de los plazos y actividades de acuerdo a las condiciones establecidas para estas situaciones | H18: =+EVALUACION!I23 -> 3 | I18: =+EVALUACION!J23 -> 3 | J18: =+EVALUACION!K23 -> 6 | K18: =+EVALUACION!L23 -> ALTO | L18: CONTRATISTA | M18: 1 | N18: =+'EVALUACION CON CONTROLES'!F23 -> Solicitud al posible adjudicatario para que mantenga los precios ofertados inicialmente para mantener las condiciones pactadas en cantidad, calidad y especificaciones. Ejecutar el contrato en los tiempos previstos. | O18: =+'EVALUACION CON CONTROLES'!H23 -> 3 | P18: =+'EVALUACION CON CONTROLES'!I23 -> 3 | Q18: =+'EVALUACION CON CONTROLES'!J23 -> 6 | R18: =+'EVALUACION CON CONTROLES'!K23 -> ALTO | S18: =+'EVALUACION CON CONTROLES'!L23 -> Si | T18: =+'EVALUACION CON CONTROLES'!M23 -> Apoyo a la Supervisión | U18: =+'EVALUACION CON CONTROLES'!N23 -> Al inicio del proceso | V18: =+'EVALUACION CON CONTROLES'!O23 -> Permanente/hasta la terminación del contrato | ... X18: =+'EVALUACION CON CONTROLES'!Q23 -> Permanente
B19: 9 | C19: Incumplimiento de compromisos adquiridos por el contratista seleccionado con sus subcontratistas, suministradores de bienes y servicios. | D19: =+'EVALUACION CON CONTROLES'!A24 -> EJECUCIÓN | E19: =VLOOKUP(C19,'IDENTIFICACION Y ANALISIS'!$B$19:$F$68,3,FALSE) -> Especifico | F19: =VLOOKUP(C19,'IDENTIFICACION Y ANALISIS'!$B$19:$F$68,4,FALSE) -> Externo | G19: =+EVALUACION!H24 -> Detrimento patrimonial Posible incumplimiento del contrato Afectacion de polizas | H19: =+EVALUACION!I24 -> 2 | I19: =+EVALUACION!J24 -> 4 | J19: =+EVALUACION!K24 -> 6 | K19: =+EVALUACION!L24 -> ALTO | L19: CONTRATISTA | M19: 1 | N19: =+'EVALUACION CON CONTROLES'!F24 -> Monitoreo permanente del cumplimiento de las actividades y acciones adelantadas por el contratista para con sus proveedores, solicitar los paz y salvos correspondientes para la verificación del cumplimiento, seguimiento en los comités y verificación de los informes por el apoyo a la supervisión. | O19: =+'EVALUACION CON CONTROLES'!H24 -> 2 | P19: =+'EVALUACION CON CONTROLES'!I24 -> 4 | Q19: =+'EVALUACION CON CONTROLES'!J24 -> 6 | R19: =+'EVALUACION CON CONTROLES'!K24 -> ALTO | S19: =+'EVALUACION CON CONTROLES'!L24 -> Si | T19: =+'EVALUACION CON CONTROLES'!M24 -> Apoyo a la Supervisión / | U19: =+'EVALUACION CON CONTROLES'!N24 -> Al inicio del proceso y en Comités de Seguimiento | V19: =+'EVALUACION CON CONTROLES'!O24 -> Permanente/hasta la terminación del contrato | ... X19: =+'EVALUACION CON CONTROLES'!Q24 -> Permanente
B20: 10 | C20: Riesgo de que no se firme el contrato. | D20: =+'EVALUACION CON CONTROLES'!A25 -> EJECUCIÓN | E20: =VLOOKUP(C20,'IDENTIFICACION Y ANALISIS'!$B$19:$F$68,3,FALSE) -> General | F20: =VLOOKUP(C20,'IDENTIFICACION Y ANALISIS'!$B$19:$F$68,4,FALSE) -> Interno | G20: =+EVALUACION!H25 -> Detrimento patrimonial Posible incumplimiento del contrato Afectacion de polizas | H20: =+EVALUACION!I25 -> 2 | I20: =+EVALUACION!J25 -> 4 | J20: =+EVALUACION!K25 -> 6 | K20: =+EVALUACION!L25 -> ALTO | L20: CONTRATISTA | M20: 1 | N20: =+'EVALUACION CON CONTROLES'!F25 -> Comunicación constante con el representante del proponente adjudicatario para articular las acciones correspondientes a la suscripcion del contrato | O20: =+'EVALUACION CON CONTROLES'!H25 -> 2 | P20: =+'EVALUACION CON CONTROLES'!I25 -> 4 | Q20: =+'EVALUACION CON CONTROLES'!J25 -> 6 | R20: =+'EVALUACION CON CONTROLES'!K25 -> ALTO | S20: =+'EVALUACION CON CONTROLES'!L25 -> Si | T20: =+'EVALUACION CON CONTROLES'!M25 -> Gestor de Proyecto | U20: =+'EVALUACION CON CONTROLES'!N25 -> Al inicio del proceso | V20: =+'EVALUACION CON CONTROLES'!O25 -> Permanente/ | ... X20: =+'EVALUACION CON CONTROLES'!Q25 -> Permanente
B21: 11 | C21: Falta de constitución o constitución tardía de la garantía única. Aceptación de garantías que no se ajustan a lo contemplado en el contrato | D21: =+'EVALUACION CON CONTROLES'!A26 -> EJECUCIÓN | E21: =VLOOKUP(C21,'IDENTIFICACION Y ANALISIS'!$B$19:$F$68,3,FALSE) -> General | F21: =VLOOKUP(C21,'IDENTIFICACION Y ANALISIS'!$B$19:$F$68,4,FALSE) -> Externo | G21: =+EVALUACION!H28 -> Demoras en el inicio del contrato y no cumplimiento en las actividades planteadas dentro de la ejecución del contrato | H21: =+EVALUACION!I26 -> 2 | I21: =+EVALUACION!J26 -> 3 | J21: =+EVALUACION!K26 -> 5 | K21: =+EVALUACION!L26 -> MEDIO | L21: CONTRATISTA | M21: 1 | N21: =+'EVALUACION CON CONTROLES'!F26 -> Seguimiento por parte del supervisor para que se constituyan las garantias de forma oportuna y de forma adecuada para iniciar el contrato con los documentos perfeccionados | O21: =+'EVALUACION CON CONTROLES'!H26 -> 2 | P21: =+'EVALUACION CON CONTROLES'!I26 -> 4 | Q21: =+'EVALUACION CON CONTROLES'!J26 -> 6 | R21: =+'EVALUACION CON CONTROLES'!K26 -> ALTO | S21: =+'EVALUACION CON CONTROLES'!L26 -> No | T21: =+'EVALUACION CON CONTROLES'!M26 -> Gestor de Proyecto | U21: =+'EVALUACION CON CONTROLES'!N26 -> Al inicio del proceso | V21: =+'EVALUACION CON CONTROLES'!O26 -> Permanente/hasta la terminación del contrato | ... X21: =+'EVALUACION CON CONTROLES'!Q26 -> Permanente
B22: 12 | C22: No publicación de la documentación del proceso de selección en el SECOP | D22: =+'EVALUACION CON CONTROLES'!A27 -> EJECUCIÓN | E22: =VLOOKUP(C22,'IDENTIFICACION Y ANALISIS'!$B$19:$F$68,3,FALSE) -> General | F22: =VLOOKUP(C22,'IDENTIFICACION Y ANALISIS'!$B$19:$F$68,4,FALSE) -> Interno | G22: =+EVALUACION!H33 -> Categoria | H22: =+EVALUACION!I27 -> 2 | I22: =+EVALUACION!J27 -> 2 | J22: =+EVALUACION!K27 -> 4 | K22: =+EVALUACION!L27 -> BAJO | L22: CONTRATISTA | M22: 1 | N22: =+'EVALUACION CON CONTROLES'!F27 -> Seguimiento y verificacion del manual de colombia compra para tener claro los la documentacion correspondiente a cargar, seguimiento al cumplimiento de publicacion del informe de evaluacion y selección del proponente | O22: =+'EVALUACION CON CONTROLES'!H27 -> 2 | P22: =+'EVALUACION CON CONTROLES'!I27 -> 3 | Q22: =+'EVALUACION CON CONTROLES'!J27 -> 5 | R22: =+'EVALUACION CON CONTROLES'!K27 -> MEDIO | S22: =+'EVALUACION CON CONTROLES'!L27 -> No | T22: =+'EVALUACION CON CONTROLES'!M27 -> Gestor de Proyecto | U22: =+'EVALUACION CON CONTROLES'!N27 -> Al inicio del proceso | V22: =+'EVALUACION CON CONTROLES'!O27 -> Permanente/ | ... X22: =+'EVALUACION CON CONTROLES'!Q27 -> Permanente
B23: 13 | C23: =+'EVALUACION CON CONTROLES'!#REF! -> #REF! | D23: =+'EVALUACION CON CONTROLES'!A28 -> EJECUCIÓN | E23: =VLOOKUP(C23,'IDENTIFICACION Y ANALISIS'!$B$19:$F$68,3,FALSE) -> #REF! | F23: =VLOOKUP(C23,'IDENTIFICACION Y ANALISIS'!$B$19:$F$68,4,FALSE) -> #REF! | G23: =+EVALUACION!#REF! -> #REF! | H23: =+EVALUACION!I28 -> 3 | I23: =+EVALUACION!J28 -> 3 | J23: =+EVALUACION!K28 -> 6 | K23: =+EVALUACION!L28 -> ALTO | L23: CONTRATISTA | N23: =+'EVALUACION CON CONTROLES'!F28 -> Monitoreo permanente del cumplimiento de las actividades y acciones adelantadas por el contratista para con sus proveedores, solicitar los paz y salvos correspondientes para la verificación del cumplimiento, seguimiento en los comités y verificación de los informes por el apoyo a la supervisión. | O23: =+'EVALUACION CON CONTROLES'!H28 -> 2 | P23: =+'EVALUACION CON CONTROLES'!I28 -> 2 | Q23: =+'EVALUACION CON CONTROLES'!J28 -> 4 | R23: =+'EVALUACION CON CONTROLES'!K28 -> BAJO | S23: =+'EVALUACION CON CONTROLES'!L28 -> Si | T23: =+'EVALUACION CON CONTROLES'!M28 -> Gestor de Proyecto / Apoyo a la Supervisión / Comité Técnico de Seguimiento | U23: =+'EVALUACION CON CONTROLES'!N28 -> Al inicio del proceso y en Comités de Seguimiento | V23: =+'EVALUACION CON CONTROLES'!O28 -> Permanente/hasta la terminación del contrato | ... X23: =+'EVALUACION CON CONTROLES'!Q28 -> Permanente
B24: 14 | C24: =+'EVALUACION CON CONTROLES'!#REF! -> #REF! | D24: =+'EVALUACION CON CONTROLES'!A29 -> 0 | E24: =VLOOKUP(C24,'IDENTIFICACION Y ANALISIS'!$B$19:$F$68,3,FALSE) -> #REF! | F24: =VLOOKUP(C24,'IDENTIFICACION Y ANALISIS'!$B$19:$F$68,4,FALSE) -> #REF! | G24: =+EVALUACION!#REF! -> #REF! | H24: =+EVALUACION!I32 -> 0 | I24: =+EVALUACION!J32 -> 0 | J24: =+EVALUACION!K32 -> 0 | K24: =+EVALUACION!L32 -> 0 | L24: CONTRATISTA | N24: =+'EVALUACION CON CONTROLES'!F29 -> 0 | O24: =+'EVALUACION CON CONTROLES'!H29 -> 0 | P24: =+'EVALUACION CON CONTROLES'!I29 -> 0 | Q24: =+'EVALUACION CON CONTROLES'!J29 -> 0 | R24: =+'EVALUACION CON CONTROLES'!K29 -> 0 | S24: =+'EVALUACION CON CONTROLES'!L29 -> 0 | T24: =+'EVALUACION CON CONTROLES'!M29 -> 0 | U24: =+'EVALUACION CON CONTROLES'!N29 -> 0 | V24: =+'EVALUACION CON CONTROLES'!O29 -> 0 | ... X24: =+'EVALUACION CON CONTROLES'!Q29 -> 0
B25: 15 | C25: =+'EVALUACION CON CONTROLES'!#REF! -> #REF! | D25: =+'EVALUACION CON CONTROLES'!A30 -> 0 | E25: =VLOOKUP(C25,'IDENTIFICACION Y ANALISIS'!$B$19:$F$68,3,FALSE) -> #REF! | F25: =VLOOKUP(C25,'IDENTIFICACION Y ANALISIS'!$B$19:$F$68,4,FALSE) -> #REF! | G25: =+EVALUACION!#REF! -> #REF! | H25: =+EVALUACION!I33 -> Valoración | I25: =+EVALUACION!J33 -> 0 | J25: =+EVALUACION!K33 -> 0 | K25: =+EVALUACION!L33 -> 0 | L25: CONTRATISTA | N25: =+'EVALUACION CON CONTROLES'!F30 -> 0 | O25: =+'EVALUACION CON CONTROLES'!H30 -> 0 | P25: =+'EVALUACION CON CONTROLES'!I30 -> 0 | Q25: =+'EVALUACION CON CONTROLES'!J30 -> 0 | R25: =+'EVALUACION CON CONTROLES'!K30 -> 0 | S25: =+'EVALUACION CON CONTROLES'!L30 -> 0 | T25: =+'EVALUACION CON CONTROLES'!M30 -> 0 | U25: =+'EVALUACION CON CONTROLES'!N30 -> 0 | V25: =+'EVALUACION CON CONTROLES'!O30 -> 0 | ... X25: =+'EVALUACION CON CONTROLES'!Q30 -> 0
B26: 16 | C26: =+'EVALUACION CON CONTROLES'!#REF! -> #REF! | D26: =+'EVALUACION CON CONTROLES'!A31 -> 0 | E26: =VLOOKUP(C26,'IDENTIFICACION Y ANALISIS'!$B$19:$F$68,3,FALSE) -> #REF! | F26: =VLOOKUP(C26,'IDENTIFICACION Y ANALISIS'!$B$19:$F$68,4,FALSE) -> #REF! | G26: =+EVALUACION!#REF! -> #REF! | H26: =+EVALUACION!I34 -> 1 | I26: =+EVALUACION!J34 -> 0 | J26: =+EVALUACION!K34 -> 0 | K26: =+EVALUACION!L34 -> 0 | L26: CONTRATISTA | N26: =+'EVALUACION CON CONTROLES'!F31 -> 0 | O26: =+'EVALUACION CON CONTROLES'!H31 -> 0 | P26: =+'EVALUACION CON CONTROLES'!I31 -> 0 | Q26: =+'EVALUACION CON CONTROLES'!J31 -> 0 | R26: =+'EVALUACION CON CONTROLES'!K31 -> 0 | S26: =+'EVALUACION CON CONTROLES'!L31 -> 0 | T26: =+'EVALUACION CON CONTROLES'!M31 -> 0 | U26: =+'EVALUACION CON CONTROLES'!N31 -> 0 | V26: =+'EVALUACION CON CONTROLES'!O31 -> 0 | ... X26: =+'EVALUACION CON CONTROLES'!Q31 -> 0
B27: 17 | C27: =+'EVALUACION CON CONTROLES'!#REF! -> #REF! | D27: =+'EVALUACION CON CONTROLES'!A32 -> Probabilidad | E27: =VLOOKUP(C27,'IDENTIFICACION Y ANALISIS'!$B$19:$F$68,3,FALSE) -> #REF! | F27: =VLOOKUP(C27,'IDENTIFICACION Y ANALISIS'!$B$19:$F$68,4,FALSE) -> #REF! | G27: =+EVALUACION!#REF! -> #REF! | H27: =+EVALUACION!I35 -> 2 | I27: =+EVALUACION!J35 -> 0 | J27: =+EVALUACION!K35 -> 0 | K27: =+EVALUACION!L35 -> 0 | L27: CONTRATISTA | N27: =+'EVALUACION CON CONTROLES'!F32 -> 0 | O27: =+'EVALUACION CON CONTROLES'!H32 -> 0 | P27: =+'EVALUACION CON CONTROLES'!I32 -> Valoración | Q27: =+'EVALUACION CON CONTROLES'!J32 -> 0 | R27: =+'EVALUACION CON CONTROLES'!K32 -> 0 | S27: =+'EVALUACION CON CONTROLES'!L32 -> 0 | T27: =+'EVALUACION CON CONTROLES'!M32 -> Categoria del Riesgo | U27: =+'EVALUACION CON CONTROLES'!N32 -> 0 | V27: =+'EVALUACION CON CONTROLES'!O32 -> 0 | ... X27: =+'EVALUACION CON CONTROLES'!Q32 -> 0
B28: 18 | C28: =+'EVALUACION CON CONTROLES'!#REF! -> #REF! | D28: =+'EVALUACION CON CONTROLES'!A33 -> 0 | E28: =VLOOKUP(C28,'IDENTIFICACION Y ANALISIS'!$B$19:$F$68,3,FALSE) -> #REF! | F28: =VLOOKUP(C28,'IDENTIFICACION Y ANALISIS'!$B$19:$F$68,4,FALSE) -> #REF! | G28: =+EVALUACION!#REF! -> #REF! | H28: =+EVALUACION!I36 -> 3 | I28: =+EVALUACION!J36 -> 0 | J28: =+EVALUACION!K36 -> 0 | K28: =+EVALUACION!L36 -> 0 | L28: CONTRATISTA | N28: =+'EVALUACION CON CONTROLES'!F33 -> 0 | O28: =+'EVALUACION CON CONTROLES'!H33 -> 0 | P28: =+'EVALUACION CON CONTROLES'!I33 -> 1 | Q28: =+'EVALUACION CON CONTROLES'!J33 -> 0 | R28: =+'EVALUACION CON CONTROLES'!K33 -> 0 | S28: =+'EVALUACION CON CONTROLES'!L33 -> 0 | T28: =+'EVALUACION CON CONTROLES'!M33 -> Valoración del Riesgo | U28: =+'EVALUACION CON CONTROLES'!N33 -> 0 | V28: =+'EVALUACION CON CONTROLES'!O33 -> Categoría | ... X28: =+'EVALUACION CON CONTROLES'!Q33 -> 0
B29: 19 | C29: =+'EVALUACION CON CONTROLES'!#REF! -> #REF! | D29: =+'EVALUACION CON CONTROLES'!A34 -> 0 | E29: =VLOOKUP(C29,'IDENTIFICACION Y ANALISIS'!$B$19:$F$68,3,FALSE) -> #REF! | F29: =VLOOKUP(C29,'IDENTIFICACION Y ANALISIS'!$B$19:$F$68,4,FALSE) -> #REF! | G29: =+EVALUACION!#REF! -> #REF! | H29: =+EVALUACION!I37 -> 4 | I29: =+EVALUACION!J37 -> 0 | J29: =+EVALUACION!K37 -> 0 | K29: =+EVALUACION!L37 -> 0 | L29: CONTRATISTA | N29: =+'EVALUACION CON CONTROLES'!F34 -> 0 | O29: =+'EVALUACION CON CONTROLES'!H34 -> 0 | P29: =+'EVALUACION CON CONTROLES'!I34 -> 2 | Q29: =+'EVALUACION CON CONTROLES'!J34 -> 0 | R29: =+'EVALUACION CON CONTROLES'!K34 -> 0 | S29: =+'EVALUACION CON CONTROLES'!L34 -> 0 | T29: =+'EVALUACION CON CONTROLES'!M34 -> 8, 9 y 10 | U29: =+'EVALUACION CON CONTROLES'!N34 -> 0 | V29: =+'EVALUACION CON CONTROLES'!O34 -> Riesgo extremo | ... X29: =+'EVALUACION CON CONTROLES'!Q34 -> 0
B30: 20 | C30: =+'EVALUACION CON CONTROLES'!#REF! -> #REF! | D30: =+'EVALUACION CON CONTROLES'!A35 -> 0 | E30: =VLOOKUP(C30,'IDENTIFICACION Y ANALISIS'!$B$19:$F$68,3,FALSE) -> #REF! | F30: =VLOOKUP(C30,'IDENTIFICACION Y ANALISIS'!$B$19:$F$68,4,FALSE) -> #REF! | G30: =+EVALUACION!#REF! -> #REF! | H30: =+EVALUACION!I38 -> 5 | I30: =+EVALUACION!J38 -> 0 | J30: =+EVALUACION!K38 -> 0 | K30: =+EVALUACION!L38 -> 0 | L30: CONTRATISTA | N30: =+'EVALUACION CON CONTROLES'!F35 -> 0 | O30: =+'EVALUACION CON CONTROLES'!H35 -> 0 | P30: =+'EVALUACION CON CONTROLES'!I35 -> 3 | Q30: =+'EVALUACION CON CONTROLES'!J35 -> 0 | R30: =+'EVALUACION CON CONTROLES'!K35 -> 0 | S30: =+'EVALUACION CON CONTROLES'!L35 -> 0 | T30: =+'EVALUACION CON CONTROLES'!M35 -> 6 y 7 | U30: =+'EVALUACION CON CONTROLES'!N35 -> 0 | V30: =+'EVALUACION CON CONTROLES'!O35 -> Riesgo alto | ... X30: =+'EVALUACION CON CONTROLES'!Q35 -> 0
F32: Categoria | J32: Impacto del Riesgo
E33: Probabilidad | F33: Catagoria | G33: Valoración | J33: Categoria | L33: Valoración
F34: Raro (puede ocurrir excepcionalmente) | G34: 1 | J34: Insignificante | L34: 1
F35: Improbable (puede ocurrir ocasionalmente) | G35: 2 | J35: Menor | L35: 2
F36: Posible (puede ocurrir en cualquier momento futuro) | G36: 3 | J36: Moderado | L36: 3
F37: Probable (probablemente va a ocurrir) | G37: 4 | J37: Mayor | L37: 4
F38: Casi cierto (ocurre en la mayoria de circunstancias) | G38: 5 | J38: Catastrófico | L38: 5
D40: Valoración del Riesgo
D41: Catagoria | E41: Valoración | F41: Insignificante | H41: Menor | J41: Moderado | K41: Mayor | L41: Catastrófico | P41: Categoria del Riesgo
F42: 1 | H42: 2 | J42: 3 | K42: 4 | L42: 5 | P42: Valoración del Riesgo | S42: Categoría
D43: Raro (puede ocurrir excepcionalmente) | E43: 1 | F43: 2 | H43: 3 | J43: 4 | K43: 5 | L43: 6 | P43: 8, 9 y 10 | S43: Riesgo extremo
D44: Improbable (puede ocurrir ocasionalmente) | E44: 2 | F44: 3 | H44: 4 | J44: 5 | K44: 6 | L44: 7 | P44: 6 y 7 | S44: Riesgo alto
D45: Posible (puede ocurrir en cualquier momento futuro) | E45: 3 | F45: 4 | H45: 5 | J45: 6 | K45: 7 | L45: 8 | P45: 5 | S45: Riesgo medio
D46: Probable (probablemente va a ocurrir) | E46: 4 | F46: 5 | H46: 6 | J46: 7 | K46: 8 | L46: 9 | P46: 2, 3 y 4 | S46: Riesgo bajo
D47: Casi cierto (ocurre en la mayoria de circunstancias) | E47: 5 | F47: 6 | H47: 7 | J47: 8 | K47: 9 | L47: 10
...
