Workbook
Name __AFC1: [1]INV!$A$25:$D$28
Name __AFC1: [2]INV!$A$25:$D$28
Name __AFC1: [2]INV!$A$25:$D$28
Name __AFC1: [2]INV!$A$25:$D$28
Name __AFC1: [3]INV!$A$25:$D$28
Name __AFC3: [1]INV!$F$25:$I$28
Name __AFC3: [2]INV!$F$25:$I$28
Name __AFC3: [2]INV!$F$25:$I$28
Name __AFC3: [2]INV!$F$25:$I$28
Name __AFC3: [3]INV!$F$25:$I$28
Name __AFC5: [1]INV!$K$25:$N$28
Name __AFC5: [2]INV!$K$25:$N$28
Name __AFC5: [2]INV!$K$25:$N$28
Name __AFC5: [2]INV!$K$25:$N$28
Name __AFC5: [3]INV!$K$25:$N$28
Name __BGC1: [1]INV!$A$5:$D$8
Name __BGC1: [2]INV!$A$5:$D$8
Name __BGC1: [2]INV!$A$5:$D$8
Name __BGC1: [2]INV!$A$5:$D$8
Name __BGC1: [3]INV!$A$5:$D$8
Name __BGC3: [1]INV!$F$5:$I$8
Name __BGC3: [2]INV!$F$5:$I$8
Name __BGC3: [2]INV!$F$5:$I$8
Name __BGC3: [2]INV!$F$5:$I$8
Name __BGC3: [3]INV!$F$5:$I$8
Name __BGC5: [1]INV!$K$5:$N$8
Name __BGC5: [2]INV!$K$5:$N$8
Name __BGC5: [2]INV!$K$5:$N$8
Name __BGC5: [2]INV!$K$5:$N$8
Name __BGC5: [3]INV!$K$5:$N$8
Name __CAC1: [1]INV!$A$19:$D$22
Name __CAC1: [2]INV!$A$19:$D$22
Name __CAC1: [2]INV!$A$19:$D$22
Name __CAC1: [2]INV!$A$19:$D$22
Name __CAC1: [3]INV!$A$19:$D$22
Name __CAC3: [1]INV!$F$19:$I$22
Name __CAC3: [2]INV!$F$19:$I$22
Name __CAC3: [2]INV!$F$19:$I$22
Name __CAC3: [2]INV!$F$19:$I$22
Name __CAC3: [3]INV!$F$19:$I$22
Name __CAC5: [1]INV!$K$19:$N$22
Name __CAC5: [2]INV!$K$19:$N$22
Name __CAC5: [2]INV!$K$19:$N$22
Name __CAC5: [2]INV!$K$19:$N$22
Name __CAC5: [3]INV!$K$19:$N$22
Name __MDC2: #REF!
Name __MDC2: #REF!
Name __MDC2: #REF!
Name __MDC2: #REF!
Name __MDC2: #REF!
Name __MDC2: #REF!
Name __MDC2: #REF!
Name __MDC2: #REF!
Name __MDC2: #REF!
Name __MDC2: #REF!
Name __MDC2: #REF!
Name __MDC2: #REF!
Name __MDC2: #REF!
Name __SBC1: [1]INV!$A$12:$D$15
Name __SBC1: [2]INV!$A$12:$D$15

Sheet FLUJO DIARIO anterior
B2: Item | C2: Nombre de tarea | D2: Costo total | F2: Miercoles | G2: Jueves | H2: Viernes | I2: Sábado | J2: Domingo | K2: Lunes | L2: Martes | M2: Miércoles | N2: Jueves | O2: Viernes | P2: Sábado | Q2: Domingo | R2: Lunes | S2: Martes | T2: Miércoles | U2: Jueves | V2: Viernes | W2: Sábado | X2: Domingo | Y2: Lunes | Z2: Martes | AA2: Miércoles | AB2: Jueves | AC2: Viernes | AD2: Sábado | AE2: Domingo | AF2: Lunes | AG2: Martes | AH2: Miércoles | AI2: Jueves | AJ2: Viernes | AK2: Sábado | AL2: Domingo | AM2: Lunes | AN2: Martes | AO2: Miércoles | AP2: Jueves | AQ2: Viernes | AR2: Sábado | AS2: Domingo | AT2: Lunes | AU2: Martes | AV2: Miércoles | AW2: Jueves | AX2: Viernes | AY2: Sábado | AZ2: Domingo | BA2: Lunes | BB2: Martes | BC2: Miércoles | BD2: Jueves | BE2: Viernes | BF2: Sábado | BG2: Domingo | BH2: Lunes | BI2: Martes | BJ2: Miércoles | BK2: Jueves | BL2: Viernes | BM2: Sábado | BN2: Domingo | BO2: Lunes | BP2: Martes | BQ2: Miércoles | BR2: Jueves | BS2: Viernes | BT2: Sábado | BU2: Domingo | BV2: Lunes | BW2: Martes | BX2: Miércoles | BY2: Jueves | BZ2: Viernes | CA2: Sábado | CB2: Domingo | CC2: Lunes | CD2: Martes | CE2: Miércoles | CF2: Jueves | CG2: Viernes | CH2: Sábado | CI2: Domingo | CJ2: Lunes | CK2: Martes | CL2: Miércoles | CM2: Jueves | CN2: Viernes | CO2: Sábado | CP2: Domingo | CQ2: Lunes | CR2: Martes | CS2: Miércoles | CT2: Jueves | CU2: Viernes | CV2: Sábado | CW2: Domingo | CX2: Lunes | CY2: Martes | CZ2: Miércoles | DA2: Jueves | DB2: Viernes | DC2: Sábado | DD2: Domingo | DE2: Lunes | DF2: Martes | DG2: Miércoles | DH2: Jueves | DI2: Viernes | DJ2: Sábado | DK2: Domingo | DL2: Lunes | DM2: Martes | DN2: Miércoles | DO2: Jueves | DP2: Viernes | DQ2: Sábado | DR2: Domingo | DS2: Lunes | DT2: Martes | DU2: Miércoles | DV2: Jueves | DW2: Viernes | DX2: Sábado | DY2: Domingo | DZ2: Lunes | EA2: Martes | EB2: Miércoles | EC2: Jueves | ED2: Viernes | EE2: Sábado | EF2: Domingo | EG2: Lunes | EH2: Martes | EI2: Miércoles | EJ2: Jueves | EK2: Viernes | EL2: Sábado | EM2: Domingo | EN2: Lunes | EO2: Martes | EP2: Miércoles | EQ2: Jueves | ER2: Viernes | ES2: Sábado | ET2: Domingo | EU2: Lunes | EV2: Martes | EW2: Miércoles | EX2: Jueves | EY2: Viernes | EZ2: Sábado | FA2: Domingo | FB2: Lunes | FC2: Martes | FD2: Miércoles | FE2: Jueves | FF2: Viernes | FG2: Sábado | FH2: Domingo | FI2: Lunes | FJ2: Martes | FK2: Miércoles | FL2: Jueves | FM2: Viernes | FN2: Sábado | FO2: Domingo | FP2: Lunes | FQ2: Martes | FR2: Miércoles | FS2: Jueves | FT2: Viernes | FU2: Sábado | FV2: Domingo | FW2: Lunes | FX2: Martes | FY2: Miércoles | FZ2: Jueves | GA2: Viernes | GB2: Sábado | GC2: Domingo | GD2: Lunes | GE2: Martes | GF2: Miércoles | GG2: Jueves | GH2: Viernes | GI2: Sábado | GJ2: Domingo | GK2: Lunes | GL2: Martes | GM2: Miércoles | GN2: Jueves | GO2: Viernes | GP2: Sábado | GQ2: Domingo | GR2: Lunes | GS2: Martes | GT2: Miércoles | GU2: Jueves | GV2: Viernes | GW2: Sábado | GX2: Domingo | GY2: Lunes | GZ2: Martes | HA2: Miércoles | HB2: Jueves | HC2: Viernes | HD2: Sábado | HE2: Domingo | HF2: Lunes | HG2: Martes | HH2: Miércoles | HI2: Jueves | HJ2: Viernes | HK2: Sábado | HL2: Domingo | HM2: Lunes | HN2: Martes | HO2: Miércoles | HP2: Jueves | HQ2: Viernes | HR2: Sábado | HS2: Domingo | HT2: Lunes | HU2: Martes | HV2: Miércoles | HW2: Jueves | HX2: Viernes | HY2: Sábado | HZ2: Domingo | IA2: Lunes | IB2: Martes | IC2: Miércoles | ID2: Jueves | IE2: Viernes | IF2: Sábado | IG2: Domingo | IH2: Lunes | II2: Martes | IJ2: Miércoles | IK2: Jueves | IL2: Viernes | IM2: Sábado | IN2: Domingo | IO2: Lunes | IP2: Martes | IQ2: Miércoles | IR2: Jueves | IS2: Viernes | IT2: Sábado | IU2: Domingo | IV2: Lunes | IW2: Martes | IX2: Miércoles | IY2: Jueves | IZ2: Viernes | JA2: Sábado | JB2: Domingo | JC2: Lunes | JD2: Martes | JE2: Miércoles | JF2: Jueves | JG2: Viernes | JH2: Sábado | JI2: Domingo | JJ2: Lunes | JK2: Martes | JL2: Miércoles | JM2: Jueves | JN2: Viernes | JO2: Sábado | JP2: Domingo | JQ2: Lunes | JR2: Martes | JS2: Miércoles | JT2: Jueves | JU2: Viernes | JV2: Sábado | JW2: Domingo | JY2: Lunes | JZ2: Martes | KA2: Miércoles | KB2: Jueves | KC2: Viernes | KD2: Sábado | KE2: Domingo | KF2: Lunes | KG2: Martes | KH2: Miércoles | KI2: Jueves | KJ2: Viernes | KK2: Sábado | KL2: Domingo | KM2: Lunes | KN2: Martes | KO2: Miércoles | KP2: Jueves | KQ2: Viernes | KR2: Sábado | KS2: Domingo | KT2: Lunes | KU2: Martes | KV2: Miércoles | KW2: Jueves | KX2: Viernes | KY2: Sábado | KZ2: Domingo | LA2: Lunes | LB2: Martes | LC2: Miércoles | LD2: Jueves | LE2: Viernes | LF2: Sábado | LG2: Domingo | LH2: Lunes | LI2: Martes | LJ2: Miércoles | LK2: Jueves | LL2: Viernes | LM2: Sábado | LN2: Domingo | LO2: Lunes | LP2: Martes | LQ2: Miércoles | LR2: Jueves | LS2: Viernes | LT2: Sábado | LU2: Domingo | LV2: Lunes | LW2: Martes | LX2: Miércoles | LY2: Jueves | LZ2: Viernes | MA2: Sábado | MB2: Domingo | MC2: Lunes | MD2: Martes | ME2: Miércoles | MF2: Jueves | MG2: Viernes | MH2: Sábado | MI2: Domingo | MJ2: Lunes | MK2: Martes | ML2: Miércoles | MM2: Jueves | MN2: Viernes | MO2: Sábado | MP2: Domingo | MQ2: Lunes | MR2: Martes | MS2: Miércoles | MT2: Jueves | MU2: Viernes | MV2: Sábado | MW2: Domingo | MX2: Lunes | MY2: Martes | MZ2: Miércoles | NA2: Jueves | NB2: Viernes | NC2: Sábado | ND2: Domingo | NE2: Lunes | NF2: Martes | NG2: Miércoles | NH2: Jueves | NI2: Viernes | NJ2: Sábado | NK2: Domingo | NL2: Lunes | NM2: Martes | NN2: Miércoles | NO2: Jueves | NP2: Viernes | NQ2: Sábado | NR2: Domingo | NS2: Lunes | NT2: Martes | NU2: Miércoles | NV2: Jueves | NW2: Viernes | NX2: Sábado | NY2: Domingo | NZ2: Lunes | OA2: Martes | OB2: Miércoles | OC2: Jueves | OD2: Viernes | OE2: Sábado | OF2: Domingo | OG2: Lunes | OH2: Martes | OI2: Miércoles | OJ2: Jueves | OK2: Viernes | OL2: Sábado | OM2: Domingo | ON2: Lunes | OO2: Martes | OP2: Miércoles | OQ2: Jueves | OR2: Viernes | OS2: Sábado | OT2: Domingo | OU2: Lunes | OV2: Martes | OW2: Miércoles | OX2: Jueves | OY2: Viernes | OZ2: Sábado | PA2: Domingo | PB2: Lunes | PC2: Martes | PD2: Miércoles | PE2: Jueves | PF2: Viernes | PG2: Sábado | PH2: Domingo | PI2: Lunes | PJ2: Martes | PK2: Miércoles | PL2: Jueves | PM2: Viernes | PN2: Sábado | PO2: Domingo | PP2: Lunes | PQ2: Martes | PR2: Miércoles | PS2: Jueves | PT2: Viernes | PU2: Sábado | PV2: Domingo | PW2: Lunes | PX2: Martes | PY2: Miércoles | PZ2: Jueves | QA2: Viernes | QB2: Sábado | QC2: Domingo | QD2: Lunes | QE2: Martes | QF2: Miércoles | QG2: Jueves | QH2: Viernes | QI2: Sábado | QJ2: Domingo | QK2: Lunes | QL2: Martes | QM2: Miércoles | QN2: Jueves | QO2: Viernes | QP2: Sábado | QQ2: Domingo | QR2: Lunes | QS2: Martes | QT2: Miércoles | QU2: Jueves | QV2: Viernes | QW2: Sábado | QX2: Domingo | QY2: Lunes | QZ2: Martes | RA2: Miércoles | RB2: Jueves | RC2: Viernes | RD2: Sábado | RE2: Domingo | RF2: Lunes | RG2: Martes | RH2: Miércoles | RI2: Jueves | RJ2: Viernes | RK2: Sábado | RL2: Domingo | RM2: Lunes | RN2: Martes | RO2: Miércoles | RP2: Jueves | RQ2: Viernes | RR2: Sábado | RS2: Domingo | RT2: Lunes | RU2: Martes | RV2: Miércoles | RW2: Jueves | RX2: Viernes | RY2: Sábado | RZ2: Domingo | SA2: Lunes | SB2: Martes | SC2: Miércoles | SD2: Jueves | SE2: Viernes | SF2: Sábado | SG2: Domingo | SH2: Lunes | SI2: Martes | SJ2: Miércoles | SK2: Jueves | SL2: Viernes | SM2: Sábado
F3: 43299 | G3: 43300 | H3: 43301 | I3: 43302 | J3: 43303 | K3: 43304 | L3: 43305 | M3: 43306 | N3: 43307 | O3: 43308 | P3: 43309 | Q3: 43310 | R3: 43311 | S3: 43312 | T3: 43313 | U3: 43314 | V3: 43315 | W3: 43316 | X3: 43317 | Y3: 43318 | Z3: 43319 | AA3: 43320 | AB3: 43321 | AC3: 43322 | AD3: 43323 | AE3: 43324 | AF3: 43325 | AG3: 43326 | AH3: 43327 | AI3: 43328 | AJ3: 43329 | AK3: 43330 | AL3: 43331 | AM3: 43332 | AN3: 43333 | AO3: 43334 | AP3: 43335 | AQ3: 43336 | AR3: 43337 | AS3: 43338 | AT3: 43339 | AU3: 43340 | AV3: 43341 | AW3: 43342 | AX3: 43343 | AY3: 43344 | AZ3: 43345 | BA3: 43346 | BB3: 43347 | BC3: 43348 | BD3: 43349 | BE3: 43350 | BF3: 43351 | BG3: 43352 | BH3: 43353 | BI3: 43354 | BJ3: 43355 | BK3: 43356 | BL3: 43357 | BM3: 43358 | BN3: 43359 | BO3: 43360 | BP3: 43361 | BQ3: 43362 | BR3: 43363 | BS3: 43364 | BT3: 43365 | BU3: 43366 | BV3: 43367 | BW3: 43368 | BX3: 43369 | BY3: 43370 | BZ3: 43371 | CA3: 43372 | CB3: 43373 | CC3: 43374 | CD3: 43375 | CE3: 43376 | CF3: 43377 | CG3: 43378 | CH3: 43379 | CI3: 43380 | CJ3: 43381 | CK3: 43382 | CL3: 43383 | CM3: 43384 | CN3: 43385 | CO3: 43386 | CP3: 43387 | CQ3: 43388 | CR3: 43389 | CS3: 43390 | CT3: 43391 | CU3: 43392 | CV3: 43393 | CW3: 43394 | CX3: 43395 | CY3: 43396 | CZ3: 43397 | DA3: 43398 | DB3: 43399 | DC3: 43400 | DD3: 43401 | DE3: 43402 | DF3: 43403 | DG3: 43404 | DH3: 43405 | DI3: 43406 | DJ3: 43407 | DK3: 43408 | DL3: 43409 | DM3: 43410 | DN3: 43411 | DO3: 43412 | DP3: 43413 | DQ3: 43414 | DR3: 43415 | DS3: 43416 | DT3: 43417 | DU3: 43418 | DV3: 43419 | DW3: 43420 | DX3: 43421 | DY3: 43422 | DZ3: 43423 | EA3: 43424 | EB3: 43425 | EC3: 43426 | ED3: 43427 | EE3: 43428 | EF3: 43429 | EG3: 43430 | EH3: 43431 | EI3: 43432 | EJ3: 43433 | EK3: 43434 | EL3: 43435 | EM3: 43436 | EN3: 43437 | EO3: 43438 | EP3: 43439 | EQ3: 43440 | ER3: 43441 | ES3: 43442 | ET3: 43443 | EU3: 43444 | EV3: 43445 | EW3: 43446 | EX3: 43447 | EY3: 43448 | EZ3: 43449 | FA3: 43450 | FB3: 43451 | FC3: 43452 | FD3: 43453 | FE3: 43454 | FF3: 43455 | FG3: 43456 | FH3: 43457 | FI3: 43458 | FJ3: 43459 | FK3: 43460 | FL3: 43461 | FM3: 43462 | FN3: 43463 | FO3: 43464 | FP3: 43465 | FQ3: 43466 | FR3: 43467 | FS3: 43468 | FT3: 43469 | FU3: 43470 | FV3: 43471 | FW3: 43472 | FX3: 43473 | FY3: 43474 | FZ3: 43475 | GA3: 43476 | GB3: 43477 | GC3: 43478 | GD3: 43479 | GE3: 43480 | GF3: 43481 | GG3: 43482 | GH3: 43483 | GI3: 43484 | GJ3: 43485 | GK3: 43486 | GL3: 43487 | GM3: 43488 | GN3: 43489 | GO3: 43490 | GP3: 43491 | GQ3: 43492 | GR3: 43493 | GS3: 43494 | GT3: 43495 | GU3: 43496 | GV3: 43497 | GW3: 43498 | GX3: 43499 | GY3: 43500 | GZ3: 43501 | HA3: 43502 | HB3: 43503 | HC3: 43504 | HD3: 43505 | HE3: 43506 | HF3: 43507 | HG3: 43508 | HH3: 43509 | HI3: 43510 | HJ3: 43511 | HK3: 43512 | HL3: 43513 | HM3: 43514 | HN3: 43515 | HO3: 43516 | HP3: 43517 | HQ3: 43518 | HR3: 43519 | HS3: 43520 | HT3: 43521 | HU3: 43522 | HV3: 43523 | HW3: 43524 | HX3: 43525 | HY3: 43526 | HZ3: 43527 | IA3: 43528 | IB3: 43529 | IC3: 43530 | ID3: 43531 | IE3: 43532 | IF3: 43533 | IG3: 43534 | IH3: 43535 | II3: 43536 | IJ3: 43537 | IK3: 43538 | IL3: 43539 | IM3: 43540 | IN3: 43541 | IO3: 43542 | IP3: 43543 | IQ3: 43544 | IR3: 43545 | IS3: 43546 | IT3: 43547 | IU3: 43548 | IV3: 43549 | IW3: 43550 | IX3: 43551 | IY3: 43552 | IZ3: 43553 | JA3: 43554 | JB3: 43555 | JC3: 43556 | JD3: 43557 | JE3: 43558 | JF3: 43559 | JG3: 43560 | JH3: 43561 | JI3: 43562 | JJ3: 43563 | JK3: 43564 | JL3: 43565 | JM3: 43566 | JN3: 43567 | JO3: 43568 | JP3: 43569 | JQ3: 43570 | JR3: 43571 | JS3: 43572 | JT3: 43573 | JU3: 43574 | JV3: 43575 | JW3: 43576 | JY3: 43577 | JZ3: 43578 | KA3: 43579 | KB3: 43580 | KC3: 43581 | KD3: 43582 | KE3: 43583 | KF3: 43584 | KG3: 43585 | KH3: 43586 | KI3: 43587 | KJ3: 43588 | KK3: 43589 | KL3: 43590 | KM3: 43591 | KN3: 43592 | KO3: 43593 | KP3: 43594 | KQ3: 43595 | KR3: 43596 | KS3: 43597 | KT3: 43598 | KU3: 43599 | KV3: 43600 | KW3: 43601 | KX3: 43602 | KY3: 43603 | KZ3: 43604 | LA3: 43605 | LB3: 43606 | LC3: 43607 | LD3: 43608 | LE3: 43609 | LF3: 43610 | LG3: 43611 | LH3: 43612 | LI3: 43613 | LJ3: 43614 | LK3: 43615 | LL3: 43616 | LM3: 43617 | LN3: 43618 | LO3: 43619 | LP3: 43620 | LQ3: 43621 | LR3: 43622 | LS3: 43623 | LT3: 43624 | LU3: 43625 | LV3: 43626 | LW3: 43627 | LX3: 43628 | LY3: 43629 | LZ3: 43630 | MA3: 43631 | MB3: 43632 | MC3: 43633 | MD3: 43634 | ME3: 43635 | MF3: 43636 | MG3: 43637 | MH3: 43638 | MI3: 43639 | MJ3: 43640 | MK3: 43641 | ML3: 43642 | MM3: 43643 | MN3: 43644 | MO3: 43645 | MP3: 43646 | MQ3: 43647 | MR3: 43648 | MS3: 43649 | MT3: 43650 | MU3: 43651 | MV3: 43652 | MW3: 43653 | MX3: 43654 | MY3: 43655 | MZ3: 43656 | NA3: 43657 | NB3: 43658 | NC3: 43659 | ND3: 43660 | NE3: 43661 | NF3: 43662 | NG3: 43663 | NH3: 43664 | NI3: 43665 | NJ3: 43666 | NK3: 43667 | NL3: 43668 | NM3: 43669 | NN3: 43670 | NO3: 43671 | NP3: 43672 | NQ3: 43673 | NR3: 43674 | NS3: 43675 | NT3: 43676 | NU3: 43677 | NV3: 43678 | NW3: 43679 | NX3: 43680 | NY3: 43681 | NZ3: 43682 | OA3: 43683 | OB3: 43684 | OC3: 43685 | OD3: 43686 | OE3: 43687 | OF3: 43688 | OG3: 43689 | OH3: 43690 | OI3: 43691 | OJ3: 43692 | OK3: 43693 | OL3: 43694 | OM3: 43695 | ON3: 43696 | OO3: 43697 | OP3: 43698 | OQ3: 43699 | OR3: 43700 | OS3: 43701 | OT3: 43702 | OU3: 43703 | OV3: 43704 | OW3: 43705 | OX3: 43706 | OY3: 43707 | OZ3: 43708 | PA3: 43709 | PB3: 43710 | PC3: 43711 | PD3: 43712 | PE3: 43713 | PF3: 43714 | PG3: 43715 | PH3: 43716 | PI3: 43717 | PJ3: 43718 | PK3: 43719 | PL3: 43720 | PM3: 43721 | PN3: 43722 | PO3: 43723 | PP3: 43724 | PQ3: 43725 | PR3: 43726 | PS3: 43727 | PT3: 43728 | PU3: 43729 | PV3: 43730 | PW3: 43731 | PX3: 43732 | PY3: 43733 | PZ3: 43734 | QA3: 43735 | QB3: 43736 | QC3: 43737 | QD3: 43738 | QE3: 43739 | QF3: 43740 | QG3: 43741 | QH3: 43742 | QI3: 43743 | QJ3: 43744 | QK3: 43745 | QL3: 43746 | QM3: 43747 | QN3: 43748 | QO3: 43749 | QP3: 43750 | QQ3: 43751 | QR3: 43752 | QS3: 43753 | QT3: 43754 | QU3: 43755 | QV3: 43756 | QW3: 43757 | QX3: 43758 | QY3: 43759 | QZ3: 43760 | RA3: 43761 | RB3: 43762 | RC3: 43763 | RD3: 43764 | RE3: 43765 | RF3: 43766 | RG3: 43767 | RH3: 43768 | RI3: 43769 | RJ3: 43770 | RK3: 43771 | RL3: 43772 | RM3: 43773 | RN3: 43774 | RO3: 43775 | RP3: 43776 | RQ3: 43777 | RR3: 43778 | RS3: 43779 | RT3: 43780 | RU3: 43781 | RV3: 43782 | RW3: 43783 | RX3: 43784 | RY3: 43785 | RZ3: 43786 | SA3: 43787 | SB3: 43788 | SC3: 43789 | SD3: 43790 | SE3: 43791 | SF3: 43792 | SG3: 43793 | SH3: 43794 | SI3: 43795 | SJ3: 43796 | SK3: 43797 | SL3: 43798 | SM3: 43799
C4: CONTRATAR LA CONSTRUCCION DE TERMINAL Y EL MANTENIMIENTO DE PISTA, CALLES DE RODAJE, PLATAFORMA, ZONAS DE SEGURIDAD Y TERMINAL EXISTENTE DEL AEROPUERTO EL EDÉN DE ARMENIA. | D4: =SUM(D5:D9) -> 4.6332957e+10 | F4: =SUM(F5:F9) -> 3403018.9 | G4: =SUM(G5:G9) -> 3403018.9 | H4: =SUM(H5:H9) -> 0 | I4: =SUM(I5:I9) -> 2201953.4 | J4: =SUM(J5:J9) -> 0 | K4: =SUM(K5:K9) -> 3403018.9 | L4: =SUM(L5:L9) -> 3403018.9 | M4: =SUM(M5:M9) -> 3403018.9 | ... JW4: =SUM(JW5:JW9) -> 8.1630958e+08 | JY4: =SUM(JY5:JY9) -> 2.2949639e+08 | JZ4: =SUM(JZ5:JZ9) -> 2.2949639e+08 | KA4: =SUM(KA5:KA9) -> 2.2949639e+08 | KB4: =SUM(KB5:KB9) -> 2.2910009e+08 | KC4: =SUM(KC5:KC9) -> 2.2897815e+08 | KD4: =SUM(KD5:KD9) -> 1.4816233e+08 | KE4: =SUM(KE5:KE9) -> 0 | KF4: =SUM(KF5:KF9) -> 2.2897815e+08 | ... SM4: =SUM(SM5:SM9) -> 17651815
C5: CONSTRUCCION DE TERMINAL | D5: =SUM(F5:SM5)+1 -> 2.9202991e+10 | F5: 3403018.9 | G5: 3403018.9 | I5: 2201953.4 | K5: 3403018.9 | L5: 3403018.9 | M5: 3403018.9 | N5: 3403018.9 | O5: 3403018.9 | P5: 2201953.4 | R5: 3403018.9 | S5: 3403018.9 | T5: 3403018.9 | U5: 3403018.9 | CE5: 7155967.3 | CF5: 6383323.7 | CG5: 4863964.2 | CH5: 3147270.9 | CJ5: 4863964.2 | CK5: 4863964.2 | CL5: 4863964.2 | CM5: 4863964.2 | CN5: 4863964.2 | CO5: 3147270.9 | CR5: 4863964.2 | CS5: 4863964.2 | CT5: 4863964.2 | CU5: 4863964.2 | CV5: 3147270.9 | CX5: 4863964.2 | CY5: 4863964.2 | CZ5: 4863964.2 | DA5: 4863964.2 | DB5: 4863964.2 | DC5: 3147270.9 | DE5: 4863964.2 | DF5: 4863964.2 | DG5: 4863964.2 | DH5: 4863964.2 | DI5: 4863964.2 | DJ5: 3147270.9 | DM5: 4863964.2 | DN5: 4863964.2 | DO5: 4863964.2 | DP5: 4339902 | DQ5: 2808171.9 | DT5: 3590836.2 | DU5: 3430322.2 | DV5: 3430322.2 | DW5: 3430322.2 | DX5: 2219620.2 | DZ5: 3654241.1 | EA5: 3723139.2 | EB5: 3723139.2 | EC5: 3723139.2 | ED5: 3723139.2 | EE5: 2409090.1 | EG5: 3723139.2 | EH5: 3723139.2 | EI5: 1014966.7 | EJ5: 434644.03 | EK5: 1296914.7 | EL5: 839180.12 | EN5: 1296914.7 | EO5: 1296914.7 | EP5: 1296914.7 | EQ5: 1296914.7 | ER5: 1296914.7 | EU5: 1296914.7 | EV5: 1296914.7 | EW5: 1470229.1 | EX5: 2033501 | EY5: 2033501 | EZ5: 1315794.8 | FB5: 2033501 | FC5: 2033501 | FD5: 2033501 | FE5: 2033501 | FF5: 2033501 | FG5: 1315794.8 | FI5: 2098048.5 | FU5: 1670806.1 | FX5: 2582154.9 | FY5: 2582154.9 | FZ5: 2582154.9 | GA5: 2582154.9 | GB5: 1670806.1 | GD5: 2582154.9 | GE5: 2582154.9 | GF5: 2582154.9 | GG5: 2582154.9 | GH5: 2582154.9 | GI5: 1670806.1 | GK5: 2582154.9 | GL5: 2582154.9 | GM5: 2582154.9 | GN5: 2582154.9 | GO5: 2582154.9 | GP5: 1670806.1 | GR5: 2582154.9 | GS5: 2582154.9 | GT5: 2582154.9 | GU5: 2582154.9 | GV5: 2582154.9 | GW5: 1670806.1 | GY5: 2582154.9 | GZ5: 2582154.9 | HA5: 2582154.9 | HB5: 2582154.9 | HC5: 2582154.9 | HD5: 1670806.1 | HF5: 14938040 | HG5: 21677614 | HH5: 21677614 | HI5: 23930940 | HJ5: 24540882 | HK5: 17195108 | HM5: 26574259 | HN5: 26574259 | HO5: 26574259 | HP5: 26574259 | HQ5: 36026176 | HR5: 24126514 | HT5: 37286431 | HU5: 37286431 | HV5: 37286431 | HW5: 37708235 | HX5: 37734598 | HY5: 24416505 | IA5: 37734598 | IB5: 37734598 | IC5: 37734598 | ID5: 37734598 | IE5: 37734598 | IF5: 24416505 | IH5: 37734598 | II5: 44012689 | IJ5: 46628560 | IK5: 46628560 | IL5: 46628560 | IM5: 30171421 | IO5: 49053046 | IP5: 49799041 | IQ5: 49799041 | IR5: 49799041 | IS5: 49799041 | IT5: 39439839 | IW5: 62067822 | IX5: 62067822 | IY5: 62067822 | IZ5: 62067822 | JA5: 42824273 | JC5: 66182968 | JD5: 66182968 | JE5: 66182968 | JF5: 66182968 | JG5: 88138951 | JH5: 59576349 | JJ5: 92072540 | JK5: 92072540 | JL5: 92072540 | JM5: 92072540 | JN5: 92072540 | JO5: 59576349 | JQ5: 92072540 | JR5: 92072540 | JS5: 98419508 | JV5: 65405099 | JW5: =SUM(JQ5:JV5) -> 3.4796969e+08 | JX5: =+JW5/$JP$14 -> 0.0076448884 | JY5: 1.0108061e+08 | JZ5: 1.0108061e+08 | KA5: 1.0108061e+08 | KB5: 1.0073789e+08 | KC5: 1.0063244e+08 | KD5: 65115109 | KF5: 1.0063244e+08 | KG5: 1.0063244e+08 | KI5: 1.0299016e+08 | KJ5: 1.0397254e+08 | KK5: 67276351 | KM5: 1.0397254e+08 | KN5: 1.0397254e+08 | KO5: 1.1167763e+08 | KP5: 1.1754233e+08 | KQ5: 1.1754233e+08 | KR5: 76056804 | KT5: 1.3026838e+08 | KU5: 1.4172679e+08 | KV5: 1.4189144e+08 | KW5: 1.4189144e+08 | KX5: 1.4189144e+08 | KY5: 91812108 | LA5: 1.4493571e+08 | LB5: 1.490958e+08 | LC5: 1.490958e+08 | LD5: 1.490958e+08 | LE5: 1.490958e+08 | LF5: 96473755 | LH5: 1.490958e+08 | LI5: 1.490958e+08 | LJ5: 1.490958e+08 | LK5: 1.490958e+08 | LL5: 1.490958e+08 | LM5: 96473755 | LP5: 1.490958e+08 | LQ5: 1.4988277e+08 | LR5: 1.5068904e+08 | LS5: 1.5074482e+08 | LT5: 97566026 | LV5: 1.5078386e+08 | LW5: 1.5085413e+08 | LX5: 1.5093318e+08 | LY5: 1.5093318e+08 | LZ5: 1.5093318e+08 | MA5: 97662645 | MC5: 1.5093318e+08 | MD5: 1.5683449e+08 | ME5: 1.6208011e+08 | MF5: 1.6208011e+08 | MG5: 1.6208011e+08 | MH5: 1.0558113e+08 | MK5: 1.6553382e+08 | ML5: 1.6467014e+08 | MM5: 1.6241783e+08 | MN5: 1.6241783e+08 | MO5: 1.0509389e+08 | MR5: 1.6241783e+08 | MS5: 1.6286454e+08 | MT5: 1.6368351e+08 | MU5: 1.6368351e+08 | MV5: 1.0591286e+08 | MX5: 1.6368351e+08 | MY5: 1.6204402e+08 | MZ5: 1.5957749e+08 | NA5: 1.5957749e+08 | NB5: 1.6682221e+08 | NC5: 1.1321752e+08 | NE5: 1.7576877e+08 | NF5: 1.7835656e+08 | NG5: 1.7835656e+08 | NH5: 1.7835656e+08 | NI5: 1.7835656e+08 | NJ5: 1.1526751e+08 | NL5: 1.7793082e+08 | NM5: 1.7793082e+08 | NN5: 1.7793082e+08 | NO5: 1.7793082e+08 | NP5: 1.7993202e+08 | NQ5: 1.1842367e+08 | NS5: 1.830184e+08 | NT5: 1.8193109e+08 | NU5: 1.7932155e+08 | NV5: 1.791665e+08 | NW5: 1.7902868e+08 | NX5: 1.1584209e+08 | NZ5: 1.7902868e+08 | OA5: 1.7902868e+08 | OC5: 1.8175842e+08 | OD5: 1.8676293e+08 | OE5: 1.208466e+08 | OG5: 1.8676293e+08 | OH5: 1.8676293e+08 | OI5: 1.8109853e+08 | OJ5: 1.6820784e+08 | OK5: 1.6820784e+08 | OL5: 1.0884281e+08 | OO5: 1.685449e+08 | OP5: 1.6565812e+08 | OQ5: 1.5627611e+08 | OR5: 1.5627611e+08 | OS5: 1.0111984e+08 | OU5: 1.5627611e+08 | OV5: 1.5497346e+08 | OW5: 1.5006143e+08 | OX5: 1.5006143e+08 | OY5: 1.5006143e+08 | OZ5: 97098571 | PB5: 1.4961345e+08 | PC5: 1.5385554e+08 | PD5: 1.5385554e+08 | PE5: 1.5385554e+08 | PF5: 1.5385554e+08 | PG5: 98771956 | PI5: 1.4942632e+08 | PJ5: 1.4942632e+08 | PK5: 1.4942632e+08 | PL5: 1.4983891e+08 | PM5: 1.4228275e+08 | PN5: 82402403 | PP5: 1.2734917e+08 | PQ5: 1.2736549e+08 | PR5: 1.2744164e+08 | PS5: 1.2744164e+08 | PT5: 1.2744164e+08 | PU5: 82462238 | PW5: 1.2744164e+08 | PX5: 1.2744164e+08 | PY5: 1.2762659e+08 | PZ5: 1.2822766e+08 | QA5: 1.2822766e+08 | QB5: 82953275 | QD5: 1.280784e+08 | QE5: 1.2767269e+08 | QF5: 1.2577934e+08 | QG5: 1.2577934e+08 | QH5: 1.2577934e+08 | QI5: 81386635 | QK5: 1.2548359e+08 | QL5: 1.2326545e+08 | QM5: 1.2326545e+08 | QN5: 1.4436239e+08 | QO5: 1.9499506e+08 | QP5: 1.2577083e+08 | QS5: 1.8815355e+08 | QT5: 1.8815355e+08 | QU5: 1.8815355e+08 | QV5: 1.8815355e+08 | QW5: 1.2174642e+08 | QY5: 1.7972587e+08 | QZ5: 1.7972587e+08 | RA5: 1.7972587e+08 | RB5: 1.7972587e+08 | RC5: 1.777815e+08 | RD5: 1.120156e+08 | RF5: 1.7311502e+08 | RG5: 1.7131296e+08 | RH5: 1.54519e+08 | RI5: 1.4591309e+08 | RJ5: 1.4346625e+08 | RK5: 92753451 | RN5: 1.4334624e+08 | RO5: 1.4334624e+08 | RP5: 1.4332454e+08 | RQ5: 1.4322327e+08 | RR5: 92673880 | RU5: 1.4322327e+08 | RV5: 1.4322327e+08 | RW5: 1.4322327e+08 | RX5: 1.4322327e+08 | RY5: 92673880 | SA5: 1.4322327e+08 | SB5: 1.4322327e+08 | SC5: 1.4283837e+08 | SD5: 1.3667992e+08 | SE5: 1.3667992e+08 | SF5: 88439948 | SH5: 1.2858596e+08 | SI5: 1.2750677e+08 | SJ5: 1.2003796e+08 | SK5: 1.1756404e+08 | SL5: 86351523 | SM5: 17651815
C6: MANTENIMIENTO DE TERMINAL | D6: =SUM(F6:SM6)+1 -> 4.6992523e+08 | JW6: =SUM(JQ6:JV6) -> 0 | NB6: 694644.98 | NC6: 849010.53 | NE6: 1312107.2 | NF6: 1312107.2 | NG6: 1312107.2 | NH6: 1312107.2 | NI6: 1312107.2 | NJ6: 849010.53 | NL6: 1312107.2 | NM6: 1312107.2 | NN6: 1312107.2 | NO6: 1312107.2 | NP6: 1312107.2 | NQ6: 849010.53 | NS6: 1312107.2 | NT6: 1859379.6 | NU6: 2862712.4 | NV6: 2862712.4 | NW6: 2862712.4 | NX6: 1852343.3 | NZ6: 2862712.4 | OA6: 2862712.4 | OC6: 2862712.4 | OD6: 2862712.4 | OE6: 1852343.3 | OG6: 2862712.4 | OH6: 2862712.4 | OI6: 2862712.4 | OJ6: 2862712.4 | OK6: 2862712.4 | OL6: 3809631.1 | OO6: 13954010 | OP6: 13954010 | OQ6: 13954010 | OR6: 13954010 | OS6: 9114858.1 | OU6: 14683250 | OV6: 14683250 | OW6: 14683250 | OX6: 14683250 | OY6: 14687239 | OZ6: 9507194 | PB6: 14692936 | PC6: 14692936 | PD6: 14692936 | PE6: 14145664 | PF6: 13142331 | PG6: 8503861.2 | PI6: 13142331 | PJ6: 13142331 | PK6: 13142331 | PL6: 13142331 | PM6: 13142331 | PN6: 8503861.2 | PP6: 13142331 | PQ6: 12970745 | PR6: 12413090 | PS6: 12413090 | PT6: 12413090 | PU6: 8031999.6 | PW6: 10544306 | PX6: 1823311.1 | PY6: 1823311.1 | PZ6: 1823311.1 | QA6: 1823311.1 | QB6: 1101886 | QD6: 1161130.8 | QE6: 1161130.8 | QF6: 1161130.8 | QG6: 1161130.8 | QH6: 1161130.8 | QI6: 751319.95 | QK6: 1161130.8 | QL6: 1161130.8 | QM6: 1161130.8 | QN6: 1161130.8 | QO6: 1161130.8 | QP6: 751319.95 | QS6: 1161130.8 | QT6: 1161130.8 | QU6: 819621.76
C7: MANTENIMIENTO CALLES DE RODAJE | D7: =SUM(F7:SM7)+1 -> 1.7482312e+09 | HF7: 1665286 | HG7: 2573623.8 | HH7: 2573623.8 | HI7: 2573623.8 | HJ7: 2573623.8 | HK7: 1665286 | HM7: 2573623.8 | HN7: 2573623.8 | HO7: 2573623.8 | HP7: 2573623.8 | HQ7: 2581526.1 | HR7: 1671081 | HT7: 2582579.7 | HU7: 2582579.7 | HV7: 2582579.7 | HW7: 2582579.7 | HX7: 2582579.7 | HY7: 1671081 | IA7: 2582579.7 | IB7: 2582579.7 | IC7: 18072086 | ID7: 22838088 | IE7: 22838088 | IF7: 14777587 | IH7: 22838088 | II7: 22838088 | IJ7: 22838088 | IK7: 22838088 | IL7: 22838088 | IM7: 14777587 | IO7: 22838088 | IP7: 22838088 | IQ7: 22838088 | IR7: 22838088 | IS7: 22838088 | IT7: 14777587 | IW7: 22838088 | IX7: 22838088 | IY7: 22838088 | IZ7: 22838088 | JA7: 14777587 | JC7: 22838088 | JD7: 22838088 | JE7: 22838088 | JF7: 22838088 | JG7: 22838088 | JH7: 14777587 | JJ7: 22838088 | JK7: 22838088 | JL7: 22838088 | JM7: 22558265 | JN7: 22472166 | JO7: 14540813 | JQ7: 22472166 | JR7: 22472166 | JS7: 22472166 | JV7: 14540813 | JW7: =SUM(JQ7:JV7) -> 81957311 | JX7: =+JW7/$JP$14 -> 0.0018006008 | JY7: 22472166 | JZ7: 22472166 | KA7: 22472166 | KB7: 22472166 | KC7: 22472166 | KD7: 14540813 | KF7: 22472166 | KG7: 22472166 | KI7: 22472166 | KJ7: 22472166 | KK7: 14540813 | KM7: 22472166 | KN7: 22472166 | KO7: 18418740 | KP7: 14815694 | KQ7: 14815694 | KR7: 9586625.7 | KT7: 14815694 | KU7: 14815694 | KV7: 14815694 | KW7: 14815694 | KX7: 14815694 | KY7: 9586625.7 | LA7: 15344210 | LB7: 16099234 | LC7: 16099234 | LD7: 16099234 | LE7: 16099234 | LF7: 10417151 | LH7: 16099234 | LI7: 16099234 | LJ7: 16099234 | LK7: 16099234 | LL7: 14457534 | LM7: 8775451.4 | LP7: 13562061 | LQ7: 13562061 | LR7: 13562061 | LS7: 13562061 | LT7: 8775451.4 | LV7: 13562061 | LW7: 13562061 | LX7: 13562061 | LY7: 13562061 | LZ7: 13562061 | MA7: 8775451.4 | MC7: 13562061 | MD7: 13562061 | ME7: 13562061 | MF7: 13562061 | MG7: 13562061 | MH7: 8775451.4 | MK7: 13562061 | ML7: 8509887.2 | MM7: 1292495.5 | MN7: 1292495.5 | MO7: 532204.02
C8: MANTENIMIENTO DE PISTA | D8: =SUM(F8:SM8)+1 -> 1.3635475e+10 | DM8: 3400002.4 | DN8: 3853336 | DO8: 8782979.3 | DP8: 8782979.3 | DQ8: 5683104.3 | DT8: 8782979.3 | DU8: 8782979.3 | DV8: 8782979.3 | DW8: 8782979.3 | DX8: 5683104.3 | DZ8: 8782979.3 | EA8: 8782979.3 | EB8: 8782979.3 | EC8: 8782979.3 | ED8: 13495933 | EE8: 57525596 | EG8: 88903194 | EH8: 88903194 | EI8: 88903194 | EJ8: 88903194 | EK8: 97197059 | EL8: 62892215 | EN8: 97197059 | EO8: 97197059 | EP8: 97197059 | EQ8: 97197059 | ER8: 97197059 | EU8: 97197059 | EV8: 97197059 | EW8: 97197059 | EX8: 97197059 | EY8: 97197059 | EZ8: 62892215 | FB8: 97197059 | FC8: 97197059 | FD8: 97197059 | FE8: 97197059 | FF8: 97197059 | FG8: 62892215 | FI8: 97197059 | FU8: 62892215 | FX8: 97197059 | FY8: 97197059 | FZ8: 97197059 | GA8: 96970392 | GB8: 60398880 | GD8: 93343723 | GE8: 93343723 | GF8: 93343723 | GG8: 93343723 | GH8: 97762265 | GI8: 63257936 | GK8: 97762265 | GL8: 97762265 | GM8: 97762265 | GN8: 97762265 | GO8: 97762265 | GP8: 63257936 | GR8: 97762265 | GS8: 97762265 | GT8: 97762265 | GU8: 97762265 | GV8: 97762265 | GW8: 63257936 | GY8: 97762265 | GZ8: 97762265 | HA8: 97762265 | HB8: 97762265 | HC8: 97762265 | HD8: 63257936 | HF8: 97762265 | HG8: 97762265 | HH8: 97762265 | HI8: 97762265 | HJ8: 97762265 | HK8: 63257936 | HM8: 97762265 | HN8: 97762265 | HO8: 97762265 | HP8: 97762265 | HQ8: 97762265 | HR8: 63257936 | HT8: 97762265 | HU8: 97762265 | HV8: 97762265 | HW8: 97762265 | HX8: 97762265 | HY8: 63257936 | IA8: 97762265 | IB8: 97762265 | IC8: 97762265 | ID8: 97762265 | IE8: 97762265 | IF8: 63257936 | IH8: 97762265 | II8: 97762265 | IJ8: 97762265 | IK8: 97762265 | IL8: 97762265 | IM8: 63257936 | IO8: 97762265 | IP8: 97762265 | IQ8: 93412580 | IR8: 92832622 | IS8: 92832622 | IT8: 60068167 | IW8: 92832622 | IX8: 92832622 | IY8: 92832622 | IZ8: 92832622 | JA8: 57209110 | JC8: 88414080 | JD8: 88414080 | JE8: 88414080 | JF8: 88414080 | JG8: 88414080 | JH8: 57209110 | JJ8: 88414080 | JK8: 88414080 | JL8: 88414080 | JM8: 88414080 | JN8: 88414080 | JO8: 57209110 | JQ8: 88414080 | JR8: 88414080 | JS8: 88414080 | JV8: 57209110 | JW8: =SUM(JQ8:JV8) -> 3.2245135e+08 | JX8: =+JW8/$JP$14 -> 0.0070842509 | JY8: 88414080 | JZ8: 88414080 | KA8: 88414080 | KB8: 88414080 | KC8: 88414080 | KD8: 57209110 | KF8: 88414080 | KG8: 88414080 | KI8: 88255512 | KJ8: 88189442 | KK8: 57063757 | KM8: 88189442 | KN8: 88189442 | KO8: 88189442 | KP8: 88189442 | KQ8: 88189442 | KR8: 57063757 | KT8: 88189442 | KU8: 86961144 | KV8: 86101335 | KW8: 86101335 | KX8: 86101335 | KY8: 55712629 | LA8: 86101335 | LB8: 86101335 | LC8: 86101335 | LD8: 86101335 | LE8: 86101335 | LF8: 55712629 | LH8: 86101335 | LI8: 86101335 | LJ8: 86101335 | LK8: 86101335 | LL8: 86101335 | LM8: 55712629 | LP8: 86101335 | LQ8: 86101335 | LR8: 86101335 | LS8: 31178415 | LT8: 5366618.4 | LV8: 8293864.8 | LW8: 8293864.8 | LX8: 8293864.8 | LY8: 2927246.4
C9: MANTENIMIENTO DE PLATAFORMA | D9: =SUM(F9:SM9)+1 -> 1.2763339e+09 | IC9: 328676.09 | ID9: 372499.56 | IE9: 372499.56 | IF9: 241029.13 | IH9: 372499.56 | II9: 372499.56 | IJ9: 372499.56 | IK9: 372499.56 | IL9: 372499.56 | IM9: 241029.13 | IO9: 426082.17 | IP9: 442569.13 | IQ9: 442569.13 | IR9: 442569.13 | IS9: 1578259.7 | IT9: 11583668 | IW9: 17902032 | IX9: 17902032 | IY9: 17902032 | IZ9: 17902032 | JA9: 11583668 | JC9: 17902032 | JD9: 17902032 | JE9: 17902032 | JF9: 17902032 | JG9: 17902032 | JH9: 11583668 | JJ9: 17902032 | JK9: 17902032 | JL9: 17902032 | JM9: 17573356 | JN9: 17529533 | JO9: 11342639 | JQ9: 17529533 | JR9: 17529533 | JS9: 17529533 | JV9: 11342639 | JW9: =SUM(JQ9:JV9) -> 63931237 | JX9: =+JW9/$JP$14 -> 0.0014045682 | JY9: 17529533 | JZ9: 17529533 | KA9: 17529533 | KB9: 17475950 | KC9: 17459463 | KD9: 11297300 | KF9: 17459463 | KG9: 17459463 | KI9: 17459463 | KJ9: 17459463 | KK9: 11297300 | KM9: 17459463 | KN9: 17459463 | KO9: 17459463 | KP9: 17459463 | KQ9: 17459463 | KR9: 11297300 | KT9: 17459463 | KU9: 17459463 | KV9: 17459463 | KW9: 17459463 | KX9: 17459463 | KY9: 11297300 | LA9: 17459463 | LB9: 17459463 | LC9: 17459463 | LD9: 18493547 | LE9: 19217406 | LF9: 12434792 | LH9: 19217406 | LI9: 19217406 | LJ9: 19217406 | LK9: 19217406 | LL9: 19217406 | LM9: 12434792 | LP9: 19217406 | LQ9: 19217406 | LR9: 19217406 | LS9: 19217406 | LT9: 12434792 | LV9: 19217406 | LW9: 19217406 | LX9: 19217406 | LY9: 19217406 | LZ9: 19217406 | MA9: 12434792 | MC9: 19217406 | MD9: 19156283 | ME9: 8899593.4 | MF9: 1757943 | MG9: 1757943 | MH9: 1137492.5 | MK9: 1757943 | ML9: 1757943 | MM9: 1757943 | MN9: 1757943 | MO9: 723858.87
D11: ACUMULADO $ | F11: =+F4 -> 3403018.9 | G11: =+F11+G4 -> 6806037.9 | H11: =+G11+H4 -> 6806037.9 | I11: =+H11+I4 -> 9007991.3 | J11: =+I11+J4 -> 9007991.3 | K11: =+J11+K4 -> 12411010 | L11: =+K11+L4 -> 15814029 | M11: =+L11+M4 -> 19217048 | N11: =+M11+N4 -> 22620067 | ... JW11: =+JV11+JW4 -> 1.5299562e+10 | JX11: =SUM(JX5:JX9) -> 0.017934308 | JY11: =+JW11+JY4 -> 1.5529059e+10 | JZ11: =+JY11+JZ4 -> 1.5758555e+10 | KA11: =+JZ11+KA4 -> 1.5988051e+10 | KB11: =+KA11+KB4 -> 1.6217151e+10 | KC11: =+KB11+KC4 -> 1.644613e+10 | KD11: =+KC11+KD4 -> 1.6594292e+10 | KE11: =+KD11+KE4 -> 1.6594292e+10 | KF11: =+KE11+KF4 -> 1.682327e+10 | KG11: =+KF11+KG4 -> 1.7052248e+10 | ... SM11: =+SL11+SM4 -> 4.6332957e+10
D12: % ACUMULADO | F12: =+F11/$D$4 -> 7.3447049e-05 | G12: =+G11/$D$4 -> 0.0001468941 | H12: =+H11/$D$4 -> 0.0001468941 | I12: =+I11/$D$4 -> 0.00019441866 | J12: =+J11/$D$4 -> 0.00019441866 | K12: =+K11/$D$4 -> 0.00026786571 | L12: =+L11/$D$4 -> 0.00034131276 | M12: =+M11/$D$4 -> 0.00041475981 | ... JW12: =+JW11/$D$4 -> 0.33020906 | JY12: =+JY11/$D$4 -> 0.33516226 | JZ12: =+JZ11/$D$4 -> 0.34011546 | KA12: =+KA11/$D$4 -> 0.34506866 | KB12: =+KB11/$D$4 -> 0.35001331 | KC12: =+KC11/$D$4 -> 0.35495532 | KD12: =+KD11/$D$4 -> 0.3581531 | KE12: =+KE11/$D$4 -> 0.3581531 | KF12: =+KF11/$D$4 -> 0.36309511 | ... SM12: =+SM11/$D$4 -> 1
D14: 53186647015 | F14: 43282 | T14: 43313 | AY14: 43344 | CC14: 43374 | DH14: 43405 | EL14: 43435 | FQ14: 43466 | GV14: 43497 | HX14: 43525 | JC14: 43556 | JP14: 4.5516647e+10 | KH14: 43586 | LM14: 43617 | MQ14: 43647 | NV14: 43678 | PA14: 43709 | QE14: 43739 | RJ14: 43770
C15: CONSTRUCCION DE TERMINAL | D15: =SUM(F15:SM15)+1 -> 2.9202991e+10 | F15: =SUM(F5:S5) -> 35031077 | T15: =SUM(T5:AX5) -> 6806037.9 | AY15: =SUM(AY5:CB5) -> 0 | CC15: =SUM(CC5:DG5) -> 1.1367973e+08 | DH15: =SUM(DH5:EK5) -> 81865280 | EL15: =SUM(EL5:FP5) -> 30351957 | FQ15: =SUM(FQ5:GU5) -> 53162013 | GV15: =SUM(GV5:HW5) -> 4.5881199e+08 | HX15: =SUM(HX5:JB5) -> 1.1058296e+09 | JC15: =SUM(JC5:KG5) -> 2.3993177e+09 | KH15: =SUM(KH5:LL5) -> 3.2777565e+09 | LM15: =SUM(LM5:MP5) -> 3.306275e+09 | MQ15: =SUM(MQ5:NU5) -> 4.242297e+09 | NV15: =SUM(NV5:OZ5) -> 3.927753e+09 | PA15: =SUM(PA5:QD5) -> 3.2561093e+09 | QE15: =SUM(QE5:RI5) -> 3.9514614e+09 | RJ15: =SUM(RJ5:SM5) -> 2.9564836e+09
C16: MANTENIMIENTO DE TERMINAL | D16: =SUM(F16:SM16)+1 -> 4.6992523e+08 | F16: =SUM(F6:S6) -> 0 | T16: =SUM(T6:AX6) -> 0 | AY16: =SUM(AY6:CB6) -> 0 | CC16: =SUM(CC6:DG6) -> 0 | DH16: =SUM(DH6:EK6) -> 0 | EL16: =SUM(EL6:FP6) -> 0 | FQ16: =SUM(FQ6:GU6) -> 0 | GV16: =SUM(GV6:HW6) -> 0 | HX16: =SUM(HX6:JB6) -> 0 | JC16: =SUM(JC6:KG6) -> 0 | KH16: =SUM(KH6:LL6) -> 0 | LM16: =SUM(LM6:MP6) -> 0 | MQ16: =SUM(MQ6:NU6) -> 22396948 | NV16: =SUM(NV6:OZ6) -> 1.8686248e+08 | PA16: =SUM(PA6:QD6) -> 2.4557109e+08 | QE16: =SUM(QE6:RI6) -> 15094701 | RJ16: =SUM(RJ6:SM6) -> 0
C17: MANTENIMIENTO CALLES DE RODAJE | D17: =SUM(F17:SM17)+1 -> 1.7482312e+09 | F17: =SUM(F7:S7) -> 0 | T17: =SUM(T7:AX7) -> 0 | AY17: =SUM(AY7:CB7) -> 0 | CC17: =SUM(CC7:DG7) -> 0 | DH17: =SUM(DH7:EK7) -> 0 | EL17: =SUM(EL7:FP7) -> 0 | FQ17: =SUM(FQ7:GU7) -> 0 | GV17: =SUM(GV7:HW7) -> 38502488 | HX17: =SUM(HX7:JB7) -> 4.5201066e+08 | JC17: =SUM(JC7:KG7) -> 5.9281413e+08 | KH17: =SUM(KH7:LL7) -> 4.1474409e+08 | LM17: =SUM(LM7:MP7) -> 2.5015981e+08 | MQ17: =SUM(MQ7:NU7) -> 0 | NV17: =SUM(NV7:OZ7) -> 0 | PA17: =SUM(PA7:QD7) -> 0 | QE17: =SUM(QE7:RI7) -> 0 | RJ17: =SUM(RJ7:SM7) -> 0
C18: MANTENIMIENTO DE PISTA | D18: =SUM(F18:SM18)+1 -> 1.3635475e+10 | F18: =SUM(F8:S8) -> 0 | T18: =SUM(T8:AX8) -> 0 | AY18: =SUM(AY8:CB8) -> 0 | CC18: =SUM(CC8:DG8) -> 0 | DH18: =SUM(DH8:EK8) -> 6.3028071e+08 | EL18: =SUM(EL8:FP8) -> 1.7438296e+09 | FQ18: =SUM(FQ8:GU8) -> 1.9893661e+09 | GV18: =SUM(GV8:HW8) -> 2.208277e+09 | HX18: =SUM(HX8:JB8) -> 2.2283688e+09 | JC18: =SUM(JC8:KG8) -> 2.3195694e+09 | KH18: =SUM(KH8:LL8) -> 2.1374129e+09 | LM18: =SUM(LM8:MP8) -> 3.7837051e+08 | MQ18: =SUM(MQ8:NU8) -> 0 | NV18: =SUM(NV8:OZ8) -> 0 | PA18: =SUM(PA8:QD8) -> 0 | QE18: =SUM(QE8:RI8) -> 0 | RJ18: =SUM(RJ8:SM8) -> 0
C19: MANTENIMIENTO DE PLATAFORMA | D19: =SUM(F19:SM19)+1 -> 1.2763339e+09 | F19: =SUM(F9:S9) -> 0 | T19: =SUM(T9:AX9) -> 0 | AY19: =SUM(AY9:CB9) -> 0 | CC19: =SUM(CC9:DG9) -> 0 | DH19: =SUM(DH9:EK9) -> 0 | EL19: =SUM(EL9:FP9) -> 0 | FQ19: =SUM(FQ9:GU9) -> 0 | GV19: =SUM(GV9:HW9) -> 0 | HX19: =SUM(HX9:JB9) -> 1.0152575e+08 | JC19: =SUM(JC9:KG9) -> 4.6284816e+08 | KH19: =SUM(KH9:LL9) -> 4.4201662e+08 | LM19: =SUM(LM9:MP9) -> 2.6994332e+08 | MQ19: =SUM(MQ9:NU9) -> 0 | NV19: =SUM(NV9:OZ9) -> 0 | PA19: =SUM(PA9:QD9) -> 0 | QE19: =SUM(QE9:RI9) -> 0 | RJ19: =SUM(RJ9:SM9) -> 0
F21: =+F14 -> 43282 | T21: =+T14 -> 43313 | AY21: =+AY14 -> 43344 | CC21: =+CC14 -> 43374 | DH21: =+DH14 -> 43405 | EL21: =+EL14 -> 43435 | FQ21: =+FQ14 -> 43466 | GV21: =+GV14 -> 43497 | HX21: =+HX14 -> 43525 | JC21: =+JC14 -> 43556 | KH21: =+KH14 -> 43586 | LM21: =+LM14 -> 43617 | MQ21: =+MQ14 -> 43647 | NV21: =+NV14 -> 43678 | PA21: =+PA14 -> 43709 | QE21: =+QE14 -> 43739 | RJ21: =+RJ14 -> 43770
D23: 4.5516647e+10 | F23: =SUM(F15:F19) -> 35031077 | T23: =SUM(T15:T19) -> 6806037.9 | AY23: =SUM(AY15:AY19) -> 0 | CC23: =SUM(CC15:CC19) -> 1.1367973e+08 | DH23: =SUM(DH15:DH19) -> 7.1214599e+08 | EL23: =SUM(EL15:EL19) -> 1.7741815e+09 | FQ23: =SUM(FQ15:FQ19) -> 2.0425281e+09 | GV23: =SUM(GV15:GV19) -> 2705591526 | HX23: =SUM(HX15:HX19) -> 3.8877348e+09 | JC23: =SUM(JC15:JC19) -> 5.7745494e+09 | KH23: =SUM(KH15:KH19) -> 6.2719301e+09 | LM23: =SUM(LM15:LM19) -> 4.2047487e+09 | MQ23: =SUM(MQ15:MQ19) -> 4.264694e+09 | NV23: =SUM(NV15:NV19) -> 4.1146155e+09 | PA23: =SUM(PA15:PA19) -> 3.5016803e+09 | QE23: =SUM(QE15:QE19) -> 3.9665561e+09 | RJ23: =SUM(RJ15:RJ19) -> 2.9564836e+09
C24: Programado Acum Construcción del terminal | ND24: =SUM(F5:NC5) -> 1.2552371e+10 | NK24: =SUM($F5:NJ5) -> 1.3556834e+10
C25: Programado Acum Mantenimiento Terminal | D25: =+D23-D4 -> -8.1630959e+08 | ND25: =SUM(F6:NC6) -> 1543655.5 | NK25: =SUM($F6:NJ6) -> 8953201.9
C26: Programado Acumulado Lado Tierra | NE26: =ND24+ND25 -> 1.2553915e+10 | NF26: =NE26/$D$14 -> 0.23603509 | NL26: =NK24+NK25 -> 1.3565787e+10 | NM26: 0.23603509
C27: Programado Acum Mto Callle de rodaje | ND27: =SUM(F7:NC7) -> 1.7482312e+09 | NK27: =SUM($F7:NJ7) -> 1.7482312e+09
C28: Programado Acum Mto pista | ND28: =SUM(F8:NC8) -> 1.3635475e+10 | NK28: =SUM($F8:NJ8) -> 1.3635475e+10
C29: Programado Acum Mto plata | ND29: =SUM(F9:NC9) -> 1.2763339e+09 | NK29: =SUM($F9:NJ9) -> 1.2763339e+09
C30: Programado Acumulado Lado Aire | NE30: =ND27+ND28+ND29 -> 1.666004e+10 | NF30: =NE30/D14 -> 0.31323727 | NL30: =NK27+NK28+NK29 -> 1.666004e+10 | NM30: 0.31323727
C31: Programado Acumulado total | NE31: =SUM(ND24:ND29) -> 2.9213955e+10 | NF31: =NE31/D14 -> 0.54927236 | NL31: =SUM(NK24:NK29) -> 3.0225827e+10 | NM31: 0.54927236

Sheet FLUJO DIARIO LINEAL
B2: Item | C2: Nombre de tarea | D2: Costo total | F2: Miercoles | G2: Jueves | H2: Viernes | I2: Sábado | J2: Domingo | K2: Lunes | L2: Martes | M2: Miércoles | N2: Jueves | O2: Viernes | P2: Sábado | Q2: Domingo | R2: Lunes | S2: Martes | T2: Miércoles | U2: Jueves | V2: Viernes | W2: Sábado | X2: Domingo | Y2: Lunes | Z2: Martes | AA2: Miércoles | AB2: Jueves | AC2: Viernes | AD2: Sábado | AE2: Domingo | AF2: Lunes | AG2: Martes | AH2: Miércoles | AI2: Jueves | AJ2: Viernes | AK2: Sábado | AL2: Domingo | AM2: Lunes | AN2: Martes | AO2: Miércoles | AP2: Jueves | AQ2: Viernes | AR2: Sábado | AS2: Domingo | AT2: Lunes | AU2: Martes | AV2: Miércoles | AW2: Jueves | AX2: Viernes | AY2: Sábado | AZ2: Domingo | BA2: Lunes | BB2: Martes | BC2: Miércoles | BD2: Jueves | BE2: Viernes | BF2: Sábado | BG2: Domingo | BH2: Lunes | BI2: Martes | BJ2: Miércoles | BK2: Jueves | BL2: Viernes | BM2: Sábado | BN2: Domingo | BO2: Lunes | BP2: Martes | BQ2: Miércoles | BR2: Jueves | BS2: Viernes | BT2: Sábado | BU2: Domingo | BV2: Lunes | BW2: Martes | BX2: Miércoles | BY2: Jueves | BZ2: Viernes | CA2: Sábado | CB2: Domingo | CC2: Lunes | CD2: Martes | CE2: Miércoles | CF2: Jueves | CG2: Viernes | CH2: Sábado | CI2: Domingo | CJ2: Lunes | CK2: Martes | CL2: Miércoles | CM2: Jueves | CN2: Viernes | CO2: Sábado | CP2: Domingo | CQ2: Lunes | CR2: Martes | CS2: Miércoles | CT2: Jueves | CU2: Viernes | CV2: Sábado | CW2: Domingo | CX2: Lunes | CY2: Martes | CZ2: Miércoles | DA2: Jueves | DB2: Viernes | DC2: Sábado | DD2: Domingo | DE2: Lunes | DF2: Martes | DG2: Miércoles | DH2: Jueves | DI2: Viernes | DJ2: Sábado | DK2: Domingo | DL2: Lunes | DM2: Martes | DN2: Miércoles | DO2: Jueves | DP2: Viernes | DQ2: Sábado | DR2: Domingo | DS2: Lunes | DT2: Martes | DU2: Miércoles | DV2: Jueves | DW2: Viernes | DX2: Sábado | DY2: Domingo | DZ2: Lunes | EA2: Martes | EB2: Miércoles | EC2: Jueves | ED2: Viernes | EE2: Sábado | EF2: Domingo | EG2: Lunes | EH2: Martes | EI2: Miércoles | EJ2: Jueves | EK2: Viernes | EL2: Sábado | EM2: Domingo | EN2: Lunes | EO2: Martes | EP2: Miércoles | EQ2: Jueves | ER2: Viernes | ES2: Sábado | ET2: Domingo | EU2: Lunes | EV2: Martes | EW2: Miércoles | EX2: Jueves | EY2: Viernes | EZ2: Sábado | FA2: Domingo | FB2: Lunes | FC2: Martes | FD2: Miércoles | FE2: Jueves | FF2: Viernes | FG2: Sábado | FH2: Domingo | FI2: Lunes | FJ2: Martes | FK2: Miércoles | FL2: Jueves | FM2: Viernes | FN2: Sábado | FO2: Domingo | FP2: Lunes | FQ2: Martes | FR2: Miércoles | FS2: Jueves | FT2: Viernes | FU2: Sábado | FV2: Domingo | FW2: Lunes | FX2: Martes | FY2: Miércoles | FZ2: Jueves | GA2: Viernes | GB2: Sábado | GC2: Domingo | GD2: Lunes | GE2: Martes | GF2: Miércoles | GG2: Jueves | GH2: Viernes | GI2: Sábado | GJ2: Domingo | GK2: Lunes | GL2: Martes | GM2: Miércoles | GN2: Jueves | GO2: Viernes | GP2: Sábado | GQ2: Domingo | GR2: Lunes | GS2: Martes | GT2: Miércoles | GU2: Jueves | GV2: Viernes | GW2: Sábado | GX2: Domingo | GY2: Lunes | GZ2: Martes | HA2: Miércoles | HB2: Jueves | HC2: Viernes | HD2: Sábado | HE2: Domingo | HF2: Lunes | HG2: Martes | HH2: Miércoles | HI2: Jueves | HJ2: Viernes | HK2: Sábado | HL2: Domingo | HM2: Lunes | HN2: Martes | HO2: Miércoles | HP2: Jueves | HQ2: Viernes | HR2: Sábado | HS2: Domingo | HT2: Lunes | HU2: Martes | HV2: Miércoles | HW2: Jueves | HX2: Viernes | HY2: Sábado | HZ2: Domingo | IA2: Lunes | IB2: Martes | IC2: Miércoles | ID2: Jueves | IE2: Viernes | IF2: Sábado | IG2: Domingo | IH2: Lunes | II2: Martes | IJ2: Miércoles | IK2: Jueves | IL2: Viernes | IM2: Sábado | IN2: Domingo | IO2: Lunes | IP2: Martes | IQ2: Miércoles | IR2: Jueves | IS2: Viernes | IT2: Sábado | IU2: Domingo | IV2: Lunes | IW2: Martes | IX2: Miércoles | IY2: Jueves | IZ2: Viernes | JA2: Sábado | JB2: Domingo | JC2: Lunes | JD2: Martes | JE2: Miércoles | JF2: Jueves | JG2: Viernes | JH2: Sábado | JI2: Domingo | JJ2: Lunes | JK2: Martes | JL2: Miércoles | JM2: Jueves | JN2: Viernes | JO2: Sábado | JP2: Domingo | JQ2: Lunes | JR2: Martes | JS2: Miércoles | JT2: Jueves | JU2: Viernes | JV2: Sábado | JW2: Domingo | JX2: Lunes | JY2: Martes | JZ2: Miércoles | KA2: Jueves | KB2: Viernes | KC2: Sábado | KD2: Domingo | KE2: Lunes | KF2: Martes | KG2: Miércoles | KH2: Jueves | KI2: Viernes | KJ2: Sábado | KK2: Domingo | KL2: Lunes | KM2: Martes | KN2: Miércoles | KO2: Jueves | KP2: Viernes | KQ2: Sábado | KR2: Domingo | KS2: Lunes | KT2: Martes | KU2: Miércoles | KV2: Jueves | KW2: Viernes | KX2: Sábado | KY2: Domingo | KZ2: Lunes | LA2: Martes | LB2: Miércoles | LC2: Jueves | LD2: Viernes | LE2: Sábado | LF2: Domingo | LG2: Lunes | LH2: Martes | LI2: Miércoles | LJ2: Jueves | LK2: Viernes | LL2: Sábado | LM2: Domingo | LN2: Lunes | LO2: Martes | LP2: Miércoles | LQ2: Jueves | LR2: Viernes | LS2: Sábado | LT2: Domingo | LU2: Lunes | LV2: Martes | LW2: Miércoles | LX2: Jueves | LY2: Viernes | LZ2: Sábado | MA2: Domingo | MB2: Lunes | MC2: Martes | MD2: Miércoles | ME2: Jueves | MF2: Viernes | MG2: Sábado | MH2: Domingo | MI2: Lunes | MJ2: Martes | MK2: Miércoles | ML2: Jueves | MM2: Viernes | MN2: Sábado | MO2: Domingo | MP2: Lunes | MQ2: Martes | MR2: Miércoles | MS2: Jueves | MT2: Viernes | MU2: Sábado | MV2: Domingo | MW2: Lunes | MX2: Martes | MY2: Miércoles | MZ2: Jueves | NA2: Viernes | NB2: Sábado | NC2: Domingo | ND2: Lunes | NE2: Martes | NF2: Miércoles | NG2: Jueves | NH2: Viernes | NI2: Sábado | NJ2: Domingo | NK2: Lunes | NL2: Martes | NM2: Miércoles | NN2: Jueves | NO2: Viernes | NP2: Sábado | NQ2: Domingo | NR2: Lunes | NS2: Martes | NT2: Miércoles | NU2: Jueves | NV2: Viernes | NW2: Sábado | NX2: Domingo | NY2: Lunes | NZ2: Martes | OA2: Miércoles | OB2: Jueves | OC2: Viernes | OD2: Sábado | OE2: Domingo | OF2: Lunes | OG2: Martes | OH2: Miércoles | OI2: Jueves | OJ2: Viernes | OK2: Sábado | OL2: Domingo | OM2: Lunes | ON2: Martes | OO2: Miércoles | OP2: Jueves | OQ2: Viernes | OR2: Sábado | OS2: Domingo | OT2: Lunes | OU2: Martes | OV2: Miércoles | OW2: Jueves | OX2: Viernes | OY2: Sábado | OZ2: Domingo | PA2: Lunes | PB2: Martes | PC2: Miércoles | PD2: Jueves | PE2: Viernes | PF2: Sábado | PG2: Domingo | PH2: Lunes | PI2: Martes | PJ2: Miércoles | PK2: Jueves | PL2: Viernes | PM2: Sábado | PN2: Domingo | PO2: Lunes | PP2: Martes | PQ2: Miércoles | PR2: Jueves | PS2: Viernes | PT2: Sábado | PU2: Domingo | PV2: Lunes | PW2: Martes | PX2: Miércoles | PY2: Jueves | PZ2: Viernes | QA2: Sábado | QB2: Domingo | QC2: Lunes | QD2: Martes | QE2: Miércoles | QF2: Jueves | QG2: Viernes | QH2: Sábado | QI2: Domingo | QJ2: Lunes | QK2: Martes | QL2: Miércoles | QM2: Jueves | QN2: Viernes | QO2: Sábado | QP2: Domingo | QQ2: Lunes | QR2: Martes | QS2: Miércoles | QT2: Jueves | QU2: Viernes | QV2: Sábado | QW2: Domingo | QX2: Lunes | QY2: Martes | QZ2: Miércoles | RA2: Jueves | RB2: Viernes | RC2: Sábado | RD2: Domingo | RE2: Lunes | RF2: Martes | RG2: Miércoles | RH2: Jueves | RI2: Viernes | RJ2: Sábado | RK2: Domingo | RL2: Lunes | RM2: Martes | RN2: Miércoles | RO2: Jueves | RP2: Viernes | RQ2: Sábado | RR2: Domingo | RS2: Lunes | RT2: Martes | RU2: Miércoles | RV2: Jueves | RW2: Viernes | RX2: Sábado | RY2: Domingo | RZ2: Lunes | SA2: Martes | SB2: Miércoles | SC2: Jueves | SD2: Viernes | SE2: Sábado | SF2: Domingo | SG2: Lunes | SH2: Martes | SI2: Miércoles | SJ2: Jueves | SK2: Viernes | SL2: Sábado | SM2: Domingo | SN2: Lunes | SO2: Martes | SP2: Miércoles | SQ2: Jueves | SR2: Viernes | SS2: Sábado | ST2: Domingo | SU2: Lunes | SV2: Martes | SW2: Miércoles | SX2: Jueves | SY2: Viernes | SZ2: Sábado | TA2: Domingo | TB2: Lunes | TC2: Martes | TD2: Miércoles | TE2: Jueves | TF2: Viernes | TG2: Sábado | TH2: Domingo | TI2: Lunes | TJ2: Martes | TK2: Miércoles | TL2: Jueves | TM2: Viernes | TN2: Sábado | TO2: Domingo | TP2: Lunes | TQ2: Martes
F3: 43299 | G3: 43300 | H3: 43301 | I3: 43302 | J3: 43303 | K3: 43304 | L3: 43305 | M3: 43306 | N3: 43307 | O3: 43308 | P3: 43309 | Q3: 43310 | R3: 43311 | S3: 43312 | T3: 43313 | U3: 43314 | V3: 43315 | W3: 43316 | X3: 43317 | Y3: 43318 | Z3: 43319 | AA3: 43320 | AB3: 43321 | AC3: 43322 | AD3: 43323 | AE3: 43324 | AF3: 43325 | AG3: 43326 | AH3: 43327 | AI3: 43328 | AJ3: 43329 | AK3: 43330 | AL3: 43331 | AM3: 43332 | AN3: 43333 | AO3: 43334 | AP3: 43335 | AQ3: 43336 | AR3: 43337 | AS3: 43338 | AT3: 43339 | AU3: 43340 | AV3: 43341 | AW3: 43342 | AX3: 43343 | AY3: 43344 | AZ3: 43345 | BA3: 43346 | BB3: 43347 | BC3: 43348 | BD3: 43349 | BE3: 43350 | BF3: 43351 | BG3: 43352 | BH3: 43353 | BI3: 43354 | BJ3: 43355 | BK3: 43356 | BL3: 43357 | BM3: 43358 | BN3: 43359 | BO3: 43360 | BP3: 43361 | BQ3: 43362 | BR3: 43363 | BS3: 43364 | BT3: 43365 | BU3: 43366 | BV3: 43367 | BW3: 43368 | BX3: 43369 | BY3: 43370 | BZ3: 43371 | CA3: 43372 | CB3: 43373 | CC3: 43374 | CD3: 43375 | CE3: 43376 | CF3: 43377 | CG3: 43378 | CH3: 43379 | CI3: 43380 | CJ3: 43381 | CK3: 43382 | CL3: 43383 | CM3: 43384 | CN3: 43385 | CO3: 43386 | CP3: 43387 | CQ3: 43388 | CR3: 43389 | CS3: 43390 | CT3: 43391 | CU3: 43392 | CV3: 43393 | CW3: 43394 | CX3: 43395 | CY3: 43396 | CZ3: 43397 | DA3: 43398 | DB3: 43399 | DC3: 43400 | DD3: 43401 | DE3: 43402 | DF3: 43403 | DG3: 43404 | DH3: 43405 | DI3: 43406 | DJ3: 43407 | DK3: 43408 | DL3: 43409 | DM3: 43410 | DN3: 43411 | DO3: 43412 | DP3: 43413 | DQ3: 43414 | DR3: 43415 | DS3: 43416 | DT3: 43417 | DU3: 43418 | DV3: 43419 | DW3: 43420 | DX3: 43421 | DY3: 43422 | DZ3: 43423 | EA3: 43424 | EB3: 43425 | EC3: 43426 | ED3: 43427 | EE3: 43428 | EF3: 43429 | EG3: 43430 | EH3: 43431 | EI3: 43432 | EJ3: 43433 | EK3: 43434 | EL3: 43435 | EM3: 43436 | EN3: 43437 | EO3: 43438 | EP3: 43439 | EQ3: 43440 | ER3: 43441 | ES3: 43442 | ET3: 43443 | EU3: 43444 | EV3: 43445 | EW3: 43446 | EX3: 43447 | EY3: 43448 | EZ3: 43449 | FA3: 43450 | FB3: 43451 | FC3: 43452 | FD3: 43453 | FE3: 43454 | FF3: 43455 | FG3: 43456 | FH3: 43457 | FI3: 43458 | FJ3: 43459 | FK3: 43460 | FL3: 43461 | FM3: 43462 | FN3: 43463 | FO3: 43464 | FP3: 43465 | FQ3: 43466 | FR3: 43467 | FS3: 43468 | FT3: 43469 | FU3: 43470 | FV3: 43471 | FW3: 43472 | FX3: 43473 | FY3: 43474 | FZ3: 43475 | GA3: 43476 | GB3: 43477 | GC3: 43478 | GD3: 43479 | GE3: 43480 | GF3: 43481 | GG3: 43482 | GH3: 43483 | GI3: 43484 | GJ3: 43485 | GK3: 43486 | GL3: 43487 | GM3: 43488 | GN3: 43489 | GO3: 43490 | GP3: 43491 | GQ3: 43492 | GR3: 43493 | GS3: 43494 | GT3: 43495 | GU3: 43496 | GV3: 43497 | GW3: 43498 | GX3: 43499 | GY3: 43500 | GZ3: 43501 | HA3: 43502 | HB3: 43503 | HC3: 43504 | HD3: 43505 | HE3: 43506 | HF3: 43507 | HG3: 43508 | HH3: 43509 | HI3: 43510 | HJ3: 43511 | HK3: 43512 | HL3: 43513 | HM3: 43514 | HN3: 43515 | HO3: 43516 | HP3: 43517 | HQ3: 43518 | HR3: 43519 | HS3: 43520 | HT3: 43521 | HU3: 43522 | HV3: 43523 | HW3: 43524 | HX3: 43525 | HY3: 43526 | HZ3: 43527 | IA3: 43528 | IB3: 43529 | IC3: 43530 | ID3: 43531 | IE3: 43532 | IF3: 43533 | IG3: 43534 | IH3: 43535 | II3: 43536 | IJ3: 43537 | IK3: 43538 | IL3: 43539 | IM3: 43540 | IN3: 43541 | IO3: 43542 | IP3: 43543 | IQ3: 43544 | IR3: 43545 | IS3: 43546 | IT3: 43547 | IU3: 43548 | IV3: 43549 | IW3: 43550 | IX3: 43551 | IY3: 43552 | IZ3: 43553 | JA3: 43554 | JB3: 43555 | JC3: 43556 | JD3: 43557 | JE3: 43558 | JF3: 43559 | JG3: 43560 | JH3: 43561 | JI3: 43562 | JJ3: 43563 | JK3: 43564 | JL3: 43565 | JM3: 43566 | JN3: 43567 | JO3: 43568 | JP3: 43569 | JQ3: 43570 | JR3: 43571 | JS3: 43572 | JT3: 43573 | JU3: 43574 | JV3: 43575 | JW3: 43576 | JX3: 43577 | JY3: 43578 | JZ3: 43579 | KA3: 43580 | KB3: 43581 | KC3: 43582 | KD3: 43583 | KE3: 43584 | KF3: 43585 | KG3: 43586 | KH3: 43587 | KI3: 43588 | KJ3: 43589 | KK3: 43590 | KL3: 43591 | KM3: 43592 | KN3: 43593 | KO3: 43594 | KP3: 43595 | KQ3: 43596 | KR3: 43597 | KS3: 43598 | KT3: 43599 | KU3: 43600 | KV3: 43601 | KW3: 43602 | KX3: 43603 | KY3: 43604 | KZ3: 43605 | LA3: 43606 | LB3: 43607 | LC3: 43608 | LD3: 43609 | LE3: 43610 | LF3: 43611 | LG3: 43612 | LH3: 43613 | LI3: 43614 | LJ3: 43615 | LK3: 43616 | LL3: 43617 | LM3: 43618 | LN3: 43619 | LO3: 43620 | LP3: 43621 | LQ3: 43622 | LR3: 43623 | LS3: 43624 | LT3: 43625 | LU3: 43626 | LV3: 43627 | LW3: 43628 | LX3: 43629 | LY3: 43630 | LZ3: 43631 | MA3: 43632 | MB3: 43633 | MC3: 43634 | MD3: 43635 | ME3: 43636 | MF3: 43637 | MG3: 43638 | MH3: 43639 | MI3: 43640 | MJ3: 43641 | MK3: 43642 | ML3: 43643 | MM3: 43644 | MN3: 43645 | MO3: 43646 | MP3: 43647 | MQ3: 43648 | MR3: 43649 | MS3: 43650 | MT3: 43651 | MU3: 43652 | MV3: 43653 | MW3: 43654 | MX3: 43655 | MY3: 43656 | MZ3: 43657 | NA3: 43658 | NB3: 43659 | NC3: 43660 | ND3: 43661 | NE3: 43662 | NF3: 43663 | NG3: 43664 | NH3: 43665 | NI3: 43666 | NJ3: 43667 | NK3: 43668 | NL3: 43669 | NM3: 43670 | NN3: 43671 | NO3: 43672 | NP3: 43673 | NQ3: 43674 | NR3: 43675 | NS3: 43676 | NT3: 43677 | NU3: 43678 | NV3: 43679 | NW3: 43680 | NX3: 43681 | NY3: 43682 | NZ3: 43683 | OA3: 43684 | OB3: 43685 | OC3: 43686 | OD3: 43687 | OE3: 43688 | OF3: 43689 | OG3: 43690 | OH3: 43691 | OI3: 43692 | OJ3: 43693 | OK3: 43694 | OL3: 43695 | OM3: 43696 | ON3: 43697 | OO3: 43698 | OP3: 43699 | OQ3: 43700 | OR3: 43701 | OS3: 43702 | OT3: 43703 | OU3: 43704 | OV3: 43705 | OW3: 43706 | OX3: 43707 | OY3: 43708 | OZ3: 43709 | PA3: 43710 | PB3: 43711 | PC3: 43712 | PD3: 43713 | PE3: 43714 | PF3: 43715 | PG3: 43716 | PH3: 43717 | PI3: 43718 | PJ3: 43719 | PK3: 43720 | PL3: 43721 | PM3: 43722 | PN3: 43723 | PO3: 43724 | PP3: 43725 | PQ3: 43726 | PR3: 43727 | PS3: 43728 | PT3: 43729 | PU3: 43730 | PV3: 43731 | PW3: 43732 | PX3: 43733 | PY3: 43734 | PZ3: 43735 | QA3: 43736 | QB3: 43737 | QC3: 43738 | QD3: 43739 | QE3: 43740 | QF3: 43741 | QG3: 43742 | QH3: 43743 | QI3: 43744 | QJ3: 43745 | QK3: 43746 | QL3: 43747 | QM3: 43748 | QN3: 43749 | QO3: 43750 | QP3: 43751 | QQ3: 43752 | QR3: 43753 | QS3: 43754 | QT3: 43755 | QU3: 43756 | QV3: 43757 | QW3: 43758 | QX3: 43759 | QY3: 43760 | QZ3: 43761 | RA3: 43762 | RB3: 43763 | RC3: 43764 | RD3: 43765 | RE3: 43766 | RF3: 43767 | RG3: 43768 | RH3: 43769 | RI3: 43770 | RJ3: 43771 | RK3: 43772 | RL3: 43773 | RM3: 43774 | RN3: 43775 | RO3: 43776 | RP3: 43777 | RQ3: 43778 | RR3: 43779 | RS3: 43780 | RT3: 43781 | RU3: 43782 | RV3: 43783 | RW3: 43784 | RX3: 43785 | RY3: 43786 | RZ3: 43787 | SA3: 43788 | SB3: 43789 | SC3: 43790 | SD3: 43791 | SE3: 43792 | SF3: 43793 | SG3: 43794 | SH3: 43795 | SI3: 43796 | SJ3: 43797 | SK3: 43798 | SL3: 43799 | SM3: 43800 | SN3: 43801 | SO3: 43802 | SP3: 43803 | SQ3: 43804 | SR3: 43805 | SS3: 43806 | ST3: 43807 | SU3: 43808 | SV3: 43809 | SW3: 43810 | SX3: 43811 | SY3: 43812 | SZ3: 43813 | TA3: 43814 | TB3: 43815 | TC3: 43816 | TD3: 43817 | TE3: 43818 | TF3: 43819 | TG3: 43820 | TH3: 43821 | TI3: 43822 | TJ3: 43823 | TK3: 43824 | TL3: 43825 | TM3: 43826 | TN3: 43827 | TO3: 43828 | TP3: 43829 | TQ3: 43830
C4: CONTRATAR LA CONSTRUCCION DE TERMINAL Y EL MANTENIMIENTO DE PISTA, CALLES DE RODAJE, PLATAFORMA, ZONAS DE SEGURIDAD Y TERMINAL EXISTENTE DEL AEROPUERTO EL EDÉN DE ARMENIA. | D4: =SUM(D5:D9) -> 5.3186647e+10 | E4: =SUM(E5:E9) -> 1 | F4: =SUM(F5:F9) -> 3403018.9 | G4: =SUM(G5:G9) -> 3403018.9 | H4: =SUM(H5:H9) -> 0 | I4: =SUM(I5:I9) -> 2201953.4 | J4: =SUM(J5:J9) -> 0 | K4: =SUM(K5:K9) -> 3403018.9 | ... SL4: =SUM(SL5:SL9) -> 70368293
C5: CONSTRUCCION DE TERMINAL | D5: =SUM(F5:SL5)+1 -> 3.670144e+10 | E5: =D5/$D$4 -> 0.69004989 | F5: 3403018.9 | G5: 3403018.9 | I5: 2201953.4 | K5: 3403018.9 | L5: 3403018.9 | M5: 3403018.9 | N5: 3403018.9 | O5: 3403018.9 | P5: 2201953.4 | R5: 3403018.9 | S5: 3403018.9 | T5: 3403018.9 | U5: 3403018.9 | CE5: 7155967.3 | CF5: 6383323.7 | CG5: 4863964.2 | CH5: 3147270.9 | CJ5: 4863964.2 | CK5: 4863964.2 | CL5: 4863964.2 | CM5: 4863964.2 | CN5: 4863964.2 | CO5: 3147270.9 | CR5: 4863964.2 | CS5: 4863964.2 | CT5: 4863964.2 | CU5: 4863964.2 | CV5: 3147270.9 | CX5: 4863964.2 | CY5: 4863964.2 | CZ5: 4863964.2 | DA5: 4863964.2 | DB5: 4863964.2 | DC5: 3147270.9 | DE5: 4863964.2 | DF5: 4863964.2 | DG5: 4863964.2 | DH5: 4863964.2 | DI5: 4863964.2 | DJ5: 3147270.9 | DM5: 4863964.2 | DN5: 4863964.2 | DO5: 4863964.2 | DP5: 4339902 | DQ5: 2808171.9 | DT5: 3509156.3 | DU5: 3331139.3 | DV5: 3331139.3 | DW5: 3331139.3 | DX5: 2155443.1 | DZ5: 3331139.3 | EA5: 3331139.3 | EB5: 3331139.3 | EC5: 3331139.3 | ED5: 3331139.3 | EE5: 2155443.1 | EG5: 3331139.3 | EH5: 3331139.3 | EI5: 622966.83 | EJ5: 42644.15 | EK5: 42644.15 | EL5: 27593.28 | EN5: 42644.15 | EO5: 42644.15 | EP5: 42644.15 | EQ5: 42644.15 | ER5: 42644.15 | EU5: 42644.15 | EV5: 42644.15 | EW5: 58306.38 | EX5: 175773.12 | EY5: 175773.12 | EZ5: 113735.55 | FB5: 175773.12 | FC5: 175773.12 | FD5: 175773.12 | FE5: 175773.12 | FF5: 175773.12 | FG5: 113735.55 | FI5: 175773.12 | FU5: 113735.55 | FX5: 175773.12 | FY5: 175773.12 | FZ5: 175773.12 | GA5: 175773.12 | GB5: 113735.55 | GD5: 175773.12 | GE5: 175773.12 | GF5: 175773.12 | GG5: 175773.12 | GH5: 175773.12 | GI5: 113735.55 | GK5: 175773.12 | GL5: 175773.12 | GM5: 175773.12 | GN5: 175773.12 | GO5: 175773.12 | GP5: 113735.55 | GR5: 175773.12 | GS5: 175773.12 | GT5: 736249.07 | GU5: 908703.21 | GV5: 908703.21 | GW5: 587984.43 | GY5: 908703.21 | GZ5: 908703.21 | HA5: 908703.21 | HB5: 908703.21 | HC5: 908703.21 | HD5: 587984.43 | HF5: 11164161 | HG5: 16758047 | HH5: 16758047 | HI5: 16758047 | HJ5: 16755539 | HK5: 10815849 | HM5: 16715403 | HN5: 16715403 | HO5: 16715403 | HP5: 16715403 | HQ5: 20123655 | HR5: 13315234 | HT5: 20578088 | HU5: 20578088 | HV5: 20578088 | HW5: 29751439 | HX5: 31717157 | HY5: 20522866 | IA5: 31717157 | IB5: 31717157 | IC5: 31717157 | ID5: 31717157 | IE5: 31717157 | IF5: 20522866 | IH5: 31717157 | II5: 40315041 | IJ5: 43897493 | IK5: 43897493 | IL5: 43897493 | IM5: 28404260 | IO5: 46743719 | IP5: 48296206 | IQ5: 48296206 | IR5: 48296206 | IS5: 48296206 | IT5: 31250486 | IW5: 48296206 | IX5: 48296206 | IY5: 48296206 | IZ5: 48296206 | JA5: 38467416 | JC5: 61928185 | JD5: 61928185 | JE5: 61928185 | JF5: 75010827 | JG5: 77814250 | JH5: 50350397 | JJ5: 77814250 | JK5: 81816616 | JL5: 86319278 | JM5: 86217473 | JN5: 86186149 | JO5: 55767508 | JQ5: 86186149 | JR5: 87959132 | JS5: 88697875 | JT5: 26574687 | JU5: 26574687 | JV5: 57430453 | JX5: 97179268 | JY5: 1.017472e+08 | JZ5: 1.017472e+08 | KA5: 1.017472e+08 | KB5: 1.017472e+08 | KC5: 65836426 | KE5: 1.017472e+08 | KF5: 1.017472e+08 | KG5: 38994130 | KH5: 1.017472e+08 | KI5: 1.197934e+08 | KJ5: 79070305 | KL5: 1.2219956e+08 | KM5: 1.2219956e+08 | KN5: 1.253256e+08 | KO5: 1.3304803e+08 | KP5: 1.3304803e+08 | KQ5: 86089900 | KS5: 1.3311981e+08 | KT5: 1.3435868e+08 | KU5: 1.3976325e+08 | KV5: 1.3976325e+08 | KW5: 1.3976325e+08 | KX5: 90435047 | KZ5: 1.4000262e+08 | LA5: 1.4034457e+08 | LB5: 1.4034457e+08 | LC5: 1.4034457e+08 | LD5: 1.4034457e+08 | LE5: 91160915 | LG5: 1.4628973e+08 | LH5: 1.4628973e+08 | LI5: 1.4628973e+08 | LJ5: 1.4628973e+08 | LK5: 1.5312298e+08 | LL5: 1.0718567e+08 | LN5: 94323306 | LO5: 1.6565059e+08 | LP5: 1.7583235e+08 | LQ5: 1.7672539e+08 | LR5: 1.7165394e+08 | LS5: 1.1063266e+08 | LU5: 1.7097774e+08 | LV5: 1.7828871e+08 | LW5: 1.7985534e+08 | LX5: 1.7893123e+08 | LY5: 1.7810979e+08 | LZ5: 1.1524751e+08 | MB5: 1.7810979e+08 | MC5: 1.7810979e+08 | MD5: 1.6867933e+08 | ME5: 1.6585319e+08 | MF5: 1.676855e+08 | MG5: 1.1038581e+08 | MI5: 87498542 | MJ5: 1.6346856e+08 | MK5: 1.6509179e+08 | ML5: 1.6464486e+08 | MM5: 1.659581e+08 | MN5: 1.0360821e+08 | MP5: 69641503 | MQ5: 1.518745e+08 | MR5: 1.4794306e+08 | MS5: 1.4073543e+08 | MT5: 1.3390219e+08 | MU5: 78536489 | MW5: 1.2137457e+08 | MX5: 1.2024758e+08 | MY5: 1.2099976e+08 | MZ5: 1.2019097e+08 | NA5: 1.168241e+08 | NB5: 75592065 | ND5: 1.1395814e+08 | NE5: 1.0347884e+08 | NF5: 1.0340604e+08 | NG5: 1.0211987e+08 | NH5: 1.0184426e+08 | NI5: 64217868 | NK5: 94172186 | NL5: 94743149 | NM5: 94743149 | NN5: 94743149 | NO5: 94187155 | NP5: 59265748 | NR5: 91592519 | NS5: 81712878 | NT5: 77596361 | NU5: 77596361 | NV5: 77596361 | NW5: 50209410 | NY5: 77596361 | NZ5: 77542525 | OA5: 30236652 | OB5: 90906286 | OC5: 94434839 | OD5: 61830066 | OF5: 95327218 | OG5: 95327218 | OH5: 92637678 | OI5: 86182780 | OJ5: 84189131 | OK5: 54303319 | OM5: 34286149 | ON5: 89628692 | OO5: 95630573 | OP5: 1.0014381e+08 | OQ5: 1.0739109e+08 | OR5: 71349303 | OT5: 1.1026711e+08 | OU5: 1.0799425e+08 | OV5: 91178021 | OW5: 89267380 | OX5: 89267380 | OY5: 57772982 | PA5: 90049120 | PB5: 90886890 | PC5: 90539211 | PD5: 84796980 | PE5: 96017785 | PF5: 64785693 | PH5: 98840636 | PI5: 98594690 | PJ5: 98594690 | PK5: 98912099 | PL5: 98916289 | PM5: 66092411 | PO5: 1.0154833e+08 | PP5: 98858732 | PQ5: 1.0848272e+08 | PR5: 1.1788602e+08 | PS5: 1.2494336e+08 | PT5: 78027188 | PV5: 1.203487e+08 | PW5: 1.4851766e+08 | PX5: 1.7467591e+08 | PY5: 2.1017722e+08 | PZ5: 2.1586855e+08 | QA5: 1.3967965e+08 | QC5: 2.2671918e+08 | QD5: 2.6123241e+08 | QE5: 3.0618952e+08 | QF5: 3.1104992e+08 | QG5: 3.1104992e+08 | QH5: 2.012676e+08 | QJ5: 3.1491638e+08 | QK5: 3.280455e+08 | QL5: 3.2893936e+08 | QM5: 3.2857315e+08 | QN5: 3.2864454e+08 | QO5: 2.1846179e+08 | QQ5: 73345019 | QR5: 3.7301855e+08 | QS5: 3.636674e+08 | QT5: 3.5488458e+08 | QU5: 3.5532853e+08 | QV5: 2.3066236e+08 | QX5: 3.672826e+08 | QY5: 3.7053016e+08 | QZ5: 3.7053887e+08 | RA5: 3.7063627e+08 | RB5: 3.8463421e+08 | RC5: 2.5011205e+08 | RE5: 3.865368e+08 | RF5: 3.788145e+08 | RG5: 3.7965723e+08 | RH5: 3.865614e+08 | RI5: 3.9942752e+08 | RJ5: 2.7094305e+08 | RL5: 1.2342119e+08 | RM5: 4.2488364e+08 | RN5: 4.3837857e+08 | RO5: 4.4396073e+08 | RP5: 4.4398946e+08 | RQ5: 2.8749763e+08 | RS5: 1.5415834e+08 | RT5: 4.4476658e+08 | RU5: 4.4967568e+08 | RV5: 4.738598e+08 | RW5: 4.7676748e+08 | RX5: 3.1382373e+08 | RZ5: 4.864013e+08 | SA5: 5.0141464e+08 | SB5: 5.065856e+08 | SC5: 4.9208492e+08 | SD5: 4.8261587e+08 | SE5: 3.037568e+08 | SG5: 4.3830575e+08 | SH5: 3.7837171e+08 | SI5: 2.5836067e+08 | SJ5: 2.3215234e+08 | SK5: 1.7370349e+08 | SL5: =70368302.53-9.23001861572265 -> 70368293
