Workbook
Name _SIR1: DATOS!$B$8
Name _SIR2: DATOS!$C$8
Name AMAZONAS1: #REF!
Name COSTOTIPO1: #REF!
Name COSTOTIPO2: #REF!
Name INDIRECTO: #REF!
Name NO: DATOS!$C$2
Name RACION: DATOS!$A$8:$A$10
Name REGIONAL: #REF!
Name REGIONAL1: #REF!
Name seleccione: 'COSTOS POR UNIDAD'!#REF!
Name SI: DATOS!$B$2
Name SINRACION: DATOS!$D$8
Name VISITAS: DATOS!$A$2:$A$3

Sheet INSTRUCTIVO DILIGENCIAMIENTO
B2: Cálculo de costos de acuerdo con los usuarios atendidos – "1.000 días para cambiar el mundo". Vigencia 2023
B4: INSTRUCTIVO DE DILIGENCIAMIENTO
B6: A. TOTAL COSTOS FIJOS PERIODO REPORTE | D6: Esta casilla no se debe modificar, contiene una fórmula que calcula el valor total a pagar de costos fijos, producto de la facturación del mes correspondiente a costos de comunicaciones y talento humano. En caso de que la EAS no evidencie soportes de la totalidad de los pagos aquí descritos, entonces se pagará lo correspondiente según estos últimos. Esta información se calcula automáticamente una vez se haya ingresado la información solicitada en los pasos 1,2 y 3.
B8: B. TOTAL COSTOS VARIABLES PERIODO REPORTE | D8: Esta casilla no se debe modificar, contiene una fórmula que calcula el valor total a pagar de costos variables, producto de la facturación del mes correspondiente a la atención realizada a los beneficiarios. En caso de que la EAS no evidencie soportes de la totalidad de los pagos aquí descritos, entonces se pagará lo correspondiente según éstos últimos. Esta información se calcula automáticamente una vez se haya ingresado la información solicitada en los pasos 1,2 y 3, y considera los conceptos de papelería, entrega de RFPP a los beneficiarios y kits de alimentación complementaria entregados (cuando aplique).
B10: ALISTAMIENTO (PAPELERÍA) | D10: Esta casilla no se debe modificar, contiene una fórmula que calcula el valor total a pagar por concepto de las acciones de alistamiento (papelería) que, de acuerdo con el manual operativo, deben realizarse durante los primeros 15 días a partir de la legalización del contrato. Esta información se calcula automáticamente una vez se haya ingresado la información solicitada en los pasos 1,2 y 3.
B13: C. TOTAL COSTO ALIMENTO LISTO PARA EL CONSUMO PERIODO | D13: Esta casilla no se debe modificar, contiene una fórmula que calcula el valor total a pagar por Alimento Listo para el Consumo -ALC, teniendo en cuenta el total de beneficiarios, el número de sobres entregados a cada uno de estos durante el periodo de facturación y la presentación (de 20 o 50 gramos). Esta información se calcula automáticamente una vez se haya ingresado la información solicitada en los pasos 1,2 y 3. (revisar comentario incorporado en la celda correspondiente, en la siguiente hoja de cálculo)
B15: D. TOTAL DOTACIÓN INICIAL O REPOSICIÓN DE DOTACIÓN (si aplica) | D15: Esta casilla no se debe modificar, contiene una fórmula que trae el valor a pagar correspondiente al concepto de dotación o reposición de dotación (si llegare a aplicar), que el operador presente en el periodo -mes de reporte, y deberá coincidir con las facturas (soportes) que entrega para certificar cuenta ante el supervisor de contrato. Esta información se calcula automáticamente una vez se haya ingresado la información solicitada en el paso 2. (revisar comentario incorporado en la celda B46, en la siguiente hoja de cálculo)
B17: E. TOTAL COSTOS ADMINISTRATIVOS (3%) | D17: Esta casilla es para registro por parte de la EAS y validación por parte de la supervisión del contrato. Los costos administrativos no podrán superar el 3% del valor de los gastos operativos mensuales (talento humano, transporte, raciones familiares para preparar, material para educación y comunicaciones) aquí contenidos. No se podrá superar el valor mensual establecido en la estructura de costos para este concepto. La EAS debe presentar las facturas y soportes correspondientes de los gastos en que incurrió para soportar el pago de este concepto. (revisar comentario incorporado en la celda correspondiente, en la siguiente hoja de cálculo)
B19: F. TRANSPORTE | D19: Esta casilla es para registro por parte de la EAS y validación por parte de la supervisión del contrato. En esta celda se debe registrar el valor incurrido por este gasto y que deberá ser soportado con las facturas que presente la EAS. No podrá sobrepasar el valor asignado a este concepto en la estructura de costos (revisar comentario incorporado en la celda correspondiente, en la siguiente hoja de cálculo).
B24: DEPARTAMENTO (seleccionar) | D24: Nombre de la Regional (se debe seleccionar de la lista desplegable)
B25: PROFESIONAL RESPONSABLE | D25: Nombre del responsable de la UDS que se encarga del diligenciamiento del archivo electrónico
B26: TELÉFONO | D26: Diligenciar el número de teléfono fijo y/o celular de la UDS/EAS o del profesional que se encarga del diligenciamiento del archivo
B27: CORREO ELECTRÓNICO | D27: e-Mail de la UDS o del del profesional que se encarga del diligenciamiento del archivo
B28: FECHA DE REPORTE MENSUAL (dd/mm/aaaa) | D28: Fecha en que se realiza la facturación (DD/MM/AAAA)
B32: Ración Familiar para Preparar Gestante (o binomio madre-hijo) / Beneficiaria / Mes | D32: Estos valores (excepto valor dotación inicial o reposición de dotación) están calculados automáticamente para cada UDS de "1.000 días para cambiar el mundo" en cada Regional. Hacen referencia a los costos variables o fijos definidos en la estructura de costos. Para el caso del campo "Valor Dotación inicial o Reposición de Dotación Unidad, según corresponda", la EAS deberá registrar en esta celda, el valor que se vaya a presentar en el mes que corresponde (sin puntos ni comas), de acuerdo con lo descrito en las facturas (soportes). Si en algún periodo de liquidación no adquiere elementos de dotación o reposición, entonces no deberá diligenciar ningún valor en esta celda específica.
B33: Ración Familiar para Preparar NN / Beneficiario / Mes
B34: Papelería / beneficiario / Día
B35: Costos Transporte
B36: Valor Dotación inicial o Reposición de Dotación Unidad, según corresponda
B37: Alimento Listo para el Consumo Unidad / Beneficiario / Sobre
B38: Costo Comunicaciones
B39: Valor unitario Kit de Alimentación Complementaria
B40: Total Costos Talento Humano | D40: Escriba el nombre completo de cada persona que haga parte del talento humano de la Unidad de Servicio y los días que este estuvo contratado durante el mes de reporte (Por ejemplo: Si la nutricionista fue contratada el día 13 del mes, entonces se le pagan 18 días, tiempo comprendido entre el día 13 y el 30 de un mes). Registre el valor de los honorarios asignados a cada uno de los integrantes del talento humano contratado. Únicamente incluir los aportes del ICBF (no incluir los valores de contrapartida). Verifique los soportes correspondientes (validación y verificación, incluyendo la revisión de cada uno de los contratos de los integrantes del talento humano)
B44: No. Beneficiario | D44: Presenta el consecutivo del número del beneficiario de la UDS de "1.000 días para cambiar el mundo", de acuerdo al cupo asignado.
B45: Tipo de documento | D45: Seleccione el tipo de documento del beneficiario según corresponda. Las opciones de la lista desplegable son: RC - Registro Civil TI - Tarjeta de Identidad NUIP - Número Único de Identificación Personal PPT - Pasaporte SD - Sin Documento
B46: Número de documento | D46: Diligencie el número de documento del beneficiario. Este tendrá que coincidir con el registrado en el aplicativo Cuéntame.
B47: Nombres y Apellidos | D47: Escriba el nombre completo del beneficiario, el cual debe corresponder al que aparece en el documento de identidad original. El nombre debe coincidir con el registrado en el aplicativo Cuéntame.
B48: Fecha de ingreso UDS dd/mm/aaaa | D48: Diligencie la fecha en que ingresa el beneficiario a la UDS de "1.000 días para cambiar el mundo" en formato DD/MM/AAAA. Si el beneficiario viene siendo atendido desde el mes inmediatamente anterior, se debe registrar la fecha del primer día del mes de corte. Ejemplo: Estamos liquidando el mes de Enero. Entonces un usuario viene siendo atendido desde el 15 de diciembre y se le brindó atención durante los últimos 15 días de diciembre y continuó durante todo el mes de enero, e incluso, continuará en febrero. Entonces, este usuario tendrá como fecha de ingreso 01/01/2023 (porque viene desde enero).
B49: Fecha de egreso UDS dd/mm/aaaa | D49: Diligencie la fecha en que egresa el beneficiario de la UDS de "1.000 días para cambiar el mundo" en formato DD/MM/AAAA.Si el beneficiario NO ha egresado, se debe registrar la fecha del último día del mes de corte. Ejemplo: En el mismo ejemplo anterior (estamos liquidando el mes de enero): el usuario se atendió durante diciembre, todo el mes de enero, y continuará durante el mes de febrero. Entonces, este usuario tendrá como fecha de egreso 31/01/2023 (porque no ha egresado y continuará su atención en febrero)
B50: Días de atención en la UDS | D50: Esta casilla no se debe modificar, contiene una fórmula que calcula el número de días que permaneció el usuario en la UDS de "1.000 días para cambiar el mundo", a partir de las fechas de ingreso y egreso registradas.
B51: Municipio de Residencia | D51: Registre el municipio de residencia del usuario, información que deberá coincidir con la registrada en el aplicativo Cuéntame en la variable "municipio de residencia".
B52: Tipo Beneficiario | D52: Seleccione de la lista desplegable la opción que corresponda sobre el tipo de beneficiario atendido.
B53: Clasificación del Estado Nutricional | D53: Seleccione de la lista desplegable la opción que corresponda sobre el estado nutricional del beneficiario atendido. Mujer Gestante: Bajo peso para la edad gestacional / Peso adecuado (para la edad gestacional) / Otro Niño menor de 5 años: Riesgo de desnutrición aguda / Desnutrición aguda moderada / Desnutrición aguda severa / Peso adecuado para la talla / Otro La clasificación que se seleccione, debe corresponder a la que está registrada en el aplicativo Cuéntame para el mes que corresponde
B54: ¿Recibe Alimento Listo para el Consumo -ALC? | D54: Seleccione de la lista desplegable la opción que corresponda sobre la entrega de Alimento Listo para el Consumo -ALC al niño o niña.
... B65: Observaciones | D65: En este campo se pueden diligenciar hallazgos o anotaciones específicas inherentes a la liquidación que corresponda a cada beneficiario (Sólo cuando sea necesario).

Sheet COSTOS POR UNIDAD
B2: Cálculo de costos de acuerdo con los usuarios atendidos – "1.000 días para cambiar el mundo" Vigencia 2023
B6: RESUMEN DE COSTOS DE LA UNIDAD DE SERVICIO POR PERIODO (por favor, no registrar ni modificar ningún dato de los primeros 4 campos que aparecen en los ítems "A" a "D") Las únicas celdas que podrán ser registradas de forma manual son las de los ítems "E" y "F" - "Total costos administrativos" y "Transporte"
B8: Para calcular los costos fijos, variables y administrativos de la Unidad de Serivicio para el mes correspondiente, diligencie la información solicitada en los pasos 1,2 y 3.
A10: A. | B10: TOTAL COSTOS FIJOS PERIODO REPORTE | E10: =+F48+SUM(F53:F60) -> 16502026
A13: B. | B13: TOTAL COSTOS VARIABLES PERIODO REPORTE | E13: =+SUM(R370+T370+U370) -> 51382740 | H13: El valor total a pagar será la sumatoria de los conceptos A+B+C+D+E+F (se deberán verificar los soportes que debe presentar la EAS al supervisor del contrato, de acuerdo con lo establecido en el manual operativo y contractualmente) - (tener en cuenta los comentarios incorporados en los campos "C", "E" y "F").
A19: C. | B19: TOTAL COSTOS ALIMENTO LISTO PARA EL CONSUMO PERIODO | E19: =+SUM(Q70:Q369) -> 1703520
A22: D. | B22: TOTAL DOTACIÓN INICIAL O REPOSICIÓN DE DOTACIÓN (si aplica) | E22: =+F46 -> 0
A25: E. | B25: TOTAL COSTOS ADMINISTRATIVOS (3%) | E25: =+'[1]COSTOS ALISTAMIENTO'!$H$9 -> 2292961.4
A28: F. | B28: TRANSPORTE | E28: =+'[1]COSTOS ALISTAMIENTO'!$E$9 -> 6843761
B32: DATOS UNIDAD DE SERVICIO "1.000 días para cambiar el mundo" | H32: Nota 1. Únicamente se debe registrar en este formato la información de los usuarios atendidos en la UDS de "1.000 días para cambiar el mundo", que estén registrados en el aplicativo Cuéntame con la toma de seguimiento nutricional para el mes correspondiente. La información de dicho aplicativo y el formato debe coincidir (incluyendo, la clasificación del estado nutricional de cada usuario).
B33: Departamento (seleccionar) | F33: VICHADA
B34: Profesional Responsable | F34: MARIA EUGENIA URREA SANCHEZ
B35: Teléfono | H35: Nota 2. El presente formato se presentará como uno de los soportes para pago ante el supervisor de contrato. Es indispensable para la emisión de la certificación para el pago correspondiente.
B36: Correo Electrónico
B37: Fecha de Reporte Mensual (dd/mm/aaaa)
H38: Nota 3. Los costos fijos y los costos administrativos pueden variar dependiendo de los gastos en los que efectivamente incurra la Entidad, de acuerdo con los soportes que presente.
B41: DATOS NECESARIOS PARA LA FACTURACIÓN - ATENCIÓN | H41: Nota 4. Al totalizar el "número de días de atención en la UDS" (Celda *H370*), la cifra no podrá ser mayor de 4.500, entendiendo que al atender el número máximo de cupos (150) durante el máximo tiempo de atención individual (30 días), 4.500 es el resultado del número total de días máximo de atención/mes en una UDS.
B42: Ración Familiar para Preparar Gestante (o binomio madre-hijo) / Usuaria / Mes | F42: =+VLOOKUP(F33,DATOS!$E$17:$Q$47,8,0) -> 458781
B43: Ración Familiar para Preparar NN / Usuario / Mes | F43: =+VLOOKUP(F33,DATOS!$E$17:$Q$47,9,0) -> 307092
B44: Papelería / Usuario / Día | F44: =+VLOOKUP(F33,DATOS!$E$17:$Q$47,10,0) -> 68.764444 | G44: Valor unidad de ALC de 50 g ↓
B45: Costos Transporte / Usuario / Día | F45: =+VLOOKUP(F33,DATOS!$E$17:$Q$47,8,0) -> 458781 | H45: Nota 5. Cuando se atienda una mujer gestante y nazca su hijo durante ese mes, en este formato deberán registrarse los datos de los dos usuarios (sin que las fechas se traslapen), teniendo en cuenta las fechas reales de atención de cada uno y que coincida con el aplicativo Cuéntame (la información de estos dos usuarios deberá registrarse en este formato de manera consecutiva, para facilitar la revisión). Ejemplo: una mujer gestante se atiende en el mes de enero a partir del 01 de mes; el día 20 de enero nace el niño, entonces, se registra la información de la mamá con fecha de Ingreso: 01/01/2023 y fecha de Egreso: 20/01/2023, y automáticamente en la siguiente fila se registra la información del niño nacido con fecha de Ingreso: 21/01/2023 y fecha de Egreso el día 30 o 31 del mes según corresponda (como se observa, no se traslapa la fecha; el registro de fecha de ingreso del niño es el día siguiente al día de egreso de la mamá, lo cual deberá estar igualmente consignado en el aplicativo cuéntame). En las observaciones se deberá incluir para estos casos, las notas que identifiquen la mamá y el niño nacido.
B46: Valor Dotación inicial o Reposición de Dotación Unidad, según corresponda | F46: 0
B47: Alimento Listo para el Consumo Unidad / Usuario / Sobre (20 gramos y 50 gramos) | G47: 2704
B48: Costo Comunicaciones (unidad) | F48: =+VLOOKUP(F33,DATOS!$E$17:$Q$47,12,0) -> 89564
B49: Valor unitario Kit de Alimentación Complementaria | F49: 85510.667
B51: TOTAL COSTOS TALENTO HUMANO
B52: Cargo | C52: Nombre y Apellidos | D52: Honorarios Mensuales | E52: Tiempo de Atención en la UDS (únicamente registre un valor entre 1 y 30 días) | F52: Honorarios Periodo
B53: Coord. Técnico-Administrativo | C53: MARIA EUGENIA URREA SANCHEZ | D53: 1850000 | E53: 30 | F53: =+D53/30*E53 -> 1850000 | H53: Nota 6. De manera excepcional para realizar el cálculo de los usuarios atendidos en el mes de febrero considerando que es un mes de 28 días, se deberá duplicar la información de los usuarios atendidos a partir de la fila numerada como "151", donde se tendrá que registrar como fecha de ingreso 01/02/2023 y como fecha de egreso 02/02/2023. Se precisa que únicamente tendrá que registrarse la información de la columna "C" a la columna "G".
B54: Profesional en Nutrición y Diet. | C54: ANA DIONICIA MIRANDA MARQUEZ | D54: 3600000 | E54: 30 | F54: =+D54/30*E54 -> 3600000
B55: Profesional del área social | C55: DANIELA VARGAS CANO | D55: 3200000 | E55: 30 | F55: =+D55/30*E55 -> 3200000
B56: Auxiliar de Enfermería | C56: LEONARDO MONTEALEGRE POMARE | D56: 1900000 | E56: 30 | F56: =+D56/30*E56 -> 1900000
B57: Gestor Comunitario 1 | C57: FREYMAR SILVA PONARE | D57: 1679154 | E57: 30 | F57: =+D57/30*E57 -> 1679154
B58: Gestor Comunitario 2 | C58: JEISSON ANDRES ALGARRA RAMIREZ | D58: 1679154 | E58: 30 | F58: =+D58/30*E58 -> 1679154
B59: Gestor Comunitario 3 | C59: LOIDA SANCHEZ RIVEROS | D59: 1679154 | E59: 30 | F59: =+D59/30*E59 -> 1679154
B60: Auxiliar Administrativo | C60: YEISON FERNANDO ROZO | D60: 825000 | E60: 30 | F60: =+D60/30*E60 -> 825000
B61: Subtotal Talento Humano | D61: =+SUM(D53:D60) -> 16412462 | F61: =+SUM(F53:F60) -> 16412462
B62: Valor máximo asignado por estructura de costos al Talento Humano, por cada Unidad de Servicio (el cual no se puede sobrepasar) | D62: 16412462
B67: DATOS USUARIOS ATENDIDOS
B68: No. Usuario | C68: Tipo de documento | D68: Número de documento | E68: Nombres y Apellidos | F68: Fecha de ingreso UDS dd/mm/aaaa | G68: Fecha de egreso UDS dd/mm/aaaa | H68: Días de atención en la UDS | I68: Municipio de Residencia | J68: Tipo Usuario | K68: Clasificación del estado nutricional | L68: ¿Recibe Alimento Listo para el Consumo -ALC? | M68: Si recibe Alimento Listo para el Consumo, ¿en qué presentación se suministró? | N68: Número de Sobres de Alimento Listo para el Consumo Suministrados en el Mes | O68: ¿Recibe Ración Familiar Para Preparar? | P68: ¿Qué tipo de RFPP recibe? (seleccione) | Q68: Alimento Listo para el Consumo | R68: Ración Familiar para Preparar | S68: Si es hijo nacido de mujer gestante atendida en la modalidad y egresa a los 6 meses ¿Recibe Kit de AC? | T68: Valor Kit Alimentación Complementaria | U68: Papelería | V68: Observaciones
B70: 1 | C70: RC | D70: 1125010829 | E70: LIA TAMARA VARGAS BRICEÑO | F70: 45133 | G70: 45137 | H70: =IF(F70<>0,IF((G70-F70)+1=31,30,(G70-F70)+1),0) -> 5 | I70: CUMARIBO | J70: NIÑO O NIÑA MENOR DE 6 MESES | K70: RIESGO DE DESNUTRICIÓN AGUDA | L70: NO | O70: SI | P70: MUJER GESTANTE | Q70: =+IF(M70="20 gramos",N70*$F$47,+IF(M70="50 gramos",N70*$G$47,0)) -> 0 | R70: =+IF(P70="MUJER GESTANTE",$F$42,+IF(P70="NIÑO O NIÑA MAYOR DE 6 MESES",$F$43,0)) -> 458781 | T70: =+IF(S70="SI",$F$49,0) -> 0 | U70: =+H70*$F$44 -> 343.82222
...

Sheet DATOS
A1: visita | E1: SI | F1: 0 | H1: 20 gramos | I1: BAJO PESO PARA LA EDAD GESTACIONAL
A2: SI | B2: 2000 | E2: NO | H2: 50 gramos | I2: PESO ADECUADO (PARA LA EDAD GESTACIONAL)
A3: NO | B3: 0 | I3: RIESGO DE DESNUTRICIÓN AGUDA
E4: RC | I4: DESNUTRICIÓN AGUDA MODERADA
E5: TI | I5: DESNUTRICIÓN AGUDA SEVERA
E6: NUIP | I6: PESO ADECUADO PARA LA TALLA
E7: PPT | I7: OTRO
E8: SD
E9: CC
E11: MUJER GESTANTE | G11: MUJER GESTANTE
A12: ración | E12: NIÑO O NIÑA MENOR DE 6 MESES | G12: NIÑO O NIÑA MAYOR DE 6 MESES
A13: SI_RACIÓN_TIPO_1 | B13: 200 | E13: NIÑO O NIÑA MAYOR DE 6 MESES
A14: SI_RACIÓN_TIPO_2 | B14: 1000
A15: NO | B15: 200
F16: Estructura de Costos | L16: Estructura de Costos / Beneficiario / Día | S16: SI
E17: Regional | F17: Ración Familiar para Preparar MG | G17: Ración Familiar para Preparar NN | H17: Material para educación y actividades | I17: Costo Transporte | J17: Comunicaciones | K17: Costos Administrativos | L17: Ración Familiar para Preparar MG | M17: Ración Familiar para Preparar NN | N17: Material para educación y actividades | O17: Costo Transporte | Q17: Costos Administrativos | S17: NO
E18: AMAZONAS | F18: 536714 | G18: 415570 | H18: 309440 | I18: 3781749 | J18: 89564 | K18: 4016628 | L18: =+F18 -> 536714 | M18: =+G18 -> 415570 | N18: =+H18/150/30 -> 68.764444 | O18: =+I18/150/30 -> 840.38867 | P18: =+J18 -> 89564 | Q18: =+K18/150/30 -> 892.584
E19: ARAUCA | F19: 319432 | G19: 212113 | H19: 309440 | I19: 1013369 | J19: 89564 | K19: 2886817 | L19: =+F19 -> 319432 | M19: =+G19 -> 212113 | N19: =+H19/150/30 -> 68.764444 | O19: =+I19/150/30 -> 225.19311 | P19: =+J19 -> 89564 | Q19: =+K19/150/30 -> 641.51489
E20: ATLÁNTICO | F20: 276557 | G20: 173181 | H20: 309440 | I20: 440625 | J20: 89564 | K20: 2661096 | L20: =+F20 -> 276557 | M20: =+G20 -> 173181 | N20: =+H20/150/30 -> 68.764444 | O20: =+I20/150/30 -> 97.916667 | P20: =+J20 -> 89564 | Q20: =+K20/150/30 -> 591.35467
E21: BOLÍVAR | F21: 288841 | G21: 187202 | H21: 309440 | I21: 3913431 | J21: 89564 | K21: 2793474 | L21: =+F21 -> 288841 | M21: =+G21 -> 187202 | N21: =+H21/150/30 -> 68.764444 | O21: =+I21/150/30 -> 869.65133 | P21: =+J21 -> 89564 | Q21: =+K21/150/30 -> 620.772
E22: ANTIOQUIA | F22: 277032 | G22: 178902 | H22: 309440 | I22: 2468646 | J22: 89564 | K22: 2735440 | L22: =+F22 -> 277032 | M22: =+G22 -> 178902 | N22: =+H22/150/30 -> 68.764444 | O22: =+I22/150/30 -> 548.588 | P22: =+J22 -> 89564 | Q22: =+K22/150/30 -> 607.87556
E23: BOYACA | F23: 256252 | G23: 165696 | H23: 309440 | I23: 2041969 | J23: 89564 | K23: 2879512 | L23: =+F23 -> 256252 | M23: =+G23 -> 165696 | N23: =+H23/150/30 -> 68.764444 | O23: =+I23/150/30 -> 453.77089 | P23: =+J23 -> 89564 | Q23: =+K23/150/30 -> 639.89156
E24: CALDAS | F24: 275059 | G24: 173016 | H24: 309440 | I24: 3732093 | J24: 89564 | K24: 2704776 | L24: =+F24 -> 275059 | M24: =+G24 -> 173016 | N24: =+H24/150/30 -> 68.764444 | O24: =+I24/150/30 -> 829.354 | P24: =+J24 -> 89564 | Q24: =+K24/150/30 -> 601.06133
E25: CAQUETÁ | F25: 283369 | G25: 184582 | H25: 309440 | I25: 1886111 | J25: 89564 | K25: 2966480 | L25: =+F25 -> 283369 | M25: =+G25 -> 184582 | N25: =+H25/150/30 -> 68.764444 | O25: =+I25/150/30 -> 419.13578 | P25: =+J25 -> 89564 | Q25: =+K25/150/30 -> 659.21778
E26: CASANARE | F26: 274849 | G26: 174234 | H26: 309440 | I26: 1578012 | J26: 89564 | K26: 2867302 | L26: =+F26 -> 274849 | M26: =+G26 -> 174234 | N26: =+H26/150/30 -> 68.764444 | O26: =+I26/150/30 -> 350.66933 | P26: =+J26 -> 89564 | Q26: =+K26/150/30 -> 637.17822
E27: CAUCA | F27: 280852 | G27: 176524 | H27: 309440 | I27: 2877016 | J27: 89564 | K27: 2912634 | L27: =+F27 -> 280852 | M27: =+G27 -> 176524 | N27: =+H27/150/30 -> 68.764444 | O27: =+I27/150/30 -> 639.33689 | P27: =+J27 -> 89564 | Q27: =+K27/150/30 -> 647.252
E28: CESAR | F28: 266222 | G28: 163110 | H28: 309440 | I28: 2141087 | J28: 89564 | K28: 2716356 | L28: =+F28 -> 266222 | M28: =+G28 -> 163110 | N28: =+H28/150/30 -> 68.764444 | O28: =+I28/150/30 -> 475.79711 | P28: =+J28 -> 89564 | Q28: =+K28/150/30 -> 603.63467
E29: CHOCÓ | F29: 405848 | G29: 262710 | H29: 309440 | I29: 4822091 | J29: 89564 | K29: 3509390 | L29: =+F29 -> 405848 | M29: =+G29 -> 262710 | N29: =+H29/150/30 -> 68.764444 | O29: =+I29/150/30 -> 1071.5758 | P29: =+J29 -> 89564 | Q29: =+K29/150/30 -> 779.86444
... E47: VICHADA | F47: 458781 | G47: 307092 | H47: 309440 | I47: 6843761 | J47: 89564 | K47: 3736528 | L47: =+F47 -> 458781 | M47: =+G47 -> 307092 | N47: =+H47/150/30 -> 68.764444 | O47: =+I47/150/30 -> 1520.8358 | P47: =+J47 -> 89564 | Q47: =+K47/150/30 -> 830.33956
E49: RESUMEN DE COSTOS | F49: REPOSICIÓN DE DOTACIÓN | H49: ALIMENTO SUPLEMENTARIO LISTO PARA EL CONSUMO | I49: 1. MATERIAL PARA EDUCACION Y ACTIVIDADES - COSTO VARIABLE | K49: 2. RECURSO HUMANO - COSTO FIJO | L49: 3. RACIONES FAMILIARES PARA PREPARAR - COSTO VARIABLE | N49: 4. COSTOS TRANSPORTE - COSTO VARIABLE | O49: 5. COSTOS COMUNICACIONES - COSTO FIJO | Q49: 6. COSTOS ADMINISTRATIVOS - COSTO VARIABLE
E50: AMAZONAS | F50: 456440 | H50: 9192960 | I50: 273506 | K50: 14380595 | L50: 46133100 | N50: 3421877 | O50: 56973 | Q50: 5960625
E51: ARAUCA | F51: 456807 | H51: 9192960 | I51: 273506 | K51: 14380595 | L51: 30715050 | N51: 762946 | O51: 56973 | Q51: 2886817
E52: ATLÁNTICO | F52: 456025 | H52: 9192960 | I52: 273506 | K52: 14380595 | L52: 27471450 | N52: 395005 | O52: 56973 | Q52: 2661096
E53: BOLÍVAR | F53: 455173 | H53: 9192960 | I53: 273506 | K53: 14380595 | L53: 28401150 | N53: 1586366 | O53: 56973 | Q53: 2793474
E54: ANTIOQUIA | F54: 451839 | H54: 9192960 | I54: 273506 | K54: 14380595 | L54: 27439350 | N54: 1616616 | O54: 56973 | Q54: 2735440
E55: BOYACA | F55: 0 | H55: 9192960 | I55: 273506 | K55: 14380595 | L55: 26526600 | N55: 4834525 | O55: 56973 | Q55: 2879512
E56: CALDAS | F56: 456071 | H56: 9192960 | I56: 273506 | K56: 14380595 | L56: 27540150 | N56: 1025198 | O56: 56973 | Q56: 2704776
E57: CAQUETÁ | F57: 456240 | H57: 9192960 | I57: 273506 | K57: 14380595 | L57: 31576350 | N57: 1176254 | O57: 56973 | Q57: 2966480
E58: CASANARE | F58: 456847 | H58: 9192960 | I58: 273506 | K58: 16216719 | L58: 28299450 | N58: 1030183 | O58: 56973 | Q58: 2867302
E59: CAUCA | F59: 456139 | H59: 9192960 | I59: 273506 | K59: 14380595 | L59: 28812750 | N59: 3078317 | O59: 56973 | Q59: 2912634
...
