Workbook
Name d: [1]DATOS!$H$4:$H$12
Name dep: [1]DATOS!$D$3:$D$6
Name Deportes1: [2]DATOS!$H$4:$H$12
Name Deportes1: [3]DATOS!$H$4:$H$12
Name Deportes2: [2]DATOS!$I$4:$I$11
Name Deportes2: [3]DATOS!$I$4:$I$11
Name Deportes3: [2]DATOS!$K$4:$K$8
Name Deportes3: [3]DATOS!$K$4:$K$8
Name FF: [4]DATOS!$K$4:$K$8
Name INCLUIYENTE: [5]DATOS!$H$4:$H$12
Name INCLUYENTE: [5]DATOS!$J$4:$J$12
Name JUVENTUD: [6]DATOS!$J$4:$J$12
Name OTRPO: [7]DATOS!$D$3:$D$6
Name Proyecto: [2]DATOS!$D$3:$D$6
Name Proyecto: [3]DATOS!$D$3:$D$6
Name Recreacion: [2]DATOS!$J$4:$J$12
Name Recreacion: [3]DATOS!$J$4:$J$12
Name TEC: [8]DATOS!$I$4:$I$11

Sheet 23 JUNIO
A1: ZONA NORTE
A2: RUTAS CICLOVÍA 40 M3 | I2: ATN CICLOVÍA, ESCUELA DE LA BICI, ADICIONALES 25 M3 | R2: CONOS CICLOVÍA 25 M3
A3: CORREDOR | B3: # OPERARIOS | C3: # CAMIONES | D3: MODELO | E3: DISPONIBILIDAD | F3: TIPO DE SERVICIO | G3: $ | I3: ZONA | J3: CORREDOR | K3: # OPERARIOS | L3: # CAMIONES | M3: MODELO | N3: DISPONIBILIDAD | O3: TIPO DE SERVICIO | P3: $ | R3: ZONA | S3: CORREDOR | T3: # OPERARIOS | U3: # CAMIONES | V3: MODELO | W3: DISPONIBILIDAD | X3: TIPO DE SERVICIO | Y3: $
A4: NORTE 1 | B4: 3 | C4: 1 | D4: 2012-2020 | E4: COMPLETA | F4: 0 | G4: =+IF(F4="","",VLOOKUP(F4,$H$132:$I$175,2,FALSE)) -> 0 | I4: NORTE | J4: ESCUELA | K4: 3 | L4: 1 | M4: 2012-2020 | N4: COMPLETA | O4: 0 | P4: =+IF(O4="","",VLOOKUP(O4,$H$132:$I$175,2,FALSE)) -> 0 | R4: CENTRO | S4: CENTRO 5 CAMION 1 UNICONOS | T4: 3 | U4: 1 | V4: 2012-2020 | W4: COMPLETA | X4: 0 | Y4: =+IF(X4="","",VLOOKUP(X4,$H$132:$I$175,2,FALSE)) -> 0
A5: NORTE 2 | B5: 3 | C5: 1 | D5: 2012-2020 | E5: COMPLETA | F5: 0 | G5: =+IF(F5="","",VLOOKUP(F5,$H$132:$I$175,2,FALSE)) -> 0 | I5: NORTE | J5: RECREOVÍA | K5: 4 | L5: 1 | M5: 2012-2020 | N5: COMPLETA | O5: 0 | P5: =+IF(O5="","",VLOOKUP(O5,$H$132:$I$175,2,FALSE)) -> 0 | R5: CENTRO | S5: CENTRO 5 CAMION 2 UNICONOS | T5: 3 | U5: 1 | V5: 2012-2020 | W5: COMPLETA | X5: 0 | Y5: =+IF(X5="","",VLOOKUP(X5,$H$132:$I$175,2,FALSE)) -> 0
A6: NORTE 3 | B6: 3 | C6: 1 | D6: 2012-2020 | E6: COMPLETA | F6: 0 | G6: =+IF(F6="","",VLOOKUP(F6,$H$132:$I$175,2,FALSE)) -> 0 | I6: CENTRO | J6: RECREOVÍA | K6: 4 | L6: 1 | M6: 2012-2020 | N6: COMPLETA | O6: 0 | P6: =+IF(O6="","",VLOOKUP(O6,$H$132:$I$175,2,FALSE)) -> 0 | R6: CENTRO | S6: CENTRO 4 CAMION 3 UNICONOS | T6: 3 | U6: 1 | V6: 2012-2020 | W6: COMPLETA | X6: 0 | Y6: =+IF(X6="","",VLOOKUP(X6,$H$132:$I$175,2,FALSE)) -> 0
A7: NORTE 5 | B7: 3 | C7: 1 | D7: 2012-2020 | E7: COMPLETA | F7: 0 | G7: =+IF(F7="","",VLOOKUP(F7,$H$132:$I$175,2,FALSE)) -> 0 | I7: CENTRO | J7: RECREOVÍA | K7: 4 | L7: 1 | M7: 2012-2020 | N7: COMPLETA | O7: 0 | P7: =+IF(O7="","",VLOOKUP(O7,$H$132:$I$175,2,FALSE)) -> 0 | R7: CENTRO | S7: CENTRO 4 CAMION 4 UNICONOS | T7: 3 | U7: 1 | V7: 2012-2020 | W7: COMPLETA | X7: 0 | Y7: =+IF(X7="","",VLOOKUP(X7,$H$132:$I$175,2,FALSE)) -> 0
G8: =+IF(F8="","",VLOOKUP(F8,$H$133:$I$174,2,FALSE)) | I8: SUR | J8: RECREOVÍA | K8: 4 | L8: 1 | M8: 2012-2020 | N8: COMPLETA | O8: 0 | P8: =+IF(O8="","",VLOOKUP(O8,$H$132:$I$175,2,FALSE)) -> 0 | R8: CENTRO | S8: CENTRO 4 CAMION 5 UNICONOS | T8: 3 | U8: 1 | V8: 2012-2020 | W8: COMPLETA | X8: 0 | Y8: =+IF(X8="","",VLOOKUP(X8,$H$132:$I$175,2,FALSE)) -> 0
G9: =+IF(F9="","",VLOOKUP(F9,$H$133:$I$174,2,FALSE))
G10: =+IF(F10="","",VLOOKUP(F10,$H$133:$I$174,2,FALSE))
G11: =+IF(F11="","",VLOOKUP(F11,$H$133:$I$174,2,FALSE)) | R11: OPERARIOS ADICIONALES
A12: RUTAS CICLOVÍA 25 M3 | R12: ZONA | S12: CORREDOR | T12: # OPERARIOS | U12: # CAMIONES | V12: MODELO | W12: DISPONIBILIDAD | X12: TIPO DE SERVICIO | Y12: $
A13: CORREDOR | B13: # OPERARIOS | C13: # CAMIONES | D13: MODELO | E13: DISPONIBILIDAD | F13: TIPO DE SERVICIO | G13: $ | R13: CENTRO | S13: APOYO CICLOVÍA | T13: 2 | U13: 0 | V13: 0 | W13: COMPLETA | X13: 0 | Y13: =+IF(X13="","",VLOOKUP(X13,$H$132:$I$175,2,FALSE)) -> 0
A14: NORTE 1 CAMION 6 UNICONOS | B14: 4 | C14: 1 | D14: 2012-2020 | E14: COMPLETA | F14: 0 | G14: =+IF(F14="","",VLOOKUP(F14,$H$132:$I$175,2,FALSE)) -> 0 | I14: ATN CICLOVÍA, ESCUELA DE LA BICI, ADICIONALES 40 M3 | R14: CENTRO | S14: RECREOVÍA | T14: 33 | U14: 0 | V14: 0 | W14: COMPLETA | X14: 0 | Y14: =+IF(X14="","",VLOOKUP(X14,$H$132:$I$175,2,FALSE)) -> 0
A15: NORTE 1 CAMION 7 UNICONOS | B15: 4 | C15: 1 | D15: 2012-2020 | E15: COMPLETA | F15: 0 | G15: =+IF(F15="","",VLOOKUP(F15,$H$132:$I$175,2,FALSE)) -> 0 | I15: ZONA | J15: CORREDOR | K15: # OPERARIOS | L15: # CAMIONES | M15: MODELO | N15: DISPONIBILIDAD | O15: TIPO DE SERVICIO | P15: $
A16: NORTE 5 CAMION 8 UNICONOS | B16: 4 | C16: 1 | D16: 2012-2020 | E16: COMPLETA | F16: 0 | G16: =+IF(F16="","",VLOOKUP(F16,$H$132:$I$175,2,FALSE)) -> 0 | I16: NORTE | J16: PEDAGOGÍA - LUDICA | K16: 3 | L16: 1 | M16: 2012-2020 | N16: COMPLETA | O16: 0 | P16: =+IF(O16="","",VLOOKUP(O16,$H$132:$I$175,2,FALSE)) -> 0
A17: NORTE 4 | B17: 3 | C17: 1 | D17: 2012-2020 | E17: COMPLETA | F17: 0 | G17: =+IF(F17="","",VLOOKUP(F17,$H$132:$I$175,2,FALSE)) -> 0
A20: valor total | B20: =SUM(B4:B11)+B14+B15+B16+B17+B18+B19 -> 27 | C20: =SUM(C4:C11)+C14+C15+C16+C17+C18+C19 -> 8 | G20: =SUM(G4:G11)+G14+G15+G16+G17+G18+G19 -> 0
A21: ZONA CENTRO
A22: RUTAS CICLOVÍA 40 M3
A23: CORREDOR | B23: # OPERARIOS | C23: # CAMIONES | D23: MODELO | E23: DISPONIBILIDAD | F23: TIPO DE SERVICIO | G23: $ | J23: TOTAL | K23: =SUM(K4:K22) -> 22 | L23: =SUM(L4:L22) -> 6 | P23: =SUM(P4:P21) -> 0 | S23: TOTAL | T23: =SUM(T4:T10)+T13+T14 -> 50 | U23: =SUM(U4:U10) -> 5 | Y23: =SUM(Y4:Y22) -> 0
A24: CENTRO 2 | B24: 3 | C24: 1 | D24: 2012-2020 | E24: COMPLETA | F24: 0 | G24: =+IF(F24="","",VLOOKUP(F24,$H$132:$I$175,2,FALSE)) -> 0
A25: CENTRO 4 | B25: 3 | C25: 1 | D25: 2012-2020 | E25: COMPLETA | F25: 0 | G25: =+IF(F25="","",VLOOKUP(F25,$H$132:$I$175,2,FALSE)) -> 0
A26: CENTRO 5 | B26: 3 | C26: 1 | D26: 2012-2020 | E26: COMPLETA | F26: 0 | G26: =+IF(F26="","",VLOOKUP(F26,$H$132:$I$175,2,FALSE)) -> 0
A30: RUTAS CICLOVÍA 25 M3
A31: > | B31: # OPERARIOS | C31: # CAMIONES | D31: MODELO | F31: TIPO DE SERVICIO | G31: $
A32: CENTRO 1 | B32: 3 | C32: 1 | D32: 2012-2020 | E32: COMPLETA | F32: 0 | G32: =+IF(F32="","",VLOOKUP(F32,$H$132:$I$175,2,FALSE)) -> 0
A33: CENTRO 3 ZONA 1 | B33: 2 | C33: 1 | D33: 2012-2020 | E33: COMPLETA | F33: 0 | G33: =+IF(F33="","",VLOOKUP(F33,$H$132:$I$175,2,FALSE)) -> 0
A34: CENTRO 3 ZONA 2 | B34: 2 | C34: 1 | D34: 2012-2020 | E34: COMPLETA | F34: 0 | G34: =+IF(F34="","",VLOOKUP(F34,$H$132:$I$175,2,FALSE)) -> 0
A35: PARQUE NACIONAL | B35: 2 | C35: 1 | D35: 2012-2020 | E35: COMPLETA | F35: 0 | G35: =+IF(F35="","",VLOOKUP(F35,$H$132:$I$175,2,FALSE)) -> 0
A38: valor total | B38: =SUM(B24:B30)+B32+B33+B27+B35+B36+B37 -> 16 | C38: =SUM(C24:C30)+C32+C33+C34+C35+C36+C37 -> 7 | G38: =SUM(G24:G30)+G32+G33+G34+G35+G36+G37 -> 0
A39: ZONA SUR
A40: RUTAS CICLOVÍA 40 M3
A41: CORREDOR | B41: # OPERARIOS | C41: # CAMIONES | D41: MODELO | E41: DISPONIBILIDAD | F41: TIPO DE SERVICIO | G41: $
A50: RUTAS CICLOVÍA 25 M3
A51: CORREDOR | B51: # OPERARIOS | C51: # CAMIONES | D51: MODELO | E51: DISPONIBILIDAD | F51: TIPO DE SERVICIO | G51: $
A52: SUR 1 ZONA 1 | B52: 2 | C52: 1 | D52: 2012-2020 | E52: COMPLETA | F52: 0 | G52: =+IF(F52="","",VLOOKUP(F52,$H$132:$I$175,2,FALSE)) -> 0
A53: SUR 1 ZONA 2 | B53: 2 | C53: 1 | D53: 2012-2020 | E53: COMPLETA | F53: 0 | G53: =+IF(F53="","",VLOOKUP(F53,$H$132:$I$175,2,FALSE)) -> 0
A54: SUR 2 ZONA 1 | B54: 4 | C54: 1 | D54: 2012-2020 | E54: COMPLETA | F54: 0 | G54: =+IF(F54="","",VLOOKUP(F54,$H$132:$I$175,2,FALSE)) -> 0
A55: SUR 2 ZONA 2 | B55: 4 | C55: 1 | D55: 2012-2020 | E55: COMPLETA | F55: 0 | G55: =+IF(F55="","",VLOOKUP(F55,$H$132:$I$175,2,FALSE)) -> 0
...

Sheet 24 JUNIO 
A1: ZONA NORTE
A2: RUTAS CICLOVÍA 40 M3 | I2: ATN CICLOVÍA, ESCUELA DE LA BICI, ADICIONALES 25 M3 | R2: CONOS CICLOVÍA 25 M3
A3: CORREDOR | B3: # OPERARIOS | C3: # CAMIONES | D3: MODELO | E3: DISPONIBILIDAD | F3: TIPO DE SERVICIO | G3: $ | I3: ZONA | J3: CORREDOR | K3: # OPERARIOS | L3: # CAMIONES | M3: MODELO | N3: DISPONIBILIDAD | O3: TIPO DE SERVICIO | P3: $ | R3: ZONA | S3: CORREDOR | T3: # OPERARIOS | U3: # CAMIONES | V3: MODELO | W3: DISPONIBILIDAD | X3: TIPO DE SERVICIO | Y3: $
A4: NORTE 1 | B4: 3 | C4: 1 | D4: 2012-2020 | E4: COMPLETA | F4: 0 | G4: =+IF(F4="","",VLOOKUP(F4,$H$132:$I$174,2,FALSE)) -> 0 | I4: NORTE | J4: ESCUELA | K4: 3 | L4: 1 | M4: 2012-2020 | N4: COMPLETA | O4: 0 | P4: =+IF(O4="","",VLOOKUP(O4,$H$132:$I$174,2,FALSE)) -> 0 | R4: CENTRO | S4: CENTRO 5 CAMION 1 UNICONOS | T4: 3 | U4: 1 | V4: 2012-2020 | W4: COMPLETA | X4: 0 | Y4: =+IF(X4="","",VLOOKUP(X4,$H$132:$I$174,2,FALSE)) -> 0
A5: NORTE 2 | B5: 3 | C5: 1 | D5: 2012-2020 | E5: COMPLETA | F5: 0 | G5: =+IF(F5="","",VLOOKUP(F5,$H$132:$I$174,2,FALSE)) -> 0 | I5: NORTE | J5: RECREOVÍA | K5: 4 | L5: 1 | M5: 2012-2020 | N5: COMPLETA | O5: 0 | P5: =+IF(O5="","",VLOOKUP(O5,$H$132:$I$174,2,FALSE)) -> 0 | R5: CENTRO | S5: CENTRO 5 CAMION 2 UNICONOS | T5: 3 | U5: 1 | V5: 2012-2020 | W5: COMPLETA | X5: 0 | Y5: =+IF(X5="","",VLOOKUP(X5,$H$132:$I$174,2,FALSE)) -> 0
A6: NORTE 3 | B6: 3 | C6: 1 | D6: 2012-2020 | E6: COMPLETA | F6: 0 | G6: =+IF(F6="","",VLOOKUP(F6,$H$132:$I$174,2,FALSE)) -> 0 | I6: CENTRO | J6: RECREOVÍA | K6: 4 | L6: 1 | M6: 2012-2020 | N6: COMPLETA | O6: 0 | P6: =+IF(O6="","",VLOOKUP(O6,$H$132:$I$174,2,FALSE)) -> 0 | R6: CENTRO | S6: CENTRO 4 CAMION 3 UNICONOS | T6: 3 | U6: 1 | V6: 2012-2020 | W6: COMPLETA | X6: 0 | Y6: =+IF(X6="","",VLOOKUP(X6,$H$132:$I$174,2,FALSE)) -> 0
A7: NORTE 5 | B7: 3 | C7: 1 | D7: 2012-2020 | E7: COMPLETA | F7: 0 | G7: =+IF(F7="","",VLOOKUP(F7,$H$132:$I$174,2,FALSE)) -> 0 | I7: CENTRO | J7: RECREOVÍA | K7: 4 | L7: 1 | M7: 2012-2020 | N7: COMPLETA | O7: 0 | P7: =+IF(O7="","",VLOOKUP(O7,$H$132:$I$174,2,FALSE)) -> 0 | R7: CENTRO | S7: CENTRO 4 CAMION 4 UNICONOS | T7: 3 | U7: 1 | V7: 2012-2020 | W7: COMPLETA | X7: 0 | Y7: =+IF(X7="","",VLOOKUP(X7,$H$132:$I$174,2,FALSE)) -> 0
G8: =+IF(F8="","",VLOOKUP(F8,$H$133:$I$174,2,FALSE)) | I8: SUR | J8: RECREOVÍA | K8: 4 | L8: 1 | M8: 2012-2020 | N8: COMPLETA | O8: 0 | P8: =+IF(O8="","",VLOOKUP(O8,$H$132:$I$174,2,FALSE)) -> 0 | R8: CENTRO | S8: CENTRO 4 CAMION 5 UNICONOS | T8: 3 | U8: 1 | V8: 2012-2020 | W8: COMPLETA | X8: 0 | Y8: =+IF(X8="","",VLOOKUP(X8,$H$132:$I$174,2,FALSE)) -> 0
G9: =+IF(F9="","",VLOOKUP(F9,$H$133:$I$174,2,FALSE))
G10: =+IF(F10="","",VLOOKUP(F10,$H$133:$I$174,2,FALSE))
G11: =+IF(F11="","",VLOOKUP(F11,$H$133:$I$174,2,FALSE)) | R11: OPERARIOS ADICIONALES
A12: RUTAS CICLOVÍA 25 M3 | R12: ZONA | S12: CORREDOR | T12: # OPERARIOS | U12: # CAMIONES | V12: MODELO | W12: DISPONIBILIDAD | X12: TIPO DE SERVICIO | Y12: $
A13: CORREDOR | B13: # OPERARIOS | C13: # CAMIONES | D13: MODELO | E13: DISPONIBILIDAD | F13: TIPO DE SERVICIO | G13: $ | R13: CENTRO | S13: APOYO CICLOVÍA | T13: 2 | U13: 0 | V13: 0 | W13: COMPLETA | X13: 0 | Y13: =+IF(X13="","",VLOOKUP(X13,$H$132:$I$174,2,FALSE)) -> 0
A14: NORTE 1 CAMION 6 UNICONOS | B14: 4 | C14: 1 | D14: 2012-2020 | E14: COMPLETA | F14: 0 | G14: =+IF(F14="","",VLOOKUP(F14,$H$132:$I$174,2,FALSE)) -> 0 | I14: ATN CICLOVÍA, ESCUELA DE LA BICI, ADICIONALES 40 M3 | R14: CENTRO | S14: RECREOVÍA | T14: 33 | U14: 0 | V14: 0 | W14: COMPLETA | X14: 0 | Y14: =+IF(X14="","",VLOOKUP(X14,$H$132:$I$174,2,FALSE)) -> 0
A15: NORTE 1 CAMION 7 UNICONOS | B15: 4 | C15: 1 | D15: 2012-2020 | E15: COMPLETA | F15: 0 | G15: =+IF(F15="","",VLOOKUP(F15,$H$132:$I$174,2,FALSE)) -> 0 | I15: ZONA | J15: CORREDOR | K15: # OPERARIOS | L15: # CAMIONES | M15: MODELO | N15: DISPONIBILIDAD | O15: TIPO DE SERVICIO | P15: $
A16: NORTE 5 CAMION 8 UNICONOS | B16: 4 | C16: 1 | D16: 2012-2020 | E16: COMPLETA | F16: 0 | G16: =+IF(F16="","",VLOOKUP(F16,$H$132:$I$174,2,FALSE)) -> 0 | I16: NORTE | J16: PEDAGOGÍA - LUDICA | K16: 3 | L16: 1 | M16: 2012-2020 | N16: COMPLETA | O16: 0 | P16: =+IF(O16="","",VLOOKUP(O16,$H$132:$I$174,2,FALSE)) -> 0
A17: NORTE 4 | B17: 3 | C17: 1 | D17: 2012-2020 | E17: COMPLETA | F17: 0 | G17: =+IF(F17="","",VLOOKUP(F17,$H$132:$I$174,2,FALSE)) -> 0
A20: valor total | B20: =SUM(B4:B11)+B14+B15+B16+B17+B18+B19 -> 27 | C20: =SUM(C4:C11)+C14+C15+C16+C17+C18+C19 -> 8 | G20: =SUM(G4:G11)+G14+G15+G16+G17+G18+G19 -> 0
A21: ZONA CENTRO
A22: RUTAS CICLOVÍA 40 M3
A23: CORREDOR | B23: # OPERARIOS | C23: # CAMIONES | D23: MODELO | E23: DISPONIBILIDAD | F23: TIPO DE SERVICIO | G23: $ | J23: TOTAL | K23: =SUM(K4:K22) -> 22 | L23: =SUM(L4:L22) -> 6 | P23: =SUM(P4:P21) -> 0 | S23: TOTAL | T23: =SUM(T4:T10)+T13+T14 -> 50 | U23: =SUM(U4:U10) -> 5 | Y23: =SUM(Y4:Y22) -> 0
A24: CENTRO 2 | B24: 3 | C24: 1 | D24: 2012-2020 | E24: COMPLETA | F24: 0 | G24: =+IF(F24="","",VLOOKUP(F24,$H$132:$I$174,2,FALSE)) -> 0
A25: CENTRO 4 | B25: 3 | C25: 1 | D25: 2012-2020 | E25: COMPLETA | F25: 0 | G25: =+IF(F25="","",VLOOKUP(F25,$H$132:$I$174,2,FALSE)) -> 0
A26: CENTRO 5 | B26: 3 | C26: 1 | D26: 2012-2020 | E26: COMPLETA | F26: 0 | G26: =+IF(F26="","",VLOOKUP(F26,$H$132:$I$174,2,FALSE)) -> 0
A30: RUTAS CICLOVÍA 25 M3
A31: > | B31: # OPERARIOS | C31: # CAMIONES | D31: MODELO | F31: TIPO DE SERVICIO | G31: $
A32: CENTRO 1 | B32: 3 | C32: 1 | D32: 2012-2020 | E32: COMPLETA | F32: 0 | G32: =+IF(F32="","",VLOOKUP(F32,$H$132:$I$174,2,FALSE)) -> 0
A33: CENTRO 3 ZONA 1 | B33: 2 | C33: 1 | D33: 2012-2020 | E33: COMPLETA | F33: 0 | G33: =+IF(F33="","",VLOOKUP(F33,$H$132:$I$174,2,FALSE)) -> 0
A34: CENTRO 3 ZONA 2 | B34: 2 | C34: 1 | D34: 2012-2020 | E34: COMPLETA | F34: 0 | G34: =+IF(F34="","",VLOOKUP(F34,$H$132:$I$174,2,FALSE)) -> 0
A35: PARQUE NACIONAL | B35: 2 | C35: 1 | D35: 2012-2020 | E35: COMPLETA | F35: 0 | G35: =+IF(F35="","",VLOOKUP(F35,$H$132:$I$174,2,FALSE)) -> 0
A38: valor total | B38: =SUM(B24:B30)+B32+B33+B27+B35+B36+B37 -> 16 | C38: =SUM(C24:C30)+C32+C33+C34+C35+C36+C37 -> 7 | G38: =SUM(G24:G30)+G32+G33+G34+G35+G36+G37 -> 0
A39: ZONA SUR
A40: RUTAS CICLOVÍA 40 M3
A41: CORREDOR | B41: # OPERARIOS | C41: # CAMIONES | D41: MODELO | E41: DISPONIBILIDAD | F41: TIPO DE SERVICIO | G41: $
A50: RUTAS CICLOVÍA 25 M3
A51: CORREDOR | B51: # OPERARIOS | C51: # CAMIONES | D51: MODELO | E51: DISPONIBILIDAD | F51: TIPO DE SERVICIO | G51: $
A52: SUR 1 ZONA 1 | B52: 2 | C52: 1 | D52: 2012-2020 | E52: COMPLETA | F52: 0 | G52: =+IF(F52="","",VLOOKUP(F52,$H$132:$I$174,2,FALSE)) -> 0
A53: SUR 1 ZONA 2 | B53: 2 | C53: 1 | D53: 2012-2020 | E53: COMPLETA | F53: 0 | G53: =+IF(F53="","",VLOOKUP(F53,$H$132:$I$174,2,FALSE)) -> 0
A54: SUR 2 ZONA 1 | B54: 4 | C54: 1 | D54: 2012-2020 | E54: COMPLETA | F54: 0 | G54: =+IF(F54="","",VLOOKUP(F54,$H$132:$I$174,2,FALSE)) -> 0
A55: SUR 2 ZONA 2 | B55: 4 | C55: 1 | D55: 2012-2020 | E55: COMPLETA | F55: 0 | G55: =+IF(F55="","",VLOOKUP(F55,$H$132:$I$174,2,FALSE)) -> 0
...

Sheet 07 AGOSTO  
A1: ZONA NORTE
A2: RUTAS CICLOVÍA 40 M3 | I2: LUDICA CICLOVÍA, ESCUELA DE LA BICI, ADICIONALES 25 M3 | R2: CONOS CICLOVÍA 25 M3
A3: CORREDOR | B3: # OPERARIOS | C3: # CAMIONES | D3: MODELO | E3: DISPONIBILIDAD | F3: TIPO DE SERVICIO | G3: $ | I3: ZONA | J3: CORREDOR | K3: # OPERARIOS | L3: # CAMIONES | M3: MODELO | N3: DISPONIBILIDAD | O3: TIPO DE SERVICIO | P3: $ | R3: ZONA | S3: CORREDOR | T3: # OPERARIOS | U3: # CAMIONES | V3: MODELO | W3: DISPONIBILIDAD | X3: TIPO DE SERVICIO | Y3: $
A4: NORTE 1 | B4: =+IF(F4=0,0,MID(F4,LEN(F4)-3,1)) -> 3 | C4: 1 | D4: 2014-2020 | E4: =+IF(F4=0,0,CONCATENATE(MID(F4,FIND("-",F4,1)+1,4),"ORAS")) -> 15 HORAS | F4: 2.CAMION TIPO40m³-15 HORAS-3 OP | G4: =+IF(C4=0,0,IF(F4="","",VLOOKUP(F4,$H$139:$I$185,2,FALSE))*C4) -> 514916 | I4: CENTRO | J4: CAMIONETA FURGONADA PENDONES CALLE 26 | K4: 0 | L4: 1 | M4: 2014-2020 | N4: =+IF(O4=0,0,CONCATENATE(MID(O4,FIND("-",O4,1)+1,4),"ORAS")) -> 15 HORAS | O4: 31.CAMION TIPOFURGON-15 HORAS | P4: =+IF(O4="","",VLOOKUP(O4,$H$139:$I$185,2,FALSE)) -> 239262 | X4: 0 | Y4: =+IF(X4="","",VLOOKUP(X4,$H$139:$I$185,2,FALSE)) -> 0
A5: NORTE 2 | B5: =+IF(F5=0,0,MID(F5,LEN(F5)-3,1)) -> 3 | C5: 1 | D5: 2014-2020 | E5: =+IF(F5=0,0,CONCATENATE(MID(F5,FIND("-",F5,1)+1,4),"ORAS")) -> 15 HORAS | F5: 2.CAMION TIPO40m³-15 HORAS-3 OP | G5: =+IF(F5="","",VLOOKUP(F5,$H$139:$I$185,2,FALSE)) -> 514916 | I5: CENTRO | J5: ESCUELA | K5: =+IF(O5=0,0,MID(O5,LEN(O5)-3,1)) -> 3 | L5: 1 | M5: 2014-2020 | N5: =+IF(O5=0,0,CONCATENATE(MID(O5,FIND("-",O5,1)+1,4),"ORAS")) -> 15 HORAS | O5: 17.CAMION TIPO25m³-15 HORAS-3 OP | P5: =+IF(O5="","",VLOOKUP(O5,$H$139:$I$185,2,FALSE)) -> 443323 | X5: 0 | Y5: =+IF(X5="","",VLOOKUP(X5,$H$139:$I$185,2,FALSE)) -> 0
A6: NORTE 3 | B6: =+IF(F6=0,0,MID(F6,LEN(F6)-3,1)) -> 3 | C6: 1 | D6: 2014-2020 | E6: =+IF(F6=0,0,CONCATENATE(MID(F6,FIND("-",F6,1)+1,4),"ORAS")) -> 15 HORAS | F6: 2.CAMION TIPO40m³-15 HORAS-3 OP | G6: =+IF(F6="","",VLOOKUP(F6,$H$139:$I$185,2,FALSE)) -> 514916 | I6: NORTE | J6: CICLOVIA | K6: 3 | L6: 1 | M6: 2014-2020 | N6: =+IF(O6=0,0,CONCATENATE(MID(O6,FIND("-",O6,1)+1,4),"ORAS")) -> 15 HORAS | O6: 2.CAMION TIPO40m³-15 HORAS-3 OP | P6: =+IF(O6="","",VLOOKUP(O6,$H$139:$I$185,2,FALSE)) -> 514916 | X6: 0 | Y6: =+IF(X6="","",VLOOKUP(X6,$H$139:$I$185,2,FALSE)) -> 0
A7: NORTE 4 | B7: =+IF(F7=0,0,MID(F7,LEN(F7)-3,1)) -> 3 | C7: 1 | D7: 2014-2020 | E7: =+IF(F7=0,0,CONCATENATE(MID(F7,FIND("-",F7,1)+1,4),"ORAS")) -> 15 HORAS | F7: 2.CAMION TIPO40m³-15 HORAS-3 OP | G7: =+IF(F7="","",VLOOKUP(F7,$H$139:$I$185,2,FALSE)) -> 514916 | P7: =+IF(O7="","",VLOOKUP(O7,$H$139:$I$185,2,FALSE)) | X7: 0 | Y7: =+IF(X7="","",VLOOKUP(X7,$H$139:$I$185,2,FALSE)) -> 0
A8: NORTE 5 ZONA 1 | B8: =+IF(F8=0,0,MID(F8,LEN(F8)-3,1)) -> 3 | C8: 1 | D8: 2014-2020 | E8: =+IF(F8=0,0,CONCATENATE(MID(F8,FIND("-",F8,1)+1,4),"ORAS")) -> 15 HORAS | F8: 2.CAMION TIPO40m³-15 HORAS-3 OP | G8: =+IF(C8=0,0,IF(F8="","",VLOOKUP(F8,$H$139:$I$185,2,FALSE))*C8) -> 514916 | U8: =+U4+U5+U6+U7 -> 0 | X8: 0
A9: NORTE 1 MALETINES | B9: =+IF(F9=0,0,MID(F9,LEN(F9)-3,1)) -> 4 | C9: 1 | D9: 2014-2020 | E9: =+IF(F9=0,0,CONCATENATE(MID(F9,FIND("-",F9,1)+1,4),"ORAS")) -> 15 HORAS | F9: 1.CAMION TIPO40m³-15 HORAS-4 OP | G9: =+IF(F9="","",VLOOKUP(F9,$H$139:$I$185,2,FALSE)) -> 582964
A10: NORTE 1 DIVISORES | B10: =+IF(F10=0,0,MID(F10,LEN(F10)-3,1)) -> 4 | C10: 1 | D10: 2014-2020 | E10: =+IF(F10=0,0,CONCATENATE(MID(F10,FIND("-",F10,1)+1,4),"ORAS")) -> 15 HORAS | F10: 1.CAMION TIPO40m³-15 HORAS-4 OP | G10: =+IF(F10="","",VLOOKUP(F10,$H$139:$I$185,2,FALSE)) -> 582964
B13: =+B10+B9+B8+B7+B6+B5+B4 -> 23 | C13: =+C10+C9+C8+C7+C6+C5+C4 -> 7 | G13: =+G4+G5+G6+G7+G8+G9+G10 -> 3740508 | R13: OPERARIOS ADICIONALES
A14: RUTAS CICLOVÍA 25 M3 | R14: ZONA | S14: CORREDOR | T14: # OPERARIOS | U14: # CAMIONES | V14: MODELO | W14: DISPONIBILIDAD | X14: TIPO DE SERVICIO | Y14: $
A15: CORREDOR | B15: # OPERARIOS | C15: # CAMIONES | D15: MODELO | E15: DISPONIBILIDAD | F15: TIPO DE SERVICIO | G15: $ | R15: CENTRO | S15: APOYO CICLOVÍA | T15: 3 | U15: 0 | V15: NA | W15: =+IF(X15=0,0,CONCATENATE(MID(X15,FIND("-",X15,1)+1,4),"ORAS")) -> 08 HORAS | X15: 41.OPERARIO-08 HORAS | Y15: =+IF(X15="","",VLOOKUP(X15,$H$139:$I$185,2,FALSE))*T15 -> 160731
A16: NORTE 5 ZONA 2 | B16: =+IF(F16=0,0,MID(F16,LEN(F16)-3,1)) -> 3 | C16: 1 | D16: 2014-2020 | E16: =+IF(F16=0,0,CONCATENATE(MID(F16,FIND("-",F16,1)+1,4),"ORAS")) -> 15 HORAS | F16: 17.CAMION TIPO25m³-15 HORAS-3 OP | G16: =+IF(C16=0,0,IF(F16="","",VLOOKUP(F16,$H$139:$I$185,2,FALSE))*C16) -> 443323 | I16: ATN CICLOVÍA, ESCUELA DE LA BICI, ADICIONALES 40 M3 | R16: CENTRO | S16: ADICIONALES | T16: 2 | U16: 0 | V16: NA | W16: =+IF(X16=0,0,CONCATENATE(MID(X16,FIND("-",X16,1)+1,4),"ORAS")) -> 08 HORAS | X16: 41.OPERARIO-08 HORAS | Y16: =+IF(X16="","",VLOOKUP(X16,$H$139:$I$185,2,FALSE))*T16 -> 107154
I17: ZONA | J17: CORREDOR | K17: # OPERARIOS | L17: # CAMIONES | M17: MODELO | N17: DISPONIBILIDAD | O17: TIPO DE SERVICIO | P17: $
I18: NORTE | J18: CICLOVÍA | K18: =+IF(O18=0,0,MID(O18,LEN(O18)-3,1)) -> 3 | L18: 1 | M18: 2014-2020 | N18: =+IF(O18=0,0,CONCATENATE(MID(O18,FIND("-",O18,1)+1,4),"ORAS")) -> 15 HORAS | O18: 2.CAMION TIPO40m³-15 HORAS-3 OP | P18: =+IF(O18="","",VLOOKUP(O18,$H$139:$I$185,2,FALSE)) -> 514916 | R18: CAMIONETA 4 X4 DOBLE CABINA CON PLATON
R19: ZONA | S19: CORREDOR | T19: # OPERARIOS | U19: # CAMIONES | V19: MODELO | W19: DISPONIBILIDAD | X19: TIPO DE SERVICIO | Y19: $
R20: NORTE | S20: APOYO CICLOVÍA | T20: NA | U20: NA | V20: 2014-2020 | W20: =+IF(X20=0,0,CONCATENATE(MID(X20,FIND("-",X20,1)+1,4),"ORAS")) -> 15 HORAS | X20: 34.4X4-15 HORAS | Y20: =+IF(X20="","",VLOOKUP(X20,$H$139:$I$185,2,FALSE)) -> 373234
R21: CENTRO | S21: APOYO CICLOVÍA | T21: NA | U21: NA | V21: 2014-2020 | W21: =+IF(X21=0,0,CONCATENATE(MID(X21,FIND("-",X21,1)+1,4),"ORAS")) -> 15 HORAS | X21: 31.CAMION TIPOFURGON-15 HORAS | Y21: =+IF(X21="","",VLOOKUP(X21,$H$139:$I$185,2,FALSE)) -> 239262
A22: valor total | B22: =+B13+B16 -> 26 | C22: =+C4+C5+C6+C7+C8+C9+C10+C16 -> 8 | G22: =+G13+G16+G17 -> 4183831 | R22: SUR | S22: APOYO CICLOVÍA | T22: NA | U22: NA | V22: 2014-2020 | W22: =+IF(X22=0,0,CONCATENATE(MID(X22,FIND("-",X22,1)+1,4),"ORAS")) -> 15 HORAS | X22: 34.4X4-15 HORAS | Y22: =+IF(X22="","",VLOOKUP(X22,$H$139:$I$185,2,FALSE)) -> 373234
A23: ZONA CENTRO
A24: RUTAS CICLOVÍA 40 M3
A25: CORREDOR | B25: # OPERARIOS | C25: # CAMIONES | D25: MODELO | E25: DISPONIBILIDAD | F25: TIPO DE SERVICIO | G25: $ | J25: TOTAL | K25: =+K4+K5+K18+K6 -> 9 | L25: =SUM(L4:L24) -> 4 | P25: =SUM(P4:P23) -> 1712417 | S25: TOTAL | T25: =+T15+T16+T4+T5+T6+T7 -> 5 | U25: =SUM(U4:U7) -> 0 | Y25: =SUM(Y4:Y22) -> 1253615
A26: CENTRO 1 | B26: =+IF(F26=0,0,MID(F26,LEN(F26)-3,1)) -> 3 | C26: 1 | D26: 2014-2020 | E26: =+IF(F26=0,0,CONCATENATE(MID(F26,FIND("-",F26,1)+1,4),"ORAS")) -> 15 HORAS | F26: 2.CAMION TIPO40m³-15 HORAS-3 OP | G26: =+IF(C26=0,0,IF(F26="","",VLOOKUP(F26,$H$139:$I$185,2,FALSE))*C26) -> 514916
A27: CENTRO 2 | B27: =+IF(F27=0,0,MID(F27,LEN(F27)-3,1)) -> 4 | C27: 1 | D27: 2014-2020 | E27: =+IF(F27=0,0,CONCATENATE(MID(F27,FIND("-",F27,1)+1,4),"ORAS")) -> 15 HORAS | F27: 1.CAMION TIPO40m³-15 HORAS-4 OP | G27: =+IF(F27="","",VLOOKUP(F27,$H$139:$I$185,2,FALSE)) -> 582964
G28: =+IF(F28="","",VLOOKUP(F28,$H$139:$I$185,2,FALSE))
A32: RUTAS CICLOVÍA 25 M3
A33: > | B33: # OPERARIOS | C33: # CAMIONES | D33: MODELO | F33: TIPO DE SERVICIO | G33: $
A34: CENTRO 3 ZONA 2 | B34: =+IF(F34=0,0,MID(F34,LEN(F34)-3,1)) -> 3 | C34: 1 | D34: 2014-2020 | E34: =+IF(F34=0,0,CONCATENATE(MID(F34,FIND("-",F34,1)+1,4),"ORAS")) -> 15 HORAS | F34: 17.CAMION TIPO25m³-15 HORAS-3 OP | G34: =+IF(F34="","",VLOOKUP(F34,$H$139:$I$185,2,FALSE)) -> 443323
G35: =+IF(F35="","",VLOOKUP(F35,$H$139:$I$185,2,FALSE))
G36: =+IF(F36="","",VLOOKUP(F36,$H$139:$I$185,2,FALSE))
G37: =+IF(F37="","",VLOOKUP(F37,$H$139:$I$185,2,FALSE))
G38: =+IF(F38="","",VLOOKUP(F38,$H$139:$I$185,2,FALSE))
A40: valor total | B40: =+B26+B27+B28+B34+B35+B36+B37+B38 -> 10 | C40: =SUM(C26:C31)+C34+C35+C36+C37+C38+C39 -> 3 | E40: =+IF(F40=0,0,CONCATENATE(MID(F40,FIND("-",F40,1)+1,3),"ORAS")) -> 0 | G40: =SUM(G26:G31)+G34 -> 1541203
A41: ZONA SUR
A42: RUTAS CICLOVÍA 40 M3
A43: CORREDOR | B43: # OPERARIOS | C43: # CAMIONES | D43: MODELO | E43: DISPONIBILIDAD | F43: TIPO DE SERVICIO | G43: $
A52: RUTAS CICLOVÍA 25 M3
A53: CORREDOR | B53: # OPERARIOS | C53: # CAMIONES | D53: MODELO | E53: DISPONIBILIDAD | F53: TIPO DE SERVICIO | G53: $
A54: SUR 1 ZONA 1 | B54: =+IF(F54=0,0,MID(F54,LEN(F54)-3,1)) -> 3 | C54: 1 | D54: 2014-2020 | E54: =+IF(F54=0,0,CONCATENATE(MID(F54,FIND("-",F54,1)+1,4),"ORAS")) -> 15 HORAS | F54: 17.CAMION TIPO25m³-15 HORAS-3 OP | G54: =+IF(F54="","",VLOOKUP(F54,$H$139:$I$185,2,FALSE)) -> 443323
...

Sheet 11 AGOSTO
A1: ZONA NORTE
A2: RUTAS CICLOVÍA 40 M3 | I2: LUDICA CICLOVÍA, ESCUELA DE LA BICI, ADICIONALES 25 M3 | R2: CONOS CICLOVÍA 25 M3
A3: CORREDOR | B3: # OPERARIOS | C3: # CAMIONES | D3: MODELO | E3: DISPONIBILIDAD | F3: TIPO DE SERVICIO | G3: $ | I3: ZONA | J3: CORREDOR | K3: # OPERARIOS | L3: # CAMIONES | M3: MODELO | N3: DISPONIBILIDAD | O3: TIPO DE SERVICIO | P3: $ | R3: ZONA | S3: CORREDOR | T3: # OPERARIOS | U3: # CAMIONES | V3: MODELO | W3: DISPONIBILIDAD | X3: TIPO DE SERVICIO | Y3: $
A4: NORTE 1 | B4: =+IF(F4=0,0,MID(F4,LEN(F4)-3,1)) -> 3 | C4: 1 | D4: 2014-2020 | E4: =+IF(F4=0,0,CONCATENATE(MID(F4,FIND("-",F4,1)+1,4),"ORAS")) -> 15 HORAS | F4: 2.CAMION TIPO40m³-15 HORAS-3 OP | G4: =+IF(C4=0,0,IF(F4="","",VLOOKUP(F4,$H$139:$I$185,2,FALSE))*C4) -> 514916 | I4: CENTRO | J4: CAMIONETA FURGONADA PENDONES CALLE 26 | K4: 0 | L4: 1 | M4: 2014-2020 | N4: =+IF(O4=0,0,CONCATENATE(MID(O4,FIND("-",O4,1)+1,4),"ORAS")) -> 15 HORAS | O4: 31.CAMION TIPOFURGON-15 HORAS | P4: =+IF(O4="","",VLOOKUP(O4,$H$139:$I$185,2,FALSE)) -> 239262 | R4: CENTRO | S4: CENTRO 5 CAMION 1 UNICONOS | T4: =+IF(X4=0,0,MID(X4,LEN(X4)-3,1)) -> 4 | U4: 1 | V4: 2014-2020 | W4: =+IF(X4=0,0,CONCATENATE(MID(X4,FIND("-",X4,1)+1,4),"ORAS")) -> 15 HORAS | X4: 16.CAMION TIPO25m³-15 HORAS-4 OP | Y4: =+IF(X4="","",VLOOKUP(X4,$H$139:$I$185,2,FALSE)) -> 501739
A5: NORTE 2 | B5: =+IF(F5=0,0,MID(F5,LEN(F5)-3,1)) -> 3 | C5: 1 | D5: 2014-2020 | E5: =+IF(F5=0,0,CONCATENATE(MID(F5,FIND("-",F5,1)+1,4),"ORAS")) -> 15 HORAS | F5: 2.CAMION TIPO40m³-15 HORAS-3 OP | G5: =+IF(F5="","",VLOOKUP(F5,$H$139:$I$185,2,FALSE)) -> 514916 | I5: NORTE | J5: CICLO SIMULADOR | K5: 2 | L5: 1 | M5: 2014-2020 | N5: =+IF(O5=0,0,CONCATENATE(MID(O5,FIND("-",O5,1)+1,4),"ORAS")) -> 15 HORAS | O5: 18.CAMION TIPO25m³-15 HORAS-2 OP | P5: =+IF(O5="","",VLOOKUP(O5,$H$139:$I$185,2,FALSE)) -> 388652 | R5: CENTRO | S5: CENTRO 5 CAMION 2 UNICONOS | T5: =+IF(X5=0,0,MID(X5,LEN(X5)-3,1)) -> 4 | U5: 1 | V5: 2014-2020 | W5: =+IF(X5=0,0,CONCATENATE(MID(X5,FIND("-",X5,1)+1,4),"ORAS")) -> 15 HORAS | X5: 16.CAMION TIPO25m³-15 HORAS-4 OP | Y5: =+IF(X5="","",VLOOKUP(X5,$H$139:$I$185,2,FALSE)) -> 501739
A6: NORTE 3 | B6: =+IF(F6=0,0,MID(F6,LEN(F6)-3,1)) -> 3 | C6: 1 | D6: 2014-2020 | E6: =+IF(F6=0,0,CONCATENATE(MID(F6,FIND("-",F6,1)+1,4),"ORAS")) -> 15 HORAS | F6: 2.CAMION TIPO40m³-15 HORAS-3 OP | G6: =+IF(F6="","",VLOOKUP(F6,$H$139:$I$185,2,FALSE)) -> 514916 | I6: NORTE | J6: RUTAS SEGURAS | K6: 1 | L6: 1 | M6: 2014-2020 | N6: =+IF(O6=0,0,CONCATENATE(MID(O6,FIND("-",O6,1)+1,4),"ORAS")) -> 04 HORAS | O6: 29.CAMION TIPO25m³-04 HORAS-1 OP | P6: =+IF(O6="","",VLOOKUP(O6,$H$139:$I$185,2,FALSE)) -> 236854 | R6: CENTRO | S6: CENTRO 4 CAMION 3 UNICONOS | T6: =+IF(X6=0,0,MID(X6,LEN(X6)-3,1)) -> 4 | U6: 1 | V6: 2014-2020 | W6: =+IF(X6=0,0,CONCATENATE(MID(X6,FIND("-",X6,1)+1,4),"ORAS")) -> 15 HORAS | X6: 16.CAMION TIPO25m³-15 HORAS-4 OP | Y6: =+IF(X6="","",VLOOKUP(X6,$H$139:$I$185,2,FALSE)) -> 501739
A7: NORTE 4 | B7: =+IF(F7=0,0,MID(F7,LEN(F7)-3,1)) -> 3 | C7: 1 | D7: 2014-2020 | E7: =+IF(F7=0,0,CONCATENATE(MID(F7,FIND("-",F7,1)+1,4),"ORAS")) -> 15 HORAS | F7: 2.CAMION TIPO40m³-15 HORAS-3 OP | G7: =+IF(F7="","",VLOOKUP(F7,$H$139:$I$185,2,FALSE)) -> 514916 | I7: CENTRO | J7: RUTAS SEGURAS | K7: 1 | L7: 1 | M7: 2014-2020 | N7: =+IF(O7=0,0,CONCATENATE(MID(O7,FIND("-",O7,1)+1,4),"ORAS")) -> 04 HORAS | O7: 29.CAMION TIPO25m³-04 HORAS-1 OP | P7: =+IF(O7="","",VLOOKUP(O7,$H$139:$I$185,2,FALSE)) -> 236854 | Y7: =+IF(X7="","",VLOOKUP(X7,$H$139:$I$185,2,FALSE))
A8: NORTE 1 MALETINES | B8: =+IF(F8=0,0,MID(F8,LEN(F8)-3,1)) -> 4 | C8: 1 | D8: 2014-2020 | E8: =+IF(F8=0,0,CONCATENATE(MID(F8,FIND("-",F8,1)+1,4),"ORAS")) -> 15 HORAS | F8: 1.CAMION TIPO40m³-15 HORAS-4 OP | G8: =+IF(C8=0,0,IF(F8="","",VLOOKUP(F8,$H$139:$I$185,2,FALSE))*C8) -> 582964 | I8: SUR | J8: RUTAS SEGURAS | K8: 1 | L8: 1 | M8: 2014-2020 | N8: =+IF(O8=0,0,CONCATENATE(MID(O8,FIND("-",O8,1)+1,4),"ORAS")) -> 04 HORAS | O8: 29.CAMION TIPO25m³-04 HORAS-1 OP | P8: =+IF(O8="","",VLOOKUP(O8,$H$139:$I$185,2,FALSE)) -> 236854 | U8: =+U4+U5+U6+U7 -> 3
A9: NORTE 1 DIVISORES | B9: =+IF(F9=0,0,MID(F9,LEN(F9)-3,1)) -> 4 | C9: 1 | D9: 2014-2020 | E9: =+IF(F9=0,0,CONCATENATE(MID(F9,FIND("-",F9,1)+1,4),"ORAS")) -> 15 HORAS | F9: 1.CAMION TIPO40m³-15 HORAS-4 OP | G9: =+IF(F9="","",VLOOKUP(F9,$H$139:$I$185,2,FALSE)) -> 582964 | I9: CENTRO | J9: CAMIONETA FURGONADA MOVILIDAD | K9: 2 | L9: 1 | M9: 2014-2020 | N9: =+IF(O9=0,0,CONCATENATE(MID(O9,FIND("-",O9,1)+1,4),"ORAS")) -> 15 HORAS | O9: 31.CAMION TIPOFURGON-15 HORAS
G10: =+IF(F10="","",VLOOKUP(F10,$H$139:$I$185,2,FALSE))
B13: =+B10+B9+B8+B7+B6+B5+B4 -> 20 | C13: =+C10+C9+C8+C7+C6+C5+C4 -> 6 | G13: =+G4+G5+G6+G7+G8+G9+G10 -> #VALUE! | R13: OPERARIOS ADICIONALES
A14: RUTAS CICLOVÍA 25 M3 | R14: ZONA | S14: CORREDOR | T14: # OPERARIOS | U14: # CAMIONES | V14: MODELO | W14: DISPONIBILIDAD | X14: TIPO DE SERVICIO | Y14: $
A15: CORREDOR | B15: # OPERARIOS | C15: # CAMIONES | D15: MODELO | E15: DISPONIBILIDAD | F15: TIPO DE SERVICIO | G15: $ | R15: CENTRO | S15: APOYO CICLOVÍA | T15: 3 | U15: 0 | V15: NA | W15: =+IF(X15=0,0,CONCATENATE(MID(X15,FIND("-",X15,1)+1,4),"ORAS")) -> 08 HORAS | X15: 41.OPERARIO-08 HORAS | Y15: =+IF(X15="","",VLOOKUP(X15,$H$139:$I$185,2,FALSE))*T15 -> 160731
G16: =+IF(C16=0,0,IF(F16="","",VLOOKUP(F16,$H$139:$I$185,2,FALSE))*C16) -> 0 | I16: ATN CICLOVÍA, ESCUELA DE LA BICI, ADICIONALES 40 M3 | R16: CENTRO | S16: ADICIONALES | T16: 2 | U16: 0 | V16: NA | W16: =+IF(X16=0,0,CONCATENATE(MID(X16,FIND("-",X16,1)+1,4),"ORAS")) -> 08 HORAS | X16: 41.OPERARIO-08 HORAS | Y16: =+IF(X16="","",VLOOKUP(X16,$H$139:$I$185,2,FALSE))*T16 -> 107154
I17: ZONA | J17: CORREDOR | K17: # OPERARIOS | L17: # CAMIONES | M17: MODELO | N17: DISPONIBILIDAD | O17: TIPO DE SERVICIO | P17: $
I18: NORTE | J18: CICLOVÍA - CONTRAFLUJOS | K18: =+IF(O18=0,0,MID(O18,LEN(O18)-3,1)) -> 3 | L18: 1 | M18: 2014-2020 | N18: =+IF(O18=0,0,CONCATENATE(MID(O18,FIND("-",O18,1)+1,4),"ORAS")) -> 15 HORAS | O18: 2.CAMION TIPO40m³-15 HORAS-3 OP | P18: =+IF(O18="","",VLOOKUP(O18,$H$139:$I$185,2,FALSE)) -> 514916 | R18: CAMIONETA 4 X4 DOBLE CABINA CON PLATON
I19: NORTE | J19: CICLOVÍA - CANECAS | K19: =+IF(O19=0,0,MID(O19,LEN(O19)-3,1)) -> 2 | L19: 1 | M19: 2014-2020 | N19: =+IF(O19=0,0,CONCATENATE(MID(O19,FIND("-",O19,1)+1,4),"ORAS")) -> 15 HORAS | O19: 3.CAMION TIPO40m³-15 HORAS-2 OP | P19: =+IF(O19="","",VLOOKUP(O19,$H$139:$I$185,2,FALSE)) -> 448638 | R19: ZONA | S19: CORREDOR | T19: # OPERARIOS | U19: # CAMIONES | V19: MODELO | W19: DISPONIBILIDAD | X19: TIPO DE SERVICIO | Y19: $
I20: NORTE | J20: CICLOVÍA - DISPONIBLE | K20: =+IF(O20=0,0,MID(O20,LEN(O20)-3,1)) -> 2 | L20: 1 | M20: 2014-2020 | N20: =+IF(O20=0,0,CONCATENATE(MID(O20,FIND("-",O20,1)+1,4),"ORAS")) -> 15 HORAS | O20: 3.CAMION TIPO40m³-15 HORAS-2 OP | P20: =+IF(O20="","",VLOOKUP(O20,$H$139:$I$185,2,FALSE)) -> 448638 | R20: NORTE | S20: APOYO CICLOVÍA | T20: NA | U20: NA | V20: 2014-2020 | W20: =+IF(X20=0,0,CONCATENATE(MID(X20,FIND("-",X20,1)+1,4),"ORAS")) -> 15 HORAS | X20: 34.4X4-15 HORAS | Y20: =+IF(X20="","",VLOOKUP(X20,$H$139:$I$185,2,FALSE)) -> 373234
R21: CENTRO | S21: APOYO CICLOVÍA | T21: NA | U21: NA | V21: 2014-2020 | W21: =+IF(X21=0,0,CONCATENATE(MID(X21,FIND("-",X21,1)+1,4),"ORAS")) -> 15 HORAS | X21: 31.CAMION TIPOFURGON-15 HORAS | Y21: =+IF(X21="","",VLOOKUP(X21,$H$139:$I$185,2,FALSE)) -> 239262
A22: valor total | B22: =+B13+B16 -> 20 | C22: =+C4+C5+C6+C7+C8+C9+C10+C16 -> 6 | G22: =+G13+G16+G17 -> #VALUE! | R22: SUR | S22: APOYO CICLOVÍA | T22: NA | U22: NA | V22: 2014-2020 | W22: =+IF(X22=0,0,CONCATENATE(MID(X22,FIND("-",X22,1)+1,4),"ORAS")) -> 15 HORAS | X22: 34.4X4-15 HORAS | Y22: =+IF(X22="","",VLOOKUP(X22,$H$139:$I$185,2,FALSE)) -> 373234
A23: ZONA CENTRO
A24: RUTAS CICLOVÍA 40 M3
A25: CORREDOR | B25: # OPERARIOS | C25: # CAMIONES | D25: MODELO | E25: DISPONIBILIDAD | F25: TIPO DE SERVICIO | G25: $ | J25: TOTAL | K25: =+K4+K5+K18+K19+K20+K6+K7+K8+K9 -> 14 | L25: =SUM(L4:L24) -> 9 | P25: =SUM(P4:P23) -> 2750668 | S25: TOTAL | T25: =+T15+T16+T4+T5+T6+T7 -> 17 | U25: =SUM(U4:U7) -> 3 | Y25: =SUM(Y4:Y22) -> 2758832
A26: CENTRO 1 | B26: =+IF(F26=0,0,MID(F26,LEN(F26)-3,1)) -> 3 | C26: 1 | D26: 2014-2020 | E26: =+IF(F26=0,0,CONCATENATE(MID(F26,FIND("-",F26,1)+1,4),"ORAS")) -> 15 HORAS | F26: 2.CAMION TIPO40m³-15 HORAS-3 OP | G26: =+IF(C26=0,0,IF(F26="","",VLOOKUP(F26,$H$139:$I$185,2,FALSE))*C26) -> 514916
A27: CENTRO 2 | B27: =+IF(F27=0,0,MID(F27,LEN(F27)-3,1)) -> 4 | C27: 1 | D27: 2014-2020 | E27: =+IF(F27=0,0,CONCATENATE(MID(F27,FIND("-",F27,1)+1,4),"ORAS")) -> 15 HORAS | F27: 1.CAMION TIPO40m³-15 HORAS-4 OP | G27: =+IF(F27="","",VLOOKUP(F27,$H$139:$I$185,2,FALSE)) -> 582964
A28: CENTRO 5 | B28: =+IF(F28=0,0,MID(F28,LEN(F28)-3,1)) -> 3 | C28: 1 | D28: 2014-2020 | E28: =+IF(F28=0,0,CONCATENATE(MID(F28,FIND("-",F28,1)+1,4),"ORAS")) -> 15 HORAS | F28: 2.CAMION TIPO40m³-15 HORAS-3 OP | G28: =+IF(F28="","",VLOOKUP(F28,$H$139:$I$185,2,FALSE)) -> 514916
A32: RUTAS CICLOVÍA 25 M3
A33: > | B33: # OPERARIOS | C33: # CAMIONES | D33: MODELO | F33: TIPO DE SERVICIO | G33: $
A34: CENTRO 3 ZONA 1 | B34: =+IF(F34=0,0,MID(F34,LEN(F34)-3,1)) -> 3 | C34: 1 | D34: 2014-2020 | E34: =+IF(F34=0,0,CONCATENATE(MID(F34,FIND("-",F34,1)+1,4),"ORAS")) -> 15 HORAS | F34: 17.CAMION TIPO25m³-15 HORAS-3 OP | G34: =+IF(F34="","",VLOOKUP(F34,$H$139:$I$185,2,FALSE)) -> 443323
A35: CENTRO 3 ZONA 2 | B35: =+IF(F35=0,0,MID(F35,LEN(F35)-3,1)) -> 3 | C35: 1 | D35: 2014-2020 | E35: =+IF(F35=0,0,CONCATENATE(MID(F35,FIND("-",F35,1)+1,4),"ORAS")) -> 15 HORAS | F35: 17.CAMION TIPO25m³-15 HORAS-3 OP | G35: =+IF(F35="","",VLOOKUP(F35,$H$139:$I$185,2,FALSE)) -> 443323
A36: CENTRO 4 | B36: =+IF(F36=0,0,MID(F36,LEN(F36)-3,1)) -> 3 | C36: 1 | D36: 2014-2020 | E36: =+IF(F36=0,0,CONCATENATE(MID(F36,FIND("-",F36,1)+1,4),"ORAS")) -> 15 HORAS | F36: 17.CAMION TIPO25m³-15 HORAS-3 OP | G36: =+IF(F36="","",VLOOKUP(F36,$H$139:$I$185,2,FALSE)) -> 443323
G37: =+IF(F37="","",VLOOKUP(F37,$H$139:$I$185,2,FALSE))
G38: =+IF(F38="","",VLOOKUP(F38,$H$139:$I$185,2,FALSE))
A40: valor total | B40: =+B26+B27+B28+B34+B35+B36+B37+B38 -> 19 | C40: =SUM(C26:C31)+C34+C35+C36+C37+C38+C39 -> 6 | E40: =+IF(F40=0,0,CONCATENATE(MID(F40,FIND("-",F40,1)+1,3),"ORAS")) -> 0 | G40: =+G26+G27+G28+G29+G30+G31+G34+G35+G36+G37+G38 -> #VALUE!
A41: ZONA SUR
A42: RUTAS CICLOVÍA 40 M3
A43: CORREDOR | B43: # OPERARIOS | C43: # CAMIONES | D43: MODELO | E43: DISPONIBILIDAD | F43: TIPO DE SERVICIO | G43: $
A52: RUTAS CICLOVÍA 25 M3
A53: CORREDOR | B53: # OPERARIOS | C53: # CAMIONES | D53: MODELO | E53: DISPONIBILIDAD | F53: TIPO DE SERVICIO | G53: $
A54: SUR 3 ZONA 1 | B54: =+IF(F54=0,0,MID(F54,LEN(F54)-3,1)) -> 3 | C54: 1 | D54: 2014-2020 | E54: =+IF(F54=0,0,CONCATENATE(MID(F54,FIND("-",F54,1)+1,4),"ORAS")) -> 15 HORAS | F54: 17.CAMION TIPO25m³-15 HORAS-3 OP | G54: =+IF(F54="","",VLOOKUP(F54,$H$139:$I$185,2,FALSE)) -> 443323
...

Sheet 14 AGOSTO 
A1: ZONA NORTE
A2: RUTAS CICLOVÍA 40 M3 | I2: LUDICA CICLOVÍA, ESCUELA DE LA BICI, ADICIONALES 25 M3 | R2: CONOS CICLOVÍA 25 M3
A3: CORREDOR | B3: # OPERARIOS | C3: # CAMIONES | D3: MODELO | E3: DISPONIBILIDAD | F3: TIPO DE SERVICIO | G3: $ | I3: ZONA | J3: CORREDOR | K3: # OPERARIOS | L3: # CAMIONES | M3: MODELO | N3: DISPONIBILIDAD | O3: TIPO DE SERVICIO | P3: $ | R3: ZONA | S3: CORREDOR | T3: # OPERARIOS | U3: # CAMIONES | V3: MODELO | W3: DISPONIBILIDAD | X3: TIPO DE SERVICIO | Y3: $
A4: NORTE 1 | B4: =+IF(F4=0,0,MID(F4,LEN(F4)-3,1)) -> 3 | C4: 1 | D4: 2014-2020 | E4: =+IF(F4=0,0,CONCATENATE(MID(F4,FIND("-",F4,1)+1,4),"ORAS")) -> 15 HORAS | F4: 2.CAMION TIPO40m³-15 HORAS-3 OP | G4: =+IF(C4=0,0,IF(F4="","",VLOOKUP(F4,$H$139:$I$185,2,FALSE))*C4) -> 514916 | I4: CENTRO | J4: CAMIONETA FURGONADA PENDONES CALLE 26 | K4: 0 | L4: 1 | M4: 2014-2020 | N4: =+IF(O4=0,0,CONCATENATE(MID(O4,FIND("-",O4,1)+1,4),"ORAS")) -> 15 HORAS | O4: 31.CAMION TIPOFURGON-15 HORAS | P4: =+IF(O4="","",VLOOKUP(O4,$H$139:$I$185,2,FALSE)) -> 239262 | R4: CENTRO | S4: CENTRO 5 CAMION 1 UNICONOS | T4: =+IF(X4=0,0,MID(X4,LEN(X4)-3,1)) -> 4 | U4: 1 | V4: 2014-2020 | W4: =+IF(X4=0,0,CONCATENATE(MID(X4,FIND("-",X4,1)+1,4),"ORAS")) -> 15 HORAS | X4: 16.CAMION TIPO25m³-15 HORAS-4 OP | Y4: =+IF(X4="","",VLOOKUP(X4,$H$139:$I$185,2,FALSE)) -> 501739
A5: NORTE 2 | B5: =+IF(F5=0,0,MID(F5,LEN(F5)-3,1)) -> 3 | C5: 1 | D5: 2014-2020 | E5: =+IF(F5=0,0,CONCATENATE(MID(F5,FIND("-",F5,1)+1,4),"ORAS")) -> 15 HORAS | F5: 2.CAMION TIPO40m³-15 HORAS-3 OP | G5: =+IF(F5="","",VLOOKUP(F5,$H$139:$I$185,2,FALSE)) -> 514916 | I5: CENTRO | J5: ESCUELA | K5: =+IF(O5=0,0,MID(O5,LEN(O5)-3,1)) -> 3 | L5: 1 | M5: 2014-2020 | N5: =+IF(O5=0,0,CONCATENATE(MID(O5,FIND("-",O5,1)+1,4),"ORAS")) -> 15 HORAS | O5: 17.CAMION TIPO25m³-15 HORAS-3 OP | P5: =+IF(O5="","",VLOOKUP(O5,$H$139:$I$185,2,FALSE)) -> 443323 | R5: CENTRO | S5: CENTRO 5 CAMION 2 UNICONOS | T5: =+IF(X5=0,0,MID(X5,LEN(X5)-3,1)) -> 4 | U5: 1 | V5: 2014-2020 | W5: =+IF(X5=0,0,CONCATENATE(MID(X5,FIND("-",X5,1)+1,4),"ORAS")) -> 15 HORAS | X5: 16.CAMION TIPO25m³-15 HORAS-4 OP | Y5: =+IF(X5="","",VLOOKUP(X5,$H$139:$I$185,2,FALSE)) -> 501739
A6: NORTE 3 | B6: =+IF(F6=0,0,MID(F6,LEN(F6)-3,1)) -> 3 | C6: 1 | D6: 2014-2020 | E6: =+IF(F6=0,0,CONCATENATE(MID(F6,FIND("-",F6,1)+1,4),"ORAS")) -> 15 HORAS | F6: 2.CAMION TIPO40m³-15 HORAS-3 OP | G6: =+IF(F6="","",VLOOKUP(F6,$H$139:$I$185,2,FALSE)) -> 514916 | R6: CENTRO | S6: CENTRO 4 CAMION 3 UNICONOS | T6: =+IF(X6=0,0,MID(X6,LEN(X6)-3,1)) -> 4 | U6: 1 | V6: 2014-2020 | W6: =+IF(X6=0,0,CONCATENATE(MID(X6,FIND("-",X6,1)+1,4),"ORAS")) -> 15 HORAS | X6: 16.CAMION TIPO25m³-15 HORAS-4 OP | Y6: =+IF(X6="","",VLOOKUP(X6,$H$139:$I$185,2,FALSE)) -> 501739
A7: NORTE 4 | B7: =+IF(F7=0,0,MID(F7,LEN(F7)-3,1)) -> 3 | C7: 1 | D7: 2014-2020 | E7: =+IF(F7=0,0,CONCATENATE(MID(F7,FIND("-",F7,1)+1,4),"ORAS")) -> 15 HORAS | F7: 2.CAMION TIPO40m³-15 HORAS-3 OP | G7: =+IF(F7="","",VLOOKUP(F7,$H$139:$I$185,2,FALSE)) -> 514916 | R7: CENTRO | S7: CENTRO 4 CAMION 4 UNICONOS | T7: =+IF(X7=0,0,MID(X7,LEN(X7)-3,1)) -> 4 | U7: 1 | V7: 2014-2020 | W7: =+IF(X7=0,0,CONCATENATE(MID(X7,FIND("-",X7,1)+1,4),"ORAS")) -> 15 HORAS | X7: 16.CAMION TIPO25m³-15 HORAS-4 OP | Y7: =+IF(X7="","",VLOOKUP(X7,$H$139:$I$185,2,FALSE)) -> 501739
A8: NORTE 5 ZONA 1 | B8: =+IF(F8=0,0,MID(F8,LEN(F8)-3,1)) -> 3 | C8: 1 | D8: 2014-2020 | E8: =+IF(F8=0,0,CONCATENATE(MID(F8,FIND("-",F8,1)+1,4),"ORAS")) -> 15 HORAS | F8: 2.CAMION TIPO40m³-15 HORAS-3 OP | G8: =+IF(C8=0,0,IF(F8="","",VLOOKUP(F8,$H$139:$I$185,2,FALSE))*C8) -> 514916 | U8: =+U4+U5+U6+U7 -> 4
A9: NORTE 1 MALETINES | B9: =+IF(F9=0,0,MID(F9,LEN(F9)-3,1)) -> 4 | C9: 1 | D9: 2014-2020 | E9: =+IF(F9=0,0,CONCATENATE(MID(F9,FIND("-",F9,1)+1,4),"ORAS")) -> 15 HORAS | F9: 1.CAMION TIPO40m³-15 HORAS-4 OP | G9: =+IF(F9="","",VLOOKUP(F9,$H$139:$I$185,2,FALSE)) -> 582964
A10: NORTE 1 DIVISORES | B10: =+IF(F10=0,0,MID(F10,LEN(F10)-3,1)) -> 4 | C10: 1 | D10: 2014-2020 | E10: =+IF(F10=0,0,CONCATENATE(MID(F10,FIND("-",F10,1)+1,4),"ORAS")) -> 15 HORAS | F10: 1.CAMION TIPO40m³-15 HORAS-4 OP | G10: =+IF(F10="","",VLOOKUP(F10,$H$139:$I$185,2,FALSE)) -> 582964
B13: =+B10+B9+B8+B7+B6+B5+B4 -> 23 | C13: =+C10+C9+C8+C7+C6+C5+C4 -> 7 | G13: =+G4+G5+G6+G7+G8+G9+G10 -> 3740508 | R13: OPERARIOS ADICIONALES
A14: RUTAS CICLOVÍA 25 M3 | R14: ZONA | S14: CORREDOR | T14: # OPERARIOS | U14: # CAMIONES | V14: MODELO | W14: DISPONIBILIDAD | X14: TIPO DE SERVICIO | Y14: $
A15: CORREDOR | B15: # OPERARIOS | C15: # CAMIONES | D15: MODELO | E15: DISPONIBILIDAD | F15: TIPO DE SERVICIO | G15: $ | R15: CENTRO | S15: APOYO CICLOVÍA | T15: 3 | U15: 0 | V15: NA | W15: =+IF(X15=0,0,CONCATENATE(MID(X15,FIND("-",X15,1)+1,4),"ORAS")) -> 08 HORAS | X15: 41.OPERARIO-08 HORAS | Y15: =+IF(X15="","",VLOOKUP(X15,$H$139:$I$185,2,FALSE))*T15 -> 160731
A16: NORTE 5 ZONA 2 | B16: =+IF(F16=0,0,MID(F16,LEN(F16)-3,1)) -> 3 | C16: 1 | D16: 2014-2020 | E16: =+IF(F16=0,0,CONCATENATE(MID(F16,FIND("-",F16,1)+1,4),"ORAS")) -> 15 HORAS | F16: 17.CAMION TIPO25m³-15 HORAS-3 OP | G16: =+IF(C16=0,0,IF(F16="","",VLOOKUP(F16,$H$139:$I$185,2,FALSE))*C16) -> 443323 | I16: ATN CICLOVÍA, ESCUELA DE LA BICI, ADICIONALES 40 M3 | R16: CENTRO | S16: ADICIONALES | T16: 2 | U16: 0 | V16: NA | W16: =+IF(X16=0,0,CONCATENATE(MID(X16,FIND("-",X16,1)+1,4),"ORAS")) -> 08 HORAS | X16: 41.OPERARIO-08 HORAS | Y16: =+IF(X16="","",VLOOKUP(X16,$H$139:$I$185,2,FALSE))*T16 -> 107154
I17: ZONA | J17: CORREDOR | K17: # OPERARIOS | L17: # CAMIONES | M17: MODELO | N17: DISPONIBILIDAD | O17: TIPO DE SERVICIO | P17: $
K18: =+IF(O18=0,0,MID(O18,LEN(O18)-3,1)) -> 0 | L18: 0 | M18: 2014-2020 | N18: =+IF(O18=0,0,CONCATENATE(MID(O18,FIND("-",O18,1)+1,4),"ORAS")) -> 0 | O18: 0 | P18: =+IF(O18="","",VLOOKUP(O18,$H$139:$I$185,2,FALSE)) -> 0 | R18: CAMIONETA 4 X4 DOBLE CABINA CON PLATON
R19: ZONA | S19: CORREDOR | T19: # OPERARIOS | U19: # CAMIONES | V19: MODELO | W19: DISPONIBILIDAD | X19: TIPO DE SERVICIO | Y19: $
R20: NORTE | S20: APOYO CICLOVÍA | T20: NA | U20: NA | V20: 2014-2020 | W20: =+IF(X20=0,0,CONCATENATE(MID(X20,FIND("-",X20,1)+1,4),"ORAS")) -> 15 HORAS | X20: 34.4X4-15 HORAS | Y20: =+IF(X20="","",VLOOKUP(X20,$H$139:$I$185,2,FALSE)) -> 373234
R21: CENTRO | S21: APOYO CICLOVÍA | T21: NA | U21: NA | V21: 2014-2020 | W21: =+IF(X21=0,0,CONCATENATE(MID(X21,FIND("-",X21,1)+1,4),"ORAS")) -> 15 HORAS | X21: 31.CAMION TIPOFURGON-15 HORAS | Y21: =+IF(X21="","",VLOOKUP(X21,$H$139:$I$185,2,FALSE)) -> 239262
A22: valor total | B22: =SUM(B4:B13)+B16+B17+B18+B19+B20+B21 -> 26 | C22: =+C4+C5+C6+C7+C8+C9+C10+C16 -> 8 | G22: =+G13+G16+G17 -> 4183831 | R22: SUR | S22: APOYO CICLOVÍA | T22: NA | U22: NA | V22: 2014-2020 | W22: =+IF(X22=0,0,CONCATENATE(MID(X22,FIND("-",X22,1)+1,4),"ORAS")) -> 15 HORAS | X22: 34.4X4-15 HORAS | Y22: =+IF(X22="","",VLOOKUP(X22,$H$139:$I$185,2,FALSE)) -> 373234
A23: ZONA CENTRO
A24: RUTAS CICLOVÍA 40 M3
A25: CORREDOR | B25: # OPERARIOS | C25: # CAMIONES | D25: MODELO | E25: DISPONIBILIDAD | F25: TIPO DE SERVICIO | G25: $ | J25: TOTAL | K25: =+K4+K5+K18 -> 3 | L25: =SUM(L4:L24) -> 2 | P25: =SUM(P4:P23) -> 682585 | S25: TOTAL | T25: =+T15+T16+T4+T5+T6+T7 -> 21 | U25: =SUM(U4:U7) -> 4 | Y25: =SUM(Y4:Y22) -> 3260571
A26: CENTRO 1 | B26: =+IF(F26=0,0,MID(F26,LEN(F26)-3,1)) -> 3 | C26: 1 | D26: 2014-2020 | E26: =+IF(F26=0,0,CONCATENATE(MID(F26,FIND("-",F26,1)+1,4),"ORAS")) -> 15 HORAS | F26: 2.CAMION TIPO40m³-15 HORAS-3 OP | G26: =+IF(C26=0,0,IF(F26="","",VLOOKUP(F26,$H$139:$I$185,2,FALSE))*C26) -> 514916
A27: CENTRO 2 | B27: =+IF(F27=0,0,MID(F27,LEN(F27)-3,1)) -> 4 | C27: 1 | D27: 2014-2020 | E27: =+IF(F27=0,0,CONCATENATE(MID(F27,FIND("-",F27,1)+1,4),"ORAS")) -> 15 HORAS | F27: 1.CAMION TIPO40m³-15 HORAS-4 OP | G27: =+IF(F27="","",VLOOKUP(F27,$H$139:$I$185,2,FALSE)) -> 582964
A28: CENTRO 5 | B28: =+IF(F28=0,0,MID(F28,LEN(F28)-3,1)) -> 3 | C28: 1 | D28: 2014-2020 | E28: =+IF(F28=0,0,CONCATENATE(MID(F28,FIND("-",F28,1)+1,4),"ORAS")) -> 15 HORAS | F28: 2.CAMION TIPO40m³-15 HORAS-3 OP | G28: =+IF(F28="","",VLOOKUP(F28,$H$139:$I$185,2,FALSE)) -> 514916
A32: RUTAS CICLOVÍA 25 M3
A33: > | B33: # OPERARIOS | C33: # CAMIONES | D33: MODELO | F33: TIPO DE SERVICIO | G33: $
A34: CENTRO 3 ZONA 1 | B34: =+IF(F34=0,0,MID(F34,LEN(F34)-3,1)) -> 3 | C34: 1 | D34: 2014-2020 | E34: =+IF(F34=0,0,CONCATENATE(MID(F34,FIND("-",F34,1)+1,4),"ORAS")) -> 15 HORAS | F34: 17.CAMION TIPO25m³-15 HORAS-3 OP | G34: =+IF(F34="","",VLOOKUP(F34,$H$139:$I$185,2,FALSE)) -> 443323
A35: CENTRO 3 ZONA 2 | B35: =+IF(F35=0,0,MID(F35,LEN(F35)-3,1)) -> 3 | C35: 1 | D35: 2014-2020 | E35: =+IF(F35=0,0,CONCATENATE(MID(F35,FIND("-",F35,1)+1,4),"ORAS")) -> 15 HORAS | F35: 17.CAMION TIPO25m³-15 HORAS-3 OP | G35: =+IF(F35="","",VLOOKUP(F35,$H$139:$I$185,2,FALSE)) -> 443323
A36: CENTRO 4 | B36: =+IF(F36=0,0,MID(F36,LEN(F36)-3,1)) -> 3 | C36: 1 | D36: 2014-2020 | E36: =+IF(F36=0,0,CONCATENATE(MID(F36,FIND("-",F36,1)+1,4),"ORAS")) -> 15 HORAS | F36: 17.CAMION TIPO25m³-15 HORAS-3 OP | G36: =+IF(F36="","",VLOOKUP(F36,$H$139:$I$185,2,FALSE)) -> 443323
A37: CENTRO 6 ZONA 2 | B37: =+IF(F37=0,0,MID(F37,LEN(F37)-3,1)) -> 3 | C37: 1 | D37: 2014-2020 | E37: =+IF(F37=0,0,CONCATENATE(MID(F37,FIND("-",F37,1)+1,4),"ORAS")) -> 15 HORAS | F37: 17.CAMION TIPO25m³-15 HORAS-3 OP | G37: =+IF(F37="","",VLOOKUP(F37,$H$139:$I$185,2,FALSE)) -> 443323
G38: =+IF(F38="","",VLOOKUP(F38,$H$139:$I$185,2,FALSE))
A40: valor total | B40: =+B26+B27+B28+B34+B35+B36+B37+B38 -> 22 | C40: =SUM(C26:C32)+C34+C35+C36+C37+C38+C39 -> 7 | E40: =+IF(F40=0,0,CONCATENATE(MID(F40,FIND("-",F40,1)+1,3),"ORAS")) -> 0 | G40: =+G26+G27+G28+G29+G30+G31+G34+G35+G36+G37+G38 -> #VALUE!
A41: ZONA SUR
A42: RUTAS CICLOVÍA 40 M3
A43: CORREDOR | B43: # OPERARIOS | C43: # CAMIONES | D43: MODELO | E43: DISPONIBILIDAD | F43: TIPO DE SERVICIO | G43: $
A52: RUTAS CICLOVÍA 25 M3
A53: CORREDOR | B53: # OPERARIOS | C53: # CAMIONES | D53: MODELO | E53: DISPONIBILIDAD | F53: TIPO DE SERVICIO | G53: $
A54: SUR 1 ZONA 1 | B54: =+IF(F54=0,0,MID(F54,LEN(F54)-3,1)) -> 3 | C54: 1 | D54: 2014-2020 | E54: =+IF(F54=0,0,CONCATENATE(MID(F54,FIND("-",F54,1)+1,4),"ORAS")) -> 15 HORAS | F54: 17.CAMION TIPO25m³-15 HORAS-3 OP | G54: =+IF(F54="","",VLOOKUP(F54,$H$139:$I$185,2,FALSE)) -> 443323
...

Sheet 15 AGOSTO
A1: ZONA NORTE
A2: RUTAS CICLOVÍA 40 M3 | I2: LUDICA CICLOVÍA, ESCUELA DE LA BICI, ADICIONALES 25 M3 | R2: CONOS CICLOVÍA 25 M3
A3: CORREDOR | B3: # OPERARIOS | C3: # CAMIONES | D3: MODELO | E3: DISPONIBILIDAD | F3: TIPO DE SERVICIO | G3: $ | I3: ZONA | J3: CORREDOR | K3: # OPERARIOS | L3: # CAMIONES | M3: MODELO | N3: DISPONIBILIDAD | O3: TIPO DE SERVICIO | P3: $ | R3: ZONA | S3: CORREDOR | T3: # OPERARIOS | U3: # CAMIONES | V3: MODELO | W3: DISPONIBILIDAD | X3: TIPO DE SERVICIO | Y3: $
A4: NORTE 1 | B4: =+IF(F4=0,0,MID(F4,LEN(F4)-3,1)) -> 3 | C4: 1 | D4: 2014-2020 | E4: =+IF(F4=0,0,CONCATENATE(MID(F4,FIND("-",F4,1)+1,4),"ORAS")) -> 15 HORAS | F4: 2.CAMION TIPO40m³-15 HORAS-3 OP | G4: =+IF(C4=0,0,IF(F4="","",VLOOKUP(F4,$H$139:$I$185,2,FALSE))*C4) -> 514916 | I4: CENTRO | J4: CAMIONETA FURGONADA PENDONES CALLE 26 | K4: 0 | L4: 1 | M4: 2014-2020 | N4: =+IF(O4=0,0,CONCATENATE(MID(O4,FIND("-",O4,1)+1,4),"ORAS")) -> 15 HORAS | O4: 31.CAMION TIPOFURGON-15 HORAS | P4: =+IF(O4="","",VLOOKUP(O4,$H$139:$I$185,2,FALSE)) -> 239262 | R4: CENTRO | S4: CENTRO 5 CAMION 1 UNICONOS | T4: =+IF(X4=0,0,MID(X4,LEN(X4)-3,1)) -> 4 | U4: 1 | V4: 2014-2020 | W4: =+IF(X4=0,0,CONCATENATE(MID(X4,FIND("-",X4,1)+1,4),"ORAS")) -> 15 HORAS | X4: 16.CAMION TIPO25m³-15 HORAS-4 OP | Y4: =+IF(X4="","",VLOOKUP(X4,$H$139:$I$185,2,FALSE)) -> 501739
A5: NORTE 2 | B5: =+IF(F5=0,0,MID(F5,LEN(F5)-3,1)) -> 3 | C5: 1 | D5: 2014-2020 | E5: =+IF(F5=0,0,CONCATENATE(MID(F5,FIND("-",F5,1)+1,4),"ORAS")) -> 15 HORAS | F5: 2.CAMION TIPO40m³-15 HORAS-3 OP | G5: =+IF(F5="","",VLOOKUP(F5,$H$139:$I$185,2,FALSE)) -> 514916 | I5: CENTRO | J5: ESCUELA | K5: =+IF(O5=0,0,MID(O5,LEN(O5)-3,1)) -> 3 | L5: 1 | M5: 2014-2020 | N5: =+IF(O5=0,0,CONCATENATE(MID(O5,FIND("-",O5,1)+1,4),"ORAS")) -> 15 HORAS | O5: 17.CAMION TIPO25m³-15 HORAS-3 OP | P5: =+IF(O5="","",VLOOKUP(O5,$H$139:$I$185,2,FALSE)) -> 443323 | R5: CENTRO | S5: CENTRO 5 CAMION 2 UNICONOS | T5: =+IF(X5=0,0,MID(X5,LEN(X5)-3,1)) -> 4 | U5: 1 | V5: 2014-2020 | W5: =+IF(X5=0,0,CONCATENATE(MID(X5,FIND("-",X5,1)+1,4),"ORAS")) -> 15 HORAS | X5: 16.CAMION TIPO25m³-15 HORAS-4 OP | Y5: =+IF(X5="","",VLOOKUP(X5,$H$139:$I$185,2,FALSE)) -> 501739
A6: NORTE 3 | B6: =+IF(F6=0,0,MID(F6,LEN(F6)-3,1)) -> 3 | C6: 1 | D6: 2014-2020 | E6: =+IF(F6=0,0,CONCATENATE(MID(F6,FIND("-",F6,1)+1,4),"ORAS")) -> 15 HORAS | F6: 2.CAMION TIPO40m³-15 HORAS-3 OP | G6: =+IF(F6="","",VLOOKUP(F6,$H$139:$I$185,2,FALSE)) -> 514916 | R6: CENTRO | S6: CENTRO 4 CAMION 3 UNICONOS | T6: =+IF(X6=0,0,MID(X6,LEN(X6)-3,1)) -> 4 | U6: 1 | V6: 2014-2020 | W6: =+IF(X6=0,0,CONCATENATE(MID(X6,FIND("-",X6,1)+1,4),"ORAS")) -> 15 HORAS | X6: 16.CAMION TIPO25m³-15 HORAS-4 OP | Y6: =+IF(X6="","",VLOOKUP(X6,$H$139:$I$185,2,FALSE)) -> 501739
A7: NORTE 4 | B7: =+IF(F7=0,0,MID(F7,LEN(F7)-3,1)) -> 3 | C7: 1 | D7: 2014-2020 | E7: =+IF(F7=0,0,CONCATENATE(MID(F7,FIND("-",F7,1)+1,4),"ORAS")) -> 15 HORAS | F7: 2.CAMION TIPO40m³-15 HORAS-3 OP | G7: =+IF(F7="","",VLOOKUP(F7,$H$139:$I$185,2,FALSE)) -> 514916 | R7: CENTRO | S7: CENTRO 4 CAMION 4 UNICONOS | T7: =+IF(X7=0,0,MID(X7,LEN(X7)-3,1)) -> 4 | U7: 1 | V7: 2014-2020 | W7: =+IF(X7=0,0,CONCATENATE(MID(X7,FIND("-",X7,1)+1,4),"ORAS")) -> 15 HORAS | X7: 16.CAMION TIPO25m³-15 HORAS-4 OP | Y7: =+IF(X7="","",VLOOKUP(X7,$H$139:$I$185,2,FALSE)) -> 501739
A8: NORTE 5 ZONA 1 | B8: =+IF(F8=0,0,MID(F8,LEN(F8)-3,1)) -> 3 | C8: 1 | D8: 2014-2020 | E8: =+IF(F8=0,0,CONCATENATE(MID(F8,FIND("-",F8,1)+1,4),"ORAS")) -> 15 HORAS | F8: 2.CAMION TIPO40m³-15 HORAS-3 OP | G8: =+IF(C8=0,0,IF(F8="","",VLOOKUP(F8,$H$139:$I$185,2,FALSE))*C8) -> 514916 | U8: =+U4+U5+U6+U7 -> 4
A9: NORTE 1 MALETINES | B9: =+IF(F9=0,0,MID(F9,LEN(F9)-3,1)) -> 4 | C9: 1 | D9: 2014-2020 | E9: =+IF(F9=0,0,CONCATENATE(MID(F9,FIND("-",F9,1)+1,4),"ORAS")) -> 15 HORAS | F9: 1.CAMION TIPO40m³-15 HORAS-4 OP | G9: =+IF(F9="","",VLOOKUP(F9,$H$139:$I$185,2,FALSE)) -> 582964
A10: NORTE 1 DIVISORES | B10: =+IF(F10=0,0,MID(F10,LEN(F10)-3,1)) -> 4 | C10: 1 | D10: 2014-2020 | E10: =+IF(F10=0,0,CONCATENATE(MID(F10,FIND("-",F10,1)+1,4),"ORAS")) -> 15 HORAS | F10: 1.CAMION TIPO40m³-15 HORAS-4 OP | G10: =+IF(F10="","",VLOOKUP(F10,$H$139:$I$185,2,FALSE)) -> 582964
B13: =+B10+B9+B8+B7+B6+B5+B4 -> 23 | C13: =+C10+C9+C8+C7+C6+C5+C4 -> 7 | G13: =+G4+G5+G6+G7+G8+G9+G10 -> 3740508 | R13: OPERARIOS ADICIONALES
A14: RUTAS CICLOVÍA 25 M3 | R14: ZONA | S14: CORREDOR | T14: # OPERARIOS | U14: # CAMIONES | V14: MODELO | W14: DISPONIBILIDAD | X14: TIPO DE SERVICIO | Y14: $
A15: CORREDOR | B15: # OPERARIOS | C15: # CAMIONES | D15: MODELO | E15: DISPONIBILIDAD | F15: TIPO DE SERVICIO | G15: $ | R15: CENTRO | S15: APOYO CICLOVÍA | T15: 3 | U15: 0 | V15: NA | W15: =+IF(X15=0,0,CONCATENATE(MID(X15,FIND("-",X15,1)+1,4),"ORAS")) -> 08 HORAS | X15: 41.OPERARIO-08 HORAS | Y15: =+IF(X15="","",VLOOKUP(X15,$H$139:$I$185,2,FALSE))*T15 -> 160731
A16: NORTE 5 ZONA 2 | B16: =+IF(F16=0,0,MID(F16,LEN(F16)-3,1)) -> 3 | C16: 1 | D16: 2014-2020 | E16: =+IF(F16=0,0,CONCATENATE(MID(F16,FIND("-",F16,1)+1,4),"ORAS")) -> 15 HORAS | F16: 17.CAMION TIPO25m³-15 HORAS-3 OP | G16: =+IF(C16=0,0,IF(F16="","",VLOOKUP(F16,$H$139:$I$185,2,FALSE))*C16) -> 443323 | I16: ATN CICLOVÍA, ESCUELA DE LA BICI, ADICIONALES 40 M3 | R16: CENTRO | S16: ADICIONALES | T16: 2 | U16: 0 | V16: NA | W16: =+IF(X16=0,0,CONCATENATE(MID(X16,FIND("-",X16,1)+1,4),"ORAS")) -> 08 HORAS | X16: 41.OPERARIO-08 HORAS | Y16: =+IF(X16="","",VLOOKUP(X16,$H$139:$I$185,2,FALSE))*T16 -> 107154
I17: ZONA | J17: CORREDOR | K17: # OPERARIOS | L17: # CAMIONES | M17: MODELO | N17: DISPONIBILIDAD | O17: TIPO DE SERVICIO | P17: $
K18: =+IF(O18=0,0,MID(O18,LEN(O18)-3,1)) -> 0 | L18: 0 | M18: 2014-2020 | N18: =+IF(O18=0,0,CONCATENATE(MID(O18,FIND("-",O18,1)+1,4),"ORAS")) -> 0 | O18: 0 | P18: =+IF(O18="","",VLOOKUP(O18,$H$139:$I$185,2,FALSE)) -> 0 | R18: CAMIONETA 4 X4 DOBLE CABINA CON PLATON
R19: ZONA | S19: CORREDOR | T19: # OPERARIOS | U19: # CAMIONES | V19: MODELO | W19: DISPONIBILIDAD | X19: TIPO DE SERVICIO | Y19: $
R20: NORTE | S20: APOYO CICLOVÍA | T20: NA | U20: NA | V20: 2014-2020 | W20: =+IF(X20=0,0,CONCATENATE(MID(X20,FIND("-",X20,1)+1,4),"ORAS")) -> 15 HORAS | X20: 34.4X4-15 HORAS | Y20: =+IF(X20="","",VLOOKUP(X20,$H$139:$I$185,2,FALSE)) -> 373234
R21: CENTRO | S21: APOYO CICLOVÍA | T21: NA | U21: NA | V21: 2014-2020 | W21: =+IF(X21=0,0,CONCATENATE(MID(X21,FIND("-",X21,1)+1,4),"ORAS")) -> 15 HORAS | X21: 31.CAMION TIPOFURGON-15 HORAS | Y21: =+IF(X21="","",VLOOKUP(X21,$H$139:$I$185,2,FALSE)) -> 239262
A22: valor total | B22: =SUM(B4:B13)+B16+B17+B18+B19+B20+B21 -> 26 | C22: =+C4+C5+C6+C7+C8+C9+C10+C16 -> 8 | G22: =+G13+G16+G17 -> 4183831 | R22: SUR | S22: APOYO CICLOVÍA | T22: NA | U22: NA | V22: 2014-2020 | W22: =+IF(X22=0,0,CONCATENATE(MID(X22,FIND("-",X22,1)+1,4),"ORAS")) -> 15 HORAS | X22: 34.4X4-15 HORAS | Y22: =+IF(X22="","",VLOOKUP(X22,$H$139:$I$185,2,FALSE)) -> 373234
A23: ZONA CENTRO
A24: RUTAS CICLOVÍA 40 M3
A25: CORREDOR | B25: # OPERARIOS | C25: # CAMIONES | D25: MODELO | E25: DISPONIBILIDAD | F25: TIPO DE SERVICIO | G25: $ | J25: TOTAL | K25: =+K4+K5+K18 -> 3 | L25: =SUM(L4:L24) -> 2 | P25: =SUM(P4:P23) -> 682585 | S25: TOTAL | T25: =+T15+T16+T4+T5+T6+T7 -> 21 | U25: =SUM(U4:U7) -> 4 | Y25: =SUM(Y4:Y22) -> 3260571
A26: CENTRO 1 | B26: =+IF(F26=0,0,MID(F26,LEN(F26)-3,1)) -> 3 | C26: 1 | D26: 2014-2020 | E26: =+IF(F26=0,0,CONCATENATE(MID(F26,FIND("-",F26,1)+1,4),"ORAS")) -> 15 HORAS | F26: 2.CAMION TIPO40m³-15 HORAS-3 OP | G26: =+IF(C26=0,0,IF(F26="","",VLOOKUP(F26,$H$139:$I$185,2,FALSE))*C26) -> 514916
A27: CENTRO 2 | B27: =+IF(F27=0,0,MID(F27,LEN(F27)-3,1)) -> 4 | C27: 1 | D27: 2014-2020 | E27: =+IF(F27=0,0,CONCATENATE(MID(F27,FIND("-",F27,1)+1,4),"ORAS")) -> 15 HORAS | F27: 1.CAMION TIPO40m³-15 HORAS-4 OP | G27: =+IF(F27="","",VLOOKUP(F27,$H$139:$I$185,2,FALSE)) -> 582964
A28: CENTRO 5 | B28: =+IF(F28=0,0,MID(F28,LEN(F28)-3,1)) -> 3 | C28: 1 | D28: 2014-2020 | E28: =+IF(F28=0,0,CONCATENATE(MID(F28,FIND("-",F28,1)+1,4),"ORAS")) -> 15 HORAS | F28: 2.CAMION TIPO40m³-15 HORAS-3 OP | G28: =+IF(F28="","",VLOOKUP(F28,$H$139:$I$185,2,FALSE)) -> 514916
A32: RUTAS CICLOVÍA 25 M3
A33: > | B33: # OPERARIOS | C33: # CAMIONES | D33: MODELO | F33: TIPO DE SERVICIO | G33: $
A34: CENTRO 3 ZONA 1 | B34: =+IF(F34=0,0,MID(F34,LEN(F34)-3,1)) -> 3 | C34: 1 | D34: 2014-2020 | E34: =+IF(F34=0,0,CONCATENATE(MID(F34,FIND("-",F34,1)+1,4),"ORAS")) -> 15 HORAS | F34: 17.CAMION TIPO25m³-15 HORAS-3 OP | G34: =+IF(F34="","",VLOOKUP(F34,$H$139:$I$185,2,FALSE)) -> 443323
A35: CENTRO 3 ZONA 2 | B35: =+IF(F35=0,0,MID(F35,LEN(F35)-3,1)) -> 3 | C35: 1 | D35: 2014-2020 | E35: =+IF(F35=0,0,CONCATENATE(MID(F35,FIND("-",F35,1)+1,4),"ORAS")) -> 15 HORAS | F35: 17.CAMION TIPO25m³-15 HORAS-3 OP | G35: =+IF(F35="","",VLOOKUP(F35,$H$139:$I$185,2,FALSE)) -> 443323
A36: CENTRO 4 | B36: =+IF(F36=0,0,MID(F36,LEN(F36)-3,1)) -> 3 | C36: 1 | D36: 2014-2020 | E36: =+IF(F36=0,0,CONCATENATE(MID(F36,FIND("-",F36,1)+1,4),"ORAS")) -> 15 HORAS | F36: 17.CAMION TIPO25m³-15 HORAS-3 OP | G36: =+IF(F36="","",VLOOKUP(F36,$H$139:$I$185,2,FALSE)) -> 443323
A37: CENTRO 6 ZONA 1 | B37: =+IF(F37=0,0,MID(F37,LEN(F37)-3,1)) -> 3 | C37: 1 | D37: 2014-2020 | E37: =+IF(F37=0,0,CONCATENATE(MID(F37,FIND("-",F37,1)+1,4),"ORAS")) -> 15 HORAS | F37: 17.CAMION TIPO25m³-15 HORAS-3 OP | G37: =+IF(F37="","",VLOOKUP(F37,$H$139:$I$185,2,FALSE)) -> 443323
A38: CENTRO 6 ZONA 2 | B38: =+IF(F38=0,0,MID(F38,LEN(F38)-3,1)) -> 3 | C38: 1 | D38: 2014-2020 | E38: =+IF(F38=0,0,CONCATENATE(MID(F38,FIND("-",F38,1)+1,4),"ORAS")) -> 15 HORAS | F38: 17.CAMION TIPO25m³-15 HORAS-3 OP | G38: =+IF(F38="","",VLOOKUP(F38,$H$139:$I$185,2,FALSE)) -> 443323
A40: valor total | B40: =+B26+B27+B28+B34+B35+B36+B37+B38 -> 25 | C40: =SUM(C26:C32)+C34+C35+C36+C37+C38+C39 -> 8 | E40: =+IF(F40=0,0,CONCATENATE(MID(F40,FIND("-",F40,1)+1,3),"ORAS")) -> 0 | G40: =+G26+G27+G28+G29+G30+G31+G34+G35+G36+G37+G38 -> 3829411
A41: ZONA SUR
A42: RUTAS CICLOVÍA 40 M3
A43: CORREDOR | B43: # OPERARIOS | C43: # CAMIONES | D43: MODELO | E43: DISPONIBILIDAD | F43: TIPO DE SERVICIO | G43: $
A52: RUTAS CICLOVÍA 25 M3
A53: CORREDOR | B53: # OPERARIOS | C53: # CAMIONES | D53: MODELO | E53: DISPONIBILIDAD | F53: TIPO DE SERVICIO | G53: $
A54: SUR 1 ZONA 1 | B54: =+IF(F54=0,0,MID(F54,LEN(F54)-3,1)) -> 3 | C54: 1 | D54: 2014-2020 | E54: =+IF(F54=0,0,CONCATENATE(MID(F54,FIND("-",F54,1)+1,4),"ORAS")) -> 15 HORAS | F54: 17.CAMION TIPO25m³-15 HORAS-3 OP | G54: =+IF(F54="","",VLOOKUP(F54,$H$139:$I$185,2,FALSE)) -> 443323
...

Sheet 21 AGOSTO
A1: ZONA NORTE
A2: RUTAS CICLOVÍA 40 M3 | I2: LUDICA CICLOVÍA, ESCUELA DE LA BICI, ADICIONALES 25 M3 | R2: CONOS CICLOVÍA 25 M3
A3: CORREDOR | B3: # OPERARIOS | C3: # CAMIONES | D3: MODELO | E3: DISPONIBILIDAD | F3: TIPO DE SERVICIO | G3: $ | I3: ZONA | J3: CORREDOR | K3: # OPERARIOS | L3: # CAMIONES | M3: MODELO | N3: DISPONIBILIDAD | O3: TIPO DE SERVICIO | P3: $ | R3: ZONA | S3: CORREDOR | T3: # OPERARIOS | U3: # CAMIONES | V3: MODELO | W3: DISPONIBILIDAD | X3: TIPO DE SERVICIO | Y3: $
A4: NORTE 1 | B4: =+IF(F4=0,0,MID(F4,LEN(F4)-3,1)) -> 3 | C4: 1 | D4: 2014-2020 | E4: =+IF(F4=0,0,CONCATENATE(MID(F4,FIND("-",F4,1)+1,4),"ORAS")) -> 15 HORAS | F4: 2.CAMION TIPO40m³-15 HORAS-3 OP | G4: =+IF(C4=0,0,IF(F4="","",VLOOKUP(F4,$H$139:$I$185,2,FALSE))*C4) -> 514916 | I4: CENTRO | J4: CAMIONETA FURGONADA PENDONES CALLE 26 | K4: 0 | L4: 1 | M4: 2014-2020 | N4: =+IF(O4=0,0,CONCATENATE(MID(O4,FIND("-",O4,1)+1,4),"ORAS")) -> 15 HORAS | O4: 31.CAMION TIPOFURGON-15 HORAS | P4: =+IF(O4="","",VLOOKUP(O4,$H$139:$I$185,2,FALSE)) -> 239262 | R4: CENTRO | S4: CENTRO 5 CAMION 1 UNICONOS | T4: =+IF(X4=0,0,MID(X4,LEN(X4)-3,1)) -> 3 | U4: 1 | V4: 2014-2020 | W4: =+IF(X4=0,0,CONCATENATE(MID(X4,FIND("-",X4,1)+1,4),"ORAS")) -> 15 HORAS | X4: 17.CAMION TIPO25m³-15 HORAS-3 OP | Y4: =+IF(X4="","",VLOOKUP(X4,$H$139:$I$185,2,FALSE)) -> 443323
A5: NORTE 2 | B5: =+IF(F5=0,0,MID(F5,LEN(F5)-3,1)) -> 3 | C5: 1 | D5: 2014-2020 | E5: =+IF(F5=0,0,CONCATENATE(MID(F5,FIND("-",F5,1)+1,4),"ORAS")) -> 15 HORAS | F5: 2.CAMION TIPO40m³-15 HORAS-3 OP | G5: =+IF(F5="","",VLOOKUP(F5,$H$139:$I$185,2,FALSE)) -> 514916 | I5: CENTRO | J5: ESCUELA | K5: =+IF(O5=0,0,MID(O5,LEN(O5)-3,1)) -> 3 | L5: 1 | M5: 2014-2020 | N5: =+IF(O5=0,0,CONCATENATE(MID(O5,FIND("-",O5,1)+1,4),"ORAS")) -> 15 HORAS | O5: 17.CAMION TIPO25m³-15 HORAS-3 OP | P5: =+IF(O5="","",VLOOKUP(O5,$H$139:$I$185,2,FALSE)) -> 443323 | R5: CENTRO | S5: CENTRO 5 CAMION 2 UNICONOS | T5: =+IF(X5=0,0,MID(X5,LEN(X5)-3,1)) -> 4 | U5: 1 | V5: 2014-2020 | W5: =+IF(X5=0,0,CONCATENATE(MID(X5,FIND("-",X5,1)+1,4),"ORAS")) -> 15 HORAS | X5: 16.CAMION TIPO25m³-15 HORAS-4 OP | Y5: =+IF(X5="","",VLOOKUP(X5,$H$139:$I$185,2,FALSE)) -> 501739
A6: NORTE 3 | B6: =+IF(F6=0,0,MID(F6,LEN(F6)-3,1)) -> 3 | C6: 1 | D6: 2014-2020 | E6: =+IF(F6=0,0,CONCATENATE(MID(F6,FIND("-",F6,1)+1,4),"ORAS")) -> 15 HORAS | F6: 2.CAMION TIPO40m³-15 HORAS-3 OP | G6: =+IF(F6="","",VLOOKUP(F6,$H$139:$I$185,2,FALSE)) -> 514916 | R6: CENTRO | S6: CENTRO 4 CAMION 3 UNICONOS | T6: =+IF(X6=0,0,MID(X6,LEN(X6)-3,1)) -> 4 | U6: 1 | V6: 2014-2020 | W6: =+IF(X6=0,0,CONCATENATE(MID(X6,FIND("-",X6,1)+1,4),"ORAS")) -> 15 HORAS | X6: 16.CAMION TIPO25m³-15 HORAS-4 OP | Y6: =+IF(X6="","",VLOOKUP(X6,$H$139:$I$185,2,FALSE)) -> 501739
A7: NORTE 4 | B7: =+IF(F7=0,0,MID(F7,LEN(F7)-3,1)) -> 3 | C7: 1 | D7: 2014-2020 | E7: =+IF(F7=0,0,CONCATENATE(MID(F7,FIND("-",F7,1)+1,4),"ORAS")) -> 15 HORAS | F7: 2.CAMION TIPO40m³-15 HORAS-3 OP | G7: =+IF(F7="","",VLOOKUP(F7,$H$139:$I$185,2,FALSE)) -> 514916 | X7: 0 | Y7: =+IF(X7="","",VLOOKUP(X7,$H$139:$I$185,2,FALSE)) -> 0
A8: NORTE 5 ZONA 1 | B8: =+IF(F8=0,0,MID(F8,LEN(F8)-3,1)) -> 3 | C8: 1 | D8: 2014-2020 | E8: =+IF(F8=0,0,CONCATENATE(MID(F8,FIND("-",F8,1)+1,4),"ORAS")) -> 15 HORAS | F8: 2.CAMION TIPO40m³-15 HORAS-3 OP | G8: =+IF(C8=0,0,IF(F8="","",VLOOKUP(F8,$H$139:$I$185,2,FALSE))*C8) -> 514916 | U8: =+U4+U5+U6+U7 -> 3
A9: NORTE 1 MALETINES | B9: =+IF(F9=0,0,MID(F9,LEN(F9)-3,1)) -> 4 | C9: 1 | D9: 2014-2020 | E9: =+IF(F9=0,0,CONCATENATE(MID(F9,FIND("-",F9,1)+1,4),"ORAS")) -> 15 HORAS | F9: 1.CAMION TIPO40m³-15 HORAS-4 OP | G9: =+IF(F9="","",VLOOKUP(F9,$H$139:$I$185,2,FALSE)) -> 582964
A10: NORTE 1 DIVISORES | B10: =+IF(F10=0,0,MID(F10,LEN(F10)-3,1)) -> 4 | C10: 1 | D10: 2014-2020 | E10: =+IF(F10=0,0,CONCATENATE(MID(F10,FIND("-",F10,1)+1,4),"ORAS")) -> 15 HORAS | F10: 1.CAMION TIPO40m³-15 HORAS-4 OP | G10: =+IF(F10="","",VLOOKUP(F10,$H$139:$I$185,2,FALSE)) -> 582964
B13: =+B10+B9+B8+B7+B6+B5+B4 -> 23 | C13: =+C10+C9+C8+C7+C6+C5+C4 -> 7 | G13: =+G4+G5+G6+G7+G8+G9+G10 -> 3740508 | R13: OPERARIOS ADICIONALES
A14: RUTAS CICLOVÍA 25 M3 | R14: ZONA | S14: CORREDOR | T14: # OPERARIOS | U14: # CAMIONES | V14: MODELO | W14: DISPONIBILIDAD | X14: TIPO DE SERVICIO | Y14: $
A15: CORREDOR | B15: # OPERARIOS | C15: # CAMIONES | D15: MODELO | E15: DISPONIBILIDAD | F15: TIPO DE SERVICIO | G15: $ | R15: CENTRO | S15: APOYO CICLOVÍA | T15: 3 | U15: 0 | V15: NA | W15: =+IF(X15=0,0,CONCATENATE(MID(X15,FIND("-",X15,1)+1,4),"ORAS")) -> 08 HORAS | X15: 41.OPERARIO-08 HORAS | Y15: =+IF(X15="","",VLOOKUP(X15,$H$139:$I$185,2,FALSE))*T15 -> 160731
A16: NORTE 5 ZONA 2 | B16: =+IF(F16=0,0,MID(F16,LEN(F16)-3,1)) -> 3 | C16: 1 | D16: 2014-2020 | E16: =+IF(F16=0,0,CONCATENATE(MID(F16,FIND("-",F16,1)+1,4),"ORAS")) -> 15 HORAS | F16: 17.CAMION TIPO25m³-15 HORAS-3 OP | G16: =+IF(C16=0,0,IF(F16="","",VLOOKUP(F16,$H$139:$I$185,2,FALSE))*C16) -> 443323 | I16: ATN CICLOVÍA, ESCUELA DE LA BICI, ADICIONALES 40 M3 | R16: CENTRO | S16: ADICIONALES | T16: 2 | U16: 0 | V16: NA | W16: =+IF(X16=0,0,CONCATENATE(MID(X16,FIND("-",X16,1)+1,4),"ORAS")) -> 08 HORAS | X16: 41.OPERARIO-08 HORAS | Y16: =+IF(X16="","",VLOOKUP(X16,$H$139:$I$185,2,FALSE))*T16 -> 107154
