Workbook
Name d: [1]DATOS!$H$4:$H$12
Name dep: [1]DATOS!$D$3:$D$6
Name Deportes1: [2]DATOS!$H$4:$H$12
Name Deportes1: [2]DATOS!$H$4:$H$12
Name Deportes1: [3]DATOS!$H$4:$H$12
Name Deportes2: [2]DATOS!$I$4:$I$11
Name Deportes2: [2]DATOS!$I$4:$I$11
Name Deportes2: [3]DATOS!$I$4:$I$11
Name Deportes3: [2]DATOS!$K$4:$K$8
Name Deportes3: [2]DATOS!$K$4:$K$8
Name Deportes3: [3]DATOS!$K$4:$K$8
Name FF: [4]DATOS!$K$4:$K$8
Name INCLUIYENTE: [5]DATOS!$H$4:$H$12
Name INCLUYENTE: [5]DATOS!$J$4:$J$12
Name JUVENTUD: [6]DATOS!$J$4:$J$12
Name OTRPO: [7]DATOS!$D$3:$D$6
Name Proyecto: [2]DATOS!$D$3:$D$6
Name Proyecto: [2]DATOS!$D$3:$D$6
Name Proyecto: [3]DATOS!$D$3:$D$6
Name Recreacion: [2]DATOS!$J$4:$J$12
Name Recreacion: [2]DATOS!$J$4:$J$12
Name Recreacion: [3]DATOS!$J$4:$J$12
Name TEC: [8]DATOS!$I$4:$I$11

Sheet PLANTILLA
A1: ZONA NORTE
A2: RUTAS CICLOVÍA 40 M3 | I2: LUDICA CICLOVÍA, ESCUELA DE LA BICI, ADICIONALES 25 M3 | R2: CONOS CICLOVÍA 25 M3
A3: CORREDOR | B3: # OPERARIOS | C3: # CAMIONES | D3: MODELO | E3: DISPONIBILIDAD | F3: TIPO DE SERVICIO | G3: $ | I3: ZONA | J3: CORREDOR | K3: # OPERARIOS | L3: # CAMIONES | M3: MODELO | N3: DISPONIBILIDAD | O3: TIPO DE SERVICIO | P3: $ | R3: ZONA | S3: CORREDOR | T3: # OPERARIOS | U3: # CAMIONES | V3: MODELO | W3: DISPONIBILIDAD | X3: TIPO DE SERVICIO | Y3: $
A4: NORTE 1 | B4: =+IF(F4=0,0,MID(F4,LEN(F4)-3,1)) -> 0 | C4: 1 | D4: 2014-2020 | E4: =+IF(F4=0,0,CONCATENATE(MID(F4,FIND("-",F4,1)+1,4),"ORAS")) -> 0 | F4: 0 | G4: =+IF(F4="","",VLOOKUP(F4,$H$139:$I$191,2,FALSE)) -> 0 | I4: CENTRO | J4: CAMIONETA FURGONADA PENDONES CALLE 26 | K4: 0 | L4: 1 | M4: 2014-2020 | N4: =+IF(O4=0,0,CONCATENATE(MID(O4,FIND("-",O4,1)+1,4),"ORAS")) -> 0 | O4: 0 | P4: =+IF(O4="","",VLOOKUP(O4,$H$139:$I$191,2,FALSE)) -> 0 | R4: CENTRO | S4: CENTRO 5 CAMION 1 UNICONOS | T4: =+IF(X4=0,0,MID(X4,LEN(X4)-3,1)) -> 0 | U4: 1 | V4: 2014-2020 | W4: =+IF(X4=0,0,CONCATENATE(MID(X4,FIND("-",X4,1)+1,4),"ORAS")) -> 0 | X4: 0 | Y4: =+IF(X4="","",VLOOKUP(X4,$H$139:$I$191,2,FALSE)) -> 0
A5: NORTE 2 | B5: =+IF(F5=0,0,MID(F5,LEN(F5)-3,1)) -> 0 | C5: 1 | D5: 2014-2020 | E5: =+IF(F5=0,0,CONCATENATE(MID(F5,FIND("-",F5,1)+1,4),"ORAS")) -> 0 | F5: 0 | G5: =+IF(F5="","",VLOOKUP(F5,$H$139:I$191,2,FALSE)) -> 0 | I5: CENTRO | J5: ESCUELA | K5: 3 | L5: 1 | M5: 2014-2020 | N5: =+IF(O5=0,0,CONCATENATE(MID(O5,FIND("-",O5,1)+1,4),"ORAS")) -> 0 | O5: 0 | P5: =+IF(O5="","",VLOOKUP(O5,$H$139:$I$191,2,FALSE)) -> 0 | R5: CENTRO | S5: CENTRO 5 CAMION 2 UNICONOS | T5: =+IF(X5=0,0,MID(X5,LEN(X5)-3,1)) -> 0 | U5: 1 | V5: 2014-2020 | W5: =+IF(X5=0,0,CONCATENATE(MID(X5,FIND("-",X5,1)+1,4),"ORAS")) -> 0 | X5: 0 | Y5: =+IF(X5="","",VLOOKUP(X5,$H$139:$I$191,2,FALSE)) -> 0
A6: NORTE 3 | B6: =+IF(F6=0,0,MID(F6,LEN(F6)-3,1)) -> 0 | C6: 1 | D6: 2014-2020 | E6: =+IF(F6=0,0,CONCATENATE(MID(F6,FIND("-",F6,1)+1,4),"ORAS")) -> 0 | F6: 0 | G6: =+IF(F6="","",VLOOKUP(F6,$H$139:I$191,2,FALSE)) -> 0 | N6: =+IF(O6=0,0,CONCATENATE(MID(O6,FIND("-",O6,1)+1,4),"ORAS")) -> 0 | O6: 0 | P6: =+IF(O6="","",VLOOKUP(O6,$H$139:$I$191,2,FALSE)) -> 0 | R6: CENTRO | S6: CENTRO 4 CAMION 3 UNICONOS | T6: =+IF(X6=0,0,MID(X6,LEN(X6)-3,1)) -> 0 | U6: 1 | V6: 2014-2020 | W6: =+IF(X6=0,0,CONCATENATE(MID(X6,FIND("-",X6,1)+1,4),"ORAS")) -> 0 | X6: 0 | Y6: =+IF(X6="","",VLOOKUP(X6,$H$139:$I$191,2,FALSE)) -> 0
A7: NORTE 4 | B7: =+IF(F7=0,0,MID(F7,LEN(F7)-3,1)) -> 0 | C7: 1 | D7: 2014-2020 | E7: =+IF(F7=0,0,CONCATENATE(MID(F7,FIND("-",F7,1)+1,4),"ORAS")) -> 0 | F7: 0 | G7: =+IF(F7="","",VLOOKUP(F7,$H$139:I$191,2,FALSE)) -> 0 | O7: 0 | P7: =+IF(O7="","",VLOOKUP(O7,$H$139:$I$191,2,FALSE)) -> 0 | X7: 0 | Y7: =+IF(X7="","",VLOOKUP(X7,$H$139:$I$185,2,FALSE)) -> 0
A8: NORTE 5 ZONA 1 | B8: =+IF(F8=0,0,MID(F8,LEN(F8)-3,1)) -> 0 | C8: 1 | D8: 2014-2020 | E8: =+IF(F8=0,0,CONCATENATE(MID(F8,FIND("-",F8,1)+1,4),"ORAS")) -> 0 | F8: 0 | G8: =+IF(F8="","",VLOOKUP(F8,$H$139:I$191,2,FALSE)) -> 0 | O8: 0 | P8: =+IF(O8="","",VLOOKUP(O8,$H$139:$I$191,2,FALSE)) -> 0 | U8: =+U4+U5+U6+U7 -> 3
A9: NORTE 1 MALETINES | B9: =+IF(F9=0,0,MID(F9,LEN(F9)-3,1)) -> 0 | C9: 1 | D9: 2014-2020 | E9: =+IF(F9=0,0,CONCATENATE(MID(F9,FIND("-",F9,1)+1,4),"ORAS")) -> 0 | F9: 0 | G9: =+IF(F9="","",VLOOKUP(F9,$H$139:I$191,2,FALSE)) -> 0
A10: NORTE 1 DIVISORES | B10: =+IF(F10=0,0,MID(F10,LEN(F10)-3,1)) -> 0 | C10: 1 | D10: 2014-2020 | E10: =+IF(F10=0,0,CONCATENATE(MID(F10,FIND("-",F10,1)+1,4),"ORAS")) -> 0 | F10: 0 | G10: =+IF(F10="","",VLOOKUP(F10,$H$139:I$191,2,FALSE)) -> 0
B13: =+B10+B9+B8+B7+B6+B5+B4 -> 0 | C13: =+C10+C9+C8+C7+C6+C5+C4 -> 7 | G13: =SUM(G4:G12) -> 0 | R13: OPERARIOS ADICIONALES
A14: RUTAS CICLOVÍA 25 M3 | R14: ZONA | S14: CORREDOR | T14: # OPERARIOS | U14: # CAMIONES | V14: MODELO | W14: DISPONIBILIDAD | X14: TIPO DE SERVICIO | Y14: $
A15: CORREDOR | B15: # OPERARIOS | C15: # CAMIONES | D15: MODELO | E15: DISPONIBILIDAD | F15: TIPO DE SERVICIO | G15: $ | R15: CENTRO | S15: APOYO CICLOVÍA | T15: 3 | U15: 0 | V15: NA | W15: =+IF(X15=0,0,CONCATENATE(MID(X15,FIND("-",X15,1)+1,4),"ORAS")) -> 0 | X15: 0 | Y15: =+IF(X15="","",VLOOKUP(X15,$H$139:$I$191,2,FALSE)) -> 0
A16: NORTE 5 ZONA 2 | B16: =+IF(F16=0,0,MID(F16,LEN(F16)-3,1)) -> 0 | C16: 1 | D16: 2014-2020 | E16: =+IF(F16=0,0,CONCATENATE(MID(F16,FIND("-",F16,1)+1,4),"ORAS")) -> 0 | F16: 0 | G16: =+IF(F16="","",VLOOKUP(F16,$H$139:I$191,2,FALSE)) -> 0 | I16: ATN CICLOVÍA, ESCUELA DE LA BICI, ADICIONALES 40 M3 | R16: CENTRO | S16: ADICIONALES | T16: 2 | U16: 0 | V16: NA | W16: =+IF(X16=0,0,CONCATENATE(MID(X16,FIND("-",X16,1)+1,4),"ORAS")) -> 0 | X16: 0 | Y16: =+IF(X16="","",VLOOKUP(X16,$H$139:$I$191,2,FALSE)) -> 0
I17: ZONA | J17: CORREDOR | K17: # OPERARIOS | L17: # CAMIONES | M17: MODELO | N17: DISPONIBILIDAD | O17: TIPO DE SERVICIO | P17: $
I18: CENTRO | J18: TRASLADO DE ELEMENTOS | L18: 1 | M18: 2014-2020 | N18: =+IF(O18=0,0,CONCATENATE(MID(O18,FIND("-",O18,1)+1,4),"ORAS")) -> 0 | O18: 0 | P18: =+IF(O18="","",VLOOKUP(O18,$H$139:$I$191,2,FALSE)) -> 0 | R18: CAMIONETA 4 X4 DOBLE CABINA CON PLATON
N19: =+IF(O19=0,0,CONCATENATE(MID(O19,FIND("-",O19,1)+1,4),"ORAS")) -> 0 | O19: 0 | P19: =+IF(O19="","",VLOOKUP(O19,$H$139:$I$191,2,FALSE)) -> 0 | R19: ZONA | S19: CORREDOR | T19: # OPERARIOS | U19: # CAMIONES | V19: MODELO | W19: DISPONIBILIDAD | X19: TIPO DE SERVICIO | Y19: $
R20: NORTE | S20: APOYO CICLOVÍA | T20: NA | U20: NA | V20: 2014-2020 | W20: =+IF(X20=0,0,CONCATENATE(MID(X20,FIND("-",X20,1)+1,4),"ORAS")) -> 0 | X20: 0 | Y20: =+IF(X20="","",VLOOKUP(X20,$H$139:$I$191,2,FALSE)) -> 0
R21: CENTRO | S21: APOYO CICLOVÍA | T21: NA | U21: 1 | V21: 2014-2020 | W21: =+IF(X21=0,0,CONCATENATE(MID(X21,FIND("-",X21,1)+1,4),"ORAS")) -> 0 | X21: 0 | Y21: =+IF(X21="","",VLOOKUP(X21,$H$139:$I$191,2,FALSE)) -> 0
A22: valor total | B22: =SUM(B4:B13)+B16+B17+B18+B19+B20+B21 -> 0 | C22: =+C4+C5+C6+C7+C8+C9+C10+C16 -> 8 | G22: =SUM(G13,G16:G21) -> 0 | R22: CENTRO | S22: APOYO CICLOVÍA | T22: NA | U22: NA | V22: 2014-2020 | W22: =+IF(X22=0,0,CONCATENATE(MID(X22,FIND("-",X22,1)+1,4),"ORAS")) -> 0 | X22: 0 | Y22: =+IF(X22="","",VLOOKUP(X22,$H$139:$I$191,2,FALSE)) -> 0
A23: ZONA CENTRO | R23: SUR | S23: APOYO CICLOVÍA | T23: NA | U23: NA | V23: 2014-2020 | W23: =+IF(X23=0,0,CONCATENATE(MID(X23,FIND("-",X23,1)+1,4),"ORAS")) -> 0 | X23: 0 | Y23: =+IF(X23="","",VLOOKUP(X23,$H$139:$I$191,2,FALSE)) -> 0
A24: RUTAS CICLOVÍA 40 M3
A25: CORREDOR | B25: # OPERARIOS | C25: # CAMIONES | D25: MODELO | E25: DISPONIBILIDAD | F25: TIPO DE SERVICIO | G25: $ | J25: TOTAL | K25: =SUM(K4:K15,K18:K24) -> 3 | L25: =SUM(L4:L24) -> 3 | P25: =SUM(P4:P24) -> 0 | S25: TOTAL | T25: =+T15+T16+T4+T5+T6+T7 -> 5 | U25: =SUM(U4:U7,U21) -> 4 | Y25: =SUM(Y4:Y23) -> 0
A26: CENTRO 1 | B26: =+IF(F26=0,0,MID(F26,LEN(F26)-3,1)) -> 0 | C26: 1 | D26: 2014-2020 | E26: =+IF(F26=0,0,CONCATENATE(MID(F26,FIND("-",F26,1)+1,4),"ORAS")) -> 0 | F26: 0 | G26: =+IF(F26="","",VLOOKUP(F26,$H$139:I$191,2,FALSE)) -> 0
A27: CENTRO 2 | B27: =+IF(F27=0,0,MID(F27,LEN(F27)-3,1)) -> 0 | C27: 1 | D27: 2014-2020 | E27: =+IF(F27=0,0,CONCATENATE(MID(F27,FIND("-",F27,1)+1,4),"ORAS")) -> 0 | F27: 0 | G27: =+IF(F27="","",VLOOKUP(F27,$H$139:I$191,2,FALSE)) -> 0
A28: CENTRO 5 | B28: =+IF(F28=0,0,MID(F28,LEN(F28)-3,1)) -> 0 | C28: 1 | D28: 2014-2020 | E28: =+IF(F28=0,0,CONCATENATE(MID(F28,FIND("-",F28,1)+1,4),"ORAS")) -> 0 | F28: 0 | G28: =+IF(F28="","",VLOOKUP(F28,$H$139:I$191,2,FALSE)) -> 0
A32: RUTAS CICLOVÍA 25 M3
B33: # OPERARIOS | C33: # CAMIONES | D33: MODELO | F33: TIPO DE SERVICIO | G33: $
A34: CENTRO 3 ZONA 1 | B34: =+IF(F34=0,0,MID(F34,LEN(F34)-3,1)) -> 0 | C34: 1 | D34: 2014-2020 | E34: =+IF(F34=0,0,CONCATENATE(MID(F34,FIND("-",F34,1)+1,4),"ORAS")) -> 0 | F34: 0 | G34: =+IF(F34="","",VLOOKUP(F34,$H$139:I$191,2,FALSE)) -> 0
A35: CENTRO 3 ZONA 2 | B35: =+IF(F35=0,0,MID(F35,LEN(F35)-3,1)) -> 0 | C35: 1 | D35: 2014-2020 | E35: =+IF(F35=0,0,CONCATENATE(MID(F35,FIND("-",F35,1)+1,4),"ORAS")) -> 0 | F35: 0 | G35: =+IF(F35="","",VLOOKUP(F35,$H$139:I$191,2,FALSE)) -> 0
A36: CENTRO 4 | B36: =+IF(F36=0,0,MID(F36,LEN(F36)-3,1)) -> 0 | C36: 1 | D36: 2014-2020 | E36: =+IF(F36=0,0,CONCATENATE(MID(F36,FIND("-",F36,1)+1,4),"ORAS")) -> 0 | F36: 0 | G36: =+IF(F36="","",VLOOKUP(F36,$H$139:I$191,2,FALSE)) -> 0
A37: CENTRO 6 ZONA 1 | B37: =+IF(F37=0,0,MID(F37,LEN(F37)-3,1)) -> 0 | C37: 1 | D37: 2014-2020 | E37: =+IF(F37=0,0,CONCATENATE(MID(F37,FIND("-",F37,1)+1,4),"ORAS")) -> 0 | F37: 0 | G37: =+IF(F37="","",VLOOKUP(F37,$H$139:I$191,2,FALSE)) -> 0
A38: CENTRO 6 ZONA 2 | B38: =+IF(F38=0,0,MID(F38,LEN(F38)-3,1)) -> 0 | C38: 1 | D38: 2014-2020 | E38: =+IF(F38=0,0,CONCATENATE(MID(F38,FIND("-",F38,1)+1,4),"ORAS")) -> 0 | F38: 0 | G38: =+IF(F38="","",VLOOKUP(F38,$H$139:I$191,2,FALSE)) -> 0
A40: valor total | B40: =+B26+B27+B28+B34+B35+B36+B37+B38 -> 0 | C40: =SUM(C26:C32)+C34+C35+C36+C37+C38+C39 -> 8 | E40: =+IF(F40=0,0,CONCATENATE(MID(F40,FIND("-",F40,1)+1,3),"ORAS")) -> 0 | G40: =SUM(G26:G31,G34:G39) -> 0
A41: ZONA SUR
A42: RUTAS CICLOVÍA 40 M3
A43: CORREDOR | B43: # OPERARIOS | C43: # CAMIONES | D43: MODELO | E43: DISPONIBILIDAD | F43: TIPO DE SERVICIO | G43: $
A52: RUTAS CICLOVÍA 25 M3
A53: CORREDOR | B53: # OPERARIOS | C53: # CAMIONES | D53: MODELO | E53: DISPONIBILIDAD | F53: TIPO DE SERVICIO | G53: $
A54: SUR 1 ZONA 1 | B54: =+IF(F54=0,0,MID(F54,LEN(F54)-3,1)) -> 0 | C54: 1 | D54: 2014-2020 | E54: =+IF(F54=0,0,CONCATENATE(MID(F54,FIND("-",F54,1)+1,4),"ORAS")) -> 0 | F54: 0 | G54: =+IF(F54="","",VLOOKUP(F54,$H$139:I$191,2,FALSE)) -> 0
...

Sheet 12 FEBRERO 
A1: ZONA NORTE
A2: RUTAS CICLOVÍA 40 M3 | I2: LUDICA CICLOVÍA, ESCUELA DE LA BICI, ADICIONALES 25 M3 | R2: CONOS CICLOVÍA 25 M3
A3: CORREDOR | B3: # OPERARIOS | C3: # CAMIONES | D3: MODELO | E3: DISPONIBILIDAD | F3: TIPO DE SERVICIO | G3: $ | I3: ZONA | J3: CORREDOR | K3: # OPERARIOS | L3: # CAMIONES | M3: MODELO | N3: DISPONIBILIDAD | O3: TIPO DE SERVICIO | P3: $ | R3: ZONA | S3: CORREDOR | T3: # OPERARIOS | U3: # CAMIONES | V3: MODELO | W3: DISPONIBILIDAD | X3: TIPO DE SERVICIO | Y3: $
A4: NORTE 1 | B4: =+IF(F4=0,0,MID(F4,LEN(F4)-3,1)) -> 4 | C4: 1 | D4: 2014-2020 | E4: =+IF(F4=0,0,CONCATENATE(MID(F4,FIND("-",F4,1)+1,4),"ORAS")) -> 15 HORAS | F4: 1.CAMION TIPO40m³-15 HORAS-4 OP | G4: =+IF(F4="","",VLOOKUP(F4,$H$140:$I$192,2,FALSE)) -> 582964 | I4: CENTRO | J4: CAMIONETA FURGONADA PENDONES CALLE 26 | K4: 0 | L4: 1 | M4: 2014-2020 | N4: =+IF(O4=0,0,CONCATENATE(MID(O4,FIND("-",O4,1)+1,4),"ORAS")) -> 15 HORAS | O4: 31.CAMION TIPOFURGON-15 HORAS | P4: =+IF(O4="","",VLOOKUP(O4,$H$140:$I$192,2,FALSE)) -> 239262 | R4: CENTRO | S4: CENTRO 5 CAMION 1 UNICONOS | T4: =+IF(X4=0,0,MID(X4,LEN(X4)-3,1)) -> 4 | U4: 1 | V4: 2014-2020 | W4: =+IF(X4=0,0,CONCATENATE(MID(X4,FIND("-",X4,1)+1,4),"ORAS")) -> 15 HORAS | X4: 16.CAMION TIPO25m³-15 HORAS-4 OP | Y4: =+IF(X4="","",VLOOKUP(X4,$H$140:$I$192,2,FALSE)) -> 501739
A5: NORTE 2 | B5: =+IF(F5=0,0,MID(F5,LEN(F5)-3,1)) -> 3 | C5: 1 | D5: 2014-2020 | E5: =+IF(F5=0,0,CONCATENATE(MID(F5,FIND("-",F5,1)+1,4),"ORAS")) -> 15 HORAS | F5: 2.CAMION TIPO40m³-15 HORAS-3 OP | G5: =+IF(F5="","",VLOOKUP(F5,$H$140:I$192,2,FALSE)) -> 514916 | I5: CENTRO | J5: ESCUELA | K5: 3 | L5: 1 | M5: 2014-2020 | N5: =+IF(O5=0,0,CONCATENATE(MID(O5,FIND("-",O5,1)+1,4),"ORAS")) -> 15 HORAS | O5: 18.CAMION TIPO25m³-15 HORAS-2 OP | P5: =+IF(O5="","",VLOOKUP(O5,$H$140:$I$192,2,FALSE)) -> 388652 | R5: CENTRO | S5: CENTRO 5 CAMION 2 UNICONOS | T5: =+IF(X5=0,0,MID(X5,LEN(X5)-3,1)) -> 4 | U5: 1 | V5: 2014-2020 | W5: =+IF(X5=0,0,CONCATENATE(MID(X5,FIND("-",X5,1)+1,4),"ORAS")) -> 15 HORAS | X5: 16.CAMION TIPO25m³-15 HORAS-4 OP | Y5: =+IF(X5="","",VLOOKUP(X5,$H$140:$I$192,2,FALSE)) -> 501739
A6: NORTE 3 | B6: =+IF(F6=0,0,MID(F6,LEN(F6)-3,1)) -> 3 | C6: 1 | D6: 2014-2020 | E6: =+IF(F6=0,0,CONCATENATE(MID(F6,FIND("-",F6,1)+1,4),"ORAS")) -> 15 HORAS | F6: 2.CAMION TIPO40m³-15 HORAS-3 OP | G6: =+IF(F6="","",VLOOKUP(F6,$H$140:I$192,2,FALSE)) -> 514916 | I6: CENTRO | J6: TRASLADO DE ELEMENTOS | K6: 4 | L6: 1 | M6: 2014-2020 | N6: =+IF(O6=0,0,CONCATENATE(MID(O6,FIND("-",O6,1)+1,4),"ORAS")) -> 09 HORAS | O6: 21.CAMION TIPO25m³-09 HORAS-4 OP | P6: =+IF(O6="","",VLOOKUP(O6,$H$140:$I$192,2,FALSE)) -> 433978 | R6: CENTRO | S6: CENTRO 4 CAMION 3 UNICONOS | T6: =+IF(X6=0,0,MID(X6,LEN(X6)-3,1)) -> 3 | U6: 1 | V6: 2014-2020 | W6: =+IF(X6=0,0,CONCATENATE(MID(X6,FIND("-",X6,1)+1,4),"ORAS")) -> 15 HORAS | X6: 17.CAMION TIPO25m³-15 HORAS-3 OP | Y6: =+IF(X6="","",VLOOKUP(X6,$H$140:$I$192,2,FALSE)) -> 443323
A7: NORTE 4 | B7: =+IF(F7=0,0,MID(F7,LEN(F7)-3,1)) -> 3 | C7: 1 | D7: 2014-2020 | E7: =+IF(F7=0,0,CONCATENATE(MID(F7,FIND("-",F7,1)+1,4),"ORAS")) -> 15 HORAS | F7: 2.CAMION TIPO40m³-15 HORAS-3 OP | G7: =+IF(F7="","",VLOOKUP(F7,$H$140:I$192,2,FALSE)) -> 514916 | O7: 0 | P7: =+IF(O7="","",VLOOKUP(O7,$H$140:$I$192,2,FALSE)) -> 0 | X7: 0 | Y7: =+IF(X7="","",VLOOKUP(X7,$H$140:$I$186,2,FALSE)) -> 0
A8: NORTE 5 ZONA 1 | B8: =+IF(F8=0,0,MID(F8,LEN(F8)-3,1)) -> 3 | C8: 1 | D8: 2014-2020 | E8: =+IF(F8=0,0,CONCATENATE(MID(F8,FIND("-",F8,1)+1,4),"ORAS")) -> 15 HORAS | F8: 2.CAMION TIPO40m³-15 HORAS-3 OP | G8: =+IF(F8="","",VLOOKUP(F8,$H$140:I$192,2,FALSE)) -> 514916 | O8: 0 | P8: =+IF(O8="","",VLOOKUP(O8,$H$140:$I$192,2,FALSE)) -> 0 | U8: =+U4+U5+U6+U7 -> 3
A9: NORTE 1 MALETINES | B9: =+IF(F9=0,0,MID(F9,LEN(F9)-3,1)) -> 4 | C9: 1 | D9: 2014-2020 | E9: =+IF(F9=0,0,CONCATENATE(MID(F9,FIND("-",F9,1)+1,4),"ORAS")) -> 15 HORAS | F9: 1.CAMION TIPO40m³-15 HORAS-4 OP | G9: =+IF(F9="","",VLOOKUP(F9,$H$140:I$192,2,FALSE)) -> 582964
A10: NORTE 1 DIVISORES | B10: =+IF(F10=0,0,MID(F10,LEN(F10)-3,1)) -> 4 | C10: 1 | D10: 2014-2020 | E10: =+IF(F10=0,0,CONCATENATE(MID(F10,FIND("-",F10,1)+1,4),"ORAS")) -> 15 HORAS | F10: 1.CAMION TIPO40m³-15 HORAS-4 OP | G10: =+IF(F10="","",VLOOKUP(F10,$H$140:I$192,2,FALSE)) -> 582964
B13: =+B10+B9+B8+B7+B6+B5+B4 -> 24 | C13: =+C10+C9+C8+C7+C6+C5+C4 -> 7 | G13: =SUM(G4:G12) -> 3808556 | R13: OPERARIOS ADICIONALES
A14: RUTAS CICLOVÍA 25 M3 | R14: ZONA | S14: CORREDOR | T14: # OPERARIOS | U14: # CAMIONES | V14: MODELO | W14: DISPONIBILIDAD | X14: TIPO DE SERVICIO | Y14: $
A15: CORREDOR | B15: # OPERARIOS | C15: # CAMIONES | D15: MODELO | E15: DISPONIBILIDAD | F15: TIPO DE SERVICIO | G15: $ | R15: CENTRO | S15: APOYO CICLOVÍA | T15: 3 | U15: 0 | V15: NA | W15: =+IF(X15=0,0,CONCATENATE(MID(X15,FIND("-",X15,1)+1,4),"ORAS")) -> 08 HORAS | X15: 41.OPERARIO-08 HORAS | Y15: =+(IF(X15="","",VLOOKUP(X15,$H$140:$I$192,2,FALSE)))*T15 -> 160731
A16: NORTE 5 ZONA 2 | B16: =+IF(F16=0,0,MID(F16,LEN(F16)-3,1)) -> 3 | C16: 1 | D16: 2014-2020 | E16: =+IF(F16=0,0,CONCATENATE(MID(F16,FIND("-",F16,1)+1,4),"ORAS")) -> 15 HORAS | F16: 17.CAMION TIPO25m³-15 HORAS-3 OP | G16: =+IF(F16="","",VLOOKUP(F16,$H$140:I$192,2,FALSE)) -> 443323 | I16: ATN CICLOVÍA, ESCUELA DE LA BICI, ADICIONALES 40 M3 | R16: CENTRO | S16: ADICIONALES | T16: 2 | U16: 0 | V16: NA | W16: =+IF(X16=0,0,CONCATENATE(MID(X16,FIND("-",X16,1)+1,4),"ORAS")) -> 08 HORAS | X16: 41.OPERARIO-08 HORAS | Y16: =+(IF(X16="","",VLOOKUP(X16,$H$140:$I$192,2,FALSE)))*T16 -> 107154
I17: ZONA | J17: CORREDOR | K17: # OPERARIOS | L17: # CAMIONES | M17: MODELO | N17: DISPONIBILIDAD | O17: TIPO DE SERVICIO | P17: $
N18: =+IF(O18=0,0,CONCATENATE(MID(O18,FIND("-",O18,1)+1,4),"ORAS")) -> 0 | O18: 0 | P18: =+IF(O18="","",VLOOKUP(O18,$H$140:$I$192,2,FALSE)) -> 0 | R18: CAMIONETA 4 X4 DOBLE CABINA CON PLATON
N19: =+IF(O19=0,0,CONCATENATE(MID(O19,FIND("-",O19,1)+1,4),"ORAS")) -> 0 | O19: 0 | P19: =+IF(O19="","",VLOOKUP(O19,$H$140:$I$192,2,FALSE)) -> 0 | R19: ZONA | S19: CORREDOR | T19: # OPERARIOS | U19: # CAMIONES | V19: MODELO | W19: DISPONIBILIDAD | X19: TIPO DE SERVICIO | Y19: $
R20: NORTE | S20: APOYO CICLOVÍA | T20: NA | U20: NA | V20: 2014-2020 | W20: =+IF(X20=0,0,CONCATENATE(MID(X20,FIND("-",X20,1)+1,4),"ORAS")) -> 15 HORAS | X20: 34.4X4-15 HORAS | Y20: =+IF(X20="","",VLOOKUP(X20,$H$140:$I$192,2,FALSE)) -> 373234
R21: NORTE | S21: APOYO CICLOVÍA | T21: NA | U21: NA | V21: 2014-2020 | W21: =+IF(X21=0,0,CONCATENATE(MID(X21,FIND("-",X21,1)+1,4),"ORAS")) -> 15 HORAS | X21: 34.4X4-15 HORAS | Y21: =+IF(X21="","",VLOOKUP(X21,$H$140:$I$192,2,FALSE)) -> 373234
R22: CENTRO | S22: APOYO CICLOVÍA | T22: NA | U22: 1 | V22: 2014-2020 | W22: =+IF(X22=0,0,CONCATENATE(MID(X22,FIND("-",X22,1)+1,4),"ORAS")) -> 15 HORAS | X22: 31.CAMION TIPOFURGON-15 HORAS | Y22: =+IF(X22="","",VLOOKUP(X22,$H$140:$I$192,2,FALSE)) -> 239262
A23: valor total | B23: =SUM(B4:B13)+B16+B17+B18+B19+B20+B22 -> 27 | C23: =+C4+C5+C6+C7+C8+C9+C10+C16 -> 8 | G23: =SUM(G13,G16:G22) -> 4251879 | R23: CENTRO | S23: APOYO CICLOVÍA | T23: NA | U23: NA | V23: 2014-2020 | W23: =+IF(X23=0,0,CONCATENATE(MID(X23,FIND("-",X23,1)+1,4),"ORAS")) -> 15 HORAS | X23: 34.4X4-15 HORAS | Y23: =+IF(X23="","",VLOOKUP(X23,$H$140:$I$192,2,FALSE)) -> 373234
A24: ZONA CENTRO | R24: SUR | S24: APOYO CICLOVÍA | T24: NA | U24: NA | V24: 2014-2020 | W24: =+IF(X24=0,0,CONCATENATE(MID(X24,FIND("-",X24,1)+1,4),"ORAS")) -> 15 HORAS | X24: 34.4X4-15 HORAS | Y24: =+IF(X24="","",VLOOKUP(X24,$H$140:$I$192,2,FALSE)) -> 373234
A25: RUTAS CICLOVÍA 40 M3
A26: CORREDOR | B26: # OPERARIOS | C26: # CAMIONES | D26: MODELO | E26: DISPONIBILIDAD | F26: TIPO DE SERVICIO | G26: $ | J26: TOTAL | K26: =SUM(K4:K15,K18:K25) -> 7 | L26: =SUM(L4:L25) -> 3 | P26: =SUM(P4:P25) -> 1061892 | S26: TOTAL | T26: =T4+T5+T6+T15+T16 -> 16 | U26: =SUM(U4:U7,U22) -> 4 | Y26: =SUM(Y4:Y24) -> 3446884
A27: CENTRO 1 | B27: =+IF(F27=0,0,MID(F27,LEN(F27)-3,1)) -> 3 | C27: 1 | D27: 2014-2020 | E27: =+IF(F27=0,0,CONCATENATE(MID(F27,FIND("-",F27,1)+1,4),"ORAS")) -> 15 HORAS | F27: 2.CAMION TIPO40m³-15 HORAS-3 OP | G27: =+IF(F27="","",VLOOKUP(F27,$H$140:I$192,2,FALSE)) -> 514916
A28: CENTRO 2 | B28: =+IF(F28=0,0,MID(F28,LEN(F28)-3,1)) -> 4 | C28: 1 | D28: 2014-2020 | E28: =+IF(F28=0,0,CONCATENATE(MID(F28,FIND("-",F28,1)+1,4),"ORAS")) -> 15 HORAS | F28: 1.CAMION TIPO40m³-15 HORAS-4 OP | G28: =+IF(F28="","",VLOOKUP(F28,$H$140:I$192,2,FALSE)) -> 582964
A29: CENTRO 4 | B29: =+IF(F29=0,0,MID(F29,LEN(F29)-3,1)) -> 3 | C29: 1 | D29: 2014-2020 | E29: =+IF(F29=0,0,CONCATENATE(MID(F29,FIND("-",F29,1)+1,4),"ORAS")) -> 15 HORAS | F29: 2.CAMION TIPO40m³-15 HORAS-3 OP | G29: =+IF(F29="","",VLOOKUP(F29,$H$140:I$192,2,FALSE)) -> 514916
A30: CENTRO 5 | B30: 3 | C30: 1 | D30: 2014-2020 | E30: =+IF(F30=0,0,CONCATENATE(MID(F30,FIND("-",F30,1)+1,4),"ORAS")) -> 15 HORAS | F30: 2.CAMION TIPO40m³-15 HORAS-3 OP | G30: =+IF(F30="","",VLOOKUP(F30,$H$140:I$192,2,FALSE)) -> 514916
A33: RUTAS CICLOVÍA 25 M3
B34: # OPERARIOS | C34: # CAMIONES | D34: MODELO | F34: TIPO DE SERVICIO | G34: $
A35: CENTRO 3 ZONA 1 | B35: =+IF(F35=0,0,MID(F35,LEN(F35)-3,1)) -> 3 | C35: 1 | D35: 2014-2020 | E35: =+IF(F35=0,0,CONCATENATE(MID(F35,FIND("-",F35,1)+1,4),"ORAS")) -> 15 HORAS | F35: 17.CAMION TIPO25m³-15 HORAS-3 OP | G35: =+IF(F35="","",VLOOKUP(F35,$H$140:I$192,2,FALSE)) -> 443323
A36: CENTRO 3 ZONA 2 | B36: =+IF(F36=0,0,MID(F36,LEN(F36)-3,1)) -> 3 | C36: 1 | D36: 2014-2020 | E36: =+IF(F36=0,0,CONCATENATE(MID(F36,FIND("-",F36,1)+1,4),"ORAS")) -> 15 HORAS | F36: 17.CAMION TIPO25m³-15 HORAS-3 OP | G36: =+IF(F36="","",VLOOKUP(F36,$H$140:I$192,2,FALSE)) -> 443323
A37: CENTRO 6 ZONA 1 | B37: =+IF(F37=0,0,MID(F37,LEN(F37)-3,1)) -> 3 | C37: 1 | D37: 2014-2020 | E37: =+IF(F37=0,0,CONCATENATE(MID(F37,FIND("-",F37,1)+1,4),"ORAS")) -> 15 HORAS | F37: 17.CAMION TIPO25m³-15 HORAS-3 OP | G37: =+IF(F37="","",VLOOKUP(F37,$H$140:I$192,2,FALSE)) -> 443323
A38: CENTRO 6 ZONA 2 | B38: =+IF(F38=0,0,MID(F38,LEN(F38)-3,1)) -> 3 | C38: 1 | D38: 2014-2020 | E38: =+IF(F38=0,0,CONCATENATE(MID(F38,FIND("-",F38,1)+1,4),"ORAS")) -> 15 HORAS | F38: 17.CAMION TIPO25m³-15 HORAS-3 OP | G38: =+IF(F38="","",VLOOKUP(F38,$H$140:I$192,2,FALSE)) -> 443323
E39: =+IF(F39=0,0,CONCATENATE(MID(F39,FIND("-",F39,1)+1,4),"ORAS")) -> 0 | F39: 0 | G39: =+IF(F39="","",VLOOKUP(F39,$H$140:I$192,2,FALSE)) -> 0
A41: valor total | B41: =+B27+B28+B29+B35+B36+B37+B38+B39+B30 -> 25 | C41: =SUM(C27:C32)+C35+C36+C37+C38+C39+C40 -> 8 | E41: =+IF(F41=0,0,CONCATENATE(MID(F41,FIND("-",F41,1)+1,3),"ORAS")) -> 0 | G41: =SUM(G27:G32,G35:G40) -> 3901004
A42: ZONA SUR
A43: RUTAS CICLOVÍA 40 M3
A44: CORREDOR | B44: # OPERARIOS | C44: # CAMIONES | D44: MODELO | E44: DISPONIBILIDAD | F44: TIPO DE SERVICIO | G44: $
A53: RUTAS CICLOVÍA 25 M3
...

Sheet 19 FEBRERO
A1: ZONA NORTE
A2: RUTAS CICLOVÍA 40 M3 | I2: LUDICA CICLOVÍA, ESCUELA DE LA BICI, ADICIONALES 25 M3 | R2: CONOS CICLOVÍA 25 M3
A3: CORREDOR | B3: # OPERARIOS | C3: # CAMIONES | D3: MODELO | E3: DISPONIBILIDAD | F3: TIPO DE SERVICIO | G3: $ | I3: ZONA | J3: CORREDOR | K3: # OPERARIOS | L3: # CAMIONES | M3: MODELO | N3: DISPONIBILIDAD | O3: TIPO DE SERVICIO | P3: $ | R3: ZONA | S3: CORREDOR | T3: # OPERARIOS | U3: # CAMIONES | V3: MODELO | W3: DISPONIBILIDAD | X3: TIPO DE SERVICIO | Y3: $
A4: NORTE 1 | B4: =+IF(F4=0,0,MID(F4,LEN(F4)-3,1)) -> 4 | C4: 1 | D4: 2014-2020 | E4: =+IF(F4=0,0,CONCATENATE(MID(F4,FIND("-",F4,1)+1,4),"ORAS")) -> 15 HORAS | F4: 1.CAMION TIPO40m³-15 HORAS-4 OP | G4: =+IF(F4="","",VLOOKUP(F4,$H$140:$I$192,2,FALSE)) -> 582964 | I4: CENTRO | J4: CAMIONETA FURGONADA PENDONES CALLE 26 | K4: 0 | L4: 1 | M4: 2014-2020 | N4: =+IF(O4=0,0,CONCATENATE(MID(O4,FIND("-",O4,1)+1,4),"ORAS")) -> 15 HORAS | O4: 31.CAMION TIPOFURGON-15 HORAS | P4: =+IF(O4="","",VLOOKUP(O4,$H$140:$I$192,2,FALSE)) -> 239262 | R4: CENTRO | S4: CENTRO 5 CAMION 1 UNICONOS | T4: =+IF(X4=0,0,MID(X4,LEN(X4)-3,1)) -> 4 | U4: 1 | V4: 2014-2020 | W4: =+IF(X4=0,0,CONCATENATE(MID(X4,FIND("-",X4,1)+1,4),"ORAS")) -> 15 HORAS | X4: 16.CAMION TIPO25m³-15 HORAS-4 OP | Y4: =+IF(X4="","",VLOOKUP(X4,$H$140:$I$192,2,FALSE)) -> 501739
A5: NORTE 2 | B5: =+IF(F5=0,0,MID(F5,LEN(F5)-3,1)) -> 3 | C5: 1 | D5: 2014-2020 | E5: =+IF(F5=0,0,CONCATENATE(MID(F5,FIND("-",F5,1)+1,4),"ORAS")) -> 15 HORAS | F5: 2.CAMION TIPO40m³-15 HORAS-3 OP | G5: =+IF(F5="","",VLOOKUP(F5,$H$140:I$192,2,FALSE)) -> 514916 | I5: CENTRO | J5: ESCUELA | K5: 3 | L5: 1 | M5: 2014-2020 | N5: =+IF(O5=0,0,CONCATENATE(MID(O5,FIND("-",O5,1)+1,4),"ORAS")) -> 15 HORAS | O5: 17.CAMION TIPO25m³-15 HORAS-3 OP | P5: =+IF(O5="","",VLOOKUP(O5,$H$140:$I$192,2,FALSE)) -> 443323 | R5: CENTRO | S5: CENTRO 5 CAMION 2 UNICONOS | T5: =+IF(X5=0,0,MID(X5,LEN(X5)-3,1)) -> 4 | U5: 1 | V5: 2014-2020 | W5: =+IF(X5=0,0,CONCATENATE(MID(X5,FIND("-",X5,1)+1,4),"ORAS")) -> 15 HORAS | X5: 16.CAMION TIPO25m³-15 HORAS-4 OP | Y5: =+IF(X5="","",VLOOKUP(X5,$H$140:$I$192,2,FALSE)) -> 501739
A6: NORTE 3 | B6: =+IF(F6=0,0,MID(F6,LEN(F6)-3,1)) -> 3 | C6: 1 | D6: 2014-2020 | E6: =+IF(F6=0,0,CONCATENATE(MID(F6,FIND("-",F6,1)+1,4),"ORAS")) -> 15 HORAS | F6: 2.CAMION TIPO40m³-15 HORAS-3 OP | G6: =+IF(F6="","",VLOOKUP(F6,$H$140:I$192,2,FALSE)) -> 514916 | I6: CENTRO | J6: TRASLADO ELEMENTOS - SERVICIO SOCIAL | K6: 4 | L6: 1 | M6: 2014-2020 | N6: =+IF(O6=0,0,CONCATENATE(MID(O6,FIND("-",O6,1)+1,4),"ORAS")) -> 09 HORAS | O6: 23.CAMION TIPO25m³-09 HORAS-2 OP | P6: =+IF(O6="","",VLOOKUP(O6,$H$140:$I$192,2,FALSE)) -> 345928 | R6: CENTRO | S6: CENTRO 4 CAMION 3 UNICONOS | T6: =+IF(X6=0,0,MID(X6,LEN(X6)-3,1)) -> 4 | U6: 1 | V6: 2014-2020 | W6: =+IF(X6=0,0,CONCATENATE(MID(X6,FIND("-",X6,1)+1,4),"ORAS")) -> 15 HORAS | X6: 16.CAMION TIPO25m³-15 HORAS-4 OP | Y6: =+IF(X6="","",VLOOKUP(X6,$H$140:$I$192,2,FALSE)) -> 501739
A7: NORTE 4 | B7: =+IF(F7=0,0,MID(F7,LEN(F7)-3,1)) -> 2 | C7: 1 | D7: 2014-2020 | E7: =+IF(F7=0,0,CONCATENATE(MID(F7,FIND("-",F7,1)+1,4),"ORAS")) -> 15 HORAS | F7: 3.CAMION TIPO40m³-15 HORAS-2 OP | G7: =+IF(F7="","",VLOOKUP(F7,$H$140:I$192,2,FALSE)) -> 448638 | O7: 0 | P7: =+IF(O7="","",VLOOKUP(O7,$H$140:$I$192,2,FALSE)) -> 0 | X7: 0 | Y7: =+IF(X7="","",VLOOKUP(X7,$H$140:$I$186,2,FALSE)) -> 0
A8: NORTE 5 ZONA 1 | B8: =+IF(F8=0,0,MID(F8,LEN(F8)-3,1)) -> 2 | C8: 1 | D8: 2014-2020 | E8: =+IF(F8=0,0,CONCATENATE(MID(F8,FIND("-",F8,1)+1,4),"ORAS")) -> 15 HORAS | F8: 3.CAMION TIPO40m³-15 HORAS-2 OP | G8: =+IF(F8="","",VLOOKUP(F8,$H$140:I$192,2,FALSE)) -> 448638 | O8: 0 | P8: =+IF(O8="","",VLOOKUP(O8,$H$140:$I$192,2,FALSE)) -> 0 | U8: =+U4+U5+U6+U7 -> 3
A9: NORTE 1 MALETINES | B9: =+IF(F9=0,0,MID(F9,LEN(F9)-3,1)) -> 3 | C9: 1 | D9: 2014-2020 | E9: =+IF(F9=0,0,CONCATENATE(MID(F9,FIND("-",F9,1)+1,4),"ORAS")) -> 15 HORAS | F9: 2.CAMION TIPO40m³-15 HORAS-3 OP | G9: =+IF(F9="","",VLOOKUP(F9,$H$140:I$192,2,FALSE)) -> 514916
A10: NORTE 1 DIVISORES | B10: =+IF(F10=0,0,MID(F10,LEN(F10)-3,1)) -> 4 | C10: 1 | D10: 2014-2020 | E10: =+IF(F10=0,0,CONCATENATE(MID(F10,FIND("-",F10,1)+1,4),"ORAS")) -> 15 HORAS | F10: 1.CAMION TIPO40m³-15 HORAS-4 OP | G10: =+IF(F10="","",VLOOKUP(F10,$H$140:I$192,2,FALSE)) -> 582964
B13: =+B10+B9+B8+B7+B6+B5+B4 -> 21 | C13: =+C10+C9+C8+C7+C6+C5+C4 -> 7 | G13: =SUM(G4:G12) -> 3607952 | R13: OPERARIOS ADICIONALES
A14: RUTAS CICLOVÍA 25 M3 | R14: ZONA | S14: CORREDOR | T14: # OPERARIOS | U14: # CAMIONES | V14: MODELO | W14: DISPONIBILIDAD | X14: TIPO DE SERVICIO | Y14: $
A15: CORREDOR | B15: # OPERARIOS | C15: # CAMIONES | D15: MODELO | E15: DISPONIBILIDAD | F15: TIPO DE SERVICIO | G15: $ | R15: CENTRO | S15: APOYO CICLOVÍA | T15: 3 | U15: 0 | V15: NA | W15: =+IF(X15=0,0,CONCATENATE(MID(X15,FIND("-",X15,1)+1,4),"ORAS")) -> 08 HORAS | X15: 41.OPERARIO-08 HORAS | Y15: =+(IF(X15="","",VLOOKUP(X15,$H$140:$I$192,2,FALSE)))*T15 -> 160731
A16: NORTE 5 ZONA 2 | B16: =+IF(F16=0,0,MID(F16,LEN(F16)-3,1)) -> 3 | C16: 1 | D16: 2014-2020 | E16: =+IF(F16=0,0,CONCATENATE(MID(F16,FIND("-",F16,1)+1,4),"ORAS")) -> 15 HORAS | F16: 17.CAMION TIPO25m³-15 HORAS-3 OP | G16: =+IF(F16="","",VLOOKUP(F16,$H$140:I$192,2,FALSE)) -> 443323 | I16: ATN CICLOVÍA, ESCUELA DE LA BICI, ADICIONALES 40 M3 | R16: CENTRO | S16: ADICIONALES | T16: 2 | U16: 0 | V16: NA | W16: =+IF(X16=0,0,CONCATENATE(MID(X16,FIND("-",X16,1)+1,4),"ORAS")) -> 08 HORAS | X16: 41.OPERARIO-08 HORAS | Y16: =+(IF(X16="","",VLOOKUP(X16,$H$140:$I$192,2,FALSE)))*T16 -> 107154
I17: ZONA | J17: CORREDOR | K17: # OPERARIOS | L17: # CAMIONES | M17: MODELO | N17: DISPONIBILIDAD | O17: TIPO DE SERVICIO | P17: $
I18: CENTRO | J18: CICLOPASEO POLICÍA NACIONAL | K18: 2 | L18: 1 | M18: 2014-2020 | N18: =+IF(O18=0,0,CONCATENATE(MID(O18,FIND("-",O18,1)+1,4),"ORAS")) -> 09 HORAS | O18: 8.CAMION TIPO40m³-09 HORAS-2 OP | P18: =+IF(O18="","",VLOOKUP(O18,$H$140:$I$192,2,FALSE)) -> 392186 | R18: CAMIONETA 4 X4 DOBLE CABINA CON PLATON
N19: =+IF(O19=0,0,CONCATENATE(MID(O19,FIND("-",O19,1)+1,4),"ORAS")) -> 0 | O19: 0 | P19: =+IF(O19="","",VLOOKUP(O19,$H$140:$I$192,2,FALSE)) -> 0 | R19: ZONA | S19: CORREDOR | T19: # OPERARIOS | U19: # CAMIONES | V19: MODELO | W19: DISPONIBILIDAD | X19: TIPO DE SERVICIO | Y19: $
R20: NORTE | S20: APOYO CICLOVÍA | T20: NA | U20: NA | V20: 2014-2020 | W20: =+IF(X20=0,0,CONCATENATE(MID(X20,FIND("-",X20,1)+1,4),"ORAS")) -> 15 HORAS | X20: 34.4X4-15 HORAS | Y20: =+IF(X20="","",VLOOKUP(X20,$H$140:$I$192,2,FALSE)) -> 373234
R21: NORTE | S21: APOYO CICLOVÍA | T21: NA | U21: NA | V21: 2014-2020 | W21: =+IF(X21=0,0,CONCATENATE(MID(X21,FIND("-",X21,1)+1,4),"ORAS")) -> 15 HORAS | X21: 34.4X4-15 HORAS | Y21: =+IF(X21="","",VLOOKUP(X21,$H$140:$I$192,2,FALSE)) -> 373234
R22: CENTRO | S22: APOYO CICLOVÍA | T22: NA | U22: 1 | V22: 2014-2020 | W22: =+IF(X22=0,0,CONCATENATE(MID(X22,FIND("-",X22,1)+1,4),"ORAS")) -> 15 HORAS | X22: 31.CAMION TIPOFURGON-15 HORAS | Y22: =+IF(X22="","",VLOOKUP(X22,$H$140:$I$192,2,FALSE)) -> 239262
A23: valor total | B23: =SUM(B4:B13)+B16+B17+B18+B19+B20+B22 -> 24 | C23: =+C4+C5+C6+C7+C8+C9+C10+C16 -> 8 | G23: =SUM(G13,G16:G22) -> 4051275 | R23: CENTRO | S23: APOYO CICLOVÍA | T23: NA | U23: NA | V23: 2014-2020 | W23: =+IF(X23=0,0,CONCATENATE(MID(X23,FIND("-",X23,1)+1,4),"ORAS")) -> 15 HORAS | X23: 34.4X4-15 HORAS | Y23: =+IF(X23="","",VLOOKUP(X23,$H$140:$I$192,2,FALSE)) -> 373234
A24: ZONA CENTRO | R24: SUR | S24: APOYO CICLOVÍA | T24: NA | U24: NA | V24: 2014-2020 | W24: =+IF(X24=0,0,CONCATENATE(MID(X24,FIND("-",X24,1)+1,4),"ORAS")) -> 15 HORAS | X24: 34.4X4-15 HORAS | Y24: =+IF(X24="","",VLOOKUP(X24,$H$140:$I$192,2,FALSE)) -> 373234
A25: RUTAS CICLOVÍA 40 M3
A26: CORREDOR | B26: # OPERARIOS | C26: # CAMIONES | D26: MODELO | E26: DISPONIBILIDAD | F26: TIPO DE SERVICIO | G26: $ | J26: TOTAL | K26: =SUM(K4:K15,K18:K25) -> 9 | L26: =SUM(L4:L25) -> 4 | P26: =SUM(P4:P25) -> 1420699 | S26: TOTAL | T26: =T4+T5+T6+T15+T16 -> 17 | U26: =SUM(U4:U7,U22) -> 4 | Y26: =SUM(Y4:Y24) -> 3505300
A27: CENTRO 1 | B27: =+IF(F27=0,0,MID(F27,LEN(F27)-3,1)) -> 3 | C27: 1 | D27: 2014-2020 | E27: =+IF(F27=0,0,CONCATENATE(MID(F27,FIND("-",F27,1)+1,4),"ORAS")) -> 15 HORAS | F27: 2.CAMION TIPO40m³-15 HORAS-3 OP | G27: =+IF(F27="","",VLOOKUP(F27,$H$140:I$192,2,FALSE)) -> 514916
A28: CENTRO 2 | B28: =+IF(F28=0,0,MID(F28,LEN(F28)-3,1)) -> 3 | C28: 1 | D28: 2014-2020 | E28: =+IF(F28=0,0,CONCATENATE(MID(F28,FIND("-",F28,1)+1,4),"ORAS")) -> 15 HORAS | F28: 2.CAMION TIPO40m³-15 HORAS-3 OP | G28: =+IF(F28="","",VLOOKUP(F28,$H$140:I$192,2,FALSE)) -> 514916
A29: CENTRO 4 | B29: =+IF(F29=0,0,MID(F29,LEN(F29)-3,1)) -> 3 | C29: 1 | D29: 2014-2020 | E29: =+IF(F29=0,0,CONCATENATE(MID(F29,FIND("-",F29,1)+1,4),"ORAS")) -> 15 HORAS | F29: 2.CAMION TIPO40m³-15 HORAS-3 OP | G29: =+IF(F29="","",VLOOKUP(F29,$H$140:I$192,2,FALSE)) -> 514916
A30: CENTRO 5 | B30: 3 | C30: 1 | D30: 2014-2020 | E30: =+IF(F30=0,0,CONCATENATE(MID(F30,FIND("-",F30,1)+1,4),"ORAS")) -> 15 HORAS | F30: 2.CAMION TIPO40m³-15 HORAS-3 OP | G30: =+IF(F30="","",VLOOKUP(F30,$H$140:I$192,2,FALSE)) -> 514916
A33: RUTAS CICLOVÍA 25 M3
B34: # OPERARIOS | C34: # CAMIONES | D34: MODELO | F34: TIPO DE SERVICIO | G34: $
A35: CENTRO 3 ZONA 1 | B35: =+IF(F35=0,0,MID(F35,LEN(F35)-3,1)) -> 2 | C35: 1 | D35: 2014-2020 | E35: =+IF(F35=0,0,CONCATENATE(MID(F35,FIND("-",F35,1)+1,4),"ORAS")) -> 15 HORAS | F35: 18.CAMION TIPO25m³-15 HORAS-2 OP | G35: =+IF(F35="","",VLOOKUP(F35,$H$140:I$192,2,FALSE)) -> 388652
A36: CENTRO 3 ZONA 2 | B36: =+IF(F36=0,0,MID(F36,LEN(F36)-3,1)) -> 2 | C36: 1 | D36: 2014-2020 | E36: =+IF(F36=0,0,CONCATENATE(MID(F36,FIND("-",F36,1)+1,4),"ORAS")) -> 15 HORAS | F36: 18.CAMION TIPO25m³-15 HORAS-2 OP | G36: =+IF(F36="","",VLOOKUP(F36,$H$140:I$192,2,FALSE)) -> 388652
A37: CENTRO 6 ZONA 1 | B37: =+IF(F37=0,0,MID(F37,LEN(F37)-3,1)) -> 2 | C37: 1 | D37: 2014-2020 | E37: =+IF(F37=0,0,CONCATENATE(MID(F37,FIND("-",F37,1)+1,4),"ORAS")) -> 15 HORAS | F37: 18.CAMION TIPO25m³-15 HORAS-2 OP | G37: =+IF(F37="","",VLOOKUP(F37,$H$140:I$192,2,FALSE)) -> 388652
A38: CENTRO 6 ZONA 2 | B38: =+IF(F38=0,0,MID(F38,LEN(F38)-3,1)) -> 3 | C38: 1 | D38: 2014-2020 | E38: =+IF(F38=0,0,CONCATENATE(MID(F38,FIND("-",F38,1)+1,4),"ORAS")) -> 15 HORAS | F38: 17.CAMION TIPO25m³-15 HORAS-3 OP | G38: =+IF(F38="","",VLOOKUP(F38,$H$140:I$192,2,FALSE)) -> 443323
E39: =+IF(F39=0,0,CONCATENATE(MID(F39,FIND("-",F39,1)+1,4),"ORAS")) -> 0 | F39: 0 | G39: =+IF(F39="","",VLOOKUP(F39,$H$140:I$192,2,FALSE)) -> 0
A41: valor total | B41: =+B27+B28+B29+B35+B36+B37+B38+B39+B30 -> 21 | C41: =SUM(C27:C32)+C35+C36+C37+C38+C39+C40 -> 8 | E41: =+IF(F41=0,0,CONCATENATE(MID(F41,FIND("-",F41,1)+1,3),"ORAS")) -> 0 | G41: =SUM(G27:G32,G35:G40) -> 3668943
A42: ZONA SUR
A43: RUTAS CICLOVÍA 40 M3
A44: CORREDOR | B44: # OPERARIOS | C44: # CAMIONES | D44: MODELO | E44: DISPONIBILIDAD | F44: TIPO DE SERVICIO | G44: $
A53: RUTAS CICLOVÍA 25 M3
...

Sheet 26 FEBRERO
A1: ZONA NORTE
A2: RUTAS CICLOVÍA 40 M3 | I2: LUDICA CICLOVÍA, ESCUELA DE LA BICI, ADICIONALES 25 M3 | R2: CONOS CICLOVÍA 25 M3
A3: CORREDOR | B3: # OPERARIOS | C3: # CAMIONES | D3: MODELO | E3: DISPONIBILIDAD | F3: TIPO DE SERVICIO | G3: $ | I3: ZONA | J3: CORREDOR | K3: # OPERARIOS | L3: # CAMIONES | M3: MODELO | N3: DISPONIBILIDAD | O3: TIPO DE SERVICIO | P3: $ | R3: ZONA | S3: CORREDOR | T3: # OPERARIOS | U3: # CAMIONES | V3: MODELO | W3: DISPONIBILIDAD | X3: TIPO DE SERVICIO | Y3: $
A4: NORTE 1 | B4: =+IF(F4=0,0,MID(F4,LEN(F4)-3,1)) -> 4 | C4: 1 | D4: 2014-2020 | E4: =+IF(F4=0,0,CONCATENATE(MID(F4,FIND("-",F4,1)+1,4),"ORAS")) -> 15 HORAS | F4: 1.CAMION TIPO40m³-15 HORAS-4 OP | G4: =+IF(F4="","",VLOOKUP(F4,$H$140:$I$192,2,FALSE)) -> 582964 | I4: CENTRO | J4: CAMIONETA FURGONADA PENDONES CALLE 26 | K4: 0 | L4: 1 | M4: 2014-2020 | N4: =+IF(O4=0,0,CONCATENATE(MID(O4,FIND("-",O4,1)+1,4),"ORAS")) -> 15 HORAS | O4: 31.CAMION TIPOFURGON-15 HORAS | P4: =+IF(O4="","",VLOOKUP(O4,$H$140:$I$192,2,FALSE)) -> 239262 | R4: CENTRO | S4: CENTRO 5 CAMION 1 UNICONOS | T4: =+IF(X4=0,0,MID(X4,LEN(X4)-3,1)) -> 4 | U4: 1 | V4: 2014-2020 | W4: =+IF(X4=0,0,CONCATENATE(MID(X4,FIND("-",X4,1)+1,4),"ORAS")) -> 15 HORAS | X4: 16.CAMION TIPO25m³-15 HORAS-4 OP | Y4: =+IF(X4="","",VLOOKUP(X4,$H$140:$I$192,2,FALSE)) -> 501739
A5: NORTE 2 | B5: =+IF(F5=0,0,MID(F5,LEN(F5)-3,1)) -> 3 | C5: 1 | D5: 2014-2020 | E5: =+IF(F5=0,0,CONCATENATE(MID(F5,FIND("-",F5,1)+1,4),"ORAS")) -> 15 HORAS | F5: 2.CAMION TIPO40m³-15 HORAS-3 OP | G5: =+IF(F5="","",VLOOKUP(F5,$H$140:I$192,2,FALSE)) -> 514916 | I5: CENTRO | J5: ESCUELA | K5: 3 | L5: 1 | M5: 2014-2020 | N5: =+IF(O5=0,0,CONCATENATE(MID(O5,FIND("-",O5,1)+1,4),"ORAS")) -> 15 HORAS | O5: 17.CAMION TIPO25m³-15 HORAS-3 OP | P5: =+IF(O5="","",VLOOKUP(O5,$H$140:$I$192,2,FALSE)) -> 443323 | R5: CENTRO | S5: CENTRO 5 CAMION 2 UNICONOS | T5: =+IF(X5=0,0,MID(X5,LEN(X5)-3,1)) -> 4 | U5: 1 | V5: 2014-2020 | W5: =+IF(X5=0,0,CONCATENATE(MID(X5,FIND("-",X5,1)+1,4),"ORAS")) -> 15 HORAS | X5: 16.CAMION TIPO25m³-15 HORAS-4 OP | Y5: =+IF(X5="","",VLOOKUP(X5,$H$140:$I$192,2,FALSE)) -> 501739
A6: NORTE 3 | B6: =+IF(F6=0,0,MID(F6,LEN(F6)-3,1)) -> 3 | C6: 1 | D6: 2014-2020 | E6: =+IF(F6=0,0,CONCATENATE(MID(F6,FIND("-",F6,1)+1,4),"ORAS")) -> 15 HORAS | F6: 2.CAMION TIPO40m³-15 HORAS-3 OP | G6: =+IF(F6="","",VLOOKUP(F6,$H$140:I$192,2,FALSE)) -> 514916 | N6: =+IF(O6=0,0,CONCATENATE(MID(O6,FIND("-",O6,1)+1,4),"ORAS")) -> 0 | O6: 0 | P6: =+IF(O6="","",VLOOKUP(O6,$H$140:$I$192,2,FALSE)) -> 0 | R6: CENTRO | S6: CENTRO 4 CAMION 3 UNICONOS | T6: =+IF(X6=0,0,MID(X6,LEN(X6)-3,1)) -> 4 | U6: 1 | V6: 2014-2020 | W6: =+IF(X6=0,0,CONCATENATE(MID(X6,FIND("-",X6,1)+1,4),"ORAS")) -> 15 HORAS | X6: 16.CAMION TIPO25m³-15 HORAS-4 OP | Y6: =+IF(X6="","",VLOOKUP(X6,$H$140:$I$192,2,FALSE)) -> 501739
A7: NORTE 4 | B7: =+IF(F7=0,0,MID(F7,LEN(F7)-3,1)) -> 3 | C7: 1 | D7: 2014-2020 | E7: =+IF(F7=0,0,CONCATENATE(MID(F7,FIND("-",F7,1)+1,4),"ORAS")) -> 15 HORAS | F7: 2.CAMION TIPO40m³-15 HORAS-3 OP | G7: =+IF(F7="","",VLOOKUP(F7,$H$140:I$192,2,FALSE)) -> 514916 | O7: 0 | P7: =+IF(O7="","",VLOOKUP(O7,$H$140:$I$192,2,FALSE)) -> 0 | X7: 0 | Y7: =+IF(X7="","",VLOOKUP(X7,$H$140:$I$186,2,FALSE)) -> 0
A8: NORTE 5 ZONA 1 | B8: =+IF(F8=0,0,MID(F8,LEN(F8)-3,1)) -> 3 | C8: 1 | D8: 2014-2020 | E8: =+IF(F8=0,0,CONCATENATE(MID(F8,FIND("-",F8,1)+1,4),"ORAS")) -> 15 HORAS | F8: 2.CAMION TIPO40m³-15 HORAS-3 OP | G8: =+IF(F8="","",VLOOKUP(F8,$H$140:I$192,2,FALSE)) -> 514916 | O8: 0 | P8: =+IF(O8="","",VLOOKUP(O8,$H$140:$I$192,2,FALSE)) -> 0 | U8: =+U4+U5+U6+U7 -> 3
A9: NORTE 1 MALETINES | B9: =+IF(F9=0,0,MID(F9,LEN(F9)-3,1)) -> 4 | C9: 1 | D9: 2014-2020 | E9: =+IF(F9=0,0,CONCATENATE(MID(F9,FIND("-",F9,1)+1,4),"ORAS")) -> 15 HORAS | F9: 1.CAMION TIPO40m³-15 HORAS-4 OP | G9: =+IF(F9="","",VLOOKUP(F9,$H$140:I$192,2,FALSE)) -> 582964
A10: NORTE 1 DIVISORES | B10: =+IF(F10=0,0,MID(F10,LEN(F10)-3,1)) -> 4 | C10: 1 | D10: 2014-2020 | E10: =+IF(F10=0,0,CONCATENATE(MID(F10,FIND("-",F10,1)+1,4),"ORAS")) -> 15 HORAS | F10: 1.CAMION TIPO40m³-15 HORAS-4 OP | G10: =+IF(F10="","",VLOOKUP(F10,$H$140:I$192,2,FALSE)) -> 582964
B13: =+B10+B9+B8+B7+B6+B5+B4 -> 24 | C13: =+C10+C9+C8+C7+C6+C5+C4 -> 7 | G13: =SUM(G4:G12) -> 3808556 | R13: OPERARIOS ADICIONALES
A14: RUTAS CICLOVÍA 25 M3 | R14: ZONA | S14: CORREDOR | T14: # OPERARIOS | U14: # CAMIONES | V14: MODELO | W14: DISPONIBILIDAD | X14: TIPO DE SERVICIO | Y14: $
A15: CORREDOR | B15: # OPERARIOS | C15: # CAMIONES | D15: MODELO | E15: DISPONIBILIDAD | F15: TIPO DE SERVICIO | G15: $ | R15: CENTRO | S15: APOYO CICLOVÍA | T15: 3 | U15: 0 | V15: NA | W15: =+IF(X15=0,0,CONCATENATE(MID(X15,FIND("-",X15,1)+1,4),"ORAS")) -> 08 HORAS | X15: 41.OPERARIO-08 HORAS | Y15: =+(IF(X15="","",VLOOKUP(X15,$H$140:$I$192,2,FALSE)))*T15 -> 160731
A16: NORTE 5 ZONA 2 | B16: =+IF(F16=0,0,MID(F16,LEN(F16)-3,1)) -> 3 | C16: 1 | D16: 2014-2020 | E16: =+IF(F16=0,0,CONCATENATE(MID(F16,FIND("-",F16,1)+1,4),"ORAS")) -> 15 HORAS | F16: 17.CAMION TIPO25m³-15 HORAS-3 OP | G16: =+IF(F16="","",VLOOKUP(F16,$H$140:I$192,2,FALSE)) -> 443323 | I16: ATN CICLOVÍA, ESCUELA DE LA BICI, ADICIONALES 40 M3 | R16: CENTRO | S16: ADICIONALES | T16: 3 | U16: 0 | V16: NA | W16: =+IF(X16=0,0,CONCATENATE(MID(X16,FIND("-",X16,1)+1,4),"ORAS")) -> 08 HORAS | X16: 41.OPERARIO-08 HORAS | Y16: =+(IF(X16="","",VLOOKUP(X16,$H$140:$I$192,2,FALSE)))*T16 -> 160731
I17: ZONA | J17: CORREDOR | K17: # OPERARIOS | L17: # CAMIONES | M17: MODELO | N17: DISPONIBILIDAD | O17: TIPO DE SERVICIO | P17: $
I18: CENTRO | J18: CICLOPASEO POLICÍA NACIONAL | K18: 2 | L18: 1 | M18: 2014-2020 | N18: =+IF(O18=0,0,CONCATENATE(MID(O18,FIND("-",O18,1)+1,4),"ORAS")) -> 09 HORAS | O18: 7.CAMION TIPO40m³-09 HORAS-3 OP | P18: =+IF(O18="","",VLOOKUP(O18,$H$140:$I$192,2,FALSE)) -> 450204 | R18: CAMIONETA 4 X4 DOBLE CABINA CON PLATON
I19: CENTRO | J19: CICLOVÍA INTERNACIONAL | K19: 3 | L19: 1 | M19: 2014-2020 | N19: =+IF(O19=0,0,CONCATENATE(MID(O19,FIND("-",O19,1)+1,4),"ORAS")) -> 09 HORAS | O19: 7.CAMION TIPO40m³-09 HORAS-3 OP | P19: =+IF(O19="","",VLOOKUP(O19,$H$140:$I$192,2,FALSE)) -> 450204 | R19: ZONA | S19: CORREDOR | T19: # OPERARIOS | U19: # CAMIONES | V19: MODELO | W19: DISPONIBILIDAD | X19: TIPO DE SERVICIO | Y19: $
R20: NORTE | S20: APOYO CICLOVÍA | T20: NA | U20: NA | V20: 2014-2020 | W20: =+IF(X20=0,0,CONCATENATE(MID(X20,FIND("-",X20,1)+1,4),"ORAS")) -> 15 HORAS | X20: 34.4X4-15 HORAS | Y20: =+IF(X20="","",VLOOKUP(X20,$H$140:$I$192,2,FALSE)) -> 373234
R21: NORTE | S21: APOYO CICLOVÍA | T21: NA | U21: NA | V21: 2014-2020 | W21: =+IF(X21=0,0,CONCATENATE(MID(X21,FIND("-",X21,1)+1,4),"ORAS")) -> 15 HORAS | X21: 34.4X4-15 HORAS | Y21: =+IF(X21="","",VLOOKUP(X21,$H$140:$I$192,2,FALSE)) -> 373234
R22: CENTRO | S22: APOYO CICLOVÍA | T22: NA | U22: 1 | V22: 2014-2020 | W22: =+IF(X22=0,0,CONCATENATE(MID(X22,FIND("-",X22,1)+1,4),"ORAS")) -> 15 HORAS | X22: 31.CAMION TIPOFURGON-15 HORAS | Y22: =+IF(X22="","",VLOOKUP(X22,$H$140:$I$192,2,FALSE)) -> 239262
A23: valor total | B23: =SUM(B4:B13)+B16+B17+B18+B19+B20+B22 -> 27 | C23: =+C4+C5+C6+C7+C8+C9+C10+C16 -> 8 | G23: =SUM(G13,G16:G22) -> 4251879 | R23: CENTRO | S23: APOYO CICLOVÍA | T23: NA | U23: NA | V23: 2014-2020 | W23: =+IF(X23=0,0,CONCATENATE(MID(X23,FIND("-",X23,1)+1,4),"ORAS")) -> 15 HORAS | X23: 34.4X4-15 HORAS | Y23: =+IF(X23="","",VLOOKUP(X23,$H$140:$I$192,2,FALSE)) -> 373234
A24: ZONA CENTRO | R24: SUR | S24: APOYO CICLOVÍA | T24: NA | U24: NA | V24: 2014-2020 | W24: =+IF(X24=0,0,CONCATENATE(MID(X24,FIND("-",X24,1)+1,4),"ORAS")) -> 15 HORAS | X24: 34.4X4-15 HORAS | Y24: =+IF(X24="","",VLOOKUP(X24,$H$140:$I$192,2,FALSE)) -> 373234
A25: RUTAS CICLOVÍA 40 M3
A26: CORREDOR | B26: # OPERARIOS | C26: # CAMIONES | D26: MODELO | E26: DISPONIBILIDAD | F26: TIPO DE SERVICIO | G26: $ | J26: TOTAL | K26: =SUM(K4:K15,K18:K25) -> 8 | L26: =SUM(L4:L25) -> 4 | P26: =SUM(P4:P25) -> 1582993 | S26: TOTAL | T26: =T4+T5+T6+T15+T16 -> 18 | U26: =SUM(U4:U7,U22) -> 4 | Y26: =SUM(Y4:Y24) -> 3558877
A27: CENTRO 1 | B27: =+IF(F27=0,0,MID(F27,LEN(F27)-3,1)) -> 3 | C27: 1 | D27: 2014-2020 | E27: =+IF(F27=0,0,CONCATENATE(MID(F27,FIND("-",F27,1)+1,4),"ORAS")) -> 15 HORAS | F27: 2.CAMION TIPO40m³-15 HORAS-3 OP | G27: =+IF(F27="","",VLOOKUP(F27,$H$140:I$192,2,FALSE)) -> 514916
A28: CENTRO 2 | B28: =+IF(F28=0,0,MID(F28,LEN(F28)-3,1)) -> 3 | C28: 1 | D28: 2014-2020 | E28: =+IF(F28=0,0,CONCATENATE(MID(F28,FIND("-",F28,1)+1,4),"ORAS")) -> 15 HORAS | F28: 2.CAMION TIPO40m³-15 HORAS-3 OP | G28: =+IF(F28="","",VLOOKUP(F28,$H$140:I$192,2,FALSE)) -> 514916
A29: CENTRO 4 | B29: =+IF(F29=0,0,MID(F29,LEN(F29)-3,1)) -> 3 | C29: 1 | D29: 2014-2020 | E29: =+IF(F29=0,0,CONCATENATE(MID(F29,FIND("-",F29,1)+1,4),"ORAS")) -> 15 HORAS | F29: 2.CAMION TIPO40m³-15 HORAS-3 OP | G29: =+IF(F29="","",VLOOKUP(F29,$H$140:I$192,2,FALSE)) -> 514916
A30: CENTRO 5 | B30: 3 | C30: 1 | D30: 2014-2020 | E30: =+IF(F30=0,0,CONCATENATE(MID(F30,FIND("-",F30,1)+1,4),"ORAS")) -> 15 HORAS | F30: 2.CAMION TIPO40m³-15 HORAS-3 OP | G30: =+IF(F30="","",VLOOKUP(F30,$H$140:I$192,2,FALSE)) -> 514916
A33: RUTAS CICLOVÍA 25 M3
B34: # OPERARIOS | C34: # CAMIONES | D34: MODELO | F34: TIPO DE SERVICIO | G34: $
A35: CENTRO 3 ZONA 1 | B35: =+IF(F35=0,0,MID(F35,LEN(F35)-3,1)) -> 3 | C35: 1 | D35: 2014-2020 | E35: =+IF(F35=0,0,CONCATENATE(MID(F35,FIND("-",F35,1)+1,4),"ORAS")) -> 15 HORAS | F35: 17.CAMION TIPO25m³-15 HORAS-3 OP | G35: =+IF(F35="","",VLOOKUP(F35,$H$140:I$192,2,FALSE)) -> 443323
A36: CENTRO 3 ZONA 2 | B36: =+IF(F36=0,0,MID(F36,LEN(F36)-3,1)) -> 3 | C36: 1 | D36: 2014-2020 | E36: =+IF(F36=0,0,CONCATENATE(MID(F36,FIND("-",F36,1)+1,4),"ORAS")) -> 15 HORAS | F36: 17.CAMION TIPO25m³-15 HORAS-3 OP | G36: =+IF(F36="","",VLOOKUP(F36,$H$140:I$192,2,FALSE)) -> 443323
A37: CENTRO 6 ZONA 1 | B37: =+IF(F37=0,0,MID(F37,LEN(F37)-3,1)) -> 3 | C37: 1 | D37: 2014-2020 | E37: =+IF(F37=0,0,CONCATENATE(MID(F37,FIND("-",F37,1)+1,4),"ORAS")) -> 15 HORAS | F37: 17.CAMION TIPO25m³-15 HORAS-3 OP | G37: =+IF(F37="","",VLOOKUP(F37,$H$140:I$192,2,FALSE)) -> 443323
A38: CENTRO 6 ZONA 2 | B38: =+IF(F38=0,0,MID(F38,LEN(F38)-3,1)) -> 3 | C38: 1 | D38: 2014-2020 | E38: =+IF(F38=0,0,CONCATENATE(MID(F38,FIND("-",F38,1)+1,4),"ORAS")) -> 15 HORAS | F38: 17.CAMION TIPO25m³-15 HORAS-3 OP | G38: =+IF(F38="","",VLOOKUP(F38,$H$140:I$192,2,FALSE)) -> 443323
E39: =+IF(F39=0,0,CONCATENATE(MID(F39,FIND("-",F39,1)+1,4),"ORAS")) -> 0 | F39: 0 | G39: =+IF(F39="","",VLOOKUP(F39,$H$140:I$192,2,FALSE)) -> 0
A41: valor total | B41: =+B27+B28+B29+B35+B36+B37+B38+B39+B30 -> 24 | C41: =SUM(C27:C32)+C35+C36+C37+C38+C39+C40 -> 8 | E41: =+IF(F41=0,0,CONCATENATE(MID(F41,FIND("-",F41,1)+1,3),"ORAS")) -> 0 | G41: =SUM(G27:G32,G35:G40) -> 3832956
A42: ZONA SUR
A43: RUTAS CICLOVÍA 40 M3
A44: CORREDOR | B44: # OPERARIOS | C44: # CAMIONES | D44: MODELO | E44: DISPONIBILIDAD | F44: TIPO DE SERVICIO | G44: $
A53: RUTAS CICLOVÍA 25 M3
...

Sheet INFORME FINAL FEB2
B1: LOGISTICA Y REDES DE DISTRIBUCION S.A.S- IDRD 2022 ZONA NORTE-CENTRO-SUR | Z1: 504881
B2: CONTRATO 1916 DE 2022 - CORTE DEL 1 ENERO DE 2023 AL 05 DE FEBRERO DE 2023 | Z2: 53564
B3: FECHA | C3: CAMIONES | D3: OPERARIOS | E3: OPERARIOS ADICIONALES | F3: JORNADA | G3: DESCRIPCION DEL DESCUENTO | H3: VALOR TOTAL CAMIONES | I3: VALOR OPERARIOS ADICIONALES | J3: VALOR DESCUENTOS | K3: RECREOVÍA | L3: .
B5: ZONA NORTE- CENTRO - SUR | K5: MES ENERO Y FEBRERO RECREOVIA: CAMIONES CON 4 OPERARIOS (15 HORAS) 0 - CAMIONES CON 3 OPERARIOS (15 HORAS) 8 - CAMIONES CON 2 OPERARIOS (15 HORAS) 1 - CAMIONES CON 4 OPERARIOS (9 HORAS) 0 - OPERARIOS (8 HORAS) 115 - OPERARIOS (6 HORAS) 220
B6: 44969 | C6: ='12 FEBRERO '!C68 -> 26 | D6: ='12 FEBRERO '!B68 -> 82 | F6: DOMINGO - CICLOVIA RUTA | H6: ='12 FEBRERO '!G68 -> 12586113
B7: 44969 | C7: ='12 FEBRERO '!U26 -> 4 | D7: ='12 FEBRERO '!T26 -> 16 | F7: DOMINGO - CAMIONES DE CONOS | H7: ='12 FEBRERO '!Y26 -> 3446884
B8: 44969 | C8: ='12 FEBRERO '!L26 -> 3 | D8: ='12 FEBRERO '!K26 -> 7 | F8: DOMINGO- ESCUELA DE LA BICICLETA | H8: ='12 FEBRERO '!P26 -> 1061892
K9: 13754047
L10: CICLOVÍA | M10: CICLOVÍA + RECREOVÍA
L11: =SUM(H6:I11) -> 17094889 | M11: =L11+K9+L19+L28+L55+L37+L46+L64 -> 65533647
B12: TOTAL | C12: =SUM(C6:C8) -> 33 | D12: =SUM(D6:D8) -> 105 | E12: =SUM(E6:E11) -> 0 | H12: =SUM(H6:H11) -> 17094889 | I12: =SUM(I11) -> 0 | J12: 0
J13: ,
B14: ZONA NORTE- CENTRO - SUR
B15: 44976 | C15: ='19 FEBRERO'!C68 -> 26 | D15: ='19 FEBRERO'!B68 -> 74 | F15: DOMINGO - CICLOVIA RUTA | H15: ='19 FEBRERO'!G68 -> 12098777
B16: 44976 | C16: ='19 FEBRERO'!U26 -> 4 | D16: ='19 FEBRERO'!T26 -> 17 | F16: DOMINGO - CAMIONES DE CONOS | H16: ='19 FEBRERO'!Y26 -> 3505300
B17: 44976 | C17: ='19 FEBRERO'!L26 -> 4 | D17: ='19 FEBRERO'!K26 -> 9 | F17: DOMINGO- ESCUELA DE LA BICICLETA | H17: ='19 FEBRERO'!P26 -> 1420699
L18: CICLOVÍA | M18: CICLOVÍA + RECREOVÍA
L19: =SUM(H15:I20) -> 17024776
B21: TOTAL | C21: =SUM(C15:C20) -> 34 | D21: =SUM(D15:D20) -> 100 | E21: =SUM(E15:E20) -> 0 | H21: =SUM(H15:H20) -> 17024776 | J21: 0
B23: ZONA NORTE- CENTRO - SUR
B24: 44983 | C24: ='26 FEBRERO'!C68 -> 26 | D24: ='26 FEBRERO'!B68 -> 81 | F24: DOMINGO - CICLOVIA RUTA | H24: ='26 FEBRERO'!G68 -> 12518065
B25: 44983 | C25: ='26 FEBRERO'!U26 -> 4 | D25: ='26 FEBRERO'!T26 -> 18 | F25: DOMINGO - CAMIONES DE CONOS | H25: ='26 FEBRERO'!Y26 -> 3558877
B26: 44983 | C26: ='26 FEBRERO'!L26 -> 4 | D26: ='26 FEBRERO'!K26 -> 8 | F26: DOMINGO- ESCUELA DE LA BICICLETA | H26: ='26 FEBRERO'!P26 -> 1582993
L27: CICLOVÍA | M27: CICLOVÍA + RECREOVÍA
L28: =SUM(H24:I29) -> 17659935
B30: TOTAL | C30: =SUM(C24:C29) -> 34 | D30: =SUM(D24:D29) -> 107 | E30: =SUM(E24:E29) -> 0 | H30: =SUM(H24:H29) -> 17659935 | I30: =SUM(I24:I29) -> 0 | J30: 0
B32: ZONA NORTE- CENTRO - SUR
L36: CICLOVÍA | M36: CICLOVÍA + RECREOVÍA
L37: =SUM(H33:I38) -> 0
B39: TOTAL | C39: =SUM(C33:C38) -> 0 | D39: =SUM(D33:D38) -> 0 | E39: =SUM(E33:E38) -> 0 | H39: =SUM(H33:H38) -> 0 | I39: =SUM(I33:I38) -> 0 | J39: 0
B41: ZONA NORTE- CENTRO - SUR
L45: CICLOVÍA | M45: CICLOVÍA + RECREOVÍA
L46: =SUM(H42:I47) -> 0
B48: TOTAL | C48: =SUM(C42:C47) -> 0 | D48: =SUM(D42:D47) -> 0 | E48: =SUM(E42:E47) -> 0 | H48: =SUM(H42:H47) -> 0 | I48: =SUM(I42:I47) -> 0 | J48: 0
B50: ZONA NORTE- CENTRO - SUR
L54: CICLOVÍA | M54: CICLOVÍA + RECREOVÍA
L55: =SUM(H51:I56) -> 0
B57: TOTAL | C57: =SUM(C51:C56) -> 0 | D57: =SUM(D51:D56) -> 0 | E57: =SUM(E51:E56) -> 0 | H57: =SUM(H51:H56) -> 0 | I57: =SUM(I51:I56) -> 0 | J57: 0
B59: ZONA NORTE- CENTRO - SUR
L63: CICLOVÍA | M63: CICLOVÍA + RECREOVÍA
...

Sheet SALDOS POR PROYECTO
A1: SEGUIMIENTO CONTRATO 1916 / 2022
A2: RP | B2: RUBRO | C2: VALOR RP | D2: SERVICIO AGOSOTO | E2: SALDO | G2: ADICIONAL MAURO
A3: 6539 | B3: 7850 | C3: 50000000 | D3: ='[10]INFORME FINAL AGOSTO'!K86+'[10]INFORME FINAL AGOSTO'!K87+'[10]INFORME FINAL AGOSTO'!K107+'[10]INFORME FINAL AGOSTO'!K108+'[10]INFORME FINAL AGOSTO'!K109+'[10]INFORME FINAL AGOSTO'!K110 -> 2559462 | E3: =C3-D3 -> 47440538
A4: 6540 | B4: 7851 | C4: 60000000 | D4: ='[10]INFORME FINAL AGOSTO'!K85+'[10]INFORME FINAL AGOSTO'!K91+'[10]INFORME FINAL AGOSTO'!K92+'[10]INFORME FINAL AGOSTO'!K93+'[10]INFORME FINAL AGOSTO'!K94+'[10]INFORME FINAL AGOSTO'!K95+'[10]INFORME FINAL AGOSTO'!K96+'[10]INFORME FINAL AGOSTO'!K97+'[10]INFORME FINAL AGOSTO'!K98+'[10]INFORME FINAL AGOSTO'!K99+'[10]INFORME FINAL AGOSTO'!K100+'[10]INFORME FINAL AGOSTO'!K101+'[10]INFORME FINAL AGOSTO'!K102+'[10]INFORME FINAL AGOSTO'!K103+'[10]INFORME FINAL AGOSTO'!K104+'[10]INFORME FINAL AGOSTO'!K106 -> 4468803 | E4: =C4-D4 -> 55531197
A5: 6538 | B5: 7852 | C5: 1271023000 | D5: ='[10]INFORME FINAL AGOSTO'!M11+'[10]INFORME FINAL AGOSTO'!K74+'[10]INFORME FINAL AGOSTO'!K75+'[10]INFORME FINAL AGOSTO'!K76+'[10]INFORME FINAL AGOSTO'!K77+'[10]INFORME FINAL AGOSTO'!K78+'[10]INFORME FINAL AGOSTO'!K79+'[10]INFORME FINAL AGOSTO'!K80+'[10]INFORME FINAL AGOSTO'!K81+'[10]INFORME FINAL AGOSTO'!K82+'[10]INFORME FINAL AGOSTO'!K83+'[10]INFORME FINAL AGOSTO'!K84+'[10]INFORME FINAL AGOSTO'!K88+'[10]INFORME FINAL AGOSTO'!K89+'[10]INFORME FINAL AGOSTO'!K90 -> 112482201 | E5: =C5-D5 -> 1158540799
A6: 6542 | B6: 7854 | C6: 10300000 | D6: 0 | E6: =C6-D6 -> 10300000
A7: 6541 | B7: SAF- 5119 | C7: 7000000 | D7: ='[10]INFORME FINAL AGOSTO'!K105+'[10]INFORME FINAL AGOSTO'!K111 -> 581682 | E7: =C7-D7 -> 6418318
A8: TOTAL CONTRATO | E8: =SUM(E3:E7) -> 1278230852
C9: =SUM(C3:C7) -> 1398323000 | D9: =SUM(D3:D7) -> 120092148
A10: SEGUIMIENTO CONTRATO 1916 / 2022 | I10: Saldo actual | J10: Proyección 7852 | K10: Cantidad de meses para cubrir | L10: Fecha para nuevo contrato
A11: RP | B11: RUBRO | C11: VALOR RP | D11: SERVICIO SEPTIEMBRE | E11: SALDO | I11: =E35 -> 873855857 | J11: =AVERAGE(D9,D18,D27,D36) -> 1.3111679e+08 | K11: =I11/J11 -> 6.6647138 | L11: 45047
A12: 6539 | B12: 7850 | C12: =E3 -> 47440538 | D12: =SUM('[11]INFORME FINAL SEPTIEMBRE'!$K$75,'[11]INFORME FINAL SEPTIEMBRE'!$K$76,'[11]INFORME FINAL SEPTIEMBRE'!$K$77,'[11]INFORME FINAL SEPTIEMBRE'!$K$80,'[11]INFORME FINAL SEPTIEMBRE'!$K$81,'[11]INFORME FINAL SEPTIEMBRE'!$K$82,'[11]INFORME FINAL SEPTIEMBRE'!$K$84,'[11]INFORME FINAL SEPTIEMBRE'!$K$85,'[11]INFORME FINAL SEPTIEMBRE'!$K$88,'[11]INFORME FINAL SEPTIEMBRE'!$K$89,'[11]INFORME FINAL SEPTIEMBRE'!$K$90,'[11]INFORME FINAL SEPTIEMBRE'!$K$92,'[11]INFORME FINAL SEPTIEMBRE'!$K$93,'[11]INFORME FINAL SEPTIEMBRE'!$K$96,'[11]INFORME FINAL SEPTIEMBRE'!$K$97,'[11]INFORME FINAL SEPTIEMBRE'!$K$98,'[11]INFORME FINAL SEPTIEMBRE'!$K$108,'[11]INFORME FINAL SEPTIEMBRE'!$K$109,'[11]INFORME FINAL SEPTIEMBRE'!$K$112,'[11]INFORME FINAL SEPTIEMBRE'!$K$113,'[11]INFORME FINAL SEPTIEMBRE'!$K$114,'[11]INFORME FINAL SEPTIEMBRE'!$K$115,'[11]INFORME FINAL SEPTIEMBRE'!$K$116,'[11]INFORME FINAL SEPTIEMBRE'!$K$117,'[11]INFORME FINAL SEPTIEMBRE'!$K$118,'[11]INFORME FINAL SEPTIEMBRE'!$K$119,'[11]INFORME FINAL SEPTIEMBRE'!$K$120,'[11]INFORME FINAL SEPTIEMBRE'!$K$121,'[11]INFORME FINAL SEPTIEMBRE'!$K$122,'[11]INFORME FINAL SEPTIEMBRE'!$K$123,'[11]INFORME FINAL SEPTIEMBRE'!$K$124,'[11]INFORME FINAL SEPTIEMBRE'!$K$125,'[11]INFORME FINAL SEPTIEMBRE'!$K$126,'[11]INFORME FINAL SEPTIEMBRE'!$K$127,'[11]INFORME FINAL SEPTIEMBRE'!$K$128,'[11]INFORME FINAL SEPTIEMBRE'!$K$129,'[11]INFORME FINAL SEPTIEMBRE'!$K$130,'[11]INFORME FINAL SEPTIEMBRE'!$K$131,'[11]INFORME FINAL SEPTIEMBRE'!$K$132,'[11]INFORME FINAL SEPTIEMBRE'!$K$133,'[11]INFORME FINAL SEPTIEMBRE'!$K$134,'[11]INFORME FINAL SEPTIEMBRE'!$K$135,'[11]INFORME FINAL SEPTIEMBRE'!$K$136,'[11]INFORME FINAL SEPTIEMBRE'!$K$137,'[11]INFORME FINAL SEPTIEMBRE'!$K$138,'[11]INFORME FINAL SEPTIEMBRE'!$K$139) -> 10993500 | E12: =C12-D12 -> 36447038
A13: 6540 | B13: 7851 | C13: =E4 -> 55531197 | D13: =SUM('[11]INFORME FINAL SEPTIEMBRE'!$K$79,'[11]INFORME FINAL SEPTIEMBRE'!$K$94,'[11]INFORME FINAL SEPTIEMBRE'!$K$105,'[11]INFORME FINAL SEPTIEMBRE'!$K$111) -> 1308114 | E13: =C13-D13 -> 54223083
A14: 6538 | B14: 7852 | C14: =E5 -> 1158540799 | D14: =SUM('[11]INFORME FINAL SEPTIEMBRE'!$O$70,'[11]INFORME FINAL SEPTIEMBRE'!$L$73,'[11]INFORME FINAL SEPTIEMBRE'!$K$99,'[11]INFORME FINAL SEPTIEMBRE'!$K$100,'[11]INFORME FINAL SEPTIEMBRE'!$K$101,'[11]INFORME FINAL SEPTIEMBRE'!$K$102,'[11]INFORME FINAL SEPTIEMBRE'!$K$103,'[11]INFORME FINAL SEPTIEMBRE'!$K$104,'[11]INFORME FINAL SEPTIEMBRE'!$K$140,'[11]INFORME FINAL SEPTIEMBRE'!$K$141,'[11]INFORME FINAL SEPTIEMBRE'!$K$142,'[11]INFORME FINAL SEPTIEMBRE'!$K$143,'[11]INFORME FINAL SEPTIEMBRE'!$K$144,'[11]INFORME FINAL SEPTIEMBRE'!$K$145,'[11]INFORME FINAL SEPTIEMBRE'!$K$146,'[11]INFORME FINAL SEPTIEMBRE'!$K$147,'[11]INFORME FINAL SEPTIEMBRE'!$K$148,'[11]INFORME FINAL SEPTIEMBRE'!$K$149,'[11]INFORME FINAL SEPTIEMBRE'!$K$150,'[11]INFORME FINAL SEPTIEMBRE'!$K$151,'[11]INFORME FINAL SEPTIEMBRE'!$K$152,'[11]INFORME FINAL SEPTIEMBRE'!$K$153,'[11]INFORME FINAL SEPTIEMBRE'!$K$154,'[11]INFORME FINAL SEPTIEMBRE'!$K$155) -> 102752853 | E14: =C14-D14 -> 1055787946
A15: 6542 | B15: 7854 | C15: =E6 -> 10300000 | D15: =SUM('[11]INFORME FINAL SEPTIEMBRE'!$K$78,'[11]INFORME FINAL SEPTIEMBRE'!$K$83,'[11]INFORME FINAL SEPTIEMBRE'!$K$86,'[11]INFORME FINAL SEPTIEMBRE'!$K$87,'[11]INFORME FINAL SEPTIEMBRE'!$K$110) -> 1129245 | E15: =C15-D15 -> 9170755
A16: 6541 | B16: SAF- 5119 | C16: =E7 -> 6418318 | D16: =SUM('[11]INFORME FINAL SEPTIEMBRE'!$K$74,'[11]INFORME FINAL SEPTIEMBRE'!$K$91,'[11]INFORME FINAL SEPTIEMBRE'!$K$95,'[11]INFORME FINAL SEPTIEMBRE'!$K$106,'[11]INFORME FINAL SEPTIEMBRE'!$K$107-30348) -> 1402218 | E16: =C16-D16 -> 5016100
A17: TOTAL CONTRATO | E17: =SUM(E12:E16) -> 1160644922
C18: =SUM(C12:C16) -> 1278230852 | D18: =SUM(D12:D16) -> 117585930
A19: SEGUIMIENTO CONTRATO 1916 / 2022
A20: RP | B20: RUBRO | C20: VALOR RP | D20: SERVICIO OCTUBRE | E20: SALDO
A21: 6539 | B21: 7850 | C21: =E12 -> 36447038 | D21: 5750775 | E21: =C21-D21 -> 30696263 | G21: 40455
A22: 6540 | B22: 7851 | C22: =E13 -> 54223083 | D22: 1674612 | E22: =C22-D22 -> 52548471
A23: 6538 | B23: 7852 | C23: =E14 -> 1055787946 | D23: 131977619 | E23: =C23-D23 -> 923810327 | G23: 190278
A24: 6542 | B24: 7854 | C24: =E15 -> 9170755 | D24: 2610108 | E24: =C24-D24 -> 6560647
A25: 6541 | B25: SAF- 5119 | C25: =E16 -> 5016100 | D25: 290841 | E25: =C25-D25 -> 4725259
A26: TOTAL CONTRATO | E26: =SUM(E21:E25) -> 1018340967
C27: =SUM(C21:C25) -> 1160644922 | D27: =SUM(D21:D25) -> 142303955
A28: SEGUIMIENTO CONTRATO 1916 / 2022
A29: RP | B29: RUBRO | C29: VALOR RP | D29: SERVICIO NOVIMEBRE | E29: SALDO
A30: 6539 | B30: 7850 | C30: =E21 -> 30696263 | D30: ='[12]INFORME FINAL NOVIEMEBRE'!K75+'[12]INFORME FINAL NOVIEMEBRE'!K76+'[12]INFORME FINAL NOVIEMEBRE'!K77+'[12]INFORME FINAL NOVIEMEBRE'!K88+'[12]INFORME FINAL NOVIEMEBRE'!K89+'[12]INFORME FINAL NOVIEMEBRE'!K90+'[12]INFORME FINAL NOVIEMEBRE'!K91+'[12]INFORME FINAL NOVIEMEBRE'!K92+'[12]INFORME FINAL NOVIEMEBRE'!K93 -> 4507514 | E30: =C30-D30 -> 26188749
A31: 6540 | B31: 7851 | C31: =E22 -> 52548471 | D31: ='[12]INFORME FINAL NOVIEMEBRE'!K74+'[12]INFORME FINAL NOVIEMEBRE'!K80+'[12]INFORME FINAL NOVIEMEBRE'!K83+'[12]INFORME FINAL NOVIEMEBRE'!K84+'[12]INFORME FINAL NOVIEMEBRE'!K95+'[12]INFORME FINAL NOVIEMEBRE'!K96+'[12]INFORME FINAL NOVIEMEBRE'!K97+'[12]INFORME FINAL NOVIEMEBRE'!K98+'[12]INFORME FINAL NOVIEMEBRE'!K103+'[12]INFORME FINAL NOVIEMEBRE'!K104+'[12]INFORME FINAL NOVIEMEBRE'!K134 -> 3317354 | E31: =C31-D31 -> 49231117
A32: 6538 | B32: 7852 | C32: =E23 -> 923810327 | D32: ='[12]INFORME FINAL NOVIEMEBRE'!O70+'[12]INFORME FINAL NOVIEMEBRE'!L73+'[12]INFORME FINAL NOVIEMEBRE'!K78+'[12]INFORME FINAL NOVIEMEBRE'!K79+'[12]INFORME FINAL NOVIEMEBRE'!K100+'[12]INFORME FINAL NOVIEMEBRE'!K108+'[12]INFORME FINAL NOVIEMEBRE'!K109+'[12]INFORME FINAL NOVIEMEBRE'!K110+'[12]INFORME FINAL NOVIEMEBRE'!K111+'[12]INFORME FINAL NOVIEMEBRE'!K112+'[12]INFORME FINAL NOVIEMEBRE'!K113+'[12]INFORME FINAL NOVIEMEBRE'!K114+'[12]INFORME FINAL NOVIEMEBRE'!K115+'[12]INFORME FINAL NOVIEMEBRE'!K116+'[12]INFORME FINAL NOVIEMEBRE'!K117+'[12]INFORME FINAL NOVIEMEBRE'!K118+'[12]INFORME FINAL NOVIEMEBRE'!K119+'[12]INFORME FINAL NOVIEMEBRE'!K120+'[12]INFORME FINAL NOVIEMEBRE'!K121+'[12]INFORME FINAL NOVIEMEBRE'!K122+'[12]INFORME FINAL NOVIEMEBRE'!K123+'[12]INFORME FINAL NOVIEMEBRE'!K124+'[12]INFORME FINAL NOVIEMEBRE'!K125+'[12]INFORME FINAL NOVIEMEBRE'!K126+'[12]INFORME FINAL NOVIEMEBRE'!K127+'[12]INFORME FINAL NOVIEMEBRE'!K128+'[12]INFORME FINAL NOVIEMEBRE'!K129+'[12]INFORME FINAL NOVIEMEBRE'!K130+'[12]INFORME FINAL NOVIEMEBRE'!K131+'[12]INFORME FINAL NOVIEMEBRE'!K132+'[12]INFORME FINAL NOVIEMEBRE'!K133+'[12]INFORME FINAL NOVIEMEBRE'!K136 -> 133799308 | E32: =C32-D32 -> 790011019
A33: 6542 | B33: 7854 | C33: =E24 -> 6560647 | D33: ='[12]INFORME FINAL NOVIEMEBRE'!K81+'[12]INFORME FINAL NOVIEMEBRE'!K82+'[12]INFORME FINAL NOVIEMEBRE'!K85+'[12]INFORME FINAL NOVIEMEBRE'!K86+'[12]INFORME FINAL NOVIEMEBRE'!K87+'[12]INFORME FINAL NOVIEMEBRE'!K99+'[12]INFORME FINAL NOVIEMEBRE'!K101+'[12]INFORME FINAL NOVIEMEBRE'!K102+'[12]INFORME FINAL NOVIEMEBRE'!K105+'[12]INFORME FINAL NOVIEMEBRE'!K106+'[12]INFORME FINAL NOVIEMEBRE'!K107 -> 2224165 | E33: =C33-D33 -> 4336482
A34: 6541 | B34: SAF- 5119 | C34: =E25 -> 4725259 | D34: ='[12]INFORME FINAL NOVIEMEBRE'!K94+'[12]INFORME FINAL NOVIEMEBRE'!K135 -> 636769 | E34: =C34-D34 -> 4088490
A35: TOTAL CONTRATO | E35: =SUM(E30:E34) -> 873855857
C36: =SUM(C30:C34) -> 1018340967 | D36: =SUM(D30:D34) -> 144485110
A37: SEGUIMIENTO CONTRATO 1916 / 2022
A38: RP | B38: RUBRO | C38: VALOR RP | D38: SERVICIO DICIEMBRE | E38: SALDO
A39: 6539 | B39: 7850 | C39: =E30 -> 26188749 | D39: =SUM('[13]INFORME FINAL DICIEMBRE'!$K$77,'[13]INFORME FINAL DICIEMBRE'!$K$78,'[13]INFORME FINAL DICIEMBRE'!$K$81,'[13]INFORME FINAL DICIEMBRE'!$K$85,'[13]INFORME FINAL DICIEMBRE'!$K$86,'[13]INFORME FINAL DICIEMBRE'!$K$87,'[13]INFORME FINAL DICIEMBRE'!$K$88,'[13]INFORME FINAL DICIEMBRE'!$K$89,'[13]INFORME FINAL DICIEMBRE'!$K$90,'[13]INFORME FINAL DICIEMBRE'!$K$91,'[13]INFORME FINAL DICIEMBRE'!$K$92,'[13]INFORME FINAL DICIEMBRE'!$K$93,'[13]INFORME FINAL DICIEMBRE'!$K$94,'[13]INFORME FINAL DICIEMBRE'!$K$98,'[13]INFORME FINAL DICIEMBRE'!$K$99,'[13]INFORME FINAL DICIEMBRE'!$K$103,'[13]INFORME FINAL DICIEMBRE'!$K$106,'[13]INFORME FINAL DICIEMBRE'!$K$110,'[13]INFORME FINAL DICIEMBRE'!$K$112,'[13]INFORME FINAL DICIEMBRE'!$K$113) -> 8625016 | E39: =C39-D39 -> 17563733
A40: 6540 | B40: 7851 | C40: =E31 -> 49231117 | D40: =SUM('[14]INFORME FINAL DICIEMBRE'!K76,'[14]INFORME FINAL DICIEMBRE'!K79,'[14]INFORME FINAL DICIEMBRE'!K80,'[14]INFORME FINAL DICIEMBRE'!K102,'[14]INFORME FINAL DICIEMBRE'!K104,'[14]INFORME FINAL DICIEMBRE'!K107,'[14]INFORME FINAL DICIEMBRE'!K114,'[14]INFORME FINAL DICIEMBRE'!K115,'[14]INFORME FINAL DICIEMBRE'!K116,'[14]INFORME FINAL DICIEMBRE'!K117,'[14]INFORME FINAL DICIEMBRE'!K118,'[14]INFORME FINAL DICIEMBRE'!K119,'[14]INFORME FINAL DICIEMBRE'!K120,'[14]INFORME FINAL DICIEMBRE'!K121) -> 4036889 | E40: =C40-D40 -> 45194228
...

Sheet INFORME FINAL ENE - FEB
B1: LOGISTICA Y REDES DE DISTRIBUCION S.A.S- IDRD 2022 ZONA NORTE-CENTRO-SUR | Z1: 504881
B2: CONTRATO 1916 DE 2022 - CORTE DEL 1 ENERO DE 2023 AL 05 DE FEBRERO DE 2023 | Z2: 53564
B3: FECHA | C3: CAMIONES | D3: OPERARIOS | E3: OPERARIOS ADICIONALES | F3: JORNADA | G3: DESCRIPCION DEL DESCUENTO | H3: VALOR TOTAL CAMIONES | I3: VALOR OPERARIOS ADICIONALES | J3: VALOR DESCUENTOS | K3: RECREOVÍA | L3: .
B5: ZONA NORTE- CENTRO - SUR | K5: MES ENERO Y FEBRERO RECREOVIA: CAMIONES CON 4 OPERARIOS (15 HORAS) 12 - CAMIONES CON 3 OPERARIOS (15 HORAS) 12 - CAMIONES CON 2 OPERARIOS (15 HORAS) 0 - CAMIONES CON 4 OPERARIOS (9 HORAS) 0 - OPERARIOS (8 HORAS) 227 - OPERARIOS (6 HORAS) 220
B6: 44934 | C6: ='[9]8 ENERO'!C67 -> 26 | D6: ='[9]8 ENERO'!B67 -> 66 | F6: DOMINGO - CICLOVIA RUTA | H6: ='[9]8 ENERO'!G67 -> 11516634
B7: 44934 | C7: ='[9]8 ENERO'!U25 -> 4 | D7: ='[9]8 ENERO'!T25 -> 12 | F7: DOMINGO - CAMIONES DE CONOS | H7: ='[9]8 ENERO'!Y25 -> 2847476
B8: 44934 | C8: ='[9]8 ENERO'!L25 -> 2 | D8: ='[9]8 ENERO'!K25 -> 3 | F8: DOMINGO- ESCUELA DE LA BICICLETA | H8: ='[9]8 ENERO'!P25 -> 682585
K9: 31815123
L10: CICLOVÍA | M10: CICLOVÍA + RECREOVÍA
L11: =SUM(H6:I11) -> 15046695 | M11: =L11+K9+L19+L28+L55+L37+L46+L64 -> 121707164
B12: TOTAL | C12: =SUM(C6:C8) -> 32 | D12: =SUM(D6:D8) -> 81 | E12: =SUM(E6:E11) -> 0 | H12: =SUM(H6:H11) -> 15046695 | I12: =SUM(I11) -> 0 | J12: 0
J13: ,
B14: ZONA NORTE- CENTRO - SUR
B15: 44935 | C15: ='[9]9 ENERO '!C67 -> 21 | D15: ='[9]9 ENERO '!B67 -> 57 | F15: DOMINGO - CICLOVIA RUTA | H15: ='[9]9 ENERO '!G67 -> 9638455
B16: 44935 | C16: ='[9]9 ENERO '!U25 -> 4 | D16: ='[9]9 ENERO '!T25 -> 12 | F16: DOMINGO - CAMIONES DE CONOS | H16: ='[9]9 ENERO '!Y25 -> 2847476
B17: 44935 | C17: ='[9]9 ENERO '!L25 -> 2 | D17: ='[9]9 ENERO '!K25 -> 3 | F17: DOMINGO- ESCUELA DE LA BICICLETA | H17: ='[9]9 ENERO '!P25 -> 682585
L18: CICLOVÍA | M18: CICLOVÍA + RECREOVÍA
L19: =SUM(H15:I20) -> 13168516
B21: TOTAL | C21: =SUM(C15:C20) -> 27 | D21: =SUM(D15:D20) -> 72 | E21: =SUM(E15:E20) -> 0 | H21: =SUM(H15:H20) -> 13168516 | J21: 0
B23: ZONA NORTE- CENTRO - SUR
B24: 44941 | C24: ='[9]15 ENERO'!C67 -> 26 | D24: ='[9]15 ENERO'!B67 -> 73 | F24: DOMINGO - CICLOVIA RUTA | H24: ='[9]15 ENERO'!G67 -> 11959136
