Workbook
Name d: [1]DATOS!$H$4:$H$12
Name dep: [1]DATOS!$D$3:$D$6
Name Deportes1: [2]DATOS!$H$4:$H$12
Name Deportes1: [3]DATOS!$H$4:$H$12
Name Deportes2: [2]DATOS!$I$4:$I$11
Name Deportes2: [3]DATOS!$I$4:$I$11
Name Deportes3: [2]DATOS!$K$4:$K$8
Name Deportes3: [3]DATOS!$K$4:$K$8
Name FF: [4]DATOS!$K$4:$K$8
Name INCLUIYENTE: [5]DATOS!$H$4:$H$12
Name INCLUYENTE: [5]DATOS!$J$4:$J$12
Name JUVENTUD: [6]DATOS!$J$4:$J$12
Name OTRPO: [7]DATOS!$D$3:$D$6
Name Proyecto: [2]DATOS!$D$3:$D$6
Name Proyecto: [3]DATOS!$D$3:$D$6
Name Recreacion: [2]DATOS!$J$4:$J$12
Name Recreacion: [3]DATOS!$J$4:$J$12
Name TEC: [8]DATOS!$I$4:$I$11

Sheet 04 JUNIO 
A1: ZONA NORTE
A2: RUTAS CICLOVÍA 40 M3 | I2: LUDICA CICLOVÍA, ESCUELA DE LA BICI, ADICIONALES 25 M3 | R2: CONOS CICLOVÍA 25 M3
A3: CORREDOR | B3: # OPERARIOS | C3: # CAMIONES | D3: MODELO | E3: DISPONIBILIDAD | F3: TIPO DE SERVICIO | G3: $ | I3: ZONA | J3: CORREDOR | K3: # OPERARIOS | L3: # CAMIONES | M3: MODELO | N3: DISPONIBILIDAD | O3: TIPO DE SERVICIO | P3: $ | R3: ZONA | S3: CORREDOR | T3: # OPERARIOS | U3: # CAMIONES | V3: MODELO | W3: DISPONIBILIDAD | X3: TIPO DE SERVICIO | Y3: $
A4: NORTE 1 | B4: =+IF(F4=0,0,MID(F4,LEN(F4)-3,1)) -> 4 | C4: 1 | D4: 2014-2020 | E4: =+IF(F4=0,0,CONCATENATE(MID(F4,FIND("-",F4,1)+1,4),"ORAS")) -> 15 HORAS | F4: 1.CAMION TIPO40m³-15 HORAS-4 OP | G4: =+IF(F4="","",VLOOKUP(F4,$H$140:$I$192,2,FALSE)) -> 582964 | I4: CENTRO | J4: ESCUELA | K4: 3 | L4: 1 | M4: 2014-2020 | N4: =+IF(O4=0,0,CONCATENATE(MID(O4,FIND("-",O4,1)+1,4),"ORAS")) -> 15 HORAS | O4: 17.CAMION TIPO25m³-15 HORAS-3 OP | P4: =+IF(O4="","",VLOOKUP(O4,$H$140:$I$192,2,FALSE)) -> 443323 | R4: CENTRO | S4: CENTRO 5 CAMION 1 UNICONOS | T4: =+IF(X4=0,0,MID(X4,LEN(X4)-3,1)) -> 3 | U4: 1 | V4: 2014-2020 | W4: =+IF(X4=0,0,CONCATENATE(MID(X4,FIND("-",X4,1)+1,4),"ORAS")) -> 15 HORAS | X4: 17.CAMION TIPO25m³-15 HORAS-3 OP | Y4: =+IF(X4="","",VLOOKUP(X4,$H$140:$I$192,2,FALSE)) -> 443323
A5: NORTE 2 | B5: =+IF(F5=0,0,MID(F5,LEN(F5)-3,1)) -> 3 | C5: 1 | D5: 2014-2020 | E5: =+IF(F5=0,0,CONCATENATE(MID(F5,FIND("-",F5,1)+1,4),"ORAS")) -> 15 HORAS | F5: 2.CAMION TIPO40m³-15 HORAS-3 OP | G5: =+IF(F5="","",VLOOKUP(F5,$H$140:I$192,2,FALSE)) -> 514916 | I5: CENTRO | J5: CAMIONETA FURGONADA PENDONES CALLE 26 | K5: 0 | L5: 1 | M5: 2014-2020 | N5: =+IF(O5=0,0,CONCATENATE(MID(O5,FIND("-",O5,1)+1,4),"ORAS")) -> 15 HORAS | O5: 31.CAMION TIPOFURGON-15 HORAS | P5: =+IF(O5="","",VLOOKUP(O5,$H$140:$I$192,2,FALSE)) -> 239262 | R5: CENTRO | S5: CENTRO 5 CAMION 2 UNICONOS | T5: =+IF(X5=0,0,MID(X5,LEN(X5)-3,1)) -> 3 | U5: 1 | V5: 2014-2020 | W5: =+IF(X5=0,0,CONCATENATE(MID(X5,FIND("-",X5,1)+1,4),"ORAS")) -> 15 HORAS | X5: 17.CAMION TIPO25m³-15 HORAS-3 OP | Y5: =+IF(X5="","",VLOOKUP(X5,$H$140:$I$192,2,FALSE)) -> 443323
A6: NORTE 3 | B6: =+IF(F6=0,0,MID(F6,LEN(F6)-3,1)) -> 3 | C6: 1 | D6: 2014-2020 | E6: =+IF(F6=0,0,CONCATENATE(MID(F6,FIND("-",F6,1)+1,4),"ORAS")) -> 15 HORAS | F6: 2.CAMION TIPO40m³-15 HORAS-3 OP | G6: =+IF(F6="","",VLOOKUP(F6,$H$140:I$192,2,FALSE)) -> 514916 | I6: CENTRO | J6: ATN | K6: 4 | L6: 1 | M6: 2014-2020 | N6: =+IF(O6=0,0,CONCATENATE(MID(O6,FIND("-",O6,1)+1,4),"ORAS")) -> 15 HORAS | O6: 16.CAMION TIPO25m³-15 HORAS-4 OP | P6: =+IF(O6="","",VLOOKUP(O6,$H$140:$I$192,2,FALSE)) -> 501739 | R6: CENTRO | S6: CENTRO 4 CAMION 3 UNICONOS | T6: =+IF(X6=0,0,MID(X6,LEN(X6)-3,1)) -> 3 | U6: 1 | V6: 2014-2020 | W6: =+IF(X6=0,0,CONCATENATE(MID(X6,FIND("-",X6,1)+1,4),"ORAS")) -> 15 HORAS | X6: 17.CAMION TIPO25m³-15 HORAS-3 OP | Y6: =+IF(X6="","",VLOOKUP(X6,$H$140:$I$192,2,FALSE)) -> 443323
A7: NORTE 4 | B7: =+IF(F7=0,0,MID(F7,LEN(F7)-3,1)) -> 3 | C7: 1 | D7: 2014-2020 | E7: =+IF(F7=0,0,CONCATENATE(MID(F7,FIND("-",F7,1)+1,4),"ORAS")) -> 15 HORAS | F7: 2.CAMION TIPO40m³-15 HORAS-3 OP | G7: =+IF(F7="","",VLOOKUP(F7,$H$140:I$192,2,FALSE)) -> 514916 | I7: CENTRO | J7: CICLOPASEO POLONIA | K7: 2 | L7: 1 | M7: 2014-2020 | N7: =+IF(O7=0,0,CONCATENATE(MID(O7,FIND("-",O7,1)+1,4),"ORAS")) -> 09 HORAS | O7: 22.CAMION TIPO25m³-09 HORAS-3 OP | P7: =+IF(O7="","",VLOOKUP(O7,$H$140:$I$192,2,FALSE)) -> 386383 | X7: 0 | Y7: =+IF(X7="","",VLOOKUP(X7,$H$140:$I$186,2,FALSE)) -> 0
A8: NORTE 5 ZONA 1 | B8: =+IF(F8=0,0,MID(F8,LEN(F8)-3,1)) -> 3 | C8: 1 | D8: 2014-2020 | E8: =+IF(F8=0,0,CONCATENATE(MID(F8,FIND("-",F8,1)+1,4),"ORAS")) -> 15 HORAS | F8: 2.CAMION TIPO40m³-15 HORAS-3 OP | G8: =+IF(F8="","",VLOOKUP(F8,$H$140:I$192,2,FALSE)) -> 514916 | N8: =+IF(O8=0,0,CONCATENATE(MID(O8,FIND("-",O8,1)+1,4),"ORAS")) -> 0 | O8: 0 | P8: =+IF(O8="","",VLOOKUP(O8,$H$140:$I$192,2,FALSE)) -> 0 | U8: =+U4+U5+U6+U7 -> 3
A9: NORTE 5 ZONA 2 | B9: =+IF(F9=0,0,MID(F9,LEN(F9)-3,1)) -> 3 | C9: 1 | D9: 2014-2020 | E9: =+IF(F9=0,0,CONCATENATE(MID(F9,FIND("-",F9,1)+1,4),"ORAS")) -> 15 HORAS | F9: 2.CAMION TIPO40m³-15 HORAS-3 OP | G9: =+IF(F9="","",VLOOKUP(F9,$H$140:I$192,2,FALSE)) -> 514916
A10: NORTE 1 MALETINES | B10: =+IF(F10=0,0,MID(F10,LEN(F10)-3,1)) -> 4 | C10: 1 | D10: 2014-2020 | E10: =+IF(F10=0,0,CONCATENATE(MID(F10,FIND("-",F10,1)+1,4),"ORAS")) -> 15 HORAS | F10: 1.CAMION TIPO40m³-15 HORAS-4 OP | G10: =+IF(F10="","",VLOOKUP(F10,$H$140:I$192,2,FALSE)) -> 582964
A11: NORTE 1 DIVISORES | B11: =+IF(F11=0,0,MID(F11,LEN(F11)-3,1)) -> 4 | C11: 1 | D11: 2014-2020 | E11: =+IF(F11=0,0,CONCATENATE(MID(F11,FIND("-",F11,1)+1,4),"ORAS")) -> 15 HORAS | F11: 1.CAMION TIPO40m³-15 HORAS-4 OP | G11: =+IF(F11="","",VLOOKUP(F11,$H$140:$I$192,2,FALSE)) -> 582964
B13: =+B10+B9+B8+B7+B6+B5+B4+B11 -> 27 | C13: =+C10+C9+C8+C7+C6+C5+C4 -> 7 | G13: =SUM(G4:G12) -> 4323472 | R13: OPERARIOS ADICIONALES
A14: RUTAS CICLOVÍA 25 M3 | R14: ZONA | S14: CORREDOR | T14: # OPERARIOS | U14: # CAMIONES | V14: MODELO | W14: DISPONIBILIDAD | X14: TIPO DE SERVICIO | Y14: $
A15: CORREDOR | B15: # OPERARIOS | C15: # CAMIONES | D15: MODELO | E15: DISPONIBILIDAD | F15: TIPO DE SERVICIO | G15: $ | R15: CENTRO | S15: APOYO CICLOVÍA | T15: 3 | U15: 0 | V15: NA | W15: =+IF(X15=0,0,CONCATENATE(MID(X15,FIND("-",X15,1)+1,4),"ORAS")) -> 08 HORAS | X15: 41.OPERARIO-08 HORAS | Y15: =+(IF(X15="","",VLOOKUP(X15,$H$140:$I$192,2,FALSE)))*T15 -> 160731
B16: =+IF(F16=0,0,MID(F16,LEN(F16)-3,1)) -> 0 | E16: =+IF(F16=0,0,CONCATENATE(MID(F16,FIND("-",F16,1)+1,4),"ORAS")) -> 0 | F16: 0 | G16: =+IF(F16="","",VLOOKUP(F16,$H$140:I$192,2,FALSE)) -> 0 | I16: ATN CICLOVÍA, ESCUELA DE LA BICI, ADICIONALES 40 M3 | R16: CENTRO | S16: ADICIONALES | T16: 3 | U16: 0 | V16: NA | W16: =+IF(X16=0,0,CONCATENATE(MID(X16,FIND("-",X16,1)+1,4),"ORAS")) -> 08 HORAS | X16: 41.OPERARIO-08 HORAS | Y16: =+(IF(X16="","",VLOOKUP(X16,$H$140:$I$192,2,FALSE)))*T16 -> 160731
I17: ZONA | J17: CORREDOR | K17: # OPERARIOS | L17: # CAMIONES | M17: MODELO | N17: DISPONIBILIDAD | O17: TIPO DE SERVICIO | P17: $
I18: CENTRO | J18: CICLOVIA INTERNACIONAL | K18: 3 | L18: 1 | M18: 2014-2020 | N18: =+IF(O18=0,0,CONCATENATE(MID(O18,FIND("-",O18,1)+1,4),"ORAS")) -> 09 HORAS | O18: 7.CAMION TIPO40m³-09 HORAS-3 OP | P18: =+IF(O18="","",VLOOKUP(O18,$H$140:$I$192,2,FALSE)) -> 450204 | R18: CAMIONETA 4 X4 DOBLE CABINA CON PLATON
O19: 0 | P19: =+IF(O19="","",VLOOKUP(O19,$H$140:$I$192,2,FALSE)) -> 0 | R19: ZONA | S19: CORREDOR | T19: # OPERARIOS | U19: # CAMIONES | V19: MODELO | W19: DISPONIBILIDAD | X19: TIPO DE SERVICIO | Y19: $
R20: NORTE | S20: APOYO CICLOVÍA | T20: NA | U20: NA | V20: 2014-2020 | W20: =+IF(X20=0,0,CONCATENATE(MID(X20,FIND("-",X20,1)+1,4),"ORAS")) -> 15 HORAS | X20: 34.4X4-15 HORAS | Y20: =+IF(X20="","",VLOOKUP(X20,$H$140:$I$192,2,FALSE)) -> 373234
R21: NORTE | S21: APOYO CICLOVÍA | T21: NA | U21: NA | V21: 2014-2020 | W21: =+IF(X21=0,0,CONCATENATE(MID(X21,FIND("-",X21,1)+1,4),"ORAS")) -> 15 HORAS | X21: 34.4X4-15 HORAS | Y21: =+IF(X21="","",VLOOKUP(X21,$H$140:$I$192,2,FALSE)) -> 373234
R22: CENTRO | S22: APOYO CICLOVÍA | T22: NA | U22: 1 | V22: 2014-2020 | W22: =+IF(X22=0,0,CONCATENATE(MID(X22,FIND("-",X22,1)+1,4),"ORAS")) -> 15 HORAS | X22: 31.CAMION TIPOFURGON-15 HORAS | Y22: =+IF(X22="","",VLOOKUP(X22,$H$140:$I$192,2,FALSE)) -> 239262
A23: valor total | B23: =SUM(B4:B13)+B16+B17+B18+B19+B20+B22 -> 27 | C23: =+C4+C5+C6+C7+C8+C9+C10+C16 -> 7 | G23: =SUM(G13,G16:G22) -> 4323472 | R23: CENTRO | S23: APOYO CICLOVÍA | T23: NA | U23: NA | V23: 2014-2020 | W23: =+IF(X23=0,0,CONCATENATE(MID(X23,FIND("-",X23,1)+1,4),"ORAS")) -> 15 HORAS | X23: 34.4X4-15 HORAS | Y23: =+IF(X23="","",VLOOKUP(X23,$H$140:$I$192,2,FALSE)) -> 373234
A24: ZONA CENTRO | R24: SUR | S24: APOYO CICLOVÍA | T24: NA | U24: NA | V24: 2014-2020 | W24: =+IF(X24=0,0,CONCATENATE(MID(X24,FIND("-",X24,1)+1,4),"ORAS")) -> 15 HORAS | X24: 34.4X4-15 HORAS | Y24: =+IF(X24="","",VLOOKUP(X24,$H$140:$I$192,2,FALSE)) -> 373234
A25: RUTAS CICLOVÍA 40 M3 | X25: 0 | Y25: =+IF(X25="","",VLOOKUP(X25,$H$140:$I$192,2,FALSE)) -> 0
A26: CORREDOR | B26: # OPERARIOS | C26: # CAMIONES | D26: MODELO | E26: DISPONIBILIDAD | F26: TIPO DE SERVICIO | G26: $ | J26: TOTAL | K26: =SUM(K4:K15,K18:K25) -> 12 | L26: =SUM(L4:L25) -> 5 | P26: =SUM(P4:P25) -> 2020911 | X26: 0 | Y26: =+IF(X26="","",VLOOKUP(X26,$H$140:$I$192,2,FALSE)) -> 0
A27: CENTRO 1 | B27: =+IF(F27=0,0,MID(F27,LEN(F27)-3,1)) -> 3 | C27: 1 | D27: 2014-2020 | E27: =+IF(F27=0,0,CONCATENATE(MID(F27,FIND("-",F27,1)+1,4),"ORAS")) -> 15 HORAS | F27: 2.CAMION TIPO40m³-15 HORAS-3 OP | G27: =+IF(F27="","",VLOOKUP(F27,$H$140:I$192,2,FALSE)) -> 514916
A28: CENTRO 2 | B28: =+IF(F28=0,0,MID(F28,LEN(F28)-3,1)) -> 4 | C28: 1 | D28: 2014-2020 | E28: =+IF(F28=0,0,CONCATENATE(MID(F28,FIND("-",F28,1)+1,4),"ORAS")) -> 15 HORAS | F28: 1.CAMION TIPO40m³-15 HORAS-4 OP | G28: =+IF(F28="","",VLOOKUP(F28,$H$140:I$192,2,FALSE)) -> 582964
A29: CENTRO 4 | B29: =+IF(F29=0,0,MID(F29,LEN(F29)-3,1)) -> 3 | C29: 1 | D29: 2014-2020 | E29: =+IF(F29=0,0,CONCATENATE(MID(F29,FIND("-",F29,1)+1,4),"ORAS")) -> 15 HORAS | F29: 2.CAMION TIPO40m³-15 HORAS-3 OP | G29: =+IF(F29="","",VLOOKUP(F29,$H$140:I$192,2,FALSE)) -> 514916 | S29: TOTAL | T29: =T4+T5+T6+T15+T16 -> 15 | U29: =SUM(U4:U7,U22) -> 4 | Y29: =SUM(Y4:Y26) -> 3383629
A30: CENTRO 5 | B30: 3 | C30: 1 | D30: 2014-2020 | E30: =+IF(F30=0,0,CONCATENATE(MID(F30,FIND("-",F30,1)+1,4),"ORAS")) -> 15 HORAS | F30: 2.CAMION TIPO40m³-15 HORAS-3 OP | G30: =+IF(F30="","",VLOOKUP(F30,$H$140:I$192,2,FALSE)) -> 514916
A33: RUTAS CICLOVÍA 25 M3
B34: # OPERARIOS | C34: # CAMIONES | D34: MODELO | F34: TIPO DE SERVICIO | G34: $
A35: CENTRO 3 ZONA 1 | B35: =+IF(F35=0,0,MID(F35,LEN(F35)-3,1)) -> 3 | C35: 1 | D35: 2014-2020 | E35: =+IF(F35=0,0,CONCATENATE(MID(F35,FIND("-",F35,1)+1,4),"ORAS")) -> 15 HORAS | F35: 17.CAMION TIPO25m³-15 HORAS-3 OP | G35: =+IF(F35="","",VLOOKUP(F35,$H$140:I$192,2,FALSE)) -> 443323
A36: CENTRO 3 ZONA 2 | B36: =+IF(F36=0,0,MID(F36,LEN(F36)-3,1)) -> 3 | C36: 1 | D36: 2014-2020 | E36: =+IF(F36=0,0,CONCATENATE(MID(F36,FIND("-",F36,1)+1,4),"ORAS")) -> 15 HORAS | F36: 17.CAMION TIPO25m³-15 HORAS-3 OP | G36: =+IF(F36="","",VLOOKUP(F36,$H$140:I$192,2,FALSE)) -> 443323
A37: CENTRO 6 ZONA 1 | B37: =+IF(F37=0,0,MID(F37,LEN(F37)-3,1)) -> 3 | C37: 1 | D37: 2014-2020 | E37: =+IF(F37=0,0,CONCATENATE(MID(F37,FIND("-",F37,1)+1,4),"ORAS")) -> 15 HORAS | F37: 17.CAMION TIPO25m³-15 HORAS-3 OP | G37: =+IF(F37="","",VLOOKUP(F37,$H$140:I$192,2,FALSE)) -> 443323
A38: CENTRO 6 ZONA 2 | B38: =+IF(F38=0,0,MID(F38,LEN(F38)-3,1)) -> 3 | C38: 1 | D38: 2014-2020 | E38: =+IF(F38=0,0,CONCATENATE(MID(F38,FIND("-",F38,1)+1,4),"ORAS")) -> 15 HORAS | F38: 17.CAMION TIPO25m³-15 HORAS-3 OP | G38: =+IF(F38="","",VLOOKUP(F38,$H$140:I$192,2,FALSE)) -> 443323
E39: =+IF(F39=0,0,CONCATENATE(MID(F39,FIND("-",F39,1)+1,4),"ORAS")) -> 0 | F39: 0 | G39: =+IF(F39="","",VLOOKUP(F39,$H$140:I$192,2,FALSE)) -> 0
A41: valor total | B41: =+B27+B28+B29+B35+B36+B37+B38+B39+B30 -> 25 | C41: =SUM(C27:C32)+C35+C36+C37+C38+C39+C40 -> 8 | E41: =+IF(F41=0,0,CONCATENATE(MID(F41,FIND("-",F41,1)+1,3),"ORAS")) -> 0 | G41: =SUM(G27:G32,G35:G40) -> 3901004
A42: ZONA SUR
A43: RUTAS CICLOVÍA 40 M3
A44: CORREDOR | B44: # OPERARIOS | C44: # CAMIONES | D44: MODELO | E44: DISPONIBILIDAD | F44: TIPO DE SERVICIO | G44: $
...

Sheet 11 JUNIO
A1: ZONA NORTE
A2: RUTAS CICLOVÍA 40 M3 | I2: LUDICA CICLOVÍA, ESCUELA DE LA BICI, ADICIONALES 25 M3 | R2: CONOS CICLOVÍA 25 M3
A3: CORREDOR | B3: # OPERARIOS | C3: # CAMIONES | D3: MODELO | E3: DISPONIBILIDAD | F3: TIPO DE SERVICIO | G3: $ | I3: ZONA | J3: CORREDOR | K3: # OPERARIOS | L3: # CAMIONES | M3: MODELO | N3: DISPONIBILIDAD | O3: TIPO DE SERVICIO | P3: $ | R3: ZONA | S3: CORREDOR | T3: # OPERARIOS | U3: # CAMIONES | V3: MODELO | W3: DISPONIBILIDAD | X3: TIPO DE SERVICIO | Y3: $
A4: NORTE 1 | B4: =+IF(F4=0,0,MID(F4,LEN(F4)-3,1)) -> 4 | C4: 1 | D4: 2014-2020 | E4: =+IF(F4=0,0,CONCATENATE(MID(F4,FIND("-",F4,1)+1,4),"ORAS")) -> 15 HORAS | F4: 1.CAMION TIPO40m³-15 HORAS-4 OP | G4: =+IF(F4="","",VLOOKUP(F4,$H$140:$I$192,2,FALSE)) -> 582964 | I4: CENTRO | J4: ESCUELA | K4: 3 | L4: 1 | M4: 2014-2020 | N4: =+IF(O4=0,0,CONCATENATE(MID(O4,FIND("-",O4,1)+1,4),"ORAS")) -> 15 HORAS | O4: 17.CAMION TIPO25m³-15 HORAS-3 OP | P4: =+IF(O4="","",VLOOKUP(O4,$H$140:$I$192,2,FALSE)) -> 443323 | R4: CENTRO | S4: CENTRO 5 CAMION 1 UNICONOS | T4: =+IF(X4=0,0,MID(X4,LEN(X4)-3,1)) -> 4 | U4: 1 | V4: 2014-2020 | W4: =+IF(X4=0,0,CONCATENATE(MID(X4,FIND("-",X4,1)+1,4),"ORAS")) -> 15 HORAS | X4: 16.CAMION TIPO25m³-15 HORAS-4 OP | Y4: =+IF(X4="","",VLOOKUP(X4,$H$140:$I$192,2,FALSE)) -> 501739
A5: NORTE 2 | B5: =+IF(F5=0,0,MID(F5,LEN(F5)-3,1)) -> 4 | C5: 1 | D5: 2014-2020 | E5: =+IF(F5=0,0,CONCATENATE(MID(F5,FIND("-",F5,1)+1,4),"ORAS")) -> 15 HORAS | F5: 1.CAMION TIPO40m³-15 HORAS-4 OP | G5: =+IF(F5="","",VLOOKUP(F5,$H$140:I$192,2,FALSE)) -> 582964 | I5: CENTRO | J5: CAMIONETA FURGONADA PENDONES CALLE 26 | K5: 0 | L5: 1 | M5: 2014-2020 | N5: =+IF(O5=0,0,CONCATENATE(MID(O5,FIND("-",O5,1)+1,4),"ORAS")) -> 15 HORAS | O5: 31.CAMION TIPOFURGON-15 HORAS | P5: =+IF(O5="","",VLOOKUP(O5,$H$140:$I$192,2,FALSE)) -> 239262 | R5: CENTRO | S5: CENTRO 5 CAMION 2 UNICONOS | T5: =+IF(X5=0,0,MID(X5,LEN(X5)-3,1)) -> 4 | U5: 1 | V5: 2014-2020 | W5: =+IF(X5=0,0,CONCATENATE(MID(X5,FIND("-",X5,1)+1,4),"ORAS")) -> 15 HORAS | X5: 16.CAMION TIPO25m³-15 HORAS-4 OP | Y5: =+IF(X5="","",VLOOKUP(X5,$H$140:$I$192,2,FALSE)) -> 501739
A6: NORTE 3 | B6: =+IF(F6=0,0,MID(F6,LEN(F6)-3,1)) -> 3 | C6: 1 | D6: 2014-2020 | E6: =+IF(F6=0,0,CONCATENATE(MID(F6,FIND("-",F6,1)+1,4),"ORAS")) -> 15 HORAS | F6: 2.CAMION TIPO40m³-15 HORAS-3 OP | G6: =+IF(F6="","",VLOOKUP(F6,$H$140:I$192,2,FALSE)) -> 514916 | I6: CENTRO | J6: ATN | K6: 4 | L6: 1 | M6: 2014-2020 | N6: =+IF(O6=0,0,CONCATENATE(MID(O6,FIND("-",O6,1)+1,4),"ORAS")) -> 15 HORAS | O6: 16.CAMION TIPO25m³-15 HORAS-4 OP | P6: =+IF(O6="","",VLOOKUP(O6,$H$140:$I$192,2,FALSE)) -> 501739 | R6: CENTRO | S6: CENTRO 4 CAMION 3 UNICONOS | T6: =+IF(X6=0,0,MID(X6,LEN(X6)-3,1)) -> 4 | U6: 1 | V6: 2014-2020 | W6: =+IF(X6=0,0,CONCATENATE(MID(X6,FIND("-",X6,1)+1,4),"ORAS")) -> 15 HORAS | X6: 16.CAMION TIPO25m³-15 HORAS-4 OP | Y6: =+IF(X6="","",VLOOKUP(X6,$H$140:$I$192,2,FALSE)) -> 501739
A7: NORTE 4 | B7: =+IF(F7=0,0,MID(F7,LEN(F7)-3,1)) -> 3 | C7: 1 | D7: 2014-2020 | E7: =+IF(F7=0,0,CONCATENATE(MID(F7,FIND("-",F7,1)+1,4),"ORAS")) -> 15 HORAS | F7: 2.CAMION TIPO40m³-15 HORAS-3 OP | G7: =+IF(F7="","",VLOOKUP(F7,$H$140:I$192,2,FALSE)) -> 514916 | I7: CENTRO | J7: ENTREGA DE MODULOS | K7: 4 | L7: 1 | M7: 2014-2020 | N7: =+IF(O7=0,0,CONCATENATE(MID(O7,FIND("-",O7,1)+1,4),"ORAS")) -> 15 HORAS | O7: 16.CAMION TIPO25m³-15 HORAS-4 OP | P7: =+IF(O7="","",VLOOKUP(O7,$H$140:$I$192,2,FALSE)) -> 501739 | X7: 0 | Y7: =+IF(X7="","",VLOOKUP(X7,$H$140:$I$186,2,FALSE)) -> 0
A8: NORTE 5 ZONA 1 | B8: =+IF(F8=0,0,MID(F8,LEN(F8)-3,1)) -> 3 | C8: 1 | D8: 2014-2020 | E8: =+IF(F8=0,0,CONCATENATE(MID(F8,FIND("-",F8,1)+1,4),"ORAS")) -> 15 HORAS | F8: 2.CAMION TIPO40m³-15 HORAS-3 OP | G8: =+IF(F8="","",VLOOKUP(F8,$H$140:I$192,2,FALSE)) -> 514916 | I8: CENTRO | J8: SERVICIO SOCIAL | K8: 3 | L8: 1 | M8: 2014-2020 | N8: =+IF(O8=0,0,CONCATENATE(MID(O8,FIND("-",O8,1)+1,4),"ORAS")) -> 09 HORAS | O8: 23.CAMION TIPO25m³-09 HORAS-2 OP | P8: =+IF(O8="","",VLOOKUP(O8,$H$140:$I$192,2,FALSE)) -> 345928 | U8: =+U4+U5+U6+U7 -> 3
A9: NORTE 5 ZONA 2 | B9: =+IF(F9=0,0,MID(F9,LEN(F9)-3,1)) -> 3 | C9: 1 | D9: 2014-2020 | E9: =+IF(F9=0,0,CONCATENATE(MID(F9,FIND("-",F9,1)+1,4),"ORAS")) -> 15 HORAS | F9: 2.CAMION TIPO40m³-15 HORAS-3 OP | G9: =+IF(F9="","",VLOOKUP(F9,$H$140:I$192,2,FALSE)) -> 514916
A10: NORTE 1 MALETINES | B10: =+IF(F10=0,0,MID(F10,LEN(F10)-3,1)) -> 4 | C10: 1 | D10: 2014-2020 | E10: =+IF(F10=0,0,CONCATENATE(MID(F10,FIND("-",F10,1)+1,4),"ORAS")) -> 15 HORAS | F10: 1.CAMION TIPO40m³-15 HORAS-4 OP | G10: =+IF(F10="","",VLOOKUP(F10,$H$140:I$192,2,FALSE)) -> 582964
A11: NORTE 1 DIVISORES | B11: =+IF(F11=0,0,MID(F11,LEN(F11)-3,1)) -> 4 | C11: 1 | D11: 2014-2020 | E11: =+IF(F11=0,0,CONCATENATE(MID(F11,FIND("-",F11,1)+1,4),"ORAS")) -> 15 HORAS | F11: 1.CAMION TIPO40m³-15 HORAS-4 OP | G11: =+IF(F11="","",VLOOKUP(F11,$H$140:$I$192,2,FALSE)) -> 582964
B13: =+B10+B9+B8+B7+B6+B5+B4+B11 -> 28 | C13: =+C10+C9+C8+C7+C6+C5+C4 -> 7 | G13: =SUM(G4:G12) -> 4391520 | R13: OPERARIOS ADICIONALES
A14: RUTAS CICLOVÍA 25 M3 | R14: ZONA | S14: CORREDOR | T14: # OPERARIOS | U14: # CAMIONES | V14: MODELO | W14: DISPONIBILIDAD | X14: TIPO DE SERVICIO | Y14: $
A15: CORREDOR | B15: # OPERARIOS | C15: # CAMIONES | D15: MODELO | E15: DISPONIBILIDAD | F15: TIPO DE SERVICIO | G15: $ | R15: CENTRO | S15: APOYO CICLOVÍA | T15: 2 | U15: 0 | V15: NA | W15: =+IF(X15=0,0,CONCATENATE(MID(X15,FIND("-",X15,1)+1,4),"ORAS")) -> 08 HORAS | X15: 41.OPERARIO-08 HORAS | Y15: =+(IF(X15="","",VLOOKUP(X15,$H$140:$I$192,2,FALSE)))*T15 -> 107154
B16: =+IF(F16=0,0,MID(F16,LEN(F16)-3,1)) -> 0 | E16: =+IF(F16=0,0,CONCATENATE(MID(F16,FIND("-",F16,1)+1,4),"ORAS")) -> 0 | F16: 0 | G16: =+IF(F16="","",VLOOKUP(F16,$H$140:I$192,2,FALSE)) -> 0 | I16: ATN CICLOVÍA, ESCUELA DE LA BICI, ADICIONALES 40 M3 | R16: CENTRO | S16: ADICIONALES | T16: 2 | U16: 0 | V16: NA | W16: =+IF(X16=0,0,CONCATENATE(MID(X16,FIND("-",X16,1)+1,4),"ORAS")) -> 08 HORAS | X16: 41.OPERARIO-08 HORAS | Y16: =+(IF(X16="","",VLOOKUP(X16,$H$140:$I$192,2,FALSE)))*T16 -> 107154
I17: ZONA | J17: CORREDOR | K17: # OPERARIOS | L17: # CAMIONES | M17: MODELO | N17: DISPONIBILIDAD | O17: TIPO DE SERVICIO | P17: $
N18: =+IF(O18=0,0,CONCATENATE(MID(O18,FIND("-",O18,1)+1,4),"ORAS")) -> 0 | O18: 0 | P18: =+IF(O18="","",VLOOKUP(O18,$H$140:$I$192,2,FALSE)) -> 0 | R18: CAMIONETA 4 X4 DOBLE CABINA CON PLATON
O19: 0 | P19: =+IF(O19="","",VLOOKUP(O19,$H$140:$I$192,2,FALSE)) -> 0 | R19: ZONA | S19: CORREDOR | T19: # OPERARIOS | U19: # CAMIONES | V19: MODELO | W19: DISPONIBILIDAD | X19: TIPO DE SERVICIO | Y19: $
R20: NORTE | S20: APOYO CICLOVÍA | T20: NA | U20: NA | V20: 2014-2020 | W20: =+IF(X20=0,0,CONCATENATE(MID(X20,FIND("-",X20,1)+1,4),"ORAS")) -> 15 HORAS | X20: 34.4X4-15 HORAS | Y20: =+IF(X20="","",VLOOKUP(X20,$H$140:$I$192,2,FALSE)) -> 373234
R21: NORTE | S21: APOYO CICLOVÍA | T21: NA | U21: NA | V21: 2014-2020 | W21: =+IF(X21=0,0,CONCATENATE(MID(X21,FIND("-",X21,1)+1,4),"ORAS")) -> 15 HORAS | X21: 34.4X4-15 HORAS | Y21: =+IF(X21="","",VLOOKUP(X21,$H$140:$I$192,2,FALSE)) -> 373234
R22: CENTRO | S22: APOYO CICLOVÍA | T22: NA | U22: 1 | V22: 2014-2020 | W22: =+IF(X22=0,0,CONCATENATE(MID(X22,FIND("-",X22,1)+1,4),"ORAS")) -> 15 HORAS | X22: 31.CAMION TIPOFURGON-15 HORAS | Y22: =+IF(X22="","",VLOOKUP(X22,$H$140:$I$192,2,FALSE)) -> 239262
A23: valor total | B23: =SUM(B4:B13)+B16+B17+B18+B19+B20+B22 -> 28 | C23: =+C4+C5+C6+C7+C8+C9+C10+C16 -> 7 | G23: =SUM(G13,G16:G22) -> 4391520 | R23: CENTRO | S23: APOYO CICLOVÍA | T23: NA | U23: NA | V23: 2014-2020 | W23: =+IF(X23=0,0,CONCATENATE(MID(X23,FIND("-",X23,1)+1,4),"ORAS")) -> 15 HORAS | X23: 34.4X4-15 HORAS | Y23: =+IF(X23="","",VLOOKUP(X23,$H$140:$I$192,2,FALSE)) -> 373234
A24: ZONA CENTRO | R24: SUR | S24: APOYO CICLOVÍA | T24: NA | U24: NA | V24: 2014-2020 | W24: =+IF(X24=0,0,CONCATENATE(MID(X24,FIND("-",X24,1)+1,4),"ORAS")) -> 15 HORAS | X24: 34.4X4-15 HORAS | Y24: =+IF(X24="","",VLOOKUP(X24,$H$140:$I$192,2,FALSE)) -> 373234
A25: RUTAS CICLOVÍA 40 M3 | X25: 0 | Y25: =+IF(X25="","",VLOOKUP(X25,$H$140:$I$192,2,FALSE)) -> 0
A26: CORREDOR | B26: # OPERARIOS | C26: # CAMIONES | D26: MODELO | E26: DISPONIBILIDAD | F26: TIPO DE SERVICIO | G26: $ | J26: TOTAL | K26: =SUM(K4:K15,K18:K25) -> 14 | L26: =SUM(L4:L25) -> 5 | P26: =SUM(P4:P25) -> 2031991 | X26: 0 | Y26: =+IF(X26="","",VLOOKUP(X26,$H$140:$I$192,2,FALSE)) -> 0
A27: CENTRO 1 | B27: =+IF(F27=0,0,MID(F27,LEN(F27)-3,1)) -> 3 | C27: 1 | D27: 2014-2020 | E27: =+IF(F27=0,0,CONCATENATE(MID(F27,FIND("-",F27,1)+1,4),"ORAS")) -> 15 HORAS | F27: 2.CAMION TIPO40m³-15 HORAS-3 OP | G27: =+IF(F27="","",VLOOKUP(F27,$H$140:I$192,2,FALSE)) -> 514916
A28: CENTRO 2 | B28: =+IF(F28=0,0,MID(F28,LEN(F28)-3,1)) -> 4 | C28: 1 | D28: 2014-2020 | E28: =+IF(F28=0,0,CONCATENATE(MID(F28,FIND("-",F28,1)+1,4),"ORAS")) -> 15 HORAS | F28: 1.CAMION TIPO40m³-15 HORAS-4 OP | G28: =+IF(F28="","",VLOOKUP(F28,$H$140:I$192,2,FALSE)) -> 582964
A29: CENTRO 4 | B29: =+IF(F29=0,0,MID(F29,LEN(F29)-3,1)) -> 3 | C29: 1 | D29: 2014-2020 | E29: =+IF(F29=0,0,CONCATENATE(MID(F29,FIND("-",F29,1)+1,4),"ORAS")) -> 15 HORAS | F29: 2.CAMION TIPO40m³-15 HORAS-3 OP | G29: =+IF(F29="","",VLOOKUP(F29,$H$140:I$192,2,FALSE)) -> 514916 | S29: TOTAL | T29: =T4+T5+T6+T15+T16 -> 16 | U29: =SUM(U4:U7,U22) -> 4 | Y29: =SUM(Y4:Y26) -> 3451723
A30: CENTRO 5 | B30: 3 | C30: 1 | D30: 2014-2020 | E30: =+IF(F30=0,0,CONCATENATE(MID(F30,FIND("-",F30,1)+1,4),"ORAS")) -> 15 HORAS | F30: 2.CAMION TIPO40m³-15 HORAS-3 OP | G30: =+IF(F30="","",VLOOKUP(F30,$H$140:I$192,2,FALSE)) -> 514916
A33: RUTAS CICLOVÍA 25 M3
B34: # OPERARIOS | C34: # CAMIONES | D34: MODELO | F34: TIPO DE SERVICIO | G34: $
A35: CENTRO 3 ZONA 1 | B35: =+IF(F35=0,0,MID(F35,LEN(F35)-3,1)) -> 3 | C35: 1 | D35: 2014-2020 | E35: =+IF(F35=0,0,CONCATENATE(MID(F35,FIND("-",F35,1)+1,4),"ORAS")) -> 15 HORAS | F35: 17.CAMION TIPO25m³-15 HORAS-3 OP | G35: =+IF(F35="","",VLOOKUP(F35,$H$140:I$192,2,FALSE)) -> 443323
A36: CENTRO 3 ZONA 2 | B36: =+IF(F36=0,0,MID(F36,LEN(F36)-3,1)) -> 3 | C36: 1 | D36: 2014-2020 | E36: =+IF(F36=0,0,CONCATENATE(MID(F36,FIND("-",F36,1)+1,4),"ORAS")) -> 15 HORAS | F36: 17.CAMION TIPO25m³-15 HORAS-3 OP | G36: =+IF(F36="","",VLOOKUP(F36,$H$140:I$192,2,FALSE)) -> 443323
A37: CENTRO 6 ZONA 1 | B37: =+IF(F37=0,0,MID(F37,LEN(F37)-3,1)) -> 3 | C37: 1 | D37: 2014-2020 | E37: =+IF(F37=0,0,CONCATENATE(MID(F37,FIND("-",F37,1)+1,4),"ORAS")) -> 15 HORAS | F37: 17.CAMION TIPO25m³-15 HORAS-3 OP | G37: =+IF(F37="","",VLOOKUP(F37,$H$140:I$192,2,FALSE)) -> 443323
A38: CENTRO 6 ZONA 2 | B38: =+IF(F38=0,0,MID(F38,LEN(F38)-3,1)) -> 3 | C38: 1 | D38: 2014-2020 | E38: =+IF(F38=0,0,CONCATENATE(MID(F38,FIND("-",F38,1)+1,4),"ORAS")) -> 15 HORAS | F38: 17.CAMION TIPO25m³-15 HORAS-3 OP | G38: =+IF(F38="","",VLOOKUP(F38,$H$140:I$192,2,FALSE)) -> 443323
E39: =+IF(F39=0,0,CONCATENATE(MID(F39,FIND("-",F39,1)+1,4),"ORAS")) -> 0 | F39: 0 | G39: =+IF(F39="","",VLOOKUP(F39,$H$140:I$192,2,FALSE)) -> 0
A41: valor total | B41: =+B27+B28+B29+B35+B36+B37+B38+B39+B30 -> 25 | C41: =SUM(C27:C32)+C35+C36+C37+C38+C39+C40 -> 8 | E41: =+IF(F41=0,0,CONCATENATE(MID(F41,FIND("-",F41,1)+1,3),"ORAS")) -> 0 | G41: =SUM(G27:G32,G35:G40) -> 3901004
A42: ZONA SUR
A43: RUTAS CICLOVÍA 40 M3
A44: CORREDOR | B44: # OPERARIOS | C44: # CAMIONES | D44: MODELO | E44: DISPONIBILIDAD | F44: TIPO DE SERVICIO | G44: $
...

Sheet 12 JUNIO
A1: ZONA NORTE
A2: RUTAS CICLOVÍA 40 M3 | I2: LUDICA CICLOVÍA, ESCUELA DE LA BICI, ADICIONALES 25 M3 | R2: CONOS CICLOVÍA 25 M3
A3: CORREDOR | B3: # OPERARIOS | C3: # CAMIONES | D3: MODELO | E3: DISPONIBILIDAD | F3: TIPO DE SERVICIO | G3: $ | I3: ZONA | J3: CORREDOR | K3: # OPERARIOS | L3: # CAMIONES | M3: MODELO | N3: DISPONIBILIDAD | O3: TIPO DE SERVICIO | P3: $ | R3: ZONA | S3: CORREDOR | T3: # OPERARIOS | U3: # CAMIONES | V3: MODELO | W3: DISPONIBILIDAD | X3: TIPO DE SERVICIO | Y3: $
A4: NORTE 1 | B4: =+IF(F4=0,0,MID(F4,LEN(F4)-3,1)) -> 4 | C4: 1 | D4: 2014-2020 | E4: =+IF(F4=0,0,CONCATENATE(MID(F4,FIND("-",F4,1)+1,4),"ORAS")) -> 15 HORAS | F4: 1.CAMION TIPO40m³-15 HORAS-4 OP | G4: =+IF(F4="","",VLOOKUP(F4,$H$140:$I$192,2,FALSE)) -> 582964 | I4: CENTRO | J4: ESCUELA | K4: 3 | L4: 1 | M4: 2014-2020 | N4: =+IF(O4=0,0,CONCATENATE(MID(O4,FIND("-",O4,1)+1,4),"ORAS")) -> 15 HORAS | O4: 17.CAMION TIPO25m³-15 HORAS-3 OP | P4: =+IF(O4="","",VLOOKUP(O4,$H$140:$I$192,2,FALSE)) -> 443323 | R4: CENTRO | S4: CENTRO 5 CAMION 1 UNICONOS | T4: =+IF(X4=0,0,MID(X4,LEN(X4)-3,1)) -> 4 | U4: 1 | V4: 2014-2020 | W4: =+IF(X4=0,0,CONCATENATE(MID(X4,FIND("-",X4,1)+1,4),"ORAS")) -> 15 HORAS | X4: 16.CAMION TIPO25m³-15 HORAS-4 OP | Y4: =+IF(X4="","",VLOOKUP(X4,$H$140:$I$192,2,FALSE)) -> 501739
A5: NORTE 2 | B5: =+IF(F5=0,0,MID(F5,LEN(F5)-3,1)) -> 3 | C5: 1 | D5: 2014-2020 | E5: =+IF(F5=0,0,CONCATENATE(MID(F5,FIND("-",F5,1)+1,4),"ORAS")) -> 15 HORAS | F5: 2.CAMION TIPO40m³-15 HORAS-3 OP | G5: =+IF(F5="","",VLOOKUP(F5,$H$140:I$192,2,FALSE)) -> 514916 | I5: CENTRO | J5: CAMIONETA FURGONADA PENDONES CALLE 26 | K5: 0 | L5: 1 | M5: 2014-2020 | N5: =+IF(O5=0,0,CONCATENATE(MID(O5,FIND("-",O5,1)+1,4),"ORAS")) -> 15 HORAS | O5: 31.CAMION TIPOFURGON-15 HORAS | P5: =+IF(O5="","",VLOOKUP(O5,$H$140:$I$192,2,FALSE)) -> 239262 | R5: CENTRO | S5: CENTRO 5 CAMION 2 UNICONOS | T5: =+IF(X5=0,0,MID(X5,LEN(X5)-3,1)) -> 4 | U5: 1 | V5: 2014-2020 | W5: =+IF(X5=0,0,CONCATENATE(MID(X5,FIND("-",X5,1)+1,4),"ORAS")) -> 15 HORAS | X5: 16.CAMION TIPO25m³-15 HORAS-4 OP | Y5: =+IF(X5="","",VLOOKUP(X5,$H$140:$I$192,2,FALSE)) -> 501739
A6: NORTE 3 | B6: =+IF(F6=0,0,MID(F6,LEN(F6)-3,1)) -> 3 | C6: 1 | D6: 2014-2020 | E6: =+IF(F6=0,0,CONCATENATE(MID(F6,FIND("-",F6,1)+1,4),"ORAS")) -> 15 HORAS | F6: 2.CAMION TIPO40m³-15 HORAS-3 OP | G6: =+IF(F6="","",VLOOKUP(F6,$H$140:I$192,2,FALSE)) -> 514916 | I6: CENTRO | J6: ATN | K6: 4 | L6: 1 | M6: 2014-2020 | N6: =+IF(O6=0,0,CONCATENATE(MID(O6,FIND("-",O6,1)+1,4),"ORAS")) -> 15 HORAS | O6: 16.CAMION TIPO25m³-15 HORAS-4 OP | P6: =+IF(O6="","",VLOOKUP(O6,$H$140:$I$192,2,FALSE)) -> 501739 | R6: CENTRO | S6: CENTRO 4 CAMION 3 UNICONOS | T6: =+IF(X6=0,0,MID(X6,LEN(X6)-3,1)) -> 4 | U6: 1 | V6: 2014-2020 | W6: =+IF(X6=0,0,CONCATENATE(MID(X6,FIND("-",X6,1)+1,4),"ORAS")) -> 15 HORAS | X6: 16.CAMION TIPO25m³-15 HORAS-4 OP | Y6: =+IF(X6="","",VLOOKUP(X6,$H$140:$I$192,2,FALSE)) -> 501739
A7: NORTE 4 | B7: =+IF(F7=0,0,MID(F7,LEN(F7)-3,1)) -> 3 | C7: 1 | D7: 2014-2020 | E7: =+IF(F7=0,0,CONCATENATE(MID(F7,FIND("-",F7,1)+1,4),"ORAS")) -> 15 HORAS | F7: 2.CAMION TIPO40m³-15 HORAS-3 OP | G7: =+IF(F7="","",VLOOKUP(F7,$H$140:I$192,2,FALSE)) -> 514916 | I7: CENTRO | J7: ENTREGA DE MODULOS | K7: 4 | L7: 1 | M7: 2014-2020 | N7: =+IF(O7=0,0,CONCATENATE(MID(O7,FIND("-",O7,1)+1,4),"ORAS")) -> 15 HORAS | O7: 2.CAMION TIPO40m³-15 HORAS-3 OP | P7: =+IF(O7="","",VLOOKUP(O7,$H$140:$I$192,2,FALSE)) -> 514916 | X7: 0 | Y7: =+IF(X7="","",VLOOKUP(X7,$H$140:$I$186,2,FALSE)) -> 0
A8: NORTE 5 ZONA 1 | B8: =+IF(F8=0,0,MID(F8,LEN(F8)-3,1)) -> 3 | C8: 1 | D8: 2014-2020 | E8: =+IF(F8=0,0,CONCATENATE(MID(F8,FIND("-",F8,1)+1,4),"ORAS")) -> 15 HORAS | F8: 2.CAMION TIPO40m³-15 HORAS-3 OP | G8: =+IF(F8="","",VLOOKUP(F8,$H$140:I$192,2,FALSE)) -> 514916 | O8: 0 | P8: =+IF(O8="","",VLOOKUP(O8,$H$140:$I$192,2,FALSE)) -> 0 | U8: =+U4+U5+U6+U7 -> 3
A9: NORTE 5 ZONA 2 | B9: =+IF(F9=0,0,MID(F9,LEN(F9)-3,1)) -> 3 | C9: 1 | D9: 2014-2020 | E9: =+IF(F9=0,0,CONCATENATE(MID(F9,FIND("-",F9,1)+1,4),"ORAS")) -> 15 HORAS | F9: 2.CAMION TIPO40m³-15 HORAS-3 OP | G9: =+IF(F9="","",VLOOKUP(F9,$H$140:I$192,2,FALSE)) -> 514916
A10: NORTE 1 MALETINES | B10: =+IF(F10=0,0,MID(F10,LEN(F10)-3,1)) -> 3 | C10: 1 | D10: 2014-2020 | E10: =+IF(F10=0,0,CONCATENATE(MID(F10,FIND("-",F10,1)+1,4),"ORAS")) -> 15 HORAS | F10: 2.CAMION TIPO40m³-15 HORAS-3 OP | G10: =+IF(F10="","",VLOOKUP(F10,$H$140:I$192,2,FALSE)) -> 514916
A11: NORTE 1 DIVISORES | B11: =+IF(F11=0,0,MID(F11,LEN(F11)-3,1)) -> 4 | C11: 1 | D11: 2014-2020 | E11: =+IF(F11=0,0,CONCATENATE(MID(F11,FIND("-",F11,1)+1,4),"ORAS")) -> 15 HORAS | F11: 1.CAMION TIPO40m³-15 HORAS-4 OP | G11: =+IF(F11="","",VLOOKUP(F11,$H$140:$I$192,2,FALSE)) -> 582964
B13: =+B10+B9+B8+B7+B6+B5+B4+B11 -> 26 | C13: =+C10+C9+C8+C7+C6+C5+C4 -> 7 | G13: =SUM(G4:G12) -> 4255424 | R13: OPERARIOS ADICIONALES
A14: RUTAS CICLOVÍA 25 M3 | R14: ZONA | S14: CORREDOR | T14: # OPERARIOS | U14: # CAMIONES | V14: MODELO | W14: DISPONIBILIDAD | X14: TIPO DE SERVICIO | Y14: $
A15: CORREDOR | B15: # OPERARIOS | C15: # CAMIONES | D15: MODELO | E15: DISPONIBILIDAD | F15: TIPO DE SERVICIO | G15: $ | R15: CENTRO | S15: APOYO CICLOVÍA | T15: 3 | U15: 0 | V15: NA | W15: =+IF(X15=0,0,CONCATENATE(MID(X15,FIND("-",X15,1)+1,4),"ORAS")) -> 08 HORAS | X15: 41.OPERARIO-08 HORAS | Y15: =+(IF(X15="","",VLOOKUP(X15,$H$140:$I$192,2,FALSE)))*T15 -> 160731
B16: =+IF(F16=0,0,MID(F16,LEN(F16)-3,1)) -> 0 | E16: =+IF(F16=0,0,CONCATENATE(MID(F16,FIND("-",F16,1)+1,4),"ORAS")) -> 0 | F16: 0 | G16: =+IF(F16="","",VLOOKUP(F16,$H$140:I$192,2,FALSE)) -> 0 | I16: ATN CICLOVÍA, ESCUELA DE LA BICI, ADICIONALES 40 M3 | R16: CENTRO | S16: ADICIONALES | T16: 3 | U16: 0 | V16: NA | W16: =+IF(X16=0,0,CONCATENATE(MID(X16,FIND("-",X16,1)+1,4),"ORAS")) -> 08 HORAS | X16: 41.OPERARIO-08 HORAS | Y16: =+(IF(X16="","",VLOOKUP(X16,$H$140:$I$192,2,FALSE)))*T16 -> 160731
I17: ZONA | J17: CORREDOR | K17: # OPERARIOS | L17: # CAMIONES | M17: MODELO | N17: DISPONIBILIDAD | O17: TIPO DE SERVICIO | P17: $
N18: =+IF(O18=0,0,CONCATENATE(MID(O18,FIND("-",O18,1)+1,4),"ORAS")) -> 0 | O18: 0 | P18: =+IF(O18="","",VLOOKUP(O18,$H$140:$I$192,2,FALSE)) -> 0 | R18: CAMIONETA 4 X4 DOBLE CABINA CON PLATON
O19: 0 | P19: =+IF(O19="","",VLOOKUP(O19,$H$140:$I$192,2,FALSE)) -> 0 | R19: ZONA | S19: CORREDOR | T19: # OPERARIOS | U19: # CAMIONES | V19: MODELO | W19: DISPONIBILIDAD | X19: TIPO DE SERVICIO | Y19: $
R20: NORTE | S20: APOYO CICLOVÍA | T20: NA | U20: NA | V20: 2014-2020 | W20: =+IF(X20=0,0,CONCATENATE(MID(X20,FIND("-",X20,1)+1,4),"ORAS")) -> 15 HORAS | X20: 34.4X4-15 HORAS | Y20: =+IF(X20="","",VLOOKUP(X20,$H$140:$I$192,2,FALSE)) -> 373234
R21: NORTE | S21: APOYO CICLOVÍA | T21: NA | U21: NA | V21: 2014-2020 | W21: =+IF(X21=0,0,CONCATENATE(MID(X21,FIND("-",X21,1)+1,4),"ORAS")) -> 15 HORAS | X21: 34.4X4-15 HORAS | Y21: =+IF(X21="","",VLOOKUP(X21,$H$140:$I$192,2,FALSE)) -> 373234
R22: CENTRO | S22: APOYO CICLOVÍA | T22: NA | U22: 1 | V22: 2014-2020 | W22: =+IF(X22=0,0,CONCATENATE(MID(X22,FIND("-",X22,1)+1,4),"ORAS")) -> 15 HORAS | X22: 31.CAMION TIPOFURGON-15 HORAS | Y22: =+IF(X22="","",VLOOKUP(X22,$H$140:$I$192,2,FALSE)) -> 239262
A23: valor total | B23: =SUM(B4:B13)+B16+B17+B18+B19+B20+B22 -> 26 | C23: =+C4+C5+C6+C7+C8+C9+C10+C16 -> 7 | G23: =SUM(G13,G16:G22) -> 4255424 | R23: CENTRO | S23: APOYO CICLOVÍA | T23: NA | U23: NA | V23: 2014-2020 | W23: =+IF(X23=0,0,CONCATENATE(MID(X23,FIND("-",X23,1)+1,4),"ORAS")) -> 15 HORAS | X23: 34.4X4-15 HORAS | Y23: =+IF(X23="","",VLOOKUP(X23,$H$140:$I$192,2,FALSE)) -> 373234
A24: ZONA CENTRO | R24: SUR | S24: APOYO CICLOVÍA | T24: NA | U24: NA | V24: 2014-2020 | W24: =+IF(X24=0,0,CONCATENATE(MID(X24,FIND("-",X24,1)+1,4),"ORAS")) -> 15 HORAS | X24: 34.4X4-15 HORAS | Y24: =+IF(X24="","",VLOOKUP(X24,$H$140:$I$192,2,FALSE)) -> 373234
A25: RUTAS CICLOVÍA 40 M3
A26: CORREDOR | B26: # OPERARIOS | C26: # CAMIONES | D26: MODELO | E26: DISPONIBILIDAD | F26: TIPO DE SERVICIO | G26: $ | J26: TOTAL | K26: =SUM(K4:K15,K18:K25) -> 11 | L26: =SUM(L4:L25) -> 4 | P26: =SUM(P4:P25) -> 1699240 | S26: TOTAL | T26: =T4+T5+T6+T15+T16 -> 18 | U26: =SUM(U4:U7,U22) -> 4 | Y26: =SUM(Y4:Y24) -> 3558877
A27: CENTRO 1 | B27: =+IF(F27=0,0,MID(F27,LEN(F27)-3,1)) -> 3 | C27: 1 | D27: 2014-2020 | E27: =+IF(F27=0,0,CONCATENATE(MID(F27,FIND("-",F27,1)+1,4),"ORAS")) -> 15 HORAS | F27: 2.CAMION TIPO40m³-15 HORAS-3 OP | G27: =+IF(F27="","",VLOOKUP(F27,$H$140:I$192,2,FALSE)) -> 514916
A28: CENTRO 2 | B28: =+IF(F28=0,0,MID(F28,LEN(F28)-3,1)) -> 4 | C28: 1 | D28: 2014-2020 | E28: =+IF(F28=0,0,CONCATENATE(MID(F28,FIND("-",F28,1)+1,4),"ORAS")) -> 15 HORAS | F28: 1.CAMION TIPO40m³-15 HORAS-4 OP | G28: =+IF(F28="","",VLOOKUP(F28,$H$140:I$192,2,FALSE)) -> 582964
A29: CENTRO 4 | B29: =+IF(F29=0,0,MID(F29,LEN(F29)-3,1)) -> 3 | C29: 1 | D29: 2014-2020 | E29: =+IF(F29=0,0,CONCATENATE(MID(F29,FIND("-",F29,1)+1,4),"ORAS")) -> 15 HORAS | F29: 2.CAMION TIPO40m³-15 HORAS-3 OP | G29: =+IF(F29="","",VLOOKUP(F29,$H$140:I$192,2,FALSE)) -> 514916
A30: CENTRO 5 | B30: 3 | C30: 1 | D30: 2014-2020 | E30: =+IF(F30=0,0,CONCATENATE(MID(F30,FIND("-",F30,1)+1,4),"ORAS")) -> 15 HORAS | F30: 2.CAMION TIPO40m³-15 HORAS-3 OP | G30: =+IF(F30="","",VLOOKUP(F30,$H$140:I$192,2,FALSE)) -> 514916
A33: RUTAS CICLOVÍA 25 M3
B34: # OPERARIOS | C34: # CAMIONES | D34: MODELO | F34: TIPO DE SERVICIO | G34: $
A35: CENTRO 3 ZONA 1 | B35: =+IF(F35=0,0,MID(F35,LEN(F35)-3,1)) -> 3 | C35: 1 | D35: 2014-2020 | E35: =+IF(F35=0,0,CONCATENATE(MID(F35,FIND("-",F35,1)+1,4),"ORAS")) -> 15 HORAS | F35: 17.CAMION TIPO25m³-15 HORAS-3 OP | G35: =+IF(F35="","",VLOOKUP(F35,$H$140:I$192,2,FALSE)) -> 443323
A36: CENTRO 3 ZONA 2 | B36: =+IF(F36=0,0,MID(F36,LEN(F36)-3,1)) -> 3 | C36: 1 | D36: 2014-2020 | E36: =+IF(F36=0,0,CONCATENATE(MID(F36,FIND("-",F36,1)+1,4),"ORAS")) -> 15 HORAS | F36: 17.CAMION TIPO25m³-15 HORAS-3 OP | G36: =+IF(F36="","",VLOOKUP(F36,$H$140:I$192,2,FALSE)) -> 443323
A37: CENTRO 6 ZONA 1 | B37: =+IF(F37=0,0,MID(F37,LEN(F37)-3,1)) -> 3 | C37: 1 | D37: 2014-2020 | E37: =+IF(F37=0,0,CONCATENATE(MID(F37,FIND("-",F37,1)+1,4),"ORAS")) -> 15 HORAS | F37: 17.CAMION TIPO25m³-15 HORAS-3 OP | G37: =+IF(F37="","",VLOOKUP(F37,$H$140:I$192,2,FALSE)) -> 443323
A38: CENTRO 6 ZONA 2 | B38: =+IF(F38=0,0,MID(F38,LEN(F38)-3,1)) -> 3 | C38: 1 | D38: 2014-2020 | E38: =+IF(F38=0,0,CONCATENATE(MID(F38,FIND("-",F38,1)+1,4),"ORAS")) -> 15 HORAS | F38: 17.CAMION TIPO25m³-15 HORAS-3 OP | G38: =+IF(F38="","",VLOOKUP(F38,$H$140:I$192,2,FALSE)) -> 443323
E39: =+IF(F39=0,0,CONCATENATE(MID(F39,FIND("-",F39,1)+1,4),"ORAS")) -> 0 | F39: 0 | G39: =+IF(F39="","",VLOOKUP(F39,$H$140:I$192,2,FALSE)) -> 0
A41: valor total | B41: =+B27+B28+B29+B35+B36+B37+B38+B39+B30 -> 25 | C41: =SUM(C27:C32)+C35+C36+C37+C38+C39+C40 -> 8 | E41: =+IF(F41=0,0,CONCATENATE(MID(F41,FIND("-",F41,1)+1,3),"ORAS")) -> 0 | G41: =SUM(G27:G32,G35:G40) -> 3901004
A42: ZONA SUR
A43: RUTAS CICLOVÍA 40 M3
A44: CORREDOR | B44: # OPERARIOS | C44: # CAMIONES | D44: MODELO | E44: DISPONIBILIDAD | F44: TIPO DE SERVICIO | G44: $
...

Sheet 18 JUNIO
A1: ZONA NORTE
A2: RUTAS CICLOVÍA 40 M3 | I2: LUDICA CICLOVÍA, ESCUELA DE LA BICI, ADICIONALES 25 M3 | R2: CONOS CICLOVÍA 25 M3
A3: CORREDOR | B3: # OPERARIOS | C3: # CAMIONES | D3: MODELO | E3: DISPONIBILIDAD | F3: TIPO DE SERVICIO | G3: $ | I3: ZONA | J3: CORREDOR | K3: # OPERARIOS | L3: # CAMIONES | M3: MODELO | N3: DISPONIBILIDAD | O3: TIPO DE SERVICIO | P3: $ | R3: ZONA | S3: CORREDOR | T3: # OPERARIOS | U3: # CAMIONES | V3: MODELO | W3: DISPONIBILIDAD | X3: TIPO DE SERVICIO | Y3: $
A4: NORTE 1 | B4: =+IF(F4=0,0,MID(F4,LEN(F4)-3,1)) -> 4 | C4: 1 | D4: 2014-2020 | E4: =+IF(F4=0,0,CONCATENATE(MID(F4,FIND("-",F4,1)+1,4),"ORAS")) -> 15 HORAS | F4: 1.CAMION TIPO40m³-15 HORAS-4 OP | G4: =+IF(F4="","",VLOOKUP(F4,$H$140:$I$192,2,FALSE)) -> 582964 | I4: CENTRO | J4: ESCUELA | K4: 3 | L4: 1 | M4: 2014-2020 | N4: =+IF(O4=0,0,CONCATENATE(MID(O4,FIND("-",O4,1)+1,4),"ORAS")) -> 15 HORAS | O4: 17.CAMION TIPO25m³-15 HORAS-3 OP | P4: =+IF(O4="","",VLOOKUP(O4,$H$140:$I$192,2,FALSE)) -> 443323 | R4: CENTRO | S4: CENTRO 5 CAMION 1 UNICONOS | T4: =+IF(X4=0,0,MID(X4,LEN(X4)-3,1)) -> 4 | U4: 1 | V4: 2014-2020 | W4: =+IF(X4=0,0,CONCATENATE(MID(X4,FIND("-",X4,1)+1,4),"ORAS")) -> 15 HORAS | X4: 16.CAMION TIPO25m³-15 HORAS-4 OP | Y4: =+IF(X4="","",VLOOKUP(X4,$H$140:$I$192,2,FALSE)) -> 501739
A5: NORTE 2 | B5: =+IF(F5=0,0,MID(F5,LEN(F5)-3,1)) -> 3 | C5: 1 | D5: 2014-2020 | E5: =+IF(F5=0,0,CONCATENATE(MID(F5,FIND("-",F5,1)+1,4),"ORAS")) -> 15 HORAS | F5: 2.CAMION TIPO40m³-15 HORAS-3 OP | G5: =+IF(F5="","",VLOOKUP(F5,$H$140:I$192,2,FALSE)) -> 514916 | I5: CENTRO | J5: CAMIONETA FURGONADA PENDONES CALLE 26 | K5: 0 | L5: 1 | M5: 2014-2020 | N5: =+IF(O5=0,0,CONCATENATE(MID(O5,FIND("-",O5,1)+1,4),"ORAS")) -> 15 HORAS | O5: 31.CAMION TIPOFURGON-15 HORAS | P5: =+IF(O5="","",VLOOKUP(O5,$H$140:$I$192,2,FALSE)) -> 239262 | R5: CENTRO | S5: CENTRO 5 CAMION 2 UNICONOS | T5: =+IF(X5=0,0,MID(X5,LEN(X5)-3,1)) -> 4 | U5: 1 | V5: 2014-2020 | W5: =+IF(X5=0,0,CONCATENATE(MID(X5,FIND("-",X5,1)+1,4),"ORAS")) -> 15 HORAS | X5: 16.CAMION TIPO25m³-15 HORAS-4 OP | Y5: =+IF(X5="","",VLOOKUP(X5,$H$140:$I$192,2,FALSE)) -> 501739
A6: NORTE 3 | B6: =+IF(F6=0,0,MID(F6,LEN(F6)-3,1)) -> 3 | C6: 1 | D6: 2014-2020 | E6: =+IF(F6=0,0,CONCATENATE(MID(F6,FIND("-",F6,1)+1,4),"ORAS")) -> 15 HORAS | F6: 2.CAMION TIPO40m³-15 HORAS-3 OP | G6: =+IF(F6="","",VLOOKUP(F6,$H$140:I$192,2,FALSE)) -> 514916 | I6: CENTRO | J6: ATN | K6: 4 | L6: 1 | M6: 2014-2020 | N6: =+IF(O6=0,0,CONCATENATE(MID(O6,FIND("-",O6,1)+1,4),"ORAS")) -> 15 HORAS | O6: 16.CAMION TIPO25m³-15 HORAS-4 OP | P6: =+IF(O6="","",VLOOKUP(O6,$H$140:$I$192,2,FALSE)) -> 501739 | R6: CENTRO | S6: CENTRO 4 CAMION 3 UNICONOS | T6: =+IF(X6=0,0,MID(X6,LEN(X6)-3,1)) -> 4 | U6: 1 | V6: 2014-2020 | W6: =+IF(X6=0,0,CONCATENATE(MID(X6,FIND("-",X6,1)+1,4),"ORAS")) -> 15 HORAS | X6: 16.CAMION TIPO25m³-15 HORAS-4 OP | Y6: =+IF(X6="","",VLOOKUP(X6,$H$140:$I$192,2,FALSE)) -> 501739
A7: NORTE 4 | B7: =+IF(F7=0,0,MID(F7,LEN(F7)-3,1)) -> 3 | C7: 1 | D7: 2014-2020 | E7: =+IF(F7=0,0,CONCATENATE(MID(F7,FIND("-",F7,1)+1,4),"ORAS")) -> 15 HORAS | F7: 2.CAMION TIPO40m³-15 HORAS-3 OP | G7: =+IF(F7="","",VLOOKUP(F7,$H$140:I$192,2,FALSE)) -> 514916 | I7: CENTRO | J7: ENTREGA DE MODULOS | K7: 4 | L7: 1 | M7: 2014-2020 | N7: =+IF(O7=0,0,CONCATENATE(MID(O7,FIND("-",O7,1)+1,4),"ORAS")) -> 15 HORAS | O7: 17.CAMION TIPO25m³-15 HORAS-3 OP | P7: =+IF(O7="","",VLOOKUP(O7,$H$140:$I$192,2,FALSE)) -> 443323 | X7: 0 | Y7: =+IF(X7="","",VLOOKUP(X7,$H$140:$I$186,2,FALSE)) -> 0
A8: NORTE 5 ZONA 1 | B8: =+IF(F8=0,0,MID(F8,LEN(F8)-3,1)) -> 3 | C8: 1 | D8: 2014-2020 | E8: =+IF(F8=0,0,CONCATENATE(MID(F8,FIND("-",F8,1)+1,4),"ORAS")) -> 15 HORAS | F8: 2.CAMION TIPO40m³-15 HORAS-3 OP | G8: =+IF(F8="","",VLOOKUP(F8,$H$140:I$192,2,FALSE)) -> 514916 | N8: =+IF(O8=0,0,CONCATENATE(MID(O8,FIND("-",O8,1)+1,4),"ORAS")) -> 0 | O8: 0 | P8: =+IF(O8="","",VLOOKUP(O8,$H$140:$I$192,2,FALSE)) -> 0 | U8: =+U4+U5+U6+U7 -> 3
A9: NORTE 5 ZONA 2 | B9: =+IF(F9=0,0,MID(F9,LEN(F9)-3,1)) -> 3 | C9: 1 | D9: 2014-2020 | E9: =+IF(F9=0,0,CONCATENATE(MID(F9,FIND("-",F9,1)+1,4),"ORAS")) -> 15 HORAS | F9: 2.CAMION TIPO40m³-15 HORAS-3 OP | G9: =+IF(F9="","",VLOOKUP(F9,$H$140:I$192,2,FALSE)) -> 514916
A10: NORTE 1 MALETINES | B10: =+IF(F10=0,0,MID(F10,LEN(F10)-3,1)) -> 4 | C10: 1 | D10: 2014-2020 | E10: =+IF(F10=0,0,CONCATENATE(MID(F10,FIND("-",F10,1)+1,4),"ORAS")) -> 15 HORAS | F10: 1.CAMION TIPO40m³-15 HORAS-4 OP | G10: =+IF(F10="","",VLOOKUP(F10,$H$140:I$192,2,FALSE)) -> 582964
A11: NORTE 1 DIVISORES | B11: =+IF(F11=0,0,MID(F11,LEN(F11)-3,1)) -> 4 | C11: 1 | D11: 2014-2020 | E11: =+IF(F11=0,0,CONCATENATE(MID(F11,FIND("-",F11,1)+1,4),"ORAS")) -> 15 HORAS | F11: 1.CAMION TIPO40m³-15 HORAS-4 OP | G11: =+IF(F11="","",VLOOKUP(F11,$H$140:$I$192,2,FALSE)) -> 582964
B13: =+B10+B9+B8+B7+B6+B5+B4+B11 -> 27 | C13: =+C10+C9+C8+C7+C6+C5+C4 -> 7 | G13: =SUM(G4:G12) -> 4323472 | R13: OPERARIOS ADICIONALES
A14: RUTAS CICLOVÍA 25 M3 | R14: ZONA | S14: CORREDOR | T14: # OPERARIOS | U14: # CAMIONES | V14: MODELO | W14: DISPONIBILIDAD | X14: TIPO DE SERVICIO | Y14: $
A15: CORREDOR | B15: # OPERARIOS | C15: # CAMIONES | D15: MODELO | E15: DISPONIBILIDAD | F15: TIPO DE SERVICIO | G15: $ | R15: CENTRO | S15: APOYO CICLOVÍA | T15: 1 | U15: 0 | V15: NA | W15: =+IF(X15=0,0,CONCATENATE(MID(X15,FIND("-",X15,1)+1,4),"ORAS")) -> 08 HORAS | X15: 41.OPERARIO-08 HORAS | Y15: =+(IF(X15="","",VLOOKUP(X15,$H$140:$I$192,2,FALSE)))*T15 -> 53577
B16: =+IF(F16=0,0,MID(F16,LEN(F16)-3,1)) -> 0 | E16: =+IF(F16=0,0,CONCATENATE(MID(F16,FIND("-",F16,1)+1,4),"ORAS")) -> 0 | F16: 0 | G16: =+IF(F16="","",VLOOKUP(F16,$H$140:I$192,2,FALSE)) -> 0 | I16: ATN CICLOVÍA, ESCUELA DE LA BICI, ADICIONALES 40 M3 | R16: CENTRO | S16: ADICIONALES | T16: 2 | U16: 0 | V16: NA | W16: =+IF(X16=0,0,CONCATENATE(MID(X16,FIND("-",X16,1)+1,4),"ORAS")) -> 08 HORAS | X16: 41.OPERARIO-08 HORAS | Y16: =+(IF(X16="","",VLOOKUP(X16,$H$140:$I$192,2,FALSE)))*T16 -> 107154
I17: ZONA | J17: CORREDOR | K17: # OPERARIOS | L17: # CAMIONES | M17: MODELO | N17: DISPONIBILIDAD | O17: TIPO DE SERVICIO | P17: $
N18: =+IF(O18=0,0,CONCATENATE(MID(O18,FIND("-",O18,1)+1,4),"ORAS")) -> 0 | O18: 0 | P18: =+IF(O18="","",VLOOKUP(O18,$H$140:$I$192,2,FALSE)) -> 0 | R18: CAMIONETA 4 X4 DOBLE CABINA CON PLATON
O19: 0 | P19: =+IF(O19="","",VLOOKUP(O19,$H$140:$I$192,2,FALSE)) -> 0 | R19: ZONA | S19: CORREDOR | T19: # OPERARIOS | U19: # CAMIONES | V19: MODELO | W19: DISPONIBILIDAD | X19: TIPO DE SERVICIO | Y19: $
R20: NORTE | S20: APOYO CICLOVÍA | T20: NA | U20: NA | V20: 2014-2020 | W20: =+IF(X20=0,0,CONCATENATE(MID(X20,FIND("-",X20,1)+1,4),"ORAS")) -> 0 | X20: 0 | Y20: =+IF(X20="","",VLOOKUP(X20,$H$140:$I$192,2,FALSE)) -> 0
R21: NORTE | S21: APOYO CICLOVÍA | T21: NA | U21: NA | V21: 2014-2020 | W21: =+IF(X21=0,0,CONCATENATE(MID(X21,FIND("-",X21,1)+1,4),"ORAS")) -> 15 HORAS | X21: 34.4X4-15 HORAS | Y21: =+IF(X21="","",VLOOKUP(X21,$H$140:$I$192,2,FALSE)) -> 373234
R22: CENTRO | S22: APOYO CICLOVÍA | T22: NA | U22: 1 | V22: 2014-2020 | W22: =+IF(X22=0,0,CONCATENATE(MID(X22,FIND("-",X22,1)+1,4),"ORAS")) -> 15 HORAS | X22: 31.CAMION TIPOFURGON-15 HORAS | Y22: =+IF(X22="","",VLOOKUP(X22,$H$140:$I$192,2,FALSE)) -> 239262
A23: valor total | B23: =SUM(B4:B13)+B16+B17+B18+B19+B20+B22 -> 27 | C23: =+C4+C5+C6+C7+C8+C9+C10+C16 -> 7 | G23: =SUM(G13,G16:G22) -> 4323472 | R23: CENTRO | S23: APOYO CICLOVÍA | T23: NA | U23: NA | V23: 2014-2020 | W23: =+IF(X23=0,0,CONCATENATE(MID(X23,FIND("-",X23,1)+1,4),"ORAS")) -> 15 HORAS | X23: 34.4X4-15 HORAS | Y23: =+IF(X23="","",VLOOKUP(X23,$H$140:$I$192,2,FALSE)) -> 373234
A24: ZONA CENTRO | R24: SUR | S24: APOYO CICLOVÍA | T24: NA | U24: NA | V24: 2014-2020 | W24: =+IF(X24=0,0,CONCATENATE(MID(X24,FIND("-",X24,1)+1,4),"ORAS")) -> 15 HORAS | X24: 34.4X4-15 HORAS | Y24: =+IF(X24="","",VLOOKUP(X24,$H$140:$I$192,2,FALSE)) -> 373234
A25: RUTAS CICLOVÍA 40 M3 | X25: 0 | Y25: =+IF(X25="","",VLOOKUP(X25,$H$140:$I$192,2,FALSE)) -> 0
A26: CORREDOR | B26: # OPERARIOS | C26: # CAMIONES | D26: MODELO | E26: DISPONIBILIDAD | F26: TIPO DE SERVICIO | G26: $ | J26: TOTAL | K26: =SUM(K4:K15,K18:K25) -> 11 | L26: =SUM(L4:L25) -> 4 | P26: =SUM(P4:P25) -> 1627647 | X26: 0 | Y26: =+IF(X26="","",VLOOKUP(X26,$H$140:$I$192,2,FALSE)) -> 0
A27: CENTRO 1 | B27: =+IF(F27=0,0,MID(F27,LEN(F27)-3,1)) -> 3 | C27: 1 | D27: 2014-2020 | E27: =+IF(F27=0,0,CONCATENATE(MID(F27,FIND("-",F27,1)+1,4),"ORAS")) -> 15 HORAS | F27: 2.CAMION TIPO40m³-15 HORAS-3 OP | G27: =+IF(F27="","",VLOOKUP(F27,$H$140:I$192,2,FALSE)) -> 514916
A28: CENTRO 2 | B28: =+IF(F28=0,0,MID(F28,LEN(F28)-3,1)) -> 3 | C28: 1 | D28: 2014-2020 | E28: =+IF(F28=0,0,CONCATENATE(MID(F28,FIND("-",F28,1)+1,4),"ORAS")) -> 15 HORAS | F28: 2.CAMION TIPO40m³-15 HORAS-3 OP | G28: =+IF(F28="","",VLOOKUP(F28,$H$140:I$192,2,FALSE)) -> 514916
A29: CENTRO 4 | B29: =+IF(F29=0,0,MID(F29,LEN(F29)-3,1)) -> 3 | C29: 1 | D29: 2014-2020 | E29: =+IF(F29=0,0,CONCATENATE(MID(F29,FIND("-",F29,1)+1,4),"ORAS")) -> 15 HORAS | F29: 2.CAMION TIPO40m³-15 HORAS-3 OP | G29: =+IF(F29="","",VLOOKUP(F29,$H$140:I$192,2,FALSE)) -> 514916 | S29: TOTAL | T29: =T4+T5+T6+T15+T16 -> 15 | U29: =SUM(U4:U7,U22) -> 4 | Y29: =SUM(Y4:Y26) -> 3024912
A30: CENTRO 5 | B30: 3 | C30: 1 | D30: 2014-2020 | E30: =+IF(F30=0,0,CONCATENATE(MID(F30,FIND("-",F30,1)+1,4),"ORAS")) -> 15 HORAS | F30: 2.CAMION TIPO40m³-15 HORAS-3 OP | G30: =+IF(F30="","",VLOOKUP(F30,$H$140:I$192,2,FALSE)) -> 514916
A33: RUTAS CICLOVÍA 25 M3
B34: # OPERARIOS | C34: # CAMIONES | D34: MODELO | F34: TIPO DE SERVICIO | G34: $
A35: CENTRO 3 ZONA 1 | B35: =+IF(F35=0,0,MID(F35,LEN(F35)-3,1)) -> 3 | C35: 1 | D35: 2014-2020 | E35: =+IF(F35=0,0,CONCATENATE(MID(F35,FIND("-",F35,1)+1,4),"ORAS")) -> 15 HORAS | F35: 17.CAMION TIPO25m³-15 HORAS-3 OP | G35: =+IF(F35="","",VLOOKUP(F35,$H$140:I$192,2,FALSE)) -> 443323
A36: CENTRO 3 ZONA 2 | B36: =+IF(F36=0,0,MID(F36,LEN(F36)-3,1)) -> 3 | C36: 1 | D36: 2014-2020 | E36: =+IF(F36=0,0,CONCATENATE(MID(F36,FIND("-",F36,1)+1,4),"ORAS")) -> 15 HORAS | F36: 17.CAMION TIPO25m³-15 HORAS-3 OP | G36: =+IF(F36="","",VLOOKUP(F36,$H$140:I$192,2,FALSE)) -> 443323
A37: CENTRO 6 ZONA 1 | B37: =+IF(F37=0,0,MID(F37,LEN(F37)-3,1)) -> 3 | C37: 1 | D37: 2014-2020 | E37: =+IF(F37=0,0,CONCATENATE(MID(F37,FIND("-",F37,1)+1,4),"ORAS")) -> 15 HORAS | F37: 17.CAMION TIPO25m³-15 HORAS-3 OP | G37: =+IF(F37="","",VLOOKUP(F37,$H$140:I$192,2,FALSE)) -> 443323
A38: CENTRO 6 ZONA 2 | B38: =+IF(F38=0,0,MID(F38,LEN(F38)-3,1)) -> 3 | C38: 1 | D38: 2014-2020 | E38: =+IF(F38=0,0,CONCATENATE(MID(F38,FIND("-",F38,1)+1,4),"ORAS")) -> 15 HORAS | F38: 17.CAMION TIPO25m³-15 HORAS-3 OP | G38: =+IF(F38="","",VLOOKUP(F38,$H$140:I$192,2,FALSE)) -> 443323
E39: =+IF(F39=0,0,CONCATENATE(MID(F39,FIND("-",F39,1)+1,4),"ORAS")) -> 0 | F39: 0 | G39: =+IF(F39="","",VLOOKUP(F39,$H$140:I$192,2,FALSE)) -> 0
A41: valor total | B41: =+B27+B28+B29+B35+B36+B37+B38+B39+B30 -> 24 | C41: =SUM(C27:C32)+C35+C36+C37+C38+C39+C40 -> 8 | E41: =+IF(F41=0,0,CONCATENATE(MID(F41,FIND("-",F41,1)+1,3),"ORAS")) -> 0 | G41: =SUM(G27:G32,G35:G40) -> 3832956
A42: ZONA SUR
A43: RUTAS CICLOVÍA 40 M3
A44: CORREDOR | B44: # OPERARIOS | C44: # CAMIONES | D44: MODELO | E44: DISPONIBILIDAD | F44: TIPO DE SERVICIO | G44: $
...

Sheet 19 JUNIO
A1: ZONA NORTE
A2: RUTAS CICLOVÍA 40 M3 | I2: LUDICA CICLOVÍA, ESCUELA DE LA BICI, ADICIONALES 25 M3 | R2: CONOS CICLOVÍA 25 M3
A3: CORREDOR | B3: # OPERARIOS | C3: # CAMIONES | D3: MODELO | E3: DISPONIBILIDAD | F3: TIPO DE SERVICIO | G3: $ | I3: ZONA | J3: CORREDOR | K3: # OPERARIOS | L3: # CAMIONES | M3: MODELO | N3: DISPONIBILIDAD | O3: TIPO DE SERVICIO | P3: $ | R3: ZONA | S3: CORREDOR | T3: # OPERARIOS | U3: # CAMIONES | V3: MODELO | W3: DISPONIBILIDAD | X3: TIPO DE SERVICIO | Y3: $
A4: NORTE 1 | B4: =+IF(F4=0,0,MID(F4,LEN(F4)-3,1)) -> 2 | C4: 1 | D4: 2014-2020 | E4: =+IF(F4=0,0,CONCATENATE(MID(F4,FIND("-",F4,1)+1,4),"ORAS")) -> 15 HORAS | F4: 3.CAMION TIPO40m³-15 HORAS-2 OP | G4: =+IF(F4="","",VLOOKUP(F4,$H$140:$I$192,2,FALSE)) -> 448638 | I4: CENTRO | J4: ESCUELA | K4: 3 | L4: 1 | M4: 2014-2020 | N4: =+IF(O4=0,0,CONCATENATE(MID(O4,FIND("-",O4,1)+1,4),"ORAS")) -> 15 HORAS | O4: 17.CAMION TIPO25m³-15 HORAS-3 OP | P4: =+IF(O4="","",VLOOKUP(O4,$H$140:$I$192,2,FALSE)) -> 443323 | R4: CENTRO | S4: CENTRO 5 CAMION 1 UNICONOS | T4: =+IF(X4=0,0,MID(X4,LEN(X4)-3,1)) -> 4 | U4: 1 | V4: 2014-2020 | W4: =+IF(X4=0,0,CONCATENATE(MID(X4,FIND("-",X4,1)+1,4),"ORAS")) -> 15 HORAS | X4: 16.CAMION TIPO25m³-15 HORAS-4 OP | Y4: =+IF(X4="","",VLOOKUP(X4,$H$140:$I$192,2,FALSE)) -> 501739
A5: NORTE 2 | B5: =+IF(F5=0,0,MID(F5,LEN(F5)-3,1)) -> 3 | C5: 1 | D5: 2014-2020 | E5: =+IF(F5=0,0,CONCATENATE(MID(F5,FIND("-",F5,1)+1,4),"ORAS")) -> 15 HORAS | F5: 2.CAMION TIPO40m³-15 HORAS-3 OP | G5: =+IF(F5="","",VLOOKUP(F5,$H$140:I$192,2,FALSE)) -> 514916 | I5: CENTRO | J5: CAMIONETA FURGONADA PENDONES CALLE 26 | K5: 0 | L5: 1 | M5: 2014-2020 | N5: =+IF(O5=0,0,CONCATENATE(MID(O5,FIND("-",O5,1)+1,4),"ORAS")) -> 15 HORAS | O5: 31.CAMION TIPOFURGON-15 HORAS | P5: =+IF(O5="","",VLOOKUP(O5,$H$140:$I$192,2,FALSE)) -> 239262 | R5: CENTRO | S5: CENTRO 5 CAMION 2 UNICONOS | T5: =+IF(X5=0,0,MID(X5,LEN(X5)-3,1)) -> 4 | U5: 1 | V5: 2014-2020 | W5: =+IF(X5=0,0,CONCATENATE(MID(X5,FIND("-",X5,1)+1,4),"ORAS")) -> 15 HORAS | X5: 16.CAMION TIPO25m³-15 HORAS-4 OP | Y5: =+IF(X5="","",VLOOKUP(X5,$H$140:$I$192,2,FALSE)) -> 501739
A6: NORTE 3 | B6: =+IF(F6=0,0,MID(F6,LEN(F6)-3,1)) -> 3 | C6: 1 | D6: 2014-2020 | E6: =+IF(F6=0,0,CONCATENATE(MID(F6,FIND("-",F6,1)+1,4),"ORAS")) -> 15 HORAS | F6: 2.CAMION TIPO40m³-15 HORAS-3 OP | G6: =+IF(F6="","",VLOOKUP(F6,$H$140:I$192,2,FALSE)) -> 514916 | I6: CENTRO | J6: ATN | K6: 4 | L6: 1 | M6: 2014-2020 | N6: =+IF(O6=0,0,CONCATENATE(MID(O6,FIND("-",O6,1)+1,4),"ORAS")) -> 15 HORAS | O6: 16.CAMION TIPO25m³-15 HORAS-4 OP | P6: =+IF(O6="","",VLOOKUP(O6,$H$140:$I$192,2,FALSE)) -> 501739 | R6: CENTRO | S6: CENTRO 4 CAMION 3 UNICONOS | T6: =+IF(X6=0,0,MID(X6,LEN(X6)-3,1)) -> 4 | U6: 1 | V6: 2014-2020 | W6: =+IF(X6=0,0,CONCATENATE(MID(X6,FIND("-",X6,1)+1,4),"ORAS")) -> 15 HORAS | X6: 16.CAMION TIPO25m³-15 HORAS-4 OP | Y6: =+IF(X6="","",VLOOKUP(X6,$H$140:$I$192,2,FALSE)) -> 501739
A7: NORTE 4 | B7: =+IF(F7=0,0,MID(F7,LEN(F7)-3,1)) -> 3 | C7: 1 | D7: 2014-2020 | E7: =+IF(F7=0,0,CONCATENATE(MID(F7,FIND("-",F7,1)+1,4),"ORAS")) -> 15 HORAS | F7: 2.CAMION TIPO40m³-15 HORAS-3 OP | G7: =+IF(F7="","",VLOOKUP(F7,$H$140:I$192,2,FALSE)) -> 514916 | I7: CENTRO | J7: ENTREGA DE MODULOS | K7: 4 | L7: 1 | M7: 2014-2020 | N7: =+IF(O7=0,0,CONCATENATE(MID(O7,FIND("-",O7,1)+1,4),"ORAS")) -> 15 HORAS | O7: 1.CAMION TIPO40m³-15 HORAS-4 OP | P7: =+IF(O7="","",VLOOKUP(O7,$H$140:$I$192,2,FALSE)) -> 582964 | X7: 0 | Y7: =+IF(X7="","",VLOOKUP(X7,$H$140:$I$186,2,FALSE)) -> 0
A8: NORTE 5 ZONA 1 | B8: =+IF(F8=0,0,MID(F8,LEN(F8)-3,1)) -> 3 | C8: 1 | D8: 2014-2020 | E8: =+IF(F8=0,0,CONCATENATE(MID(F8,FIND("-",F8,1)+1,4),"ORAS")) -> 15 HORAS | F8: 2.CAMION TIPO40m³-15 HORAS-3 OP | G8: =+IF(F8="","",VLOOKUP(F8,$H$140:I$192,2,FALSE)) -> 514916 | O8: 0 | P8: =+IF(O8="","",VLOOKUP(O8,$H$140:$I$192,2,FALSE)) -> 0 | U8: =+U4+U5+U6+U7 -> 3
A9: NORTE 5 ZONA 2 | B9: =+IF(F9=0,0,MID(F9,LEN(F9)-3,1)) -> 3 | C9: 1 | D9: 2014-2020 | E9: =+IF(F9=0,0,CONCATENATE(MID(F9,FIND("-",F9,1)+1,4),"ORAS")) -> 15 HORAS | F9: 2.CAMION TIPO40m³-15 HORAS-3 OP | G9: =+IF(F9="","",VLOOKUP(F9,$H$140:I$192,2,FALSE)) -> 514916
A10: NORTE 1 MALETINES | B10: =+IF(F10=0,0,MID(F10,LEN(F10)-3,1)) -> 4 | C10: 1 | D10: 2014-2020 | E10: =+IF(F10=0,0,CONCATENATE(MID(F10,FIND("-",F10,1)+1,4),"ORAS")) -> 15 HORAS | F10: 1.CAMION TIPO40m³-15 HORAS-4 OP | G10: =+IF(F10="","",VLOOKUP(F10,$H$140:I$192,2,FALSE)) -> 582964
A11: NORTE 1 DIVISORES | B11: =+IF(F11=0,0,MID(F11,LEN(F11)-3,1)) -> 4 | C11: 1 | D11: 2014-2020 | E11: =+IF(F11=0,0,CONCATENATE(MID(F11,FIND("-",F11,1)+1,4),"ORAS")) -> 15 HORAS | F11: 1.CAMION TIPO40m³-15 HORAS-4 OP | G11: =+IF(F11="","",VLOOKUP(F11,$H$140:$I$192,2,FALSE)) -> 582964
B13: =+B10+B9+B8+B7+B6+B5+B4+B11 -> 25 | C13: =+C10+C9+C8+C7+C6+C5+C4 -> 7 | G13: =SUM(G4:G12) -> 4189146 | R13: OPERARIOS ADICIONALES
A14: RUTAS CICLOVÍA 25 M3 | R14: ZONA | S14: CORREDOR | T14: # OPERARIOS | U14: # CAMIONES | V14: MODELO | W14: DISPONIBILIDAD | X14: TIPO DE SERVICIO | Y14: $
A15: CORREDOR | B15: # OPERARIOS | C15: # CAMIONES | D15: MODELO | E15: DISPONIBILIDAD | F15: TIPO DE SERVICIO | G15: $ | R15: CENTRO | S15: APOYO CICLOVÍA | T15: 2 | U15: 0 | V15: NA | W15: =+IF(X15=0,0,CONCATENATE(MID(X15,FIND("-",X15,1)+1,4),"ORAS")) -> 08 HORAS | X15: 41.OPERARIO-08 HORAS | Y15: =+(IF(X15="","",VLOOKUP(X15,$H$140:$I$192,2,FALSE)))*T15 -> 107154
B16: =+IF(F16=0,0,MID(F16,LEN(F16)-3,1)) -> 0 | E16: =+IF(F16=0,0,CONCATENATE(MID(F16,FIND("-",F16,1)+1,4),"ORAS")) -> 0 | F16: 0 | G16: =+IF(F16="","",VLOOKUP(F16,$H$140:I$192,2,FALSE)) -> 0 | I16: ATN CICLOVÍA, ESCUELA DE LA BICI, ADICIONALES 40 M3 | R16: CENTRO | S16: ADICIONALES | T16: 2 | U16: 0 | V16: NA | W16: =+IF(X16=0,0,CONCATENATE(MID(X16,FIND("-",X16,1)+1,4),"ORAS")) -> 08 HORAS | X16: 41.OPERARIO-08 HORAS | Y16: =+(IF(X16="","",VLOOKUP(X16,$H$140:$I$192,2,FALSE)))*T16 -> 107154
I17: ZONA | J17: CORREDOR | K17: # OPERARIOS | L17: # CAMIONES | M17: MODELO | N17: DISPONIBILIDAD | O17: TIPO DE SERVICIO | P17: $
N18: =+IF(O18=0,0,CONCATENATE(MID(O18,FIND("-",O18,1)+1,4),"ORAS")) -> 0 | O18: 0 | P18: =+IF(O18="","",VLOOKUP(O18,$H$140:$I$192,2,FALSE)) -> 0 | R18: CAMIONETA 4 X4 DOBLE CABINA CON PLATON
O19: 0 | P19: =+IF(O19="","",VLOOKUP(O19,$H$140:$I$192,2,FALSE)) -> 0 | R19: ZONA | S19: CORREDOR | T19: # OPERARIOS | U19: # CAMIONES | V19: MODELO | W19: DISPONIBILIDAD | X19: TIPO DE SERVICIO | Y19: $
R20: NORTE | S20: APOYO CICLOVÍA | T20: NA | U20: NA | V20: 2014-2020 | W20: =+IF(X20=0,0,CONCATENATE(MID(X20,FIND("-",X20,1)+1,4),"ORAS")) -> 15 HORAS | X20: 34.4X4-15 HORAS | Y20: =+IF(X20="","",VLOOKUP(X20,$H$140:$I$192,2,FALSE)) -> 373234
R21: NORTE | S21: APOYO CICLOVÍA | T21: NA | U21: NA | V21: 2014-2020 | W21: =+IF(X21=0,0,CONCATENATE(MID(X21,FIND("-",X21,1)+1,4),"ORAS")) -> 15 HORAS | X21: 34.4X4-15 HORAS | Y21: =+IF(X21="","",VLOOKUP(X21,$H$140:$I$192,2,FALSE)) -> 373234
R22: CENTRO | S22: APOYO CICLOVÍA | T22: NA | U22: 1 | V22: 2014-2020 | W22: =+IF(X22=0,0,CONCATENATE(MID(X22,FIND("-",X22,1)+1,4),"ORAS")) -> 15 HORAS | X22: 31.CAMION TIPOFURGON-15 HORAS | Y22: =+IF(X22="","",VLOOKUP(X22,$H$140:$I$192,2,FALSE)) -> 239262
A23: valor total | B23: =SUM(B4:B13)+B16+B17+B18+B19+B20+B22 -> 25 | C23: =+C4+C5+C6+C7+C8+C9+C10+C16 -> 7 | G23: =SUM(G13,G16:G22) -> 4189146 | R23: CENTRO | S23: APOYO CICLOVÍA | T23: NA | U23: NA | V23: 2014-2020 | W23: =+IF(X23=0,0,CONCATENATE(MID(X23,FIND("-",X23,1)+1,4),"ORAS")) -> 15 HORAS | X23: 34.4X4-15 HORAS | Y23: =+IF(X23="","",VLOOKUP(X23,$H$140:$I$192,2,FALSE)) -> 373234
A24: ZONA CENTRO | R24: SUR | S24: APOYO CICLOVÍA | T24: NA | U24: NA | V24: 2014-2020 | W24: =+IF(X24=0,0,CONCATENATE(MID(X24,FIND("-",X24,1)+1,4),"ORAS")) -> 15 HORAS | X24: 34.4X4-15 HORAS | Y24: =+IF(X24="","",VLOOKUP(X24,$H$140:$I$192,2,FALSE)) -> 373234
A25: RUTAS CICLOVÍA 40 M3
A26: CORREDOR | B26: # OPERARIOS | C26: # CAMIONES | D26: MODELO | E26: DISPONIBILIDAD | F26: TIPO DE SERVICIO | G26: $ | J26: TOTAL | K26: =SUM(K4:K15,K18:K25) -> 11 | L26: =SUM(L4:L25) -> 4 | P26: =SUM(P4:P25) -> 1767288 | S26: TOTAL | T26: =T4+T5+T6+T15+T16 -> 16 | U26: =SUM(U4:U7,U22) -> 4 | Y26: =SUM(Y4:Y24) -> 3451723
A27: CENTRO 1 | B27: =+IF(F27=0,0,MID(F27,LEN(F27)-3,1)) -> 3 | C27: 1 | D27: 2014-2020 | E27: =+IF(F27=0,0,CONCATENATE(MID(F27,FIND("-",F27,1)+1,4),"ORAS")) -> 15 HORAS | F27: 2.CAMION TIPO40m³-15 HORAS-3 OP | G27: =+IF(F27="","",VLOOKUP(F27,$H$140:I$192,2,FALSE)) -> 514916
A28: CENTRO 2 | B28: =+IF(F28=0,0,MID(F28,LEN(F28)-3,1)) -> 4 | C28: 1 | D28: 2014-2020 | E28: =+IF(F28=0,0,CONCATENATE(MID(F28,FIND("-",F28,1)+1,4),"ORAS")) -> 15 HORAS | F28: 1.CAMION TIPO40m³-15 HORAS-4 OP | G28: =+IF(F28="","",VLOOKUP(F28,$H$140:I$192,2,FALSE)) -> 582964
A29: CENTRO 4 | B29: =+IF(F29=0,0,MID(F29,LEN(F29)-3,1)) -> 3 | C29: 1 | D29: 2014-2020 | E29: =+IF(F29=0,0,CONCATENATE(MID(F29,FIND("-",F29,1)+1,4),"ORAS")) -> 15 HORAS | F29: 2.CAMION TIPO40m³-15 HORAS-3 OP | G29: =+IF(F29="","",VLOOKUP(F29,$H$140:I$192,2,FALSE)) -> 514916
A30: CENTRO 5 | B30: 3 | C30: 1 | D30: 2014-2020 | E30: =+IF(F30=0,0,CONCATENATE(MID(F30,FIND("-",F30,1)+1,4),"ORAS")) -> 15 HORAS | F30: 2.CAMION TIPO40m³-15 HORAS-3 OP | G30: =+IF(F30="","",VLOOKUP(F30,$H$140:I$192,2,FALSE)) -> 514916
A33: RUTAS CICLOVÍA 25 M3
B34: # OPERARIOS | C34: # CAMIONES | D34: MODELO | F34: TIPO DE SERVICIO | G34: $
A35: CENTRO 3 ZONA 1 | B35: =+IF(F35=0,0,MID(F35,LEN(F35)-3,1)) -> 3 | C35: 1 | D35: 2014-2020 | E35: =+IF(F35=0,0,CONCATENATE(MID(F35,FIND("-",F35,1)+1,4),"ORAS")) -> 15 HORAS | F35: 17.CAMION TIPO25m³-15 HORAS-3 OP | G35: =+IF(F35="","",VLOOKUP(F35,$H$140:I$192,2,FALSE)) -> 443323
A36: CENTRO 3 ZONA 2 | B36: =+IF(F36=0,0,MID(F36,LEN(F36)-3,1)) -> 3 | C36: 1 | D36: 2014-2020 | E36: =+IF(F36=0,0,CONCATENATE(MID(F36,FIND("-",F36,1)+1,4),"ORAS")) -> 15 HORAS | F36: 17.CAMION TIPO25m³-15 HORAS-3 OP | G36: =+IF(F36="","",VLOOKUP(F36,$H$140:I$192,2,FALSE)) -> 443323
A37: CENTRO 6 ZONA 1 | B37: =+IF(F37=0,0,MID(F37,LEN(F37)-3,1)) -> 3 | C37: 1 | D37: 2014-2020 | E37: =+IF(F37=0,0,CONCATENATE(MID(F37,FIND("-",F37,1)+1,4),"ORAS")) -> 15 HORAS | F37: 17.CAMION TIPO25m³-15 HORAS-3 OP | G37: =+IF(F37="","",VLOOKUP(F37,$H$140:I$192,2,FALSE)) -> 443323
A38: CENTRO 6 ZONA 2 | B38: =+IF(F38=0,0,MID(F38,LEN(F38)-3,1)) -> 3 | C38: 1 | D38: 2014-2020 | E38: =+IF(F38=0,0,CONCATENATE(MID(F38,FIND("-",F38,1)+1,4),"ORAS")) -> 15 HORAS | F38: 17.CAMION TIPO25m³-15 HORAS-3 OP | G38: =+IF(F38="","",VLOOKUP(F38,$H$140:I$192,2,FALSE)) -> 443323
E39: =+IF(F39=0,0,CONCATENATE(MID(F39,FIND("-",F39,1)+1,4),"ORAS")) -> 0 | F39: 0 | G39: =+IF(F39="","",VLOOKUP(F39,$H$140:I$192,2,FALSE)) -> 0
A41: valor total | B41: =+B27+B28+B29+B35+B36+B37+B38+B39+B30 -> 25 | C41: =SUM(C27:C32)+C35+C36+C37+C38+C39+C40 -> 8 | E41: =+IF(F41=0,0,CONCATENATE(MID(F41,FIND("-",F41,1)+1,3),"ORAS")) -> 0 | G41: =SUM(G27:G32,G35:G40) -> 3901004
A42: ZONA SUR
A43: RUTAS CICLOVÍA 40 M3
A44: CORREDOR | B44: # OPERARIOS | C44: # CAMIONES | D44: MODELO | E44: DISPONIBILIDAD | F44: TIPO DE SERVICIO | G44: $
...

Sheet 25 JUNIO
A1: ZONA NORTE
A2: RUTAS CICLOVÍA 40 M3 | I2: LUDICA CICLOVÍA, ESCUELA DE LA BICI, ADICIONALES 25 M3 | R2: CONOS CICLOVÍA 25 M3
A3: CORREDOR | B3: # OPERARIOS | C3: # CAMIONES | D3: MODELO | E3: DISPONIBILIDAD | F3: TIPO DE SERVICIO | G3: $ | I3: ZONA | J3: CORREDOR | K3: # OPERARIOS | L3: # CAMIONES | M3: MODELO | N3: DISPONIBILIDAD | O3: TIPO DE SERVICIO | P3: $ | R3: ZONA | S3: CORREDOR | T3: # OPERARIOS | U3: # CAMIONES | V3: MODELO | W3: DISPONIBILIDAD | X3: TIPO DE SERVICIO | Y3: $
A4: NORTE 1 | B4: =+IF(F4=0,0,MID(F4,LEN(F4)-3,1)) -> 4 | C4: 1 | D4: 2014-2020 | E4: =+IF(F4=0,0,CONCATENATE(MID(F4,FIND("-",F4,1)+1,4),"ORAS")) -> 15 HORAS | F4: 1.CAMION TIPO40m³-15 HORAS-4 OP | G4: =+IF(F4="","",VLOOKUP(F4,$H$140:$I$192,2,FALSE)) -> 582964 | I4: CENTRO | J4: ESCUELA | K4: 3 | L4: 1 | M4: 2014-2020 | N4: =+IF(O4=0,0,CONCATENATE(MID(O4,FIND("-",O4,1)+1,4),"ORAS")) -> 15 HORAS | O4: 17.CAMION TIPO25m³-15 HORAS-3 OP | P4: =+IF(O4="","",VLOOKUP(O4,$H$140:$I$192,2,FALSE)) -> 443323 | R4: CENTRO | S4: CENTRO 5 CAMION 1 UNICONOS | T4: =+IF(X4=0,0,MID(X4,LEN(X4)-3,1)) -> 4 | U4: 1 | V4: 2014-2020 | W4: =+IF(X4=0,0,CONCATENATE(MID(X4,FIND("-",X4,1)+1,4),"ORAS")) -> 15 HORAS | X4: 16.CAMION TIPO25m³-15 HORAS-4 OP | Y4: =+IF(X4="","",VLOOKUP(X4,$H$140:$I$192,2,FALSE)) -> 501739
A5: NORTE 2 | B5: =+IF(F5=0,0,MID(F5,LEN(F5)-3,1)) -> 3 | C5: 1 | D5: 2014-2020 | E5: =+IF(F5=0,0,CONCATENATE(MID(F5,FIND("-",F5,1)+1,4),"ORAS")) -> 15 HORAS | F5: 2.CAMION TIPO40m³-15 HORAS-3 OP | G5: =+IF(F5="","",VLOOKUP(F5,$H$140:I$192,2,FALSE)) -> 514916 | I5: CENTRO | J5: CAMIONETA FURGONADA PENDONES CALLE 26 | K5: 0 | L5: 1 | M5: 2014-2020 | N5: =+IF(O5=0,0,CONCATENATE(MID(O5,FIND("-",O5,1)+1,4),"ORAS")) -> 15 HORAS | O5: 31.CAMION TIPOFURGON-15 HORAS | P5: =+IF(O5="","",VLOOKUP(O5,$H$140:$I$192,2,FALSE)) -> 239262 | R5: CENTRO | S5: CENTRO 5 CAMION 2 UNICONOS | T5: =+IF(X5=0,0,MID(X5,LEN(X5)-3,1)) -> 4 | U5: 1 | V5: 2014-2020 | W5: =+IF(X5=0,0,CONCATENATE(MID(X5,FIND("-",X5,1)+1,4),"ORAS")) -> 15 HORAS | X5: 16.CAMION TIPO25m³-15 HORAS-4 OP | Y5: =+IF(X5="","",VLOOKUP(X5,$H$140:$I$192,2,FALSE)) -> 501739
A6: NORTE 3 | B6: =+IF(F6=0,0,MID(F6,LEN(F6)-3,1)) -> 3 | C6: 1 | D6: 2014-2020 | E6: =+IF(F6=0,0,CONCATENATE(MID(F6,FIND("-",F6,1)+1,4),"ORAS")) -> 15 HORAS | F6: 2.CAMION TIPO40m³-15 HORAS-3 OP | G6: =+IF(F6="","",VLOOKUP(F6,$H$140:I$192,2,FALSE)) -> 514916 | I6: CENTRO | J6: ATN | K6: 4 | L6: 1 | M6: 2014-2020 | N6: =+IF(O6=0,0,CONCATENATE(MID(O6,FIND("-",O6,1)+1,4),"ORAS")) -> 15 HORAS | O6: 16.CAMION TIPO25m³-15 HORAS-4 OP | P6: =+IF(O6="","",VLOOKUP(O6,$H$140:$I$192,2,FALSE)) -> 501739 | R6: CENTRO | S6: CENTRO 4 CAMION 3 UNICONOS | T6: =+IF(X6=0,0,MID(X6,LEN(X6)-3,1)) -> 4 | U6: 1 | V6: 2014-2020 | W6: =+IF(X6=0,0,CONCATENATE(MID(X6,FIND("-",X6,1)+1,4),"ORAS")) -> 15 HORAS | X6: 16.CAMION TIPO25m³-15 HORAS-4 OP | Y6: =+IF(X6="","",VLOOKUP(X6,$H$140:$I$192,2,FALSE)) -> 501739
A7: NORTE 4 | B7: =+IF(F7=0,0,MID(F7,LEN(F7)-3,1)) -> 3 | C7: 1 | D7: 2014-2020 | E7: =+IF(F7=0,0,CONCATENATE(MID(F7,FIND("-",F7,1)+1,4),"ORAS")) -> 15 HORAS | F7: 2.CAMION TIPO40m³-15 HORAS-3 OP | G7: =+IF(F7="","",VLOOKUP(F7,$H$140:I$192,2,FALSE)) -> 514916 | I7: CENTRO | J7: CICLOPASEO PONAL | K7: 3 | L7: 1 | M7: 2014-2020 | N7: =+IF(O7=0,0,CONCATENATE(MID(O7,FIND("-",O7,1)+1,4),"ORAS")) -> 0 | O7: 0 | P7: =+IF(O7="","",VLOOKUP(O7,$H$140:$I$192,2,FALSE)) -> 0 | X7: 0 | Y7: =+IF(X7="","",VLOOKUP(X7,$H$140:$I$186,2,FALSE)) -> 0
