Workbook
Name \0: #REF!
Name \0: #REF!
Name \00: #REF!
Name \00: #REF!
Name \a: #REF!
Name \a: #REF!
Name \AA: [1]LIQUIDACION!#REF!
Name \AA: [1]LIQUIDACION!#REF!
Name \b: [2]STRSUMM0!#REF!
Name \b: [2]STRSUMM0!#REF!
Name \bb: [2]STRSUMM0!#REF!
Name \bb: [2]STRSUMM0!#REF!
Name \E: #REF!
Name \E: #REF!
Name \EE: #REF!
Name \EE: #REF!
Name \G: #REF!
Name \G: #REF!
Name \k: '[3]7422CW00'!#REF!
Name \k: '[3]7422CW00'!#REF!
Name \l: [4]STRSUMM0!#REF!
Name \l: [4]STRSUMM0!#REF!
Name \M: #REF!
Name \M: #REF!
Name \ñ: '[5]7422CW00'!#REF!
Name \ñ: '[5]7422CW00'!#REF!
Name \P: #REF!
Name \P: #REF!
Name \R: #REF!
Name \R: #REF!
Name \s: #REF!
Name \s: #REF!
Name \V: #REF!
Name \V: #REF!
Name \X: [0]!ERR
Name \Z: [0]!ERR
Name _________AFC1: [6]INV!$A$25:$D$28
Name _________AFC3: [6]INV!$F$25:$I$28
Name _________AFC5: [6]INV!$K$25:$N$28
Name _________BGC1: [6]INV!$A$5:$D$8
Name _________BGC3: [6]INV!$F$5:$I$8
Name _________BGC5: [6]INV!$K$5:$N$8
Name _________CAC1: [6]INV!$A$19:$D$22
Name _________CAC3: [6]INV!$F$19:$I$22
Name _________CAC5: [6]INV!$K$19:$N$22
Name _________PJ50: #REF!
Name _________PJ50: #REF!
Name _________SBC1: [6]INV!$A$12:$D$15
Name _________SBC3: [6]INV!$F$12:$I$15
Name _________SBC5: [6]INV!$K$12:$N$15
Name ________AFC1: [6]INV!$A$25:$D$28
Name ________AFC3: [6]INV!$F$25:$I$28
Name ________AFC5: [6]INV!$K$25:$N$28
Name ________BGC1: [6]INV!$A$5:$D$8
Name ________BGC3: [6]INV!$F$5:$I$8
Name ________BGC5: [6]INV!$K$5:$N$8
Name ________CAC1: [6]INV!$A$19:$D$22
Name ________CAC3: [6]INV!$F$19:$I$22
Name ________CAC5: [6]INV!$K$19:$N$22
Name ________MA2: #REF!

Sheet PRESUPUESTO OFICIAL (Entidad)
C3: Formulario 1 - Propuesta económica - Documento tipo de mínima cuantía de obra pública de infraestructura de transporte - versión 2
C4: Código | D4: CCE-EICP-FM-32 | E4: Versión | F4: 2
C5: FORMULARIO 1
C6: OBJETO: OBRAS DE SEÑALIZACION VIAL EN VIAS CODIGO 7007 AGUACLARA - OCAÑA Y 7008 OCAÑA - SADINATA A CARGO DEL INSTITUTO NACIONAL DE VÍAS, DIRECCION TERRITORIAL OCAÑA
C7: PRESUPUESTO OFICIAL
C8: [La Entidad puede utilizar este formulario de detalle del presupuesto oficial para determinar las condiciones bajo las cuales los Proponentes analizarán y presentarán su propuesta económica de forma detallada, sin perjuicio que la Entidad pueda modificarlo o establecer la presentación de la oferta económica con un formulario distinto al indicado.] [El presente Formulario aplica para los Procesos de Contratación que tengan como forma de pago precios unitarios. Tratándose de otras modalidades de pago, la Entidad debe ajustarlo cuando corresponde a: precio global, llave en mano, administración delegada, reembolso de gastos o cualquier otra forma de pago.]
C10: Adicionalmente, cuando el proceso de contratación es estructurado por precios unitarios, la Entidad debe aplicar las notas 1, 2 y 3 del presente formulario y las casillas de "Descripción", "Porcentaje" de la Administración, Imprevisto, Utilidad y total A.I.U. resaltadas en color amarillo. Tratándose de otras modalidades de precio, la Entidad puede o no configurar los mismos aspectos.
C12: Nº | D12: ÍTEM DE PAGO | E12: ESPECIFICACIONES | G12: DESCRIPCIÓN | H12: UND. | I12: CANTIDAD | J12: VALOR UNITARIO | K12: VALOR TOTAL
E13: GENERAL | F13: PARTICULAR
C14: I. SEÑALIZACIÓN Y SEGURIDAD | K14: =SUM(K15:K19) -> 99274525
C15: 1 | D15: 710.1.1 | E15: 710-22 | G15: SEÑAL VERTICAL DE TRANSITO TIPO SR, SP Y/O SI, TABLERO EN LÁMINA CON LAMINA RETRORREFLECTIVA TIPO IX (75X75 cm) | H15: u | I15: 39 | J15: =+ROUND('710.1.1'!N110,0) -> 728683 | K15: =+I15*J15 -> 28418637
C16: 2 | D16: 710.1.3 | E16: 710-22 | G16: SEÑAL VERTICAL DE TRANSITO TIPO SI-04 (POSTES DE REFERENCIA), REFLECTIVO TIPO IX (1,25m X 0,45m) | H16: u | I16: 15 | J16: =+ROUND('710.1.3'!N110,0) -> 694148 | K16: =+I16*J16 -> 10412220
C17: 3 | D17: 700.1 | E17: 700-22 | G17: LÍNEA DE DEMARCACIÓN CON PINTURA EN FRÍO | H17: m | I17: =4500*3+182 -> 13682 | J17: =+ROUND('700.1'!N110,0) -> 3000 | K17: =+I17*J17 -> 41046000
C18: 4 | D18: 700.3 | E18: 700-22 | G18: MARCA VIAL CON PINTURA EN FRÍO | H18: m2 | I18: 67 | J18: =ROUND('700.3'!N110,0) -> 47628 | K18: =+I18*J18 -> 3191076
C19: 5 | D19: 701.1.1 | E19: 701-22 | G19: TACHA RETRORREFLECTIVA - ADHESIVO BITUMINOSO Y/O TERMOPLÁSTICO | H19: u | I19: =+ROUND(I17/8,0)+1 -> 1711 | J19: =+ROUND('701.1.1'!N110,0) -> 9472 | K19: =+I19*J19 -> 16206592
C20: SUBTOTAL OBRAS | K20: =+K14 -> 99274525
G22: VALOR TOTAL BÁSICO DE OBRAS | K22: =+K20 -> 99274525
G23: VALOR IVA (OBRA) (19% SOBRE UTILIDAD OBRA) | K23: =ROUND((+K22*0.05*0.19)/(1+0.3),0) -> 725468
G24: SUBTOTAL OBRAS (INCLUYE IVA) | K24: =+K22+K23 -> 99999993
G25: VALOR TOTAL | K25: =+SUM(K24:K24) -> 99999993
C29: NOTA 1: Se debe tener en cuenta que el PRECIO UNITARIO incluye el valor de AIU. | H29: DESCRIPCION | K29: PORCENTAJE
C30: NOTA 2: Cuando la fracción decimal del peso sea igual o superior a 5 se aproximará por exceso al número entero siguiente del peso y cuando la fracción decimal del peso sea inferior a 5 se aproximará por defecto al número entero del peso. | H30: ADMINISTRACIÓN | J30: A= | K30: 0.2
C31: NOTA 3: El AIU y su discriminación deben estar en porcentaje (%). | H31: IMPREVISTO | J31: I= | K31: 0.05
H32: UTILIDAD | J32: U= | K32: 0.05
H33: TOTAL A.I.U | J33: A.I.U.= | K33: 0.3

Sheet PROPUESTA ECONOMICA (proponente
C3: Formulario 1 - Propuesta económica - Documento tipo de mínima cuantía de obra pública de infraestructura de transporte - versión 2
C4: Código | D4: CCE-EICP-FM-32 | E4: Versión | F4: 2
C5: FORMULARIO 1
C6: OBJETO: OBRAS DE SEÑALIZACION VIAL EN VIAS CODIGO 7007 AGUACLARA - OCAÑA Y 7008 OCAÑA - SADINATA A CARGO DEL INSTITUTO NACIONAL DE VÍAS, DIRECCION TERRITORIAL OCAÑA
C7: PROPUESTA ECONOMICA
C8: [La Entidad puede utilizar este formulario de detalle del presupuesto oficial para determinar las condiciones bajo las cuales los Proponentes analizarán y presentarán su propuesta económica de forma detallada, sin perjuicio que la Entidad pueda modificarlo o establecer la presentación de la oferta económica con un formulario distinto al indicado.] [El presente Formulario aplica para los Procesos de Contratación que tengan como forma de pago precios unitarios. Tratándose de otras modalidades de pago, la Entidad debe ajustarlo cuando corresponde a: precio global, llave en mano, administración delegada, reembolso de gastos o cualquier otra forma de pago.]
C10: Adicionalmente, cuando el proceso de contratación es estructurado por precios unitarios, la Entidad debe aplicar las notas 1, 2 y 3 del presente formulario y las casillas de "Descripción", "Porcentaje" de la Administración, Imprevisto, Utilidad y total A.I.U. resaltadas en color amarillo. Tratándose de otras modalidades de precio, la Entidad puede o no configurar los mismos aspectos.
C12: Nº | D12: ÍTEM DE PAGO | E12: ESPECIFICACIONES | G12: DESCRIPCIÓN | H12: UND. | I12: CANTIDAD | J12: VALOR UNITARIO | K12: VALOR TOTAL
E13: GENERAL | F13: PARTICULAR
C14: I. SEÑALIZACIÓN Y SEGURIDAD
C15: 1 | D15: 710.1.1 | E15: 710-22 | G15: SEÑAL VERTICAL DE TRANSITO TIPO SR, SP Y/O SI, TABLERO EN LÁMINA CON LAMINA RETRORREFLECTIVA TIPO IX (75X75 cm) | H15: u
C16: 2 | D16: 710.1.3 | E16: 710-22 | G16: SEÑAL VERTICAL DE TRANSITO TIPO SI-04 (POSTES DE REFERENCIA), REFLECTIVO TIPO IX (1,25m X 0,45m) | H16: u
C17: 3 | D17: 700.1 | E17: 700-22 | G17: LÍNEA DE DEMARCACIÓN CON PINTURA EN FRÍO | H17: m
C18: 4 | D18: 700.3 | E18: 700-22 | G18: MARCA VIAL CON PINTURA EN FRÍO | H18: m2
C19: 5 | D19: 701.1.1 | E19: 701-22 | G19: TACHA RETRORREFLECTIVA - ADHESIVO BITUMINOSO Y/O TERMOPLÁSTICO | H19: u
C20: SUBTOTAL OBRAS
G22: VALOR TOTAL BÁSICO DE OBRAS
G23: VALOR IVA (OBRA) (19% SOBRE UTILIDAD OBRA)
G24: SUBTOTAL OBRAS (INCLUYE IVA)
G25: VALOR TOTAL
C29: NOTA 1: Se debe tener en cuenta que el PRECIO UNITARIO incluye el valor de AIU. | H29: DESCRIPCION | K29: PORCENTAJE
C30: NOTA 2: Cuando la fracción decimal del peso sea igual o superior a 5 se aproximará por exceso al número entero siguiente del peso y cuando la fracción decimal del peso sea inferior a 5 se aproximará por defecto al número entero del peso. | H30: ADMINISTRACIÓN | J30: A=
C31: NOTA 3: El AIU y su discriminación deben estar en porcentaje (%). | H31: IMPREVISTO | J31: I=
H32: UTILIDAD | J32: U=
H33: TOTAL A.I.U | J33: A.I.U.=

Sheet 700.1
K1: CÓDIGO | L1: FR-APU-1
C2: INSTITUTO NACIONAL DE VIAS
C3: ANÁLISIS DE PRECIOS UNITARIOS REGIONALIZADOS DE REFERENCIA | K3: VERSIÓN | L3: 2021
C5: ACTUALIZACIÓN PERIÓDICA | K5: PÁGINA
K8: FECHA
L9: (Día) | M9: (Mes) | N9: (Año)
B10: ÍTEM BASE DE APU DE REFERENCIA: | E10: ⊠ | F10: PUBLICACIÓN: | H10: 2022-2 DICIEMBRE 2022
B12: ÍTEM DE PROYECTO PARTICULAR:
B13: ÍTEM DE LA PROPUESTA ECONÓMICA: | E13: □ | H13: ÍTEM NO PREVISTO: | J13: □ | K13: ÍTEM APU PARTICULAR: | M13: □
B14: UNIDAD EJECUTORA: | J14: DIRECCIÓN TERRITORIAL:
B17: CONTRATO No. | D17: FECHA:
B18: OBJETO DEL CONTRATO:
B21: CARRETERA: | J21: SECTOR:
B23: CONTRATISTA:
B25: INTERVENTOR: | K25: CONTRATO No. | M25: FECHA: | N25: ______________
B27: FECHA DE CIERRE DEL PROCESO DE SELECCIÓN DEL CONTRATO: | I27: / | J27: /
F28: (Día) | H28: (Día) | I28: (Mes) | J28: (Año)
B30: DATOS ESPECÍFICOS
B32: ÍTEM | C32: DESCRIPCIÓN | J32: GRUPO DE AJUSTE | L32: UNIDAD | N32: CANTIDAD
B33: 700.1 | C33: LÍNEA DE DEMARCACIÓN CON PINTURA EN FRÍO | L33: m
B35: I. EQUIPO
B37: CÓDIGO | C37: DESCRIPCIÓN | J37: TIPO | K37: TARIFA/HORA | L37: RENDIMIENTO | N37: Vr. UNITARIO
B38: C0010120 | C38: Camioneta de estacas 4x4 | K38: 58532.156 | L38: =1/1692.25 -> 0.00059092924 | N38: =K38*L38 -> 34.588362
B39: C0010920 | C39: Vehículo delineador para aplicación de pintura con mínimo 2 boquillas (NTC 4744-2) | K39: 224557 | L39: =1/1692.25 -> 0.00059092924 | N39: =K39*L39 -> 132.6973
N40: =K40*L40 -> 0
N41: =K41*L41 -> 0
N42: =K42*L42 -> 0
N43: =K43*L43 -> 0
N44: =K44*L44 -> 0
N45: =K45*L45 -> 0
N46: =K46*L46 -> 0
N47: =K47*L47 -> 0
N48: =K48*L48 -> 0
N49: =K49*L49 -> 0
N50: =K50*L50 -> 0
N51: =K51*L51 -> 0
C52: HERRAMIENTA MENOR (%) | L52: 0.05 | N52: =L52*N98 -> 1.0704437
B53: SUBTOTAL $ | N53: =SUM(N38:N52) -> 168.3561
B55: II. MATERIALES
B57: CÓDIGO | C57: DESCRIPCIÓN | J57: UNIDAD | K57: CANTIDAD | L57: PRECIO UNIT. | N57: Vr. UNITARIO
...

Sheet 700.3
K1: CÓDIGO | L1: FR-APU-1
C2: INSTITUTO NACIONAL DE VIAS
C3: ANÁLISIS DE PRECIOS UNITARIOS REGIONALIZADOS DE REFERENCIA | K3: VERSIÓN | L3: 2021
C5: ACTUALIZACIÓN PERIÓDICA | K5: PÁGINA
K8: FECHA
L9: (Día) | M9: (Mes) | N9: (Año)
B10: ÍTEM BASE DE APU DE REFERENCIA: | E10: ⊠ | F10: PUBLICACIÓN: | H10: 2022-2 DICIEMBRE 2022
B12: ÍTEM DE PROYECTO PARTICULAR:
B13: ÍTEM DE LA PROPUESTA ECONÓMICA: | E13: □ | H13: ÍTEM NO PREVISTO: | J13: □ | K13: ÍTEM APU PARTICULAR: | M13: □
B14: UNIDAD EJECUTORA: | J14: DIRECCIÓN TERRITORIAL:
B17: CONTRATO No. | D17: FECHA:
B18: OBJETO DEL CONTRATO:
B21: CARRETERA: | J21: SECTOR:
B23: CONTRATISTA:
B25: INTERVENTOR: | K25: CONTRATO No. | M25: FECHA: | N25: ______________
B27: FECHA DE CIERRE DEL PROCESO DE SELECCIÓN DEL CONTRATO: | I27: / | J27: /
F28: (Día) | H28: (Día) | I28: (Mes) | J28: (Año)
B30: DATOS ESPECÍFICOS
B32: ÍTEM | C32: DESCRIPCIÓN | J32: GRUPO DE AJUSTE | L32: UNIDAD | N32: CANTIDAD
B33: 700.3 | C33: MARCA VIAL CON PINTURA EN FRÍO | L33: m2
B35: I. EQUIPO
B37: CÓDIGO | C37: DESCRIPCIÓN | J37: TIPO | K37: TARIFA/HORA | L37: RENDIMIENTO | N37: Vr. UNITARIO
B38: C0010350 | C38: Equipo de pintura (Compresor). Presión máxima de trabajo 7 HP | K38: 24509.711 | L38: =1/10 -> 0.1 | N38: =K38*L38 -> 2450.9711
B39: C0010120 | C39: Camioneta de estacas 4x4 | K39: 58532.156 | L39: =1/10 -> 0.1 | N39: =K39*L39 -> 5853.2156
N40: =K40*L40 -> 0
N41: =K41*L41 -> 0
N42: =K42*L42 -> 0
N43: =K43*L43 -> 0
N44: =K44*L44 -> 0
N45: =K45*L45 -> 0
N46: =K46*L46 -> 0
N47: =K47*L47 -> 0
N48: =K48*L48 -> 0
N49: =K49*L49 -> 0
N50: =K50*L50 -> 0
N51: =K51*L51 -> 0
C52: HERRAMIENTA MENOR (%) | L52: 0.05 | N52: =L52*N98 -> 181.14583
B53: SUBTOTAL $ | N53: =SUM(N38:N52) -> 8485.3325
B55: II. MATERIALES
B57: CÓDIGO | C57: DESCRIPCIÓN | J57: UNIDAD | K57: CANTIDAD | L57: PRECIO UNIT. | N57: Vr. UNITARIO
...

Sheet 701.1.1
K1: CÓDIGO | L1: FR-APU-1
C2: INSTITUTO NACIONAL DE VIAS
C3: ANÁLISIS DE PRECIOS UNITARIOS REGIONALIZADOS DE REFERENCIA | K3: VERSIÓN | L3: 2021
C5: ACTUALIZACIÓN PERIÓDICA | K5: PÁGINA
K8: FECHA
L9: (Día) | M9: (Mes) | N9: (Año)
B10: ÍTEM BASE DE APU DE REFERENCIA: | E10: ⊠ | F10: PUBLICACIÓN: | H10: 2022-2 DICIEMBRE 2022
B12: ÍTEM DE PROYECTO PARTICULAR:
B13: ÍTEM DE LA PROPUESTA ECONÓMICA: | E13: □ | H13: ÍTEM NO PREVISTO: | J13: □ | K13: ÍTEM APU PARTICULAR: | M13: □
B14: UNIDAD EJECUTORA: | J14: DIRECCIÓN TERRITORIAL:
B17: CONTRATO No. | D17: FECHA:
B18: OBJETO DEL CONTRATO:
B21: CARRETERA: | J21: SECTOR:
B23: CONTRATISTA:
B25: INTERVENTOR: | K25: CONTRATO No. | M25: FECHA: | N25: ______________
B27: FECHA DE CIERRE DEL PROCESO DE SELECCIÓN DEL CONTRATO: | I27: / | J27: /
F28: (Día) | H28: (Día) | I28: (Mes) | J28: (Año)
B30: DATOS ESPECÍFICOS
B32: ÍTEM | C32: DESCRIPCIÓN | J32: GRUPO DE AJUSTE | L32: UNIDAD | N32: CANTIDAD
B33: 701.1.1 | C33: TACHA RETRORREFLECTIVA - ADHESIVO BITUMINOSO Y/O TERMOPLÁSTICO | L33: u
B35: I. EQUIPO
B37: CÓDIGO | C37: DESCRIPCIÓN | J37: TIPO | K37: TARIFA/HORA | L37: RENDIMIENTO | N37: Vr. UNITARIO
B38: C0010120 | C38: Camioneta de estacas 4x4 | K38: =58532.1556982001-2 -> 58530.156 | L38: =1/250 -> 0.004 | N38: =K38*L38 -> 234.12062
B39: C0010540 | C39: Máquina térmica para aplicación de adhesivo para tacha | K39: =62433.689685701-105 -> 62328.69 | L39: =1/250 -> 0.004 | N39: =K39*L39 -> 249.31476
N40: =K40*L40 -> 0
N41: =K41*L41 -> 0
N42: =K42*L42 -> 0
N43: =K43*L43 -> 0
N44: =K44*L44 -> 0
N45: =K45*L45 -> 0
N46: =K46*L46 -> 0
N47: =K47*L47 -> 0
N48: =K48*L48 -> 0
N49: =K49*L49 -> 0
N50: =K50*L50 -> 0
N51: =K51*L51 -> 0
C52: HERRAMIENTA MENOR (%) | L52: 0.01 | N52: =L52*N98 -> 1.1408333
B53: SUBTOTAL $ | N53: =SUM(N38:N52) -> 484.57621
B55: II. MATERIALES
B57: CÓDIGO | C57: DESCRIPCIÓN | J57: UNIDAD | K57: CANTIDAD | L57: PRECIO UNIT. | N57: Vr. UNITARIO
...

Sheet 710.1.1
K1: CÓDIGO | L1: FR-APU-1
C2: INSTITUTO NACIONAL DE VIAS
C3: ANÁLISIS DE PRECIOS UNITARIOS REGIONALIZADOS DE REFERENCIA | K3: VERSIÓN | L3: 2021
C5: ACTUALIZACIÓN PERIÓDICA | K5: PÁGINA
K8: FECHA
L9: (Día) | M9: (Mes) | N9: (Año)
B10: ÍTEM BASE DE APU DE REFERENCIA: | E10: ⊠ | F10: PUBLICACIÓN: | H10: 2022-2 DICIEMBRE 2022
B12: ÍTEM DE PROYECTO PARTICULAR:
B13: ÍTEM DE LA PROPUESTA ECONÓMICA: | E13: □ | H13: ÍTEM NO PREVISTO: | J13: □ | K13: ÍTEM APU PARTICULAR: | M13: □
B14: UNIDAD EJECUTORA: | J14: DIRECCIÓN TERRITORIAL:
B17: CONTRATO No. | D17: FECHA:
B18: OBJETO DEL CONTRATO:
B21: CARRETERA: | J21: SECTOR:
B23: CONTRATISTA:
B25: INTERVENTOR: | K25: CONTRATO No. | M25: FECHA: | N25: ______________
B27: FECHA DE CIERRE DEL PROCESO DE SELECCIÓN DEL CONTRATO: | I27: / | J27: /
F28: (Día) | H28: (Día) | I28: (Mes) | J28: (Año)
B30: DATOS ESPECÍFICOS
B32: ÍTEM | C32: DESCRIPCIÓN | J32: GRUPO DE AJUSTE | L32: UNIDAD | N32: CANTIDAD
B33: 710.1.1 | C33: SEÑAL VERTICAL DE TRANSITO TIPO SR, SP Y/O SI, TABLERO EN LÁMINA CON LAMINA RETRORREFLECTIVA TIPO IX (75X75 cm) | L33: u
B35: I. EQUIPO
B37: CÓDIGO | C37: DESCRIPCIÓN | J37: TIPO | K37: TARIFA/HORA | L37: RENDIMIENTO | N37: Vr. UNITARIO
B38: C0010120 | C38: Camioneta de estacas 4x4 | K38: 58425.156 | L38: =1/4 -> 0.25 | N38: =K38*L38 -> 14606.289
N39: =K39*L39 -> 0
N40: =K40*L40 -> 0
N41: =K41*L41 -> 0
N42: =K42*L42 -> 0
N43: =K43*L43 -> 0
N44: =K44*L44 -> 0
N45: =K45*L45 -> 0
N46: =K46*L46 -> 0
N47: =K47*L47 -> 0
N48: =K48*L48 -> 0
N49: =K49*L49 -> 0
N50: =K50*L50 -> 0
N51: =K51*L51 -> 0
C52: HERRAMIENTA MENOR (%) | L52: 0.05 | N52: =L52*N98 -> 452.86458
B53: SUBTOTAL $ | N53: =SUM(N38:N52) -> 15059.154
B55: II. MATERIALES
B57: CÓDIGO | C57: DESCRIPCIÓN | J57: UNIDAD | K57: CANTIDAD | L57: PRECIO UNIT. | N57: Vr. UNITARIO
...

Sheet 710.1.3
K1: CÓDIGO | L1: FR-APU-1
C2: INSTITUTO NACIONAL DE VIAS
C3: ANÁLISIS DE PRECIOS UNITARIOS REGIONALIZADOS DE REFERENCIA | K3: VERSIÓN | L3: 2021
C5: ACTUALIZACIÓN PERIÓDICA | K5: PÁGINA
K8: FECHA
L9: (Día) | M9: (Mes) | N9: (Año)
B10: ÍTEM BASE DE APU DE REFERENCIA: | E10: ⊠ | F10: PUBLICACIÓN: | H10: 2022-2 DICIEMBRE 2022
B12: ÍTEM DE PROYECTO PARTICULAR:
B13: ÍTEM DE LA PROPUESTA ECONÓMICA: | E13: □ | H13: ÍTEM NO PREVISTO: | J13: □ | K13: ÍTEM APU PARTICULAR: | M13: □
B14: UNIDAD EJECUTORA: | J14: DIRECCIÓN TERRITORIAL:
B17: CONTRATO No. | D17: FECHA:
B18: OBJETO DEL CONTRATO:
B21: CARRETERA: | J21: SECTOR:
B23: CONTRATISTA:
B25: INTERVENTOR: | K25: CONTRATO No. | M25: FECHA: | N25: ______________
B27: FECHA DE CIERRE DEL PROCESO DE SELECCIÓN DEL CONTRATO: | I27: / | J27: /
F28: (Día) | H28: (Día) | I28: (Mes) | J28: (Año)
B30: DATOS ESPECÍFICOS
B32: ÍTEM | C32: DESCRIPCIÓN | J32: GRUPO DE AJUSTE | L32: UNIDAD | N32: CANTIDAD
B33: 710.1.3 | C33: SEÑAL VERTICAL DE TRANSITO TIPO SI-04 (POSTES DE REFERENCIA), REFLECTIVO TIPO IX (1,25m X 0,45m) | L33: u
B35: I. EQUIPO
B37: CÓDIGO | C37: DESCRIPCIÓN | J37: TIPO | K37: TARIFA/HORA | L37: RENDIMIENTO | N37: Vr. UNITARIO
B38: C0010120 | C38: Camioneta de estacas 4x4 | K38: =58532.1556982001-10 -> 58522.156 | L38: =1/3.75 -> 0.26666667 | N38: =K38*L38 -> 15605.908
N39: =K39*L39 -> 0
N40: =K40*L40 -> 0
N41: =K41*L41 -> 0
N42: =K42*L42 -> 0
N43: =K43*L43 -> 0
N44: =K44*L44 -> 0
N45: =K45*L45 -> 0
N46: =K46*L46 -> 0
N47: =K47*L47 -> 0
N48: =K48*L48 -> 0
N49: =K49*L49 -> 0
N50: =K50*L50 -> 0
N51: =K51*L51 -> 0
C52: HERRAMIENTA MENOR (%) | L52: 0.01 | N52: =L52*N98 -> 96.611111
B53: SUBTOTAL $ | N53: =SUM(N38:N52) -> 15702.519
B55: II. MATERIALES
B57: CÓDIGO | C57: DESCRIPCIÓN | J57: UNIDAD | K57: CANTIDAD | L57: PRECIO UNIT. | N57: Vr. UNITARIO
...
