Workbook

Sheet ADECUACION PPTO
C2: SECRETARIA DE EDUCACIÓN MUNICIPAL
C4: MEJORAMIENTO INSTITUCION EDUCATIVA CELMIRA BUENO SEDE MARIANO OSPINA PEREZ - ADECUACION COCINA
C6: CUADRO DE CANTIDADES Y PRECIOS
C8: ITEMS | D8: ACTIVIDAD | E8: UNIDAD | F8: CANTIDAD/ TOTAL | G8: VALOR UNIT | H8: V/R TOTAL
C10: 1 | D10: PRELIMINARES
A11: 100119 | B11: 1002 | C11: =+C10+0.01 -> 1.01 | D11: CERRAMIENTO TELA FIB.TEJIDA H=2.10M-BORD | E11: ML | F11: 20 | G11: 11779 | H11: =+F11*G11 -> 235580 | K11: =+VLOOKUP(A11,#REF!,4,FALSE()) -> #REF! | L11: =+ROUND(K11,0) -> #REF! | M11: CERRAMIENTO TELA FIB.TEJIDA H=2.10M-BORD
A12: 330301 | B12: 1003 | C12: =+C11+0.01 -> 1.02 | D12: CINTA SEGURIDAD PREVENTIVA A=8CM-250MTS. | E12: UND | F12: 3 | G12: 142082 | H12: =+F12*G12 -> 426246 | K12: =+VLOOKUP(A12,#REF!,4,FALSE()) -> #REF! | L12: =+ROUND(K12,0) -> #REF! | M12: CINTA SEGURIDAD PREVENTIVA A=8CM-250MTS.
C13: =+C12+0.01 -> 1.03 | D13: EXCAVACION TIERRA A MANO | E13: M3 | F13: 59 | G13: 16152 | H13: =+F13*G13 -> 952968
C14: =+C13+0.01 -> 1.04 | D14: RELLENO ROCAMUERTA COMPACT-RANA+ACARREO (INCLUYE TRANSPORTE) | E14: M3 | F14: 27 | G14: 77692 | H14: =+F14*G14 -> 2097684
B15: 1061 | C15: =+C14+0.01 -> 1.05 | D15: RETIRO ESCOMBROS MANUAL-VOLQUETA. INCLUYE DISPOSICiÓN EN BOTADERO OFICIAL (DECRETO 0291 de 2005) | E15: M3 | F15: 175 | G15: 37972 | H15: =+F15*G15 -> 6645100 | K15: 37972 | L15: =+ROUND(K15,0) -> 37972 | M15: RETIRO ESCOMBROS MANUAL-VOLQUETA. INCLUYE DISPOSICiÓN EN BOTADERO OFICIAL (DECRETO 0291 de 2005)
C16: =+C15+0.01 -> 1.06 | D16: DEMOL.MURO LAD. SOGA | E16: M2 | F16: 45 | G16: 5956 | H16: =+F16*G16 -> 268020
G18: TOTAL CAPITULO | H18: =SUM(H11:H17) -> 10625598
A20: 120303 | C20: 2 | D20: INSTALACIONES ELECTRICAS | K20: =+VLOOKUP(A20,#REF!,4,FALSE()) -> #REF! | L20: =+ROUND(K20,0) -> #REF!
C21: 2.1 | D21: ILUMINACION | H21: =+SUM(H22:H22) -> 1769060
C22: =+C21+0.01 -> 2.11 | D22: PANEL LED 30X120 40-50W CON MARCO DE INCRUSTAR, COLGAR O SOBREPONER (MARCA RECONOCIDA) | E22: UND | F22: 10 | G22: 176906 | H22: =+F22*G22 -> 1769060
C23: 2.2 | D23: TOMACORRIENTES, INTERRUPTORES Y ACCESORIOS | H23: =SUM(H24:H26) -> 2721660
A24: 170657 | B24: 8004 | C24: =+C23+0.01 -> 2.21 | D24: SAL TOMA 120 EMT (CABLE COBRE HF-ZH) | E24: UND | F24: 4 | G24: 147308 | H24: =+F24*G24 -> 589232 | K24: 176906.29 | L24: =+ROUND(K24,0) -> 176906 | M24: PANEL LED 30X120 40-50W CON MARCO DE INCRUSTAR, COLGAR O SOBREPONER (MARCA RECONOCIDA)
C25: =+C24+0.01 -> 2.22 | D25: SALIDA S1 EMT (CABLE COBRE HF-ZH) EMT | E25: UND | F25: 2 | G25: 139994 | H25: =+F25*G25 -> 279988
A26: 170724 | B26: 8011 | C26: =+C25+0.01 -> 2.23 | D26: SAL LAMP (CABLE COBRE HF-ZH) EMT | E26: UND | F26: 15 | G26: 123496 | H26: =+F26*G26 -> 1852440 | K26: =+VLOOKUP(A26,#REF!,4,FALSE()) -> #REF! | L26: =+ROUND(K26,0) -> #REF! | M26: SAL TOMA 120 EMT (CABLE COBRE HF-ZH)
A27: 170538 | B27: 8014 | C27: 2.3 | D27: TUBERIAS Y BANDEJAS ELECTRICAS | H27: =+H28 -> 279100 | K27: =+VLOOKUP(A27,#REF!,4,FALSE()) -> #REF! | L27: =+ROUND(K27,0) -> #REF! | M27: SALIDA S1 EMT (CABLE COBRE HF-ZH) EMT
A28: 170408 | B28: 8001 | C28: =+C27+0.01 -> 2.31 | D28: TUBERÍA EMT 3/4 | E28: ML | F28: 20 | G28: 13955 | H28: =+F28*G28 -> 279100 | K28: =+VLOOKUP(A28,#REF!,4,FALSE()) -> #REF! | L28: =+ROUND(K28,0) -> #REF! | M28: SAL LAMP (CABLE COBRE HF-ZH) EMT
C29: 2.4 | D29: CABLES | H29: =SUM(H30:H34) -> 4974938
A30: 173003 | B30: 8082 | C30: =+C29+0.01 -> 2.41 | D30: CABLE COBRE HF-ZH# 12 | E30: ML | F30: 35 | G30: 4880 | H30: =+F30*G30 -> 170800 | K30: =+VLOOKUP(A30,#REF!,4,FALSE()) -> #REF! | L30: =+ROUND(K30,0) -> #REF! | M30: TUBERÍA EMT 3/4
C31: =+C30+0.01 -> 2.42 | D31: ACOM.E.2F(2# 4+1# 8) 1" EMT" | E31: ML | F31: 20 | G31: 74960 | H31: =+F31*G31 -> 1499200
A32: 170134 | B32: 8086 | C32: =+C31+0.01 -> 2.43 | D32: ACOM.E.2F(2# 10+1#10) ,3/4" EMT" | E32: ML | F32: 28 | G32: 37381 | H32: =+F32*G32 -> 1046668 | K32: =+VLOOKUP(A32,#REF!,4,FALSE()) -> #REF! | L32: =+ROUND(K32,0) -> #REF! | M32: CABLE COBRE HF-ZH# 12
A33: 172606 | C33: =+C32+0.01 -> 2.44 | D33: CABLE COBRE DESNUDO #1/0 | E33: ML | F33: 35 | G33: 53842 | H33: =+F33*G33 -> 1884470 | K33: =+VLOOKUP(A33,#REF!,4,FALSE()) -> #REF! | L33: =+ROUND(K33,0) -> #REF! | M33: ACOM.E.2F(2# 4+1# 8) 1" EMT"
A34: 172609 | B34: 8102 | C34: =+C33+0.01 -> 2.45 | D34: CABLE ENCAUCHETADO HF-ZH# 3*12 AWG | E34: ML | F34: 35 | G34: 10680 | H34: =+F34*G34 -> 373800 | K34: =+VLOOKUP(A34,#REF!,4,FALSE()) -> #REF! | L34: =+ROUND(K34,0) -> #REF! | M34: ACOM.E.2F(2# 10+1#10) ,3/4" EMT"
A35: 171204 | C35: 2.5 | D35: PROTECCIONES ELECTRICAS | H35: =SUM(H36:H36) -> 134721 | K35: =+VLOOKUP(A35,#REF!,4,FALSE()) -> #REF! | L35: =+ROUND(K35,0) -> #REF! | M35: CABLE COBRE DESNUDO #1/0
B36: 8093 | C36: =+C35+0.01 -> 2.51 | D36: BREAKER 1F DESDE 15 HASTA 60 AMP | E36: UND | F36: 3 | G36: 44907 | H36: =+F36*G36 -> 134721 | K36: 10680 | L36: =+ROUND(K36,0) -> 10680 | M36: CABLE ENCAUCHETADO HF-ZH# 3*12 AWG
C37: 2.6 | D37: CAJAS Y GABINETES | H37: =SUM(H38:H41) -> 1340004 | L37: =+ROUND(K37,0) -> 0
A38: 170813 | B38: 8053 | C38: =+C37+0.01 -> 2.61 | D38: TABLERO 3F 24 CTOS NTQ | E38: UND | F38: 1 | G38: 704006 | H38: =+F38*G38 -> 704006 | K38: =+VLOOKUP(A38,#REF!,4,FALSE()) -> #REF! | L38: =+ROUND(K38,0) -> #REF! | M38: BREAKER 1F DESDE 15 HASTA 60 AMP
C39: =+C38+0.01 -> 2.62 | D39: CAJA RECTANGULAR DE ALUMINIO 5800. | E39: UND | F39: 8 | G39: 13900 | H39: =+F39*G39 -> 111200 | L39: =+ROUND(K39,0) -> 0
A40: 5938 | B40: 8019 | C40: =+C39+0.01 -> 2.63 | D40: CAJA DE PASO CONCRETO 5O X5O CM | E40: UND | F40: 2 | G40: 154411 | H40: =+F40*G40 -> 308822 | K40: =+VLOOKUP(A40,#REF!,4,FALSE()) -> #REF! | L40: =+ROUND(K40,0) -> #REF! | M40: CAJA RECTANGULAR DE ALUMINIO 5800.
A41: APU | B41: 8020 | C41: =+C40+0.01 -> 2.64 | D41: TAPA CAJA MARCO ANGULO 40X40 - 50X50 | E41: UND | F41: 2 | G41: 107988 | H41: =+F41*G41 -> 215976 | K41: 1492.29 | L41: =+ROUND(K41,0) -> 1492 | M41: TAPA CIEGA DE 2*4 METÁLICA
A42: 110201 | C42: 2.7 | D42: REGATAS Y RESANE | H42: =SUM(H43:H43) -> 79120 | K42: =+VLOOKUP(A42,#REF!,4,FALSE()) -> #REF! | L42: =+ROUND(K42,0) -> #REF! | M42: CAJA DE PASO CONCRETO 5O X5O CM
A43: 111002 | C43: =+C42+0.01 -> 2.71 | D43: RESANE REPELLO MURO 1:3 | E43: ML | F43: 10 | G43: 7912 | H43: =+F43*G43 -> 79120 | K43: =+VLOOKUP(A43,#REF!,4,FALSE()) -> #REF! | L43: =+ROUND(K43,0) -> #REF! | M43: TAPA CAJA MARCO ANGULO 40X40 - 50X50
G44: TOTAL CAPITULO | H44: =+H42+H37+H35+H29+H27+H23+H21 -> 11298603 | L44: =+ROUND(K44,0) -> 0
C46: 3 | D46: MURO
C47: =+C46+0.01 -> 3.01 | D47: MURO LAD.SOGA SUCIO | E47: M2 | F47: 15 | G47: 55203 | H47: =+F47*G47 -> 828045
C48: =+C47+0.01 -> 3.02 | D48: REPELLO MURO 1:3 | E48: M2 | F48: 45 | G48: 24250 | H48: =+F48*G48 -> 1091250
...

Sheet APUS
A1: 1 | B1: =+'ADECUACION PPTO'!D10 -> PRELIMINARES
A2: =+'ADECUACION PPTO'!C11 -> 1.01 | B2: CERRAMIENTO TELA FIB.TEJIDA H=2.10M-BORD | G2: Unidad: ML
B4: DESCRIPCION | C4: UND | D4: CANT. | E4: DESP.% | F4: PRECIO UNIT | G4: VALOR TOTAL
B6: MATERIALES
B7: GUADUA [TACO] 2.50-3M | C7: UND | D7: 0.2
B8: PUNTILLA 2 CC | C8: LBS | D8: 0.1
B9: ALAMBRE GALVANIZADO # 18 | C9: KG | D9: 0.2
B10: MALLA FIBRA TEJIDA H=2.10M | C10: M2 | D10: 1
F11: SUBTOTAL MATERIALES
B12: MANO DE OBRA
B13: M.O. ALBANILERIA 1 AYUDANTE-1 OFI | C13: HC | D13: 0.1
F14: SUBTOTAL MANO DE OBRA
B15: EQUIPO
B16: HERRAMIENTA MENOR | C16: GLB | D16: 0.15
F17: SUBTOTAL EQUIPO
B18: OTROS
F20: SUBTOTAL OTROS
E22: COSTO DIRECTO
A24: =+'ADECUACION PPTO'!C12 -> 1.02 | B24: CINTA SEGURIDAD PREVENTIVA A=8CM-250MTS. | G24: Unidad: UND
B26: DESCRIPCION | C26: UND | D26: CANT. | E26: DESP.% | F26: PRECIO UNIT | G26: VALOR TOTAL
B28: MATERIALES
B29: CINTA SEGURIDAD PREVENTIVA | C29: ROL | D29: 1
B30: HIERRO de 60000 PSI 420 MPA | C30: KLS | D30: 12
B31: MEZCLA CONCRETO 1:2.5:4« 2500 PSI-17.5MPa | C31: M3 | D31: 0.125
F32: SUBTOTAL MATERIALES
B33: MANO DE OBRA
B34: M.O. ALBANILERIA 1 AYUDANTE | C34: HC | D34: 0.3997
B35: M.O. ALBANILERIA 1 AYUDANTE-1 OFI | C35: HC | D35: 0.2
F36: SUBTOTAL MANO DE OBRA
B37: OTROS
F39: SUBTOTAL OTROS
E41: COSTO DIRECTO
A43: =+'ADECUACION PPTO'!C13 -> 1.03 | B43: EXCAVACION TIERRA A MANO | G43: Unidad: M3
B45: DESCRIPCION | C45: UND | D45: CANT. | E45: DESP.% | F45: PRECIO UNIT | G45: VALOR TOTAL
B47: MANO DE OBRA
B48: M.O. ALBANILERIA 1 AYUDANTE | C48: HC | D48: 2
F49: SUBTOTAL MANO DE OBRA
B50: EQUIPO
B51: HERRAMIENTA MENOR | C51: GLB | D51: 0.101
F52: SUBTOTAL EQUIPO
...

Sheet FORMULARIO 1A
A1: LOCALIZACION-REPLANTEO OBRA ARQUITECTON. | F1: Unidad: M2
F2: ITEM 1,01
A3: DESCRIPCION | B3: UND | C3: CANT. | D3: DESP.% | E3: PRECIO UNIT | F3: VALOR TOTAL
A5: MATERIALES
A6: LISTON 2 x2x300 OTOBO | B6: UND | C6: 0.11
A7: PUNTILLA 2 CC | B7: LBS | C7: 0.02
A8: PIOLA GRUESA 50 METROS | B8: ROL | C8: 0.06
A9: MINERAL ROJO | B9: KLS | C9: 0.005
E10: SUBTOTAL MATERIALES
A11: MANO DE OBRA
A12: M.O. ALBANILERIA 2 AYUDANTE-1 OFI | B12: HC
A13: M.O. TOPOGRAFIA 1 CADENERO-1 TOP | B13: HC
E14: SUBTOTAL MANO DE OBRA
A15: EQUIPO
A16: HERRAMIENTA MENOR | B16: GLB
E17: SUBTOTAL EQUIPO
A18: OTROS
E20: SUBTOTAL OTROS | F20: 0
D22: COSTO DIRECTO
A25: CERRAMIENTO TELA FIB.TEJIDA H=2.10M-BORD | F25: Unidad: ML
F26: ITEM 1,02
A27: DESCRIPCION | B27: UND | C27: CANT. | D27: DESP.% | E27: PRECIO UNIT | F27: VALOR TOTAL
A29: MATERIALES
A30: GUADUA [TACO] 2.50-3M | B30: UND | C30: 0.2
A31: PUNTILLA 2 CC | B31: LBS | C31: 0.1
A32: VARETA 2"x1"x3M | B32: UND | C32: 0.6
A33: MALLA FIBRA TEJIDA H=2.10M | B33: M2 | C33: 1
E34: SUBTOTAL MATERIALES | F34: =SUM(F30:F33) -> 0
A35: MANO DE OBRA
A36: M.O. ALBANILERIA 1 AYUDANTE-1 OFI | B36: HC | F36: =+(1+(D36/100))*C36*E36 -> 0
E37: SUBTOTAL MANO DE OBRA | F37: =SUM(F36) -> 0
A38: EQUIPO
A39: HERRAMIENTA MENOR | B39: GLB | E39: =0.05*F37 -> 0 | F39: =C39*E39 -> 0
E40: SUBTOTAL EQUIPO | F40: =SUM(F39) -> 0
A41: OTROS
E43: SUBTOTAL OTROS
D45: COSTO DIRECTO | E45: =F34+F37+F40+F43 -> 0 | F45: =ROUND(E45,0) -> 0
A48: DESM.CUBIERTA FIBRO CEMENTO | F48: Unidad: M2
F49: ITEM 1,03
A50: DESCRIPCION | B50: UND | C50: CANT. | D50: DESP.% | E50: PRECIO UNIT | F50: VALOR TOTAL
...

Sheet CON PRECIOS
A1: LOCALIZACION-REPLANTEO OBRA ARQUITECTON. | F1: Unidad: M2
F2: 1.01
A3: DESCRIPCION | B3: UND | C3: CANT. | D3: DESP.% | E3: PRECIO UNIT | F3: VALOR TOTAL
A5: MATERIALES
A6: LISTON 2 x2x300 OTOBO | B6: UND | C6: 0.11 | E6: 6232 | F6: 685.52
A7: PUNTILLA 2 CC | B7: LBS | C7: 0.02 | E7: 4119 | F7: 82.38
A8: PIOLA GRUESA 50 METROS | B8: ROL | C8: 0.06 | E8: 2852 | F8: 171.12
A9: MINERAL ROJO | B9: KLS | C9: 0.005 | E9: 12886 | F9: 64.43
E10: SUBTOTAL MATERIALES | F10: 1003.45
A11: MANO DE OBRA
A12: M.O. ALBANILERIA 2 AYUDANTE-1 OFI | B12: HC | C12: 0.06 | E12: 33806 | F12: 2028.36
A13: M.O. TOPOGRAFIA 1 CADENERO-1 TOP | B13: HC | C13: 0.015 | E13: 69895 | F13: 1048.42
E14: SUBTOTAL MANO DE OBRA | F14: 3076.78
A15: EQUIPO
A16: HERRAMIENTA MENOR | B16: GLB | C16: 0.041 | E16: 1690 | F16: 69.29
E17: SUBTOTAL EQUIPO | F17: 69.29
A18: OTROS
E20: SUBTOTAL OTROS | F20: 0
D22: COSTO DIRECTO | E22: 4149.52 | F22: 4150 | G22: 4560
A25: CERRAMIENTO TELA FIB.TEJIDA H=2.10M-BORD | F25: Unidad: ML
F26: 1.02
A27: DESCRIPCION | B27: UND | C27: CANT. | D27: DESP.% | E27: PRECIO UNIT | F27: VALOR TOTAL
A29: MATERIALES
A30: GUADUA [TACO] 2.50-3M | B30: UND | C30: 0.2 | E30: 11090 | F30: =+(1+(D30/100))*C30*E30 -> 2218
A31: PUNTILLA 2 CC | B31: LBS | C31: 0.1 | E31: 4119 | F31: =+(1+(D31/100))*C31*E31 -> 411.9
A32: VARETA 2"x1"x3M | B32: UND | C32: 0.6 | E32: 4500 | F32: =+(1+(D32/100))*C32*E32 -> 2700
A33: MALLA FIBRA TEJIDA H=2.10M | B33: M2 | C33: 1 | E33: 3327 | F33: =+(1+(D33/100))*C33*E33 -> 3327
E34: SUBTOTAL MATERIALES | F34: =SUM(F30:F33) -> 8656.9
A35: MANO DE OBRA
A36: M.O. ALBANILERIA 1 AYUDANTE-1 OFI | B36: HC | C36: 0.1 | E36: 28067 | F36: =+(1+(D36/100))*C36*E36 -> 2806.7
E37: SUBTOTAL MANO DE OBRA | F37: =SUM(F36) -> 2806.7
A38: EQUIPO
A39: HERRAMIENTA MENOR | B39: GLB | C39: 1 | E39: =0.05*F37 -> 140.335 | F39: =C39*E39 -> 140.335
E40: SUBTOTAL EQUIPO | F40: =SUM(F39) -> 140.335
A41: OTROS
E43: SUBTOTAL OTROS
D45: COSTO DIRECTO | E45: =F34+F37+F40+F43 -> 11603.935 | F45: =ROUND(E45,0) -> 11604 | G45: 11779
A48: DESM.CUBIERTA FIBRO CEMENTO | F48: Unidad: M2
F49: 1.03
A50: DESCRIPCION | B50: UND | C50: CANT. | D50: DESP.% | E50: PRECIO UNIT | F50: VALOR TOTAL
...
