Workbook
Name akjhgbksdbj: #REF!
Name CANTERA: [1]MCantera!$A$4:$D$19
Name CENTROGESTOR: #REF!
Name CENTROGESTOR: #REF!
Name CENTROGESTORDEPENDENCIA: #REF!
Name CENTROGESTORDEPENDENCIA: #REF!
Name DEPENDENCIA: #REF!
Name DEPENDENCIA: #REF!
Name EQUIPO: [2]Equipos!$A$6:$H$33
Name FONDO: #REF!
Name FONDO: #REF!
Name FONDOS: [3]MYLIST!$C$2:$C$126
Name FUT: #REF!
Name FUT: #REF!
Name INSUMO: [2]Materiales!$A$6:$D$249
Name MDEOBRA: [2]ManoDeObra!$A$4:$E$12
Name METAAFPDCC: #REF!
Name METAAFPDCC: #REF!
Name METAPDCC: #REF!
Name METAPDCC: #REF!
Name METASAFPDCC: #REF!
Name METASAFPDCC: #REF!
Name METASAFPDM: #REF!
Name METASAFPDM: #REF!
Name METASPDCC: #REF!
Name METASPDCC: #REF!
Name METASPDM: '[4]LISTA MPD'!$A$2:$A$616
Name ORGANISMO: #REF!
Name ORGANISMO: #REF!
Name POSPRE: #REF!
Name POSPRE: #REF!
Name POSTPRE: #REF!
Name POSTPRE: #REF!
Name VEHICULO: [2]Transporte!$A$5:$D$10

Sheet 1.1.11 LEONERA
A1: ALCALDIA DE SANTIAGO DE CALI
A2: UNIDAD ADMINISTRATIVA ESPECIAL DE SERVICIOS PUBLICOS
A3: UAESP
A4: 1.1.11 | B4: Realizar Obras de Mejoramiento Acueducto La Leonera Cabecera
A5: ITEM | B5: DESCRIPCION | C5: UND | D5: CANT. | E5: VR. UNITARIO | F5: VR. PARCIAL | G5: FACTOR DISTANCIA 6% | H5: AU 35% | I5: VALOR TOTAL
B6: RED DE CONDUCCIÓN
A7: 1.1.11.1 | B7: PRELIMINARES
A8: 1.1.11.1.1 | B8: LOCALIZACION Y REPLANTEO ACUEDUCTOS Y ALCANTARILLADOS | C8: ML | D8: 1550 | E8: =+APU!I51 -> 8178 | F8: =+ROUND(D8*E8,0) -> 12675900 | G8: =ROUND(F8*0.06,0) -> 760554 | H8: =ROUND(SUM(F8:G8)*0.35,) -> 4702759 | I8: =ROUND(SUM(F8:H8),0) -> 18139213
E9: SUBTOTAL PRELIMINARES | F9: =+SUM(F8:F8) -> 12675900 | G9: =+SUM(G8:G8) -> 760554 | H9: =+SUM(H8:H8) -> 4702759 | I9: =+SUM(I8:I8) -> 18139213
A10: 1.1.11.2 | B10: MOVIMIENTO DE TIERRA
A11: 1.1.11.2.1 | B11: EXCAVACION EN CONGLOMERADO EN SECO A MANO ENTRE 0 Y 2 MTS | C11: M3 | D11: 1406 | E11: =+APU!I250 -> 38030.025 | F11: =+ROUND(D11*E11,0) -> 53470215 | G11: =ROUND(F11*0.06,0) -> 3208213 | H11: =ROUND(SUM(F11:G11)*0.35,) -> 19837450 | I11: =ROUND(SUM(F11:H11),0) -> 76515878
A12: 1.1.11.2.2 | B12: ACARREO DE MATERIAL A MANO | C12: M3 | D12: 1406 | E12: =+APU!I397 -> 4057 | F12: =+ROUND(D12*E12,0) -> 5704142 | G12: =ROUND(F12*0.06,0) -> 342249 | H12: =ROUND(SUM(F12:G12)*0.35,) -> 2116237 | I12: =ROUND(SUM(F12:H12),0) -> 8162628
A13: 1.1.11.2.3 | B13: RELLENO Y EXPLANACION CON MATERIAL DE LA EXCAVACION CON COMPATADOR | C13: M3 | D13: 681 | E13: =+APU!I446 -> 34051 | F13: =+ROUND(D13*E13,0) -> 23188731 | G13: =ROUND(F13*0.06,0) -> 1391324 | H13: =ROUND(SUM(F13:G13)*0.35,) -> 8603019 | I13: =ROUND(SUM(F13:H13),0) -> 33183074
A14: 1.1.11.2.4 | B14: RETIRO DEL SITIO DE LA OBRA DEL MAT DE LA EXCAVACION A MANO EN VOLQUETA INCL ACARREO Y BOTADERO 10 KM. | C14: M3 | D14: 317 | E14: =+APU!I495 -> 65555 | F14: =+ROUND(D14*E14,0) -> 20780935 | G14: =ROUND(F14*0.06,0) -> 1246856 | H14: =ROUND(SUM(F14:G14)*0.35,) -> 7709727 | I14: =ROUND(SUM(F14:H14),0) -> 29737518
A15: 1.1.11.2.5 | B15: RELLENO CON MATERIAL IMPORTADO (ROCA MUERTA) SUMINISTRADO POR EL CONTRATISTA | C15: M3 | D15: 408 | E15: =+APU!I544 -> 94636 | F15: =+ROUND(D15*E15,0) -> 38611488 | G15: =ROUND(F15*0.06,0) -> 2316689 | H15: =ROUND(SUM(F15:G15)*0.35,) -> 14324862 | I15: =ROUND(SUM(F15:H15),0) -> 55253039
A16: 1.1.11.2.6 | B16: SUMINISTRO E INSTALACION DE ARENA | C16: M3 | D16: 105 | E16: =+APU!I593 -> 170072 | F16: =+ROUND(D16*E16,0) -> 17857560 | G16: =ROUND(F16*0.06,0) -> 1071454 | H16: =ROUND(SUM(F16:G16)*0.35,) -> 6625155 | I16: =ROUND(SUM(F16:H16),0) -> 25554169
E17: SUBTOTAL MOVIMIENTO DE TIERRA | F17: =+SUM(F11:F16) -> 159613071 | G17: =+SUM(G11:G16) -> 9576785 | H17: =+SUM(H11:H16) -> 59216450 | I17: =+SUM(I11:I16) -> 228406306
A18: 1.1.11.3 | B18: TUBERÍAS, VÁLVULAS Y ACCESORIOS
A19: 1.1.11.3.1 | B19: SUMINISTRO, TRANSPORTE Y COLOCACIÓN TUBERÍA Ø=4" RDE 13,5 | C19: ML | D19: 1550 | E19: =+APU!I1042 -> 165630 | F19: =+ROUND(D19*E19,0) -> 256726500 | G19: =ROUND(F19*0.06,0) -> 15403590 | H19: =ROUND(SUM(F19:G19)*0.35,) -> 95245532 | I19: =ROUND(SUM(F19:H19),0) -> 367375622
A20: 1.1.11.3.2 | B20: RETIRO DE TUBERÍA EXISTENTE DE 0" A 12". RETIRO A 10 KMTS | C20: ML | D20: 1550 | E20: =+APU!I1091 -> 4918 | F20: =+ROUND(D20*E20,0) -> 7622900 | G20: =ROUND(F20*0.06,0) -> 457374 | H20: =ROUND(SUM(F20:G20)*0.35,) -> 2828096 | I20: =ROUND(SUM(F20:H20),0) -> 10908370
A21: 1.1.11.3.3 | B21: PRUEBA HIDROESTATICA TUBERIA PRESION DIAMETRO ENTRE 1" y 6" | C21: ML | D21: 1550 | E21: =+APU!I1140 -> 3842 | F21: =+ROUND(D21*E21,0) -> 5955100 | G21: =ROUND(F21*0.06,0) -> 357306 | H21: =ROUND(SUM(F21:G21)*0.35,) -> 2209342 | I21: =ROUND(SUM(F21:H21),0) -> 8521748
E22: SUBTOTAL TUBERÍAS, VÁLVULAS Y ACCESORIOS | F22: =+SUM(F19:F21) -> 270304500 | G22: =+SUM(G19:G21) -> 16218270 | H22: =+SUM(H19:H21) -> 100282970 | I22: =+SUM(I19:I21) -> 386805740
A23: 1.1.11.4 | B23: OBRAS COMPLEMENTARIAS
B24: RED DOMICILIAR
A25: 1.1.11.4.1 | B25: SUMINISTRO TRANS INST MEDIDOR VOLUMETRICO D=1/2 MARCA KEN O SIMILAR REGISTRO DE CORTE Y ACCESORIOS | C25: UND | D25: 350 | E25: =+APU!I1342 -> 331373 | F25: =+ROUND(D25*E25,0) -> 115980550 | G25: =ROUND(F25*0.06,0) -> 6958833 | H25: =ROUND(SUM(F25:G25)*0.35,) -> 43028784 | I25: =ROUND(SUM(F25:H25),0) -> 165968167
A26: 1.1.11.4.2 | B26: SUMINISTRO TRANS INST LLAVE 1/2" DE PASO | C26: UND | D26: 350 | E26: =+APU!I1391 -> 93832 | F26: =+ROUND(D26*E26,0) -> 32841200 | G26: =ROUND(F26*0.06,0) -> 1970472 | H26: =ROUND(SUM(F26:G26)*0.35,) -> 12184085 | I26: =ROUND(SUM(F26:H26),0) -> 46995757
A27: 1.1.11.4.3 | B27: SUMIINISTRO TRANS INST MURETE PARA MEDIDOR D=1/2" | C27: UND | D27: 350 | E27: =+APU!I1440 -> 130707 | F27: =+ROUND(D27*E27,0) -> 45747450 | G27: =ROUND(F27*0.06,0) -> 2744847 | H27: =ROUND(SUM(F27:G27)*0.35,) -> 16972304 | I27: =ROUND(SUM(F27:H27),0) -> 65464601
A28: 1.1.11.4.4 | B28: REPELLO LISO PARA MUROS | C28: M2 | D28: 55 | E28: =+APU!I1489 -> 32290 | F28: =+ROUND(D28*E28,0) -> 1775950 | G28: =ROUND(F28*0.06,0) -> 106557 | H28: =ROUND(SUM(F28:G28)*0.35,) -> 658877 | I28: =ROUND(SUM(F28:H28),0) -> 2541384
A29: 1.1.11.4.5 | B29: RETIRO DEL SITIO DE LA OBRA DEL MAT DE LA EXCAVACION A MANO EN VOLQUETA INCL ACARREO Y BOTADERO 10 KM. | C29: M3 | D29: 45 | E29: =+APU!I495 -> 65555 | F29: =+ROUND(D29*E29,0) -> 2949975 | G29: =ROUND(F29*0.06,0) -> 176999 | H29: =ROUND(SUM(F29:G29)*0.35,) -> 1094441 | I29: =ROUND(SUM(F29:H29),0) -> 4221415
A30: 1.1.11.4.6 | B30: DEMOLICION ANDEN EN CONCRETO E=0.1MTS (INCLUYE RETIRO DE ESCOMBROS HASTA 20 KMTS EN VOLQUETA) | C30: M2 | D30: 500 | E30: =+APU!I1537 -> 26932 | F30: =+ROUND(D30*E30,0) -> 13466000 | G30: =ROUND(F30*0.06,0) -> 807960 | H30: =ROUND(SUM(F30:G30)*0.35,) -> 4995886 | I30: =ROUND(SUM(F30:H30),0) -> 19269846
A31: 1.1.11.4.7 | B31: ANDEN EN CONCRETO 3100 PSI E=0.1MTS | C31: M2 | D31: 500 | E31: =+APU!I1586 -> 78039 | F31: =+ROUND(D31*E31,0) -> 39019500 | G31: =ROUND(F31*0.06,0) -> 2341170 | H31: =ROUND(SUM(F31:G31)*0.35,) -> 14476235 | I31: =ROUND(SUM(F31:H31),0) -> 55836905
A32: 1.1.11.4.8 | B32: SUMINISTRO Y COLOCACION COLLAR DE DERIVACION 2" A 1/2" | C32: UND | D32: 24 | E32: =+APU!I1635 -> 39605 | F32: =+ROUND(D32*E32,0) -> 950520 | G32: =ROUND(F32*0.06,0) -> 57031 | H32: =ROUND(SUM(F32:G32)*0.35,) -> 352643 | I32: =ROUND(SUM(F32:H32),0) -> 1360194
A33: 1.1.11.4.9 | B33: TUBERÍA DOMICILIAR PF+UAD, D= 1/2",INCLUYE EXCAV., RELLENO, LECHO DE ARENA SOPORTE TUBERIA Y RETIRO DE MATER. SOBRAN. A 10 KM. | C33: ML | D33: 3200 | E33: =+APU!I1684 -> 12652 | F33: =+ROUND(D33*E33,0) -> 40486400 | G33: =ROUND(F33*0.06,0) -> 2429184 | H33: =ROUND(SUM(F33:G33)*0.35,) -> 15020454 | I33: =ROUND(SUM(F33:H33),0) -> 57936038
A34: SUBTOTAL OBRAS COMPLEMENTARIAS | F34: =SUM(F25:F33) -> 293217545 | G34: =SUM(G25:G33) -> 17593053 | H34: =SUM(H25:H33) -> 108783709 | I34: =SUM(I25:I33) -> 419594307
A35: 1.1.11.5 | B35: MANEJO AMBIENTAL - SEÑALIZACIÓN
A36: 1.1.11.5.1 | B36: VALLA DE PUBLICIDAD DE LA OBRA DE 3.0X4.0 M. CON IMAGEN CORPORATIVA EN IMPRESIÓN DIGITAL DE 720 DPI (INCLUYE MONTAJE Y RETIRO) | C36: UND | D36: 1 | E36: =+APU!I1736 -> 2604089 | F36: =+ROUND(D36*E36,0) -> 2604089 | G36: =ROUND(F36*0.06,0) -> 156245 | H36: =ROUND(SUM(F36:G36)*0.35,) -> 966117 | I36: =ROUND(SUM(F36:H36),0) -> 3726451
A37: 1.1.11.5.2 | B37: SUMINISTRO Y COLOCACION CINTA BARRERA PREVENTIVA 300 ML | C37: UND | D37: 50 | E37: =+APU!I1785 -> 69647 | F37: =+ROUND(D37*E37,0) -> 3482350 | G37: =ROUND(F37*0.06,0) -> 208941 | H37: =ROUND(SUM(F37:G37)*0.35,) -> 1291952 | I37: =ROUND(SUM(F37:H37),0) -> 4983243
A38: 1.1.11.5.3 | B38: SUMINISTRO Y COLOCACIÓN SEÑALIZADOR TUBULAR (COLOMBINA) H=1.27M REFLECTIVA DE ALTA CON REUTILIZACION | C38: UND | D38: 50 | E38: =+APU!I1834 -> 70340 | F38: =+ROUND(D38*E38,0) -> 3517000 | G38: =ROUND(F38*0.06,0) -> 211020 | H38: =ROUND(SUM(F38:G38)*0.35,) -> 1304807 | I38: =ROUND(SUM(F38:H38),0) -> 5032827
E39: SUBTOTAL MANEJO AMBIENTAL - SEÑALIZACIÓN | F39: =+SUM(F36:F38) -> 9603439 | G39: =+SUM(G36:G38) -> 576206 | H39: =+SUM(H36:H38) -> 3562876 | I39: =+SUM(I36:I38) -> 13742521
F40: =F9+F17+F22+F34+F39 -> 745414455 | G40: =G9+G17+G22+G34+G39 -> 44724868 | H40: =H9+H17+H22+H34+H39 -> 276548764 | I40: =I9+I17+I22+I34+I39 -> 1066688087
A41: TOTAL PROYECTO | I41: =I9+I17+I22+I34+I39 -> 1066688087
B45: Atentamente,
B51: ING JAIME EDUARDO DUQUE GUTIERREZ

Sheet APU
B2: 1.1.11.1 OBRAS PRELIMINARES
B6: ITEM | C6: 1.1.11.1 | D6: LOCALIZACIÓN Y REPLANTEO REDES | G6: UNIDAD | H6: ML
B10: ID | C10: EQUIPO | D10: UNIDAD | E10: CANTIDAD | F10: TARIFA/DÍA | G10: RENDIMIENTO | H10: VALOR
C11: Herramienta Menor | D11: %mo | E11: 1 | F11: =I49 -> 6126.24 | G11: 0.05 | H11: =F11*G11 -> 306.312
C12: Estación Total con precisión angular de 6". Precisión lineal 2 mm ± 2 ppm | D12: dia | E12: 1 | F12: =17639*8 -> 141112 | G12: 0.007 | H12: =F12*G12 -> 987.784
H14: =ROUND(IF(N(E14)>0,PRODUCT(E14,F14)/G14,0),0) -> 0
H15: =ROUND(IF(N(E15)>0,PRODUCT(E15,F15)/G15,0),0) -> 0
H16: =ROUND(IF(N(E16)>0,PRODUCT(E16,F16)/G16,0),0) -> 0
H17: =ROUND(IF(N(E17)>0,PRODUCT(E17,F17)/G17,0),0) -> 0 | I17: =SUM(H11:H17) -> 1294.096
B19: ID | C19: MATERIALES | D19: UNIDAD | E19: CANTIDAD | F19: VALOR UNITARIO | G19: % DESPERDICIO | H19: VALOR
C20: Listones o postes de madera | D20: UND | E20: 0.05 | F20: 9400 | G20: 0 | H20: =E20*F20 -> 470
C21: Puntilla 3" | D21: LB | E21: 0.025 | F21: 5500 | H21: =E21*F21 -> 137.5
C22: Piola | D22: ROLLO | E22: 0.02 | F22: 7500 | H22: =E22*F22 -> 150
H23: =ROUND(IF(N(E23)>0,PRODUCT(E23,F23)*(1+G23),0),0) -> 0
H24: =ROUND(IF(N(E24)>0,PRODUCT(E24,F24)*(1+G24),0),0) -> 0
H25: =ROUND(IF(N(E25)>0,PRODUCT(E25,F25)*(1+G25),0),0) -> 0
H26: =ROUND(IF(N(E26)>0,PRODUCT(E26,F26)*(1+G26),0),0) -> 0
H27: =ROUND(IF(N(E27)>0,PRODUCT(E27,F27)*(1+G27),0),0) -> 0
H28: =ROUND(IF(N(E28)>0,PRODUCT(E28,F28)*(1+G28),0),0) -> 0
H29: =ROUND(IF(N(E29)>0,PRODUCT(E29,F29)*(1+G29),0),0) -> 0
H30: =ROUND(IF(N(E30)>0,PRODUCT(E30,F30)*(1+G30),0),0) -> 0
H31: =ROUND(IF(N(E31)>0,PRODUCT(E31,F31)*(1+G31),0),0) -> 0
H32: =ROUND(IF(N(E32)>0,PRODUCT(E32,F32)*(1+G32),0),0) -> 0 | I32: =SUM(H20:H32) -> 757.5
B34: ID | C34: TRANSPORTE MATERIAL | D34: UNIDAD | E34: CANTIDAD | F34: VALOR UNITARIO | G34: DISTANCIA | H34: VALOR
I40: =SUM(H35:H40) -> 0
B42: ID | C42: MANO DE OBRA | D42: UNIDAD | E42: FACT. PRESTAC | F42: JORNAL TOTAL | G42: RENDIMIENTO | H42: VALOR
C43: COMISION TOPOGRAFIA JORNASL CON PS | D43: H-C | F43: 52043 | G43: 0.1 | H43: =F43*G43 -> 5204.3
C44: CUADRILLA JORNAL CON PS | D44: H-C | F44: 46097 | G44: 0.02 | H44: =F44*G44 -> 921.94
H45: =ROUND(IF(N(G45)>0,PRODUCT(F45,1/G45),0),0) -> 0
H46: =ROUND(IF(N(G46)>0,PRODUCT(F46,1/G46),0),0) -> 0
H47: =ROUND(IF(N(G47)>0,PRODUCT(F47,1/G47),0),0) -> 0
H48: =ROUND(IF(N(G48)>0,PRODUCT(F48,1/G48),0),0) -> 0
H49: =ROUND(IF(N(G49)>0,PRODUCT(F49,1/G49),0),0) -> 0 | I49: =SUM(H43:H49) -> 6126.24
F51: COSTOS DIRECTOS | I51: =ROUND(+I17+I32+I40+I49,0) -> 8178
B55: ITEM | C55: ### | D55: CORTE ROTURA DEMOLICION CALZADA CONCRETO E=0.15 INC RETIRO | G55: UNIDAD | H55: m²
B59: ID | C59: EQUIPO | D59: UNIDAD | E59: CANTIDAD | F59: TARIFA/DÍA | G59: RENDIMIENTO | H59: VALOR
C60: HERRAMIENTA MENOR | D60: %mo | F60: =I98 -> 18438.8 | G60: 0.02 | H60: =F60*G60 -> 368.776
C61: Compresor portátil de 70 a 120 HP, con martillo | D61: h | F61: 136000 | G61: 0.045 | H61: =F61*G61 -> 6120
H62: =ROUND(IF(N(E62)>0,PRODUCT(E62,F62)/G62,0),0) -> 0
H63: =ROUND(IF(N(E63)>0,PRODUCT(E63,F63)/G63,0),0) -> 0
H64: =ROUND(IF(N(E64)>0,PRODUCT(E64,F64)/G64,0),0) -> 0
H65: =ROUND(IF(N(E65)>0,PRODUCT(E65,F65)/G65,0),0) -> 0
H66: =ROUND(IF(N(E66)>0,PRODUCT(E66,F66)/G66,0),0) -> 0 | I66: =SUM(H60:H66) -> 6488.776
B68: ID | C68: MATERIALES | D68: UNIDAD | E68: CANTIDAD | F68: VALOR UNITARIO | G68: % DESPERDICIO | H68: VALOR
H69: =ROUND(IF(N(E69)>0,PRODUCT(E69,F69)*(1+G69),0),0) -> 0
H70: =ROUND(IF(N(E70)>0,PRODUCT(E70,F70)*(1+G70),0),0) -> 0
H71: =ROUND(IF(N(E71)>0,PRODUCT(E71,F71)*(1+G71),0),0) -> 0
H72: =ROUND(IF(N(E72)>0,PRODUCT(E72,F72)*(1+G72),0),0) -> 0
H73: =ROUND(IF(N(E73)>0,PRODUCT(E73,F73)*(1+G73),0),0) -> 0
H74: =ROUND(IF(N(E74)>0,PRODUCT(E74,F74)*(1+G74),0),0) -> 0
H75: =ROUND(IF(N(E75)>0,PRODUCT(E75,F75)*(1+G75),0),0) -> 0
H76: =ROUND(IF(N(E76)>0,PRODUCT(E76,F76)*(1+G76),0),0) -> 0
H77: =ROUND(IF(N(E77)>0,PRODUCT(E77,F77)*(1+G77),0),0) -> 0
H78: =ROUND(IF(N(E78)>0,PRODUCT(E78,F78)*(1+G78),0),0) -> 0
H79: =ROUND(IF(N(E79)>0,PRODUCT(E79,F79)*(1+G79),0),0) -> 0
H80: =ROUND(IF(N(E80)>0,PRODUCT(E80,F80)*(1+G80),0),0) -> 0
H81: =ROUND(IF(N(E81)>0,PRODUCT(E81,F81)*(1+G81),0),0) -> 0 | I81: =SUM(H69:H81) -> 0
B83: ID | C83: TRANSPORTE MATERIAL | D83: UNIDAD | E83: CANTIDAD | F83: VALOR UNITARIO | G83: RENDIMIENTO | H83: VALOR
C84: VOLQUETA 5 MTS | D84: VIAJE | F84: 270400 | G84: 0.02 | H84: =F84*G84 -> 5408
H85: =ROUND(IF(N(E85)>0,PRODUCT(E85:G85),0),0) -> 0
H86: =ROUND(IF(N(E86)>0,PRODUCT(E86:G86),0),0) -> 0
H87: =ROUND(IF(N(E87)>0,PRODUCT(E87:G87),0),0) -> 0
H88: =ROUND(IF(N(E88)>0,PRODUCT(E88:G88),0),0) -> 0
H89: =ROUND(IF(N(E89)>0,PRODUCT(E89:G89),0),0) -> 0 | I89: =SUM(H84:H89) -> 5408
B91: ID | C91: MANO DE OBRA | D91: JORNAL | E91: FACT. PRESTAC | F91: JORNAL TOTAL | G91: RENDIMIENTO | H91: VALOR
C92: CUADRILLA JORNAL CON PS | D92: H-C | F92: 46097 | G92: 0.4 | H92: =F92*G92 -> 18438.8
H93: =ROUND(IF(N(G93)>0,PRODUCT(F93,1/G93),0),0) -> 0
H94: =ROUND(IF(N(G94)>0,PRODUCT(F94,1/G94),0),0) -> 0
H95: =ROUND(IF(N(G95)>0,PRODUCT(F95,1/G95),0),0) -> 0
H96: =ROUND(IF(N(G96)>0,PRODUCT(F96,1/G96),0),0) -> 0
H97: =ROUND(IF(N(G97)>0,PRODUCT(F97,1/G97),0),0) -> 0
H98: =ROUND(IF(N(G98)>0,PRODUCT(F98,1/G98),0),0) -> 0 | I98: =SUM(H92:H98) -> 18438.8
F100: COSTOS DIRECTOS | I100: =ROUND(+I66+I81+I89+I98,0) -> 30336
B104: ITEM | C104: ### | D104: DEMOLICION CAMARAS TIPO A O B ALTURA DE CILINDRO 2 | G104: UNIDAD | H104: m³
B108: ID | C108: EQUIPO | D108: UNIDAD | E108: CANTIDAD | F108: TARIFA/DÍA | G108: RENDIMIENTO | H108: VALOR
B109: E01 | C109: HERRAMIENTA MENOR | D109: %mo | E109: 1 | F109: =I147 -> 356997.07 | G109: 0.1 | H109: =F109*G109 -> 35699.707
B110: E07 | C110: COMPRESOR | D110: hr | E110: 1 | F110: 136000 | G110: 2 | H110: =F110*G110 -> 272000
B111: E03
H112: 0
H113: 0
H114: 0
H115: 0 | I115: =SUM(H109:H115) -> 307699.71
B117: ID | C117: MATERIALES | D117: UNIDAD | E117: CANTIDAD | F117: VALOR UNITARIO | G117: % DESPERDICIO | H117: VALOR
H118: 0
H119: 0
H120: 0
H121: 0
H122: 0
H123: 0
H124: 0
H125: 0
H126: 0
H127: 0
H128: 0
H129: 0
H130: 0 | I130: =SUM(H118:H130) -> 0
B132: ID | C132: TRANSPORTE MATERIAL | D132: UNIDAD | E132: CANTIDAD | F132: VALOR UNITARIO | G132: DISTANCIA | H132: VALOR
C133: VOLQUETA 5 MTS | D133: VIAJE | F133: 270400 | G133: 0.05 | H133: =F133*G133 -> 13520
H134: 0
H135: 0
...
