Workbook

Sheet PRESUPUESTO
A1: INSTITUTO NACIONAL DE VÍAS
A2: DIRECCIÓN TERRITORIAL META
A4: PRESUPUESTO GENERAL
A7: MANTENIMIENTO Y ADECUACIÓN DE INSTALACIONES LOCATIVAS CASA AUXILIAR SEDE LAS VEGAS UBICADA EN LA CALLE 44 No 55 A – 29/35/41 TERRITORIAL META
A9: FORMULARIO Nº 1
A10: No | B10: DESCRIPCION | C10: UNIDAD | D10: CANTIDAD | E10: PRECIO UNITARIO | F10: VALOR PARCIAL EN PESOS COLOMBIANOS
A12: SEDE LAS VEGAS
A13: 1. CUBIERTA | F13: =+F14+F15 -> 1067668.8
A14: 1.1 | B14: REPARACION DE IRREGULARIDADES Y FUGAS EN CUBIERTA, INCLUYE REPARACIÓN CON CINTA SIKA Y REACOMODACIÓN DE TEJAS DESUBICADAS. | C14: M2 | D14: 150 | E14: ='1.1'!N60 -> 4684.7021 | F14: =E14*D14 -> 702705.31
A15: 1.2 | B15: RESTAURACIÓN CUBIERTA ZONA EXTERIOR (VISIBLE), INCLUYE PINTURA, ALINEACIÓN Y REPARACIÓN DE IRREGULARIDADES EN PANELES DE LAS CUCHILLAS, CIELOS RASOS Y TEJAS, ACOMODACIÓN DE PUNTOS DE ILUMINACIÓN SELLADOS Y FUNCIONALES. | C15: GL | D15: 1 | E15: ='1.2'!N59 -> 364963.47 | F15: =E15*D15 -> 364963.47
A16: 2. TERMINACIONES | F16: =F17 -> 959784.41
A17: 2.1 | B17: SUMINISTRO E INSTALACIÓN DE PISOS INTERIORES EN CERAMICA CORONA DE 45,8X45,8CM EN HABITACIÓN (INCLUYE RETIRO DE PISO ANTIGUO) | C17: M2 | D17: 20 | E17: ='2.1'!N60 -> 47989.221 | F17: =+D17*E17 -> 959784.41
A18: 3. COCINA | F18: =F19+F20+F21+F22 -> 4073839.2
A19: 3.1 | B19: DEMOLICIÓN DE MESÓN EXISTENTE EN CONCRETO DE 2,20X0,60M | C19: GL | D19: 1 | E19: ='3.1'!N60 -> 360262.11 | F19: =+D19*E19 -> 360262.11
A20: 3.2 | B20: CONSTRUCCIÓN DE MESÓN EN FORMA "L" DE CONCRETO, ENCHAPADO, 5X0.65M H=0.95 | C20: GL | D20: 1 | E20: ='3.2'!N62 -> 1270869.7 | F20: =+D20*E20 -> 1270869.7
A21: 3.3 | B21: DESMONTE DE MOBILIARIO EXISTENTE. SUMINISTRO E INSTALACIÓN DE ALACENAS SUPERIORES CON PUERTAS Y CAJONES DE MADERA 1,80M (LARGO) 0,60M (ALTO) 0,50M (ANCHO) Y ALACENAS INFERIORES CON ENTREPISO, PUERTAS Y CAJONES EN MADERA, ESPACIO: 0,95M (ALTO), 5M(LARGO EN L) Y 0.65M (ANCHO) | C21: GL | D21: 1 | E21: ='3.3'!N60 -> 2338957.5 | F21: =+D21*E21 -> 2338957.5
A22: 3.4 | B22: INSTALACIÓN DE ESTUFA EMPOTRABLE NUEVA Y LAVAPLATOS EXISTENTE, INCLUYE SUMINISTRO E INTALACIÓN DE GRIFERÍA CROMADA PARA LAVAPLATOS CON ACCESORIOS. | C22: GL | D22: 1 | E22: ='3.4'!N60 -> 103749.89 | F22: =+D22*E22 -> 103749.89
A23: 4. BAÑOS | F23: =F24+F25 -> 1368172
A24: 4.1 | B24: SUMINISTRO E INSTALACIÓN DE DIVISIONES DE BAÑO/DUCHA EN ACRILICO Y ALUMINIO, CORREDIZA, CON RODACHINES SUPERIORES | C24: UNIDAD | D24: 2 | E24: ='4.1'!N60 -> 526918.28 | F24: =+D24*E24 -> 1053836.6
A25: 4.2 | B25: SUMINISTRO E INSTALACIÓN DE ACCESORIOS DE BAÑO X6, CORONA, COLOR CROMO, PORTARROLLOS, TOALLERO ARGOLLA, JABONERA DUCHA, PERCHA SIMPLE, CEPILLERA VASO Y TOALLERO BARRA. | C25: UNIDAD | D25: 2 | E25: ='4.2'!N60 -> 157167.74 | F25: =+D25*E25 -> 314335.48
A26: 4.3 | B26: SUMINISTRO E INSTALACIÓN DE GRIFERÍA PARA LAVAMANOS CROMADA | C26: UNIDAD | D26: 2 | E26: ='4.3'!N60 -> 129559.14 | F26: =+D26*E26 -> 259118.28
A27: 5. PUERTAS Y VENTANAS | F27: =F28+F29+F30 -> 1077999.2
A28: 5.1 | B28: SUMINISTRO E INSTALACIÓN DE (1) PUERTA CON HOJAS ENTAMBORADAS DE MADERA COLOR WENGUE 0,90X2,20M, INCLUYE MARCO Y CHAPAS. | C28: UNIDAD | D28: 1 | E28: ='5.1'!N60 -> 283223.66 | F28: =+D28*E28 -> 283223.66
A29: 5.2 | B29: REPARACIÓN DE VENTANERÍA EN GENERAL, INCLUYE LIJAR Y PINTAR MARCOS METÁLICOS Y DE MADERA, REEMPLAZO DE (2) VIDRIOS ROTOS, REMPLAZO DE ANGEOS, LIMPIEZA DE VIDRIOS EXISTENTES (30M2) Y APLICACIÓN DE SOLDADURA DONDE SE SEA NECESARIO | C29: GL | D29: 1 | E29: ='5.2'!N60 -> 465042.04 | F29: =+D29*E29 -> 465042.04
A30: 5.3 | B30: PINTURA DE PUERTAS INTERIORES Y EXTERIORES EXISTENTES, INCLUYE LIJAR MARCOS Y TABLEROS | C30: UNIDAD | D30: 4 | E30: ='5.3'!N60 -> 82433.371 | F30: =+D30*E30 -> 329733.48
A31: 6. PINTURA | F31: =F32+F33 -> 1721991.7
A32: 6.1 | B32: SUMINISTRO Y APLICACIÓN DE 3 MANOS DE PINTURA VINILO TIPO 1 (ALTA CALIDAD) INTERIORES. | C32: M2 | D32: 200 | E32: ='6.1'!N60 -> 5430.1388 | F32: =+D32*E32 -> 1086027.8
A33: 6.2 | B33: SUMINISTRO Y APLICACIÓN DE 3 MANOS DE PINTURA KORAZA (ALTA CALIDAD) EXTERIORES. | C33: M2 | D33: 100 | E33: ='6.2'!N60 -> 6359.6388 | F33: =+D33*E33 -> 635963.88
A34: 7. INSTALACIONES HIDRAULICAS | F34: =F35 -> 758815.66
A35: 7.1 | B35: REVISIÓN Y REPARACIÓN DE INSTALACIONES HIDRAULICAS PARA CONTROL DE FUGAS CAUSANTES DE HUMEDAD. | C35: GL | D35: 1 | E35: ='7.1'!N60 -> 758815.66 | F35: =+D35*E35 -> 758815.66
A36: 8. INSTALACIONES DE GAS | F36: =F37 -> 299388.12
A37: 8.1 | B37: INSTALACIÓN DE RED DE GAS, INCLUYE REVISÓN CON ENTIDAD CERTIFICADA | C37: GL | D37: 1 | E37: ='8.1'!N59 -> 299388.12 | F37: =+D37*E37 -> 299388.12
A38: 9. SISTEMA DE ACONDICIONAMIENTO DE AIRE | F38: =F39 -> 1572805.2
A39: 9.1 | B39: TRASLADO, REVISIÓN, MANTENIMIENTO E INTALACIÓN DE AIRES ACONDICIONADOS | C39: UNIDAD | D39: 2 | E39: ='9.1'!N59 -> 786402.61 | F39: =+D39*E39 -> 1572805.2
A40: 10. RESTAURACIÓN DE MUEBLES | F40: =F41 -> 869093.55
A41: 10.1 | B41: RESTAURACIÓN DE MUEBLES (CAMAS), INCLUYE LIJAR, PINTAR E INMUNIZAR | C41: UNIDAD | D41: 7 | E41: ='10.1'!N60 -> 124156.22 | F41: =+D41*E41 -> 869093.55
A42: 12. ADECUACIÓN ZONA BBQ | F42: =F43 -> 1461019.1
A43: 11.1 | B43: RESTAURACIÓN DE ZONA BBQ, INCLUYE SUMINISTRO E INSTALACIÓN DE CUBIERTA BBQ NUEVA, SUMINISTRO E INSTALACIÓN DE SISTEMA DE PARRILLA ABATIBLE Y DESPLAZAMIENTO VERTICAL CON MANIVELA Y CADENA, CAMBIO DE LADRILLOS DETERIORADOS; ADECUACIÓN MURO CIRCULAR EN LADRILLO, UBICADO EN FRENTE AL BBQ, REMPLAZANDO LADRILLOS.NECESARIOS. | C43: GL | D43: 1 | E43: ='11.1'!N61 -> 1461019.1 | F43: =+D43*E43 -> 1461019.1
A44: 13. ADECUACIÓN ZONA RECREATIVA | F44: =F45 -> 806971.16
A45: 12.1 | B45: RETIRO DE COLUMPIOS EXISTENTES Y SUMINISTRO, INSTALACIÓN Y DOTACIÓN DE CANCHAS DE MINIFUTBOL, EN LOTE CONTIGUO AL PARQUEADERO | C45: GL | D45: 1 | E45: ='12.1'!N60 -> 806971.16 | F45: =+D45*E45 -> 806971.16
...

Sheet 1.1
B2: ANÁLISIS DE PRECIOS UNITARIOS
B3: ITEM | C3: DESCRIPCIÓN | L3: UNIDAD | N3: CANTIDAD
A4: Unidad | B4: 1.1 | C4: REPARACION DE IRREGULARIDADES Y FUGAS EN CUBIERTA, INCLUYE REPARACIÓN CON CINTA SIKA Y REACOMODACIÓN DE TEJAS DESUBICADAS. | L4: M2 | N4: 160
B6: I. EQUIPO
B8: DESCRIPCIÓN | I8: TIPO | K8: TARIFA/HORA | L8: RENDIMIENTO | N8: Vr. UNITARIO
A9: C0010052 | B9: ANDAMIO TUBULAR CERTIFICADO | K9: 5000 | M9: 30 | N9: =K9/M9 -> 166.66667
A10: C0010140 | B10: CAMILLA EN MADERA PLANCHON | K10: 2500 | M10: 30 | N10: =K10/M10 -> 83.333333
A11: C0010620
B15: HERRAMIENTA MENOR (%) | L15: 0.05 | N15: =N48*L15 -> 76.600808
B16: SUBTOTAL $ | N16: =SUM(N9:N15) -> 326.60081
B18: II. MATERIALES
B20: DESCRIPCIÓN | J20: UNIDAD | K20: CANTIDAD | L20: PRECIO UNIT. | N20: Vr. UNITARIO
B21: MASILLA SUPERMASTICK 5G 28K | J21: GALON | K21: 0.01 | M21: 27000 | N21: =K21*M21 -> 270
B22: CINTA SIKA MULTISEAL 10CMX10M | J22: UNIDAD | K22: 0.01 | M22: 55000 | N22: =K22*M22 -> 550
B23: TEJAS SEGÚN MATERIAL EXISTENTE (4) | J23: UNIDAD | K23: 0.025 | M23: 37000 | N23: =K23*M23 -> 925
B27: SUBTOTAL $ | N27: =N21+N22+N23 -> 1745
B29: III. TRANSPORTES
B30: MATERIAL | H30: UNIDAD | I30: CANTIDAD (1) | J30: DISTANCIA (2) | K30: (1) * (2) | L30: TARIFA | N30: Vr. UNITARIO
A31: T0010040
B37: SUBTOTAL $ | N37: =N31+N32+N33+N34+N35 -> 0
B39: IV. MANO DE OBRA
B41: TRABAJADOR | I41: JORNAL | J41: PRESTACIONES (%) | K41: JORNAL TOTAL | L41: RENDIMIENTO | N41: Vr. UNITARIO
A42: A0030040 | B42: UN OFICIAL Y UN OBRERO | I42: =K42/J42*100 -> 82811.684 | J42: 185 | K42: 153201.62 | M42: 100 | N42: =K42/M42 -> 1532.0162
B48: SUBTOTAL $ | N48: =N42+N43+N44+N45+N46 -> 1532.0162
B50: TOTAL COSTO DIRECTO $ | N50: =N16+N27+N37+N48 -> 3603.617
B52: V. COSTOS INDIRECTOS
B54: Descripción | K54: Porcentaje | L54: Valor Total
B55: ADMINISTRACION | K55: 0.2 | L55: =N50*K55 -> 720.72339
B56: IMPREVISTOS | K56: 0.05 | L56: =N50*K56 -> 180.18085
B57: UTILIDAD | K57: 0.05 | L57: =N50*K57 -> 180.18085
B58: SUBTOTAL $ | N58: =L55+L56+L57 -> 1081.0851
A60: Pfinal01 | B60: Precio Unitario Total Aproximado al Peso $ | N60: =N50+N58 -> 4684.7021

Sheet 1.2
B2: ANÁLISIS DE PRECIOS UNITARIOS
B3: ITEM | C3: DESCRIPCIÓN | L3: UNIDAD | N3: CANTIDAD
A4: Unidad | B4: 1.2 | C4: RESTAURACIÓN CUBIERTA ZONA EXTERIOR, INCLUYE PINTURA, ALINEACIÓN Y REPARACIÓN DE IRREGULARIDADES EN PANELES DE LAS CUCHILLAS, CIELOS RASOS Y TEJAS, ACOMODACIÓN DE PUNTOS DE ILUMINACIÓN SELLADOS Y FUNCIONALES. | L4: GL | N4: 1
B6: I. EQUIPO
B8: DESCRIPCIÓN | I8: TIPO | K8: TARIFA/HORA | L8: RENDIMIENTO | N8: Vr. UNITARIO
A9: C0010052 | B9: ANDAMIO TUBULAR CERTIFICADO | K9: 5000 | M9: 15 | N9: =K9/M9 -> 333.33333
A10: C0010140 | B10: CAMILLA EN MADERA PLANCHON | K10: 2500 | M10: 15 | N10: =K10/M10 -> 166.66667
A11: C0010620
B15: HERRAMIENTA MENOR (%) | L15: 0.05 | N15: =N47*L15 -> 5106.7205
B16: SUBTOTAL $ | N16: =SUM(N9:N15) -> 5606.7205
B18: II. MATERIALES
B20: DESCRIPCIÓN | J20: UNIDAD | K20: CANTIDAD | L20: PRECIO UNIT. | N20: Vr. UNITARIO
B21: LÁMINA DE YESO 1/2” CON ACCESORIOS | J21: UNIDAD | K21: 3 | M21: 30000 | N21: =K21*M21 -> 90000
B22: INTERVINIL BLANCO 1 GALÓN | J22: GALON | K22: 1 | M22: 33000 | N22: =K22*M22 -> 33000
B23: MASILLA SUPERMASTICK 5G 28K | J23: GALON | K23: 1 | M23: 50000 | N23: =K23*M23 -> 50000
B26: SUBTOTAL $ | N26: =N21+N22+N23 -> 173000
B28: III. TRANSPORTES
B29: MATERIAL | H29: UNIDAD | I29: CANTIDAD (1) | J29: DISTANCIA (2) | K29: (1) * (2) | L29: TARIFA | N29: Vr. UNITARIO
A30: T0010040
B36: SUBTOTAL $ | N36: =N30+N31+N32+N33+N34 -> 0
B38: IV. MANO DE OBRA
B40: TRABAJADOR | I40: JORNAL | J40: PRESTACIONES (%) | K40: JORNAL TOTAL | L40: RENDIMIENTO | N40: Vr. UNITARIO
A41: A0030040 | B41: Cuadrilla de (1) oficial y (2) obreros | I41: =K41/J41*100 -> 110415.58 | J41: 185 | K41: 204268.82 | M41: 2 | N41: =K41/M41 -> 102134.41
B47: SUBTOTAL $ | N47: =N41+N42+N43+N44+N45 -> 102134.41
B49: TOTAL COSTO DIRECTO $ | N49: =N16+N26+N36+N47 -> 280741.13
B51: V. COSTOS INDIRECTOS
B53: Descripción | K53: Porcentaje | L53: Valor Total
B54: ADMINISTRACION | K54: 0.2 | L54: =N49*K54 -> 56148.226
B55: IMPREVISTOS | K55: 0.05 | L55: =N49*K55 -> 14037.057
B56: UTILIDAD | K56: 0.05 | L56: =N49*K56 -> 14037.057
B57: SUBTOTAL $ | N57: =L54+L55+L56 -> 84222.339
A59: Pfinal01 | B59: Precio Unitario Total Aproximado al Peso $ | N59: =N49+N57 -> 364963.47

Sheet 2.1
B2: ANÁLISIS DE PRECIOS UNITARIOS
B3: ITEM | C3: DESCRIPCIÓN | L3: UNIDAD | N3: CANTIDAD
B4: 2.1 | C4: SUMINISTRO E INSTALACIÓN DE PISOS INTERIORES EN CERAMICA CORONA DE 45,8X45,8CM EN HABITACIÓN (INCLUYE RETIRO DE PISO ANTIGUO) | L4: M2 | N4: 20
B6: I. EQUIPO
B8: DESCRIPCIÓN | I8: TIPO | K8: TARIFA/HORA | L8: RENDIMIENTO | N8: Vr. UNITARIO
B15: HERRAMIENTA Y EQUIPO MENOR (%) | L15: 0.1 | N15: =N48*L15 -> 1021.3441
B16: SUBTOTAL $ | N16: =SUM(N9:N15) -> 1021.3441
B18: II. MATERIALES
B20: DESCRIPCIÓN | J20: UNIDAD | K20: CANTIDAD | L20: PRECIO UNIT. | N20: Vr. UNITARIO
B21: BOQUILLA CORONA CONCOLOR® JUNTA ESTRECHA BLANCO HUESO 5KG | J21: UNIDAD | K21: 0.2 | M21: 21900 | N21: =K21*M21 -> 4380
B22: PEGACOR CERAMICO GRIS CORONA 25KG | J22: UNIDAD | K22: 0.25 | M22: 25200 | N22: =K22*M22 -> 6300
B23: CERAMICA CORONA DE 45,8X45,8CM | J23: M2 | K23: 1 | M23: 15000 | N23: =K23*M23 -> 15000
B27: SUBTOTAL $ | N27: =SUM(N21:N26) -> 25680
B29: III. TRANSPORTES
B30: MATERIAL | H30: UNIDAD | I30: CANTIDAD (1) | J30: DISTANCIA (2) | K30: (1) * (2) | L30: TARIFA | N30: Vr. UNITARIO
A31: T0010040
B37: SUBTOTAL $ | N37: =N31+N32+N33+N34+N35 -> 0
B39: IV. MANO DE OBRA
B41: TRABAJADOR | I41: JORNAL | J41: PRESTACIONES (%) | K41: JORNAL TOTAL | L41: RENDIMIENTO | N41: Vr. UNITARIO
A42: A0030040 | B42: UN OFICIAL Y UN OBRERO | I42: =K42/J42*100 -> 82811.684 | J42: 185 | K42: 153201.62 | M42: 15 | N42: =K42/M42 -> 10213.441
B48: SUBTOTAL $ | N48: =N42+N43+N44+N45+N46 -> 10213.441
B50: TOTAL COSTO DIRECTO $ | N50: =N16+N27+N37+N48 -> 36914.785
B52: V. COSTOS INDIRECTOS
B54: Descripción | K54: Porcentaje | L54: Valor Total
B55: ADMINISTRACION | K55: 0.2 | L55: =N50*K55 -> 7382.957
B56: IMPREVISTOS | K56: 0.05 | L56: =N50*K56 -> 1845.7393
B57: UTILIDAD | K57: 0.05 | L57: =N50*K57 -> 1845.7393
B58: SUBTOTAL $ | N58: =L55+L56+L57 -> 11074.436
A60: Pfinal01 | B60: Precio Unitario Total Aproximado al Peso $ | N60: =N50+N58 -> 47989.221

Sheet 3.1
B2: ANÁLISIS DE PRECIOS UNITARIOS
B3: ITEM | C3: DESCRIPCIÓN | L3: UNIDAD | N3: CANTIDAD
A4: Unidad | B4: 3.1 | C4: DEMOLICIÓN DE MESÓN EXISTENTE EN CONCRETO DE 2,20X0,60M | L4: gl | N4: 1
B6: I. EQUIPO
B8: DESCRIPCIÓN | I8: TIPO | K8: TARIFA/HORA | L8: RENDIMIENTO | N8: Vr. UNITARIO
B15: HERRAMIENTA MENOR (%) | L15: 0.1 | N15: =N48*L15 -> 25193.155
B16: SUBTOTAL $ | N16: =SUM(N9:N15) -> 25193.155
B18: II. MATERIALES
B20: DESCRIPCIÓN | J20: UNIDAD | K20: CANTIDAD | L20: PRECIO UNIT. | N20: Vr. UNITARIO
B27: SUBTOTAL $
B29: III. TRANSPORTES
B30: MATERIAL | H30: UNIDAD | I30: CANTIDAD (1) | J30: DISTANCIA (2) | K30: (1) * (2) | L30: TARIFA | N30: Vr. UNITARIO
B37: SUBTOTAL $ | N37: =N31+N32+N33+N34+N35 -> 0
B39: IV. MANO DE OBRA
B41: TRABAJADOR | I41: JORNAL | J41: PRESTACIONES (%) | K41: JORNAL TOTAL | L41: RENDIMIENTO | N41: Vr. UNITARIO
B42: Obrero (2) | I42: 102134.41 | J42: 185 | K42: =+J42*I42% -> 188948.66 | L42: 1.5 | N42: =+K42/L42 -> 125965.77
B43: Obrero (2) | I43: 102134.41 | J43: 185 | K43: =+J43*I43% -> 188948.66 | L43: 1.5 | N43: =+K43/L43 -> 125965.77
B48: SUBTOTAL $ | N48: =N42+N43+N44+N45+N46 -> 251931.55
B50: TOTAL COSTO DIRECTO $ | N50: =N16+N27+N37+N48 -> 277124.7
B52: V. COSTOS INDIRECTOS
B54: Descripción | K54: Porcentaje | L54: Valor Total
B55: ADMINISTRACION | K55: 0.2 | L55: =N50*K55 -> 55424.94
B56: IMPREVISTOS | K56: 0.05 | L56: =N50*K56 -> 13856.235
B57: UTILIDAD | K57: 0.05 | L57: =N50*K57 -> 13856.235
B58: SUBTOTAL $ | N58: =L55+L56+L57 -> 83137.41
A60: Pfinal01 | B60: Precio Unitario Total Aproximado al Peso $ | N60: =N50+N58 -> 360262.11

Sheet 3.2
B2: ANÁLISIS DE PRECIOS UNITARIOS
B3: ITEM | C3: DESCRIPCIÓN | L3: UNIDAD | N3: CANTIDAD
A4: Unidad | B4: 3.2 | C4: CONSTRUCCIÓN DE MESÓN EN FORMA "L" DE CONCRETO, ENCHAPADO, 5X0.65M H=0.95 | L4: gl | N4: 1
B6: I. EQUIPO
B8: DESCRIPCIÓN | I8: TIPO | K8: TARIFA/HORA | L8: RENDIMIENTO | N8: Vr. UNITARIO
B15: HERRAMIENTA MENOR (%) | L15: 0.05 | N15: =N50*L15 -> 30833.333
B16: SUBTOTAL $ | N16: =SUM(N9:N15) -> 30833.333
B18: II. MATERIALES
B20: DESCRIPCIÓN | J20: UNIDAD | K20: CANTIDAD | L20: PRECIO UNIT. | N20: Vr. UNITARIO
B21: CONCRETO RESISTENCIA (14MPA) | J21: M3 | K21: =0.05*0.7*4 -> 0.14 | L21: 380000 | N21: =+L21*K21 -> 53200
B22: TABLA ORDINARIA | C22: 30*2,5*3cm | J22: UNIDAD | K22: 3 | L22: 29534.7 | N22: =+L22*K22 -> 88604.1
B23: PUNTILLA CON CABEZA 2” | J23: LB | K23: 0.4 | M23: 350 | N23: =+M23*K23 -> 140
B24: ACERO 1/2" CORRUGADO | J24: KG | K24: 16 | M24: 3400 | N24: =+M24*K24 -> 54400
B25: ACERO 1/4" CORRUGADO FIGURADO | J25: KG | K25: 8 | M25: 2900 | N25: =+M25*K25 -> 23200
B26: ALAMBRE NEGRO N0 17 | J26: KG | K26: =2.4*0.25 -> 0.6 | M26: 180 | N26: =+M26*K26 -> 108
B27: MORTERO 1:3 | J27: M3 | K27: =0.03*2.4 -> 0.072 | L27: 145000 | N27: =+L27*K27 -> 10440
B28: SUMINISTRO E INSTALACIÓN DE ENCHAPE EN CERÁMICA | J28: M2 | K28: 4 | L28: 25000 | N28: =+L28*K28 -> 100000
B29: SUBTOTAL $ | N29: =+SUM(N21:N28) -> 330092.1
B31: III. TRANSPORTES
B32: MATERIAL | H32: UNIDAD | I32: CANTIDAD (1) | J32: DISTANCIA (2) | K32: (1) * (2) | L32: TARIFA | N32: Vr. UNITARIO
B39: SUBTOTAL $ | N39: =N33+N34+N35+N36+N37 -> 0
B41: IV. MANO DE OBRA
B43: TRABAJADOR | I43: JORNAL | J43: PRESTACIONES (%) | K43: JORNAL TOTAL | L43: RENDIMIENTO | N43: Vr. UNITARIO
B44: Obrero (2) | I44: 50000 | J44: 185 | K44: =+J44*I44% -> 92500 | M44: 0.6 | N44: =+K44/M44 -> 154166.67
B45: Maestro de obra | I45: 150000 | J45: 185 | K45: =+J45*I45% -> 277500 | M45: 0.6 | N45: =+K45/M45 -> 462500
B50: SUBTOTAL $ | N50: =N44+N45+N46+N47+N48 -> 616666.67
B52: TOTAL COSTO DIRECTO $ | N52: =N16+N29+N39+N50 -> 977592.1
B54: V. COSTOS INDIRECTOS
B56: Descripción | K56: Porcentaje | L56: Valor Total
B57: ADMINISTRACION | K57: 0.2 | L57: =N52*K57 -> 195518.42
B58: IMPREVISTOS | K58: 0.05 | L58: =N52*K58 -> 48879.605
B59: UTILIDAD | K59: 0.05 | L59: =N52*K59 -> 48879.605
B60: SUBTOTAL $ | N60: =L57+L58+L59 -> 293277.63
A62: Pfinal01 | B62: Precio Unitario Total Aproximado al Peso $ | N62: =N52+N60 -> 1270869.7

Sheet 3.3
B2: ANÁLISIS DE PRECIOS UNITARIOS
B3: ITEM | C3: DESCRIPCIÓN | L3: UNIDAD | N3: CANTIDAD
A4: Unidad | B4: 3.3 | C4: DESMONTE DE MOBILIARIO EXISTENTE. SUMINISTRO E INSTALACIÓN DE ALACENAS SUPERIORES CON PUERTAS Y CAJONES DE MADERA 1,80M (LARGO) 0,60M (ALTO) 0,50M (ANCHO) Y ALACENAS INFERIORES CON ENTREPISO, PUERTAS Y CAJONES EN MADERA, ESPACIO: 0,95M (ALTO), 5M(LARGO EN L) Y 0.65M (ANCHO) | L4: Gl | N4: 1
B6: I. EQUIPO
B8: DESCRIPCIÓN | I8: TIPO | K8: TARIFA/HORA | L8: RENDIMIENTO | N8: Vr. UNITARIO
B15: HERRAMIENTA MENOR (%) | L15: 0.05 | N15: =N48*L15 -> 4723.7165
B16: SUBTOTAL $ | N16: =SUM(N9:N15) -> 4723.7165
B18: II. MATERIALES
B20: DESCRIPCIÓN | J20: UNIDAD | K20: CANTIDAD | L20: PRECIO UNIT. | N20: Vr. UNITARIO
B21: MUEBLES SUPERIORES DE COCINA ENMADERA MACIZA COLOR MIEL 1,80 (Largo) 0,60(alto) 0,50(ancho) | J21: UNIDAD | K21: 1 | M21: 900000 | N21: =+M21*K21 -> 900000
B22: CARPINTERIA EN MADERA:PUERTAS Y CAJONES BAJO EL MESÓN COLOR MIEL , 3 puertas, 4 cajones, | J22: GL | K22: 1 | M22: 800000 | N22: =+M22*K22 -> 800000
B23: Espacio inferior: 0.95M alto,
B27: SUBTOTAL $ | N27: =+N22+N21 -> 1700000
B29: III. TRANSPORTES
B30: MATERIAL | H30: UNIDAD | I30: CANTIDAD (1) | J30: DISTANCIA (2) | K30: (1) * (2) | L30: TARIFA | N30: Vr. UNITARIO
B37: SUBTOTAL $ | N37: =N31+N32+N33+N34+N35 -> 0
B39: IV. MANO DE OBRA
B41: TRABAJADOR | I41: JORNAL | J41: PRESTACIONES (%) | K41: JORNAL TOTAL | L41: RENDIMIENTO | N41: Vr. UNITARIO
B42: Maestro | I42: =102134.4104122/2 -> 51067.205 | J42: 185 | K42: =+J42*I42% -> 94474.33 | L42: 2 | N42: =+K42/L42 -> 47237.165
B43: Obrero | I43: =102134.4104122/2 -> 51067.205 | J43: 185 | K43: =+J43*I43% -> 94474.33 | L43: 2 | N43: =+K43/L43 -> 47237.165
B48: SUBTOTAL $ | N48: =N42+N43+N44+N45+N46 -> 94474.33
B50: TOTAL COSTO DIRECTO $ | N50: =N16+N27+N37+N48 -> 1799198
B52: V. COSTOS INDIRECTOS
B54: Descripción | K54: Porcentaje | L54: Valor Total
B55: ADMINISTRACION | K55: 0.2 | L55: =N50*K55 -> 359839.61
B56: IMPREVISTOS | K56: 0.05 | L56: =N50*K56 -> 89959.902
B57: UTILIDAD | K57: 0.05 | L57: =N50*K57 -> 89959.902
B58: SUBTOTAL $ | N58: =L55+L56+L57 -> 539759.41
A60: Pfinal01 | B60: Precio Unitario Total Aproximado al Peso $ | N60: =N50+N58 -> 2338957.5

Sheet 3.4
B2: ANÁLISIS DE PRECIOS UNITARIOS
B3: ITEM | C3: DESCRIPCIÓN | L3: UNIDAD | N3: CANTIDAD
A4: Unidad | B4: 3.4 | C4: INSTALACIÓN DE ESTUFA EMPOTRABLE NUEVA Y LAVAPLATOS EXISTENTE, INCLUYE SUMINISTRO E INTALACIÓN DE GRIFERÍA CROMADA PARA LAVAPLATOS. | L4: gl | N4: 1
B6: I. EQUIPO
B8: DESCRIPCIÓN | I8: TIPO | K8: TARIFA/HORA | L8: RENDIMIENTO | N8: Vr. UNITARIO
B15: HERRAMIENTA MENOR (%) | L15: 0.1 | N15: =N48*L15 -> 1889.4866
B16: SUBTOTAL $ | N16: =SUM(N9:N15) -> 1889.4866
B18: II. MATERIALES
B20: DESCRIPCIÓN | J20: UNIDAD | K20: CANTIDAD | L20: PRECIO UNIT. | N20: Vr. UNITARIO
B21: SILICONA NEUTRA 300ML | J21: UNIDAD | K21: 2 | M21: 3990 | N21: =+M21*K21 -> 7980
B22: TEFLON 3/4" 50M | J22: UNIDAD | K22: 0.4028 | M22: 2590 | N22: =+M22*K22 -> 1043.252
B23: GRIFERÍA NUEVA PARA LAVAPLATOS, CROMADA. | J23: UNIDAD | K23: 1 | M23: 50000 | N23: =+M23*K23 -> 50000
B27: SUBTOTAL $ | N27: =SUM(N21:N26) -> 59023.252
B29: III. TRANSPORTES
B30: MATERIAL | H30: UNIDAD | I30: CANTIDAD (1) | J30: DISTANCIA (2) | K30: (1) * (2) | L30: TARIFA | N30: Vr. UNITARIO
B37: SUBTOTAL $ | N37: =N31+N32+N33+N34+N35 -> 0
B39: IV. MANO DE OBRA
B41: TRABAJADOR | I41: JORNAL | J41: PRESTACIONES (%) | K41: JORNAL TOTAL | L41: RENDIMIENTO | N41: Vr. UNITARIO
B42: Maestro | I42: =102134.4104122/2 -> 51067.205 | J42: 185 | K42: =+J42*I42% -> 94474.33 | L42: 5 | N42: =+K42/L42 -> 18894.866
B48: SUBTOTAL $ | N48: =N42+N43+N44+N45+N46 -> 18894.866
B50: TOTAL COSTO DIRECTO $ | N50: =N16+N27+N37+N48 -> 79807.605
B52: V. COSTOS INDIRECTOS
B54: Descripción | K54: Porcentaje | L54: Valor Total
B55: ADMINISTRACION | K55: 0.2 | L55: =N50*K55 -> 15961.521
B56: IMPREVISTOS | K56: 0.05 | L56: =N50*K56 -> 3990.3802
B57: UTILIDAD | K57: 0.05 | L57: =N50*K57 -> 3990.3802
B58: SUBTOTAL $ | N58: =L55+L56+L57 -> 23942.281
A60: Pfinal01 | B60: Precio Unitario Total Aproximado al Peso $ | N60: =N50+N58 -> 103749.89

Sheet 4.1
B2: ANÁLISIS DE PRECIOS UNITARIOS
B3: ITEM | C3: DESCRIPCIÓN | L3: UNIDAD | N3: CANTIDAD
B4: 4.1 | C4: SUMINISTRO E INSTALACIÓN DE DIVISIONES DE BAÑO/DUCHA EN ACRILICO Y ALUMINIO, CORREDIZA, CON RODACHINES SUPERIORES | L4: UNIDAD | N4: 2
B6: I. EQUIPO
B8: DESCRIPCIÓN | I8: TIPO | K8: TARIFA/HORA | L8: RENDIMIENTO | N8: Vr. UNITARIO
B15: HERRAMIENTA Y EQUIPO MENOR (%) | L15: 0.1 | N15: =N48*L15 -> 3574.7047
B16: SUBTOTAL $ | N16: =SUM(N9:N15) -> 3574.7047
B18: II. MATERIALES
B20: DESCRIPCIÓN | J20: UNIDAD | K20: CANTIDAD | L20: PRECIO UNIT. | N20: Vr. UNITARIO
B21: SUMINISTRO DE DIVISIONES DE BAÑO/DUCHA EN ACRILICO Y ALUMINIO | J21: UNIDAD | K21: 1 | M21: 350000 | N21: =K21*M21 -> 350000
B22: MASILLA SUPERMASTICK 5G 28K | J22: GALON | K22: 0.2 | M22: 30000 | N22: =K22*M22 -> 6000
B27: SUBTOTAL $ | N27: =SUM(N21:N26) -> 356000
B29: III. TRANSPORTES
B30: MATERIAL | H30: UNIDAD | I30: CANTIDAD (1) | J30: DISTANCIA (2) | K30: (1) * (2) | L30: TARIFA | N30: Vr. UNITARIO
A31: T0010040 | B31: DIVISION DE BAÑO Y OTROS | H31: GL | I31: 1 | J31: 1 | K31: =I31*J31 -> 1 | L31: 10000 | N31: =L31*K31 -> 10000
B37: SUBTOTAL $ | N37: =N31+N32+N33+N34+N35 -> 10000
B39: IV. MANO DE OBRA
B41: TRABAJADOR | I41: JORNAL | J41: PRESTACIONES (%) | K41: JORNAL TOTAL | L41: RENDIMIENTO | N41: Vr. UNITARIO
A42: A0030040 | B42: MAESTRO | I42: =K42/J42*100 -> 30364.286 | J42: 185 | K42: 56173.93 | M42: 3 | N42: =K42/M42 -> 18724.643
B43: AYUDANTE | I43: =K43/J43*100 -> 27603.897 | J43: 185 | K43: 51067.21 | M43: 3 | N43: =K43/M43 -> 17022.403
B48: SUBTOTAL $ | N48: =N42+N43+N44+N45+N46 -> 35747.047
B50: TOTAL COSTO DIRECTO $ | N50: =N16+N27+N37+N48 -> 405321.75
B52: V. COSTOS INDIRECTOS
B54: Descripción | K54: Porcentaje | L54: Valor Total
B55: ADMINISTRACION | K55: 0.2 | L55: =N50*K55 -> 81064.35
B56: IMPREVISTOS | K56: 0.05 | L56: =N50*K56 -> 20266.088
B57: UTILIDAD | K57: 0.05 | L57: =N50*K57 -> 20266.088
B58: SUBTOTAL $ | N58: =L55+L56+L57 -> 121596.53
A60: Pfinal01 | B60: Precio Unitario Total Aproximado al Peso $ | N60: =N50+N58 -> 526918.28

Sheet 4.2
B2: ANÁLISIS DE PRECIOS UNITARIOS
B3: ITEM | C3: DESCRIPCIÓN | L3: UNIDAD | N3: CANTIDAD
B4: 4.2 | C4: SUMINISTRO E INSTALACIÓN DE ACCESORIOS DE BAÑO X6, CORONA, COLOR CROMO, PORTARROLLOS, TOALLERO ARGOLLA, JABONERA DUCHA, PERCHA SIMPLE, CEPILLERA | L4: GL | N4: 2
B6: I. EQUIPO
B8: DESCRIPCIÓN | I8: TIPO | K8: TARIFA/HORA | L8: RENDIMIENTO | N8: Vr. UNITARIO
B15: HERRAMIENTA Y EQUIPO MENOR (%) | L15: 0.1 | N15: =N48*L15 -> 536.2057
B16: SUBTOTAL $ | N16: =SUM(N9:N15) -> 536.2057
B18: II. MATERIALES
B20: DESCRIPCIÓN | J20: UNIDAD | K20: CANTIDAD | L20: PRECIO UNIT. | N20: Vr. UNITARIO
B21: SUMINISTRO E INSTALACIÓN DE ACCESORIOS DE BAÑO X6, CORONA, COLOR CROMO, PORTARROLLOS, TOALLERO ARGOLLA, JABONERA DUCHA, PERCHA SIMPLE, CEPILLERA VASO, TOALLERO BARRA. | J21: UNIDAD | K21: 1 | M21: 70000 | N21: =K21*M21 -> 70000
B22: MASILLA SUPERMASTICK 5G 28K | J22: GALON | K22: 0.2 | M22: 25000 | N22: =K22*M22 -> 5000
B23: ADHESIVO PEGAMENTO PARA ACCESORIOS DE BAÑO 12GR | J23: UNIDAD | K23: 2 | M23: 20000 | N23: =M23*K23 -> 40000
B27: SUBTOTAL $ | N27: =SUM(N21:N26) -> 115000
B29: III. TRANSPORTES
B30: MATERIAL | H30: UNIDAD | I30: CANTIDAD (1) | J30: DISTANCIA (2) | K30: (1) * (2) | L30: TARIFA | N30: Vr. UNITARIO
A31: T0010040
B37: SUBTOTAL $ | N37: =N31+N32+N33+N34+N35 -> 0
B39: IV. MANO DE OBRA
B41: TRABAJADOR | I41: JORNAL | J41: PRESTACIONES (%) | K41: JORNAL TOTAL | L41: RENDIMIENTO | N41: Vr. UNITARIO
A42: A0030040 | B42: ARMADOR | I42: =K42/J42*100 -> 30364.286 | J42: 185 | K42: 56173.93 | M42: 20 | N42: =K42/M42 -> 2808.6965
B43: AYUDANTE | I43: =K43/J43*100 -> 27603.897 | J43: 185 | K43: 51067.21 | M43: 20 | N43: =K43/M43 -> 2553.3605
B48: SUBTOTAL $ | N48: =N42+N43+N44+N45+N46 -> 5362.057
B50: TOTAL COSTO DIRECTO $ | N50: =N16+N27+N37+N48 -> 120898.26
B52: V. COSTOS INDIRECTOS
B54: Descripción | K54: Porcentaje | L54: Valor Total
B55: ADMINISTRACION | K55: 0.2 | L55: =N50*K55 -> 24179.653
B56: IMPREVISTOS | K56: 0.05 | L56: =N50*K56 -> 6044.9131
B57: UTILIDAD | K57: 0.05 | L57: =N50*K57 -> 6044.9131
B58: SUBTOTAL $ | N58: =L55+L56+L57 -> 36269.479
A60: Pfinal01 | B60: Precio Unitario Total Aproximado al Peso $ | N60: =N50+N58 -> 157167.74

Sheet 4.3
B2: ANÁLISIS DE PRECIOS UNITARIOS
B3: ITEM | C3: DESCRIPCIÓN | L3: UNIDAD | N3: CANTIDAD
B4: 4.3 | C4: SSUMINISTRO E INSTALACIÓN DE GRIFERÍA PARA LAVAMANOS CROMADA | L4: UNIDAD | N4: 2
B6: I. EQUIPO
B8: DESCRIPCIÓN | I8: TIPO | K8: TARIFA/HORA | L8: RENDIMIENTO | N8: Vr. UNITARIO
B15: HERRAMIENTA Y EQUIPO MENOR (%) | L15: 0.1 | N15: =N48*L15 -> 1787.3523
B16: SUBTOTAL $ | N16: =SUM(N9:N15) -> 1787.3523
B18: II. MATERIALES
B20: DESCRIPCIÓN | J20: UNIDAD | K20: CANTIDAD | L20: PRECIO UNIT. | N20: Vr. UNITARIO
B21: SUMINISTRO E INSTALACIÓN DE GRIFERÍA PARA LAVAMANOS MONOCONTROL DE GIRO MEDIO CROMADA | J21: UNIDAD | K21: 1 | M21: 80000 | N21: =K21*M21 -> 80000
B27: SUBTOTAL $ | N27: =SUM(N21:N26) -> 80000
B29: III. TRANSPORTES
B30: MATERIAL | H30: UNIDAD | I30: CANTIDAD (1) | J30: DISTANCIA (2) | K30: (1) * (2) | L30: TARIFA | N30: Vr. UNITARIO
A31: T0010040
B37: SUBTOTAL $ | N37: =N31+N32+N33+N34+N35 -> 0
B39: IV. MANO DE OBRA
B41: TRABAJADOR | I41: JORNAL | J41: PRESTACIONES (%) | K41: JORNAL TOTAL | L41: RENDIMIENTO | N41: Vr. UNITARIO
A42: A0030040 | B42: ARMADOR | I42: =K42/J42*100 -> 30364.286 | J42: 185 | K42: 56173.93 | M42: 6 | N42: =K42/M42 -> 9362.3217
B43: AYUDANTE | I43: =K43/J43*100 -> 27603.897 | J43: 185 | K43: 51067.21 | M43: 6 | N43: =K43/M43 -> 8511.2017
B48: SUBTOTAL $ | N48: =N42+N43+N44+N45+N46 -> 17873.523
B50: TOTAL COSTO DIRECTO $ | N50: =N16+N27+N37+N48 -> 99660.876
B52: V. COSTOS INDIRECTOS
B54: Descripción | K54: Porcentaje | L54: Valor Total
B55: ADMINISTRACION | K55: 0.2 | L55: =N50*K55 -> 19932.175
B56: IMPREVISTOS | K56: 0.05 | L56: =N50*K56 -> 4983.0438
B57: UTILIDAD | K57: 0.05 | L57: =N50*K57 -> 4983.0438
B58: SUBTOTAL $ | N58: =L55+L56+L57 -> 29898.263
A60: Pfinal01 | B60: Precio Unitario Total Aproximado al Peso $ | N60: =N50+N58 -> 129559.14

Sheet 5.1
B2: ANÁLISIS DE PRECIOS UNITARIOS
B3: ITEM | C3: DESCRIPCIÓN | L3: UNIDAD | N3: CANTIDAD
B4: 5.1 | C4: SUMINISTRO E INSTALACIÓN DE PUERTA CON HOJAS ENTAMBORADAS DE MADERA 0,90X2,20M INCLUYENDO MARCO, INCLUYE RETIRO DE MARCO EXISTENTE, COLOCACIÓN DEL NUEVO MARCO Y CHAPAS. | L4: UNIDAD | N4: 1
B6: I. EQUIPO
B8: DESCRIPCIÓN | I8: TIPO | K8: TARIFA/HORA | L8: RENDIMIENTO | N8: Vr. UNITARIO
B15: HERRAMIENTA Y EQUIPO MENOR (%) | L15: 0.1 | N15: =N48*L15 -> 714.94093
B16: SUBTOTAL $ | N16: =SUM(N9:N15) -> 714.94093
B18: II. MATERIALES
B20: DESCRIPCIÓN | J20: UNIDAD | K20: CANTIDAD | L20: PRECIO UNIT. | N20: Vr. UNITARIO
B21: SUMINISTRO DE PUERTA DE MADERA WENGUE 1X2,2OM INCLUYE MARCO Y ACCESORIOS | J21: UNIDAD | K21: 1 | M21: 200000 | N21: =K21*M21 -> 200000
B27: SUBTOTAL $ | N27: =SUM(N21:N26) -> 200000
B29: III. TRANSPORTES
B30: MATERIAL | H30: UNIDAD | I30: CANTIDAD (1) | J30: DISTANCIA (2) | K30: (1) * (2) | L30: TARIFA | N30: Vr. UNITARIO
A31: T0010040 | B31: PUERTA DE MADERA WENGUE 1X2,20M INCLUYE MARCO Y ACCESORIOS | H31: UNIDAD | I31: 1 | J31: 1 | K31: 1 | L31: 10000 | N31: =L31*K31 -> 10000
B37: SUBTOTAL $ | N37: =N31+N32+N33+N34+N35 -> 10000
B39: IV. MANO DE OBRA
B41: TRABAJADOR | I41: JORNAL | J41: PRESTACIONES (%) | K41: JORNAL TOTAL | L41: RENDIMIENTO | N41: Vr. UNITARIO
A42: A0030040 | B42: CARPINTERO | I42: =K42/J42*100 -> 30364.286 | J42: 185 | K42: 56173.93 | M42: 15 | N42: =K42/M42 -> 3744.9287
B43: AYUDANTE | I43: =K43/J43*100 -> 27603.897 | J43: 185 | K43: 51067.21 | M43: 15 | N43: =K43/M43 -> 3404.4807
B48: SUBTOTAL $ | N48: =N42+N43+N44+N45+N46 -> 7149.4093
B50: TOTAL COSTO DIRECTO $ | N50: =N16+N27+N37+N48 -> 217864.35
B52: V. COSTOS INDIRECTOS
B54: Descripción | K54: Porcentaje | L54: Valor Total
B55: ADMINISTRACION | K55: 0.2 | L55: =N50*K55 -> 43572.87
B56: IMPREVISTOS | K56: 0.05 | L56: =N50*K56 -> 10893.218
B57: UTILIDAD | K57: 0.05 | L57: =N50*K57 -> 10893.218
B58: SUBTOTAL $ | N58: =L55+L56+L57 -> 65359.305
A60: Pfinal01 | B60: Precio Unitario Total Aproximado al Peso $ | N60: =N50+N58 -> 283223.66

Sheet 5.2
B2: ANÁLISIS DE PRECIOS UNITARIOS
B3: ITEM | C3: DESCRIPCIÓN | L3: UNIDAD | N3: CANTIDAD
B4: 5.2 | C4: REPARACIÓN DE VENTANERÍA EN GENERAL, INCLUYE LIJAR Y PINTAR MARCOS METÁLICOS Y DE MADERA, REEMPLAZO DE (2) VIDRIOS ROTOS, REMPLAZO DE ANGEOS, LIMPIEZA | L4: GL | N4: 1
B6: I. EQUIPO
B8: DESCRIPCIÓN | I8: TIPO | K8: TARIFA/HORA | L8: RENDIMIENTO | N8: Vr. UNITARIO
B9: EQUIPO SOLDADURA ELECTRICA AC/DC 110/220 | K9: 5000 | M9: 1 | N9: =K9/M9 -> 5000
B15: HERRAMIENTA Y EQUIPO MENOR (%) | L15: 0.1 | N15: =N48*L15 -> 1702.2403
B16: SUBTOTAL $ | N16: =SUM(N9:N15) -> 6702.2403
P17: 30M2GL
B18: II. MATERIALES
B20: DESCRIPCIÓN | J20: UNIDAD | K20: CANTIDAD | L20: PRECIO UNIT. | N20: Vr. UNITARIO
B21: SILICONA TRANSPARENTE PARA VENTANAS 300ML SIKA | J21: UNIDAD | K21: 1 | M21: 15000 | N21: =K21*M21 -> 15000
B22: PINTURA BLANCA ANTICORROSIVA GLN | J22: GLN | K22: 2.5 | M22: 50000 | N22: =M22*K22 -> 125000
B23: VIDRIO INCOLORO DE 4 MM | J23: M2 | K23: 1.5 | M23: 20000 | N23: =K23*M23 -> 30000
B24: SOLDADURA ELECTRICA 6013 5/32 Pg TRUPER | J24: KG | K24: 0.5 | M24: 10000 | N24: =M24*K24 -> 5000
B25: ANGEO FIBRA DE VIDRIO | J25: M2 | K25: 9 | M25: 10000 | N25: =M25*K25 -> 90000
B26: BARNEX INCOLORO SEMIBRILLANTE 1/4 GALÓN PARA MARCOS MADERA | J26: UNIDAD | K26: 3 | M26: 23000 | N26: =M26*K26 -> 69000
B27: SUBTOTAL $ | N27: =SUM(N21:N26) -> 334000
B29: III. TRANSPORTES
B30: MATERIAL | H30: UNIDAD | I30: CANTIDAD (1) | J30: DISTANCIA (2) | K30: (1) * (2) | L30: TARIFA | N30: Vr. UNITARIO
A31: T0010040
B37: SUBTOTAL $ | N37: =N31+N32+N33+N34+N35 -> 0
B39: IV. MANO DE OBRA
B41: TRABAJADOR | I41: JORNAL | J41: PRESTACIONES (%) | K41: JORNAL TOTAL | L41: RENDIMIENTO | N41: Vr. UNITARIO
A42: A0030040 | B42: SOLDADOR | I42: =K42/J42*100 -> 55207.789 | J42: 185 | K42: 102134.41 | M42: 15 | N42: =K42/M42 -> 6808.9607
B43: AYUDANTE | I43: =K43/J43*100 -> 27603.897 | J43: 185 | K43: 51067.21 | M43: 10 | N43: =K43/M43 -> 5106.721
B44: PINTOR | I44: =K44/J44*100 -> 27603.897 | J44: 185 | K44: 51067.21 | M44: 10 | N44: =K44/M44 -> 5106.721
B48: SUBTOTAL $ | N48: =N42+N43+N44+N45+N46 -> 17022.403
B50: TOTAL COSTO DIRECTO $ | N50: =N16+N27+N37+N48 -> 357724.64
B52: V. COSTOS INDIRECTOS
B54: Descripción | K54: Porcentaje | L54: Valor Total
B55: ADMINISTRACION | K55: 0.2 | L55: =N50*K55 -> 71544.929
B56: IMPREVISTOS | K56: 0.05 | L56: =N50*K56 -> 17886.232
B57: UTILIDAD | K57: 0.05 | L57: =N50*K57 -> 17886.232
B58: SUBTOTAL $ | N58: =L55+L56+L57 -> 107317.39
A60: Pfinal01 | B60: Precio Unitario Total Aproximado al Peso $ | N60: =N50+N58 -> 465042.04

Sheet 5.3
B2: ANÁLISIS DE PRECIOS UNITARIOS
B3: ITEM | C3: DESCRIPCIÓN | L3: UNIDAD | N3: CANTIDAD
B4: 5.3 | C4: PINTURA DE PUERTAS INTERIORES Y EXTERIORES, METÁLICAS (2) DE MADERA (2), INCLUYE LIJAR MARCOS Y DESMONTAJE Y MONTAJE DE PUERTAS | L4: UNIDAD | N4: 4
B6: I. EQUIPO
B8: DESCRIPCIÓN | I8: TIPO | K8: TARIFA/HORA | L8: RENDIMIENTO | N8: Vr. UNITARIO
B15: HERRAMIENTA Y EQUIPO MENOR (%) | L15: 0.05 | N15: =N48*L15 -> 1276.6803
B16: SUBTOTAL $ | N16: =SUM(N9:N15) -> 1276.6803
P17: 30M2GL
B18: II. MATERIALES
B20: DESCRIPCIÓN | J20: UNIDAD | K20: CANTIDAD | L20: PRECIO UNIT. | N20: Vr. UNITARIO
B21: ESMALTE INTERIOR PARA MADERA WENGUE MATE 1 GALÓN | J21: GALON | K21: 0.3 | M21: 45000 | N21: =M21*K21 -> 13500
B22: PINTULUX 1 GALÓN BLANCO 3 EN 1, SUPERFICIES METÁLICAS | J22: GALON | K22: 0.33 | M22: 70000 | N22: =M22*K22 -> 23100
B27: SUBTOTAL $ | N27: =SUM(N21:N26) -> 36600
B29: III. TRANSPORTES
B30: MATERIAL | H30: UNIDAD | I30: CANTIDAD (1) | J30: DISTANCIA (2) | K30: (1) * (2) | L30: TARIFA | N30: Vr. UNITARIO
A31: T0010040
B37: SUBTOTAL $ | N37: =N31+N32+N33+N34+N35 -> 0
B39: IV. MANO DE OBRA
B41: TRABAJADOR | I41: JORNAL | J41: PRESTACIONES (%) | K41: JORNAL TOTAL | L41: RENDIMIENTO | N41: Vr. UNITARIO
A42: A0030040 | B42: MAESTRO | I42: =K42/J42*100 -> 27603.897 | J42: 185 | K42: 51067.21 | M42: 4 | N42: =K42/M42 -> 12766.802
B43: AYUDANTE | I43: =K43/J43*100 -> 27603.897 | J43: 185 | K43: 51067.21 | M43: 4 | N43: =K43/M43 -> 12766.802
B48: SUBTOTAL $ | N48: =N42+N43+N44+N45+N46 -> 25533.605
B50: TOTAL COSTO DIRECTO $ | N50: =N16+N27+N37+N48 -> 63410.285
B52: V. COSTOS INDIRECTOS
B54: Descripción | K54: Porcentaje | L54: Valor Total
B55: ADMINISTRACION | K55: 0.2 | L55: =N50*K55 -> 12682.057
B56: IMPREVISTOS | K56: 0.05 | L56: =N50*K56 -> 3170.5143
B57: UTILIDAD | K57: 0.05 | L57: =N50*K57 -> 3170.5143
B58: SUBTOTAL $ | N58: =L55+L56+L57 -> 19023.086
A60: Pfinal01 | B60: Precio Unitario Total Aproximado al Peso $ | N60: =N50+N58 -> 82433.371

Sheet 6.1
B2: ANÁLISIS DE PRECIOS UNITARIOS
B3: ITEM | C3: DESCRIPCIÓN | L3: UNIDAD | N3: CANTIDAD
B4: 6.1 | C4: SUMINISTRO Y APLICACIÓN DE 3 MANOS DE PINTURA VINILO TIPO 1 (ALTA CALIDAD) INTERIORES. | L4: M2 | N4: 150
B6: I. EQUIPO
B8: DESCRIPCIÓN | I8: TIPO | K8: TARIFA/HORA | L8: RENDIMIENTO | N8: Vr. UNITARIO
B9: ANDAMIO TUBULAR CERTIFICADO | K9: 4000 | M9: 30 | N9: =K9/M9 -> 133.33333
B15: HERRAMIENTA Y EQUIPO MENOR (%) | L15: 0.1 | N15: =N48*L15 -> 255.33605
B16: SUBTOTAL $ | N16: =SUM(N9:N15) -> 388.66938
B18: II. MATERIALES
B20: DESCRIPCIÓN | J20: UNIDAD | K20: CANTIDAD | L20: PRECIO UNIT. | N20: Vr. UNITARIO
B21: VINILO BLANCO ALMENDRA SUPERLAVABLE 5 GALONES | J21: GLN | K21: 0.0065 | M21: 190000 | N21: =M21*K21 -> 1235
B27: SUBTOTAL $ | N27: =SUM(N21:N26) -> 1235
B29: III. TRANSPORTES
B30: MATERIAL | H30: UNIDAD | I30: CANTIDAD (1) | J30: DISTANCIA (2) | K30: (1) * (2) | L30: TARIFA | N30: Vr. UNITARIO
A31: T0010040
B37: SUBTOTAL $ | N37: =N31+N32+N33+N34+N35 -> 0
B39: IV. MANO DE OBRA
B41: TRABAJADOR | I41: JORNAL | J41: PRESTACIONES (%) | K41: JORNAL TOTAL | L41: RENDIMIENTO | N41: Vr. UNITARIO
A42: A0030040 | B42: Maestro | I42: =K42/J42*100 -> 27603.897 | J42: 185 | K42: 51067.21 | M42: 20 | N42: =K42/M42 -> 2553.3605
B48: SUBTOTAL $ | N48: =N42+N43+N44+N45+N46 -> 2553.3605
B50: TOTAL COSTO DIRECTO $ | N50: =N16+N27+N37+N48 -> 4177.0299
B52: V. COSTOS INDIRECTOS
B54: Descripción | K54: Porcentaje | L54: Valor Total
B55: ADMINISTRACION | K55: 0.2 | L55: =N50*K55 -> 835.40598
B56: IMPREVISTOS | K56: 0.05 | L56: =N50*K56 -> 208.85149
B57: UTILIDAD | K57: 0.05 | L57: =N50*K57 -> 208.85149
B58: SUBTOTAL $ | N58: =L55+L56+L57 -> 1253.109
A60: Pfinal01 | B60: Precio Unitario Total Aproximado al Peso $ | N60: =N50+N58 -> 5430.1388

Sheet 6.2
B2: ANÁLISIS DE PRECIOS UNITARIOS
B3: ITEM | C3: DESCRIPCIÓN | L3: UNIDAD | N3: CANTIDAD
B4: 6.2 | C4: SUMINISTRO Y APLICACIÓN DE 3 MANOS DE PINTURA KORAZA (ALTA CALIDAD) EXTERIORES. | L4: M2 | N4: 100
B6: I. EQUIPO
B8: DESCRIPCIÓN | I8: TIPO | K8: TARIFA/HORA | L8: RENDIMIENTO | N8: Vr. UNITARIO
B9: ANDAMIO TUBULAR CERTIFICADO | K9: 4000 | M9: 30 | N9: =K9/M9 -> 133.33333
B15: HERRAMIENTA Y EQUIPO MENOR (%) | L15: 0.1 | N15: =N48*L15 -> 255.33605
B16: SUBTOTAL $ | N16: =SUM(N9:N15) -> 388.66938
B18: II. MATERIALES
B20: DESCRIPCIÓN | J20: UNIDAD | K20: CANTIDAD | L20: PRECIO UNIT. | N20: Vr. UNITARIO
B21: PINTURA TIPO KORAZA PARA EXTERIORES BLANCO - CUÑETE 5 GAL | J21: GLN | K21: 0.0065 | M21: 300000 | N21: =M21*K21 -> 1950
B27: SUBTOTAL $ | N27: =SUM(N21:N26) -> 1950
B29: III. TRANSPORTES
B30: MATERIAL | H30: UNIDAD | I30: CANTIDAD (1) | J30: DISTANCIA (2) | K30: (1) * (2) | L30: TARIFA | N30: Vr. UNITARIO
A31: T0010040
B37: SUBTOTAL $ | N37: =N31+N32+N33+N34+N35 -> 0
B39: IV. MANO DE OBRA
B41: TRABAJADOR | I41: JORNAL | J41: PRESTACIONES (%) | K41: JORNAL TOTAL | L41: RENDIMIENTO | N41: Vr. UNITARIO
A42: A0030040 | B42: Maestro | I42: =K42/J42*100 -> 27603.897 | J42: 185 | K42: 51067.21 | M42: 20 | N42: =K42/M42 -> 2553.3605
B48: SUBTOTAL $ | N48: =N42+N43+N44+N45+N46 -> 2553.3605
B50: TOTAL COSTO DIRECTO $ | N50: =N16+N27+N37+N48 -> 4892.0299
B52: V. COSTOS INDIRECTOS
B54: Descripción | K54: Porcentaje | L54: Valor Total
B55: ADMINISTRACION | K55: 0.2 | L55: =N50*K55 -> 978.40598
B56: IMPREVISTOS | K56: 0.05 | L56: =N50*K56 -> 244.60149
B57: UTILIDAD | K57: 0.05 | L57: =N50*K57 -> 244.60149
B58: SUBTOTAL $ | N58: =L55+L56+L57 -> 1467.609
A60: Pfinal01 | B60: Precio Unitario Total Aproximado al Peso $ | N60: =N50+N58 -> 6359.6388

Sheet 7.1
B2: ANÁLISIS DE PRECIOS UNITARIOS
B3: ITEM | C3: DESCRIPCIÓN | L3: UNIDAD | N3: CANTIDAD
B4: 7.1 | C4: REVISIÓN Y REPARACIÓN DE INSTALACIONES HIDRAULICAS PARA CONTROL DE FUGAS CAUSANTES DE HUMEDAD. | L4: GL | N4: 1
B6: I. EQUIPO
B8: DESCRIPCIÓN | I8: TIPO | K8: TARIFA/HORA | L8: RENDIMIENTO | N8: Vr. UNITARIO
B15: HERRAMIENTA Y EQUIPO MENOR (%) | L15: 0.1 | N15: =N48*L15 -> 3064.0323
B16: SUBTOTAL $ | N16: =SUM(N9:N15) -> 3064.0323
B18: II. MATERIALES
B20: DESCRIPCIÓN | J20: UNIDAD | K20: CANTIDAD | L20: PRECIO UNIT. | N20: Vr. UNITARIO
B21: PAÑETE IMPERMEABILIZADO MUROS 1:3 | J21: M2 | K21: 20 | M21: 9000 | N21: =K21*M21 -> 180000
B22: ESTUCO ACRILICO | J22: M2 | K22: 20 | M22: 16000 | N22: =K22*M22 -> 320000
B23: TUBO PVC HIDRAULICO (SEGÚN DEMANDA) | J23: GL | K23: 1 | M23: 50000 | N23: =K23*M23 -> 50000
B27: SUBTOTAL $ | N27: =SUM(N21:N26) -> 550000
B29: III. TRANSPORTES
B30: MATERIAL | H30: UNIDAD | I30: CANTIDAD (1) | J30: DISTANCIA (2) | K30: (1) * (2) | L30: TARIFA | N30: Vr. UNITARIO
A31: T0010040
B37: SUBTOTAL $ | N37: =N31+N32+N33+N34+N35 -> 0
B39: IV. MANO DE OBRA
B41: TRABAJADOR | I41: JORNAL | J41: PRESTACIONES (%) | K41: JORNAL TOTAL | L41: RENDIMIENTO | N41: Vr. UNITARIO
A42: A0030040 | B42: UN OFICIAL Y UN OBRERO | I42: =K42/J42*100 -> 82811.684 | J42: 185 | K42: 153201.62 | M42: 5 | N42: =K42/M42 -> 30640.323
B48: SUBTOTAL $ | N48: =N42+N43+N44+N45+N46 -> 30640.323
B50: TOTAL COSTO DIRECTO $ | N50: =N16+N27+N37+N48 -> 583704.36
B52: V. COSTOS INDIRECTOS
B54: Descripción | K54: Porcentaje | L54: Valor Total
B55: ADMINISTRACION | K55: 0.2 | L55: =N50*K55 -> 116740.87
B56: IMPREVISTOS | K56: 0.05 | L56: =N50*K56 -> 29185.218
B57: UTILIDAD | K57: 0.05 | L57: =N50*K57 -> 29185.218
B58: SUBTOTAL $ | N58: =L55+L56+L57 -> 175111.31
A60: Pfinal01 | B60: Precio Unitario Total Aproximado al Peso $ | N60: =N50+N58 -> 758815.66

Sheet 8.1
B2: ANÁLISIS DE PRECIOS UNITARIOS
B3: ITEM | C3: DESCRIPCIÓN | L3: UNIDAD | N3: CANTIDAD
B4: 8.1 | C4: INSTALACIÓN DE RED DE GAS, INCLUYE REVISÓN CON ENTIDAD CERTIFICADA | L4: GL | N4: 1
B6: I. EQUIPO
B8: DESCRIPCIÓN | I8: TIPO | K8: TARIFA/HORA | L8: RENDIMIENTO | N8: Vr. UNITARIO
B15: HERRAMIENTA Y EQUIPO MENOR (%) | L15: 0.1 | N15: =N47*L15 -> 936.23217
B16: SUBTOTAL $ | N16: =SUM(N9:N15) -> 936.23217
B18: II. MATERIALES
B20: DESCRIPCIÓN | J20: UNIDAD | K20: CANTIDAD | L20: PRECIO UNIT. | N20: Vr. UNITARIO
B21: SUMINISTRO E INSTALACIÓN DE PIPETA DE GAS 40 LB, CON ACCESORIOS | J21: UNIDAD | K21: 2 | M21: 110000 | N21: =K21*M21 -> 220000
B27: SUBTOTAL $ | N27: =SUM(N21:N26) -> 220000
B29: III. TRANSPORTES
B30: MATERIAL | H30: UNIDAD | I30: CANTIDAD (1) | J30: DISTANCIA (2) | K30: (1) * (2) | L30: TARIFA | N30: Vr. UNITARIO
A31: T0010040
B37: SUBTOTAL $ | N37: =N31+N32+N33+N34+N35 -> 0
B39: IV. MANO DE OBRA
B41: TRABAJADOR | I41: JORNAL | J41: PRESTACIONES (%) | K41: JORNAL TOTAL | L41: RENDIMIENTO | N41: Vr. UNITARIO
A42: A0030040 | B42: Oficial certificado | I42: =K42/J42*100 -> 30364.286 | J42: 185 | K42: 56173.93 | M42: 6 | N42: =K42/M42 -> 9362.3217
B47: SUBTOTAL $ | N47: =N42+N43+N44+N45 -> 9362.3217
B49: TOTAL COSTO DIRECTO $ | N49: =N16+N27+N37+N47 -> 230298.55
B51: V. COSTOS INDIRECTOS
B53: Descripción | K53: Porcentaje | L53: Valor Total
B54: ADMINISTRACION | K54: 0.2 | L54: =N49*K54 -> 46059.711
B55: IMPREVISTOS | K55: 0.05 | L55: =N49*K55 -> 11514.928
B56: UTILIDAD | K56: 0.05 | L56: =N49*K56 -> 11514.928
B57: SUBTOTAL $ | N57: =L54+L55+L56 -> 69089.566
A59: Pfinal01 | B59: Precio Unitario Total Aproximado al Peso $ | N59: =N49+N57 -> 299388.12

Sheet 9.1
B2: ANÁLISIS DE PRECIOS UNITARIOS
B3: ITEM | C3: DESCRIPCIÓN | L3: UNIDAD | N3: CANTIDAD
B4: 9.1 | C4: TRASLADO, REVISIÓN, MANTENIMIENTO E INTALACIÓN DE AIRES ACONDICIONADOS | L4: UNIDAD | N4: 2
B6: I. EQUIPO
B8: DESCRIPCIÓN | I8: TIPO | K8: TARIFA/HORA | L8: RENDIMIENTO | N8: Vr. UNITARIO
B15: HERRAMIENTA Y EQUIPO MENOR (%) | L15: 0.1 | N15: =N47*L15 -> 9538.6443
B16: SUBTOTAL $ | N16: =SUM(N9:N15) -> 9538.6443
B18: II. MATERIALES
B20: DESCRIPCIÓN | J20: UNIDAD | K20: CANTIDAD | L20: PRECIO UNIT. | N20: Vr. UNITARIO
B21: DEMONTE Y DIAGNOSTICO DE AIRE ACONDICIONADO TIPO MINI SPLIT DIFERENTES CAPACIDADES | J21: GL | K21: 1 | M21: 40000 | N21: =M21*K21 -> 40000
B22: MANTENIMIENTO PREVENTIVO AIRE ACONDICIONADO TIPO SPLIT DIFERENTES CAPACIDADES | J22: GL | K22: 1 | M22: 50000 | N22: =M22*K22 -> 50000
B23: MATERIAL DE REFRIGERACIÓN, REFRIGERANTE, MATERIAL ELECTRICO, DRENAJES Y SOPORTES NECESARIOS PARA LA INSTALACIÓN DE AIRES ACONDICIONADOS | J23: GL | K23: 1 | M23: 350000 | N23: =M23*K23 -> 350000
B26: SUBTOTAL $ | N26: =SUM(N21:N25) -> 440000
B28: III. TRANSPORTES
B29: MATERIAL | H29: UNIDAD | I29: CANTIDAD (1) | J29: DISTANCIA (2) | K29: (1) * (2) | L29: TARIFA | N29: Vr. UNITARIO
A30: T0010040 | B30: 2 EQUIPOS DE AIRE ACONDICIONADO | H30: UNIDAD*KM | I30: 1 | J30: 30 | K30: =J30*I30 -> 30 | L30: 2000 | N30: =K30*L30 -> 60000
B36: SUBTOTAL $ | N36: =N30+N31+N32+N33+N34 -> 60000
B38: IV. MANO DE OBRA
B40: TRABAJADOR | I40: JORNAL | J40: PRESTACIONES (%) | K40: JORNAL TOTAL | L40: RENDIMIENTO | N40: Vr. UNITARIO
A41: A0030040 | B41: INGENIERO ESPECIALISTA PRUEBA DE INTEGRIDAD | I41: =K41/J41*100 -> 281757.54 | J41: 185 | K41: 521251.45 | M41: 6 | N41: =K41/M41 -> 86875.241
B42: AYUDANTE | I42: =K42/J42*100 -> 27603.897 | J42: 185 | K42: 51067.21 | M42: 6 | N42: =K42/M42 -> 8511.2017
B47: SUBTOTAL $ | N47: =N41+N42+N43+N44+N45 -> 95386.443
B49: TOTAL COSTO DIRECTO $ | N49: =N16+N26+N36+N47 -> 604925.09
B51: V. COSTOS INDIRECTOS
B53: Descripción | K53: Porcentaje | L53: Valor Total
B54: ADMINISTRACION | K54: 0.2 | L54: =N49*K54 -> 120985.02
B55: IMPREVISTOS | K55: 0.05 | L55: =N49*K55 -> 30246.254
B56: UTILIDAD | K56: 0.05 | L56: =N49*K56 -> 30246.254
B57: SUBTOTAL $ | N57: =L54+L55+L56 -> 181477.53
A59: Pfinal01 | B59: Precio Unitario Total Aproximado al Peso $ | N59: =N49+N57 -> 786402.61

Sheet 10.1
B2: ANÁLISIS DE PRECIOS UNITARIOS
B3: ITEM | C3: DESCRIPCIÓN | L3: UNIDAD | N3: CANTIDAD
B4: 10.1 | C4: RESTAURACIÓN DE MUEBLES (CAMAS), INCLUYE LIJAR, PINTAR E INMUNIZAR | L4: UNIDAD | N4: 7
B6: I. EQUIPO
B8: DESCRIPCIÓN | I8: TIPO | K8: TARIFA/HORA | L8: RENDIMIENTO | N8: Vr. UNITARIO
B15: HERRAMIENTA Y EQUIPO MENOR (%) | L15: 0.1 | N15: =N48*L15 -> 2091.3442
B16: SUBTOTAL $ | N16: =SUM(N9:N15) -> 2091.3442
B18: II. MATERIALES
B20: DESCRIPCIÓN | J20: UNIDAD | K20: CANTIDAD | L20: PRECIO UNIT. | N20: Vr. UNITARIO
B21: ESMALTE INTERIOR PARA MADERA WENGUE MATE 1 GALÓN | J21: GL | K21: 0.5 | M21: 45000 | N21: =M21*K21 -> 22500
B22: ACEITE INMUNIZANTE Y PROTECTOR BASE AGUA PINO INTERIOR 500ML | J22: GL | K22: 2 | M22: 25000 | N22: =M22*K22 -> 50000
B27: SUBTOTAL $ | N27: =SUM(N21:N26) -> 72500
B29: III. TRANSPORTES
B30: MATERIAL | H30: UNIDAD | I30: CANTIDAD (1) | J30: DISTANCIA (2) | K30: (1) * (2) | L30: TARIFA | N30: Vr. UNITARIO
A31: T0010040
B37: SUBTOTAL $ | N37: =N31+N32+N33+N34+N35 -> 0
B39: IV. MANO DE OBRA
B41: TRABAJADOR | I41: JORNAL | J41: PRESTACIONES (%) | K41: JORNAL TOTAL | L41: RENDIMIENTO | N41: Vr. UNITARIO
A42: A0030040 | B42: CARPINTERO | I42: =K42/J42*100 -> 28918.919 | J42: 185 | K42: 53500 | M42: 5 | N42: =K42/M42 -> 10700
B43: AYUDANTE | I43: =K43/J43*100 -> 27603.897 | J43: 185 | K43: 51067.21 | M43: 5 | N43: =K43/M43 -> 10213.442
B48: SUBTOTAL $ | N48: =N42+N43+N44+N45+N46 -> 20913.442
B50: TOTAL COSTO DIRECTO $ | N50: =N16+N27+N37+N48 -> 95504.786
B52: V. COSTOS INDIRECTOS
B54: Descripción | K54: Porcentaje | L54: Valor Total
B55: ADMINISTRACION | K55: 0.2 | L55: =N50*K55 -> 19100.957
B56: IMPREVISTOS | K56: 0.05 | L56: =N50*K56 -> 4775.2393
B57: UTILIDAD | K57: 0.05 | L57: =N50*K57 -> 4775.2393
B58: SUBTOTAL $ | N58: =L55+L56+L57 -> 28651.436
A60: Pfinal01 | B60: Precio Unitario Total Aproximado al Peso $ | N60: =N50+N58 -> 124156.22

Sheet 11.1
B2: ANÁLISIS DE PRECIOS UNITARIOS
B3: ITEM | C3: DESCRIPCIÓN | L3: UNIDAD | N3: CANTIDAD
B4: 11.1 | C4: RESTAURACIÓN DE ZONA BBQ, INCLUYE RETIRO E INSTALACIÓN DE CUBIERTA BBQ NUEVA Y CAMBIO DE LADRILLOS DETERIORADOS; ADECUACIÓN MURO CIRCULAR EN LADRILLO, UBICADO EN FRENTE AL BBQ, REMPLAZANDO LADRILLOS NECESARIOS. | L4: GL | N4: 1
B6: I. EQUIPO
B8: DESCRIPCIÓN | I8: TIPO | K8: TARIFA/HORA | L8: RENDIMIENTO | N8: Vr. UNITARIO
B15: HERRAMIENTA Y EQUIPO MENOR (%) | L15: 0.1 | N15: =N49*L15 -> 1787.3523
B16: SUBTOTAL $ | N16: =SUM(N9:N15) -> 1787.3523
B18: II. MATERIALES
B20: DESCRIPCIÓN | J20: UNIDAD | K20: CANTIDAD | L20: PRECIO UNIT. | N20: Vr. UNITARIO
B21: CUBIERTA A CUATRO AGUAS (2X2M) ESTRUCTURA TUBULAR Y LAMINAS GALVANIZADAS | J21: UNIDAD | K21: 1 | M21: 500000 | N21: =K21*M21 -> 500000
B22: PINTULUX 1 GALÓN CAOBA 3 EN 1, SUPERFICIES METÁLICAS | J22: GALON | K22: 0.4 | M22: 75500 | N22: =M22*K22 -> 30200
B23: KORAZA LADRILLO NATURAL INCOLORO | J23: GALON | K23: 1 | M23: 30000 | N23: =M23*K23 -> 30000
B24: SISTEMA DE PARRILLA ABATIBLE Y DESPLAZAMIENTO VERTICAL CON MANIVELA Y CADENA, (AJUSTADO AL ESPACIO) | J24: UNIDAD | K24: 1 | M24: 500000 | N24: =M24*K24 -> 500000
B25: LADRILLO PRENSADO MACIZO SANTA FÉ | J25: UNIDAD | K25: 15 | M25: 800 | N25: =M25*K25 -> 12000
B26: ARENA DE PEGA 50KG | J26: UNIDAD | K26: 1 | M26: 5000 | N26: =M26*K26 -> 5000
B27: CEMENTO PARA LADRILLOS REFRACTARIOS LUNGE X10KG | J27: UNIDAD | K27: 3 | M27: 9000 | N27: =M27*K27 -> 27000
B28: SUBTOTAL $ | N28: =SUM(N21:N27) -> 1104200
B30: III. TRANSPORTES
B31: MATERIAL | H31: UNIDAD | I31: CANTIDAD (1) | J31: DISTANCIA (2) | K31: (1) * (2) | L31: TARIFA | N31: Vr. UNITARIO
A32: T0010040
B38: SUBTOTAL $ | N38: =N32+N33+N34+N35+N36 -> 0
B40: IV. MANO DE OBRA
B42: TRABAJADOR | I42: JORNAL | J42: PRESTACIONES (%) | K42: JORNAL TOTAL | L42: RENDIMIENTO | N42: Vr. UNITARIO
A43: A0030040 | B43: MAESTRO DE OBRA | I43: =K43/J43*100 -> 30364.286 | J43: 185 | K43: 56173.93 | M43: 6 | N43: =K43/M43 -> 9362.3217
B44: AYUDANTE | I44: =K44/J44*100 -> 27603.897 | J44: 185 | K44: 51067.21 | M44: 6 | N44: =K44/M44 -> 8511.2017
B49: SUBTOTAL $ | N49: =N43+N44+N45+N46+N47 -> 17873.523
B51: TOTAL COSTO DIRECTO $ | N51: =N16+N28+N38+N49 -> 1123860.9
B53: V. COSTOS INDIRECTOS
B55: Descripción | K55: Porcentaje | L55: Valor Total
B56: ADMINISTRACION | K56: 0.2 | L56: =N51*K56 -> 224772.18
B57: IMPREVISTOS | K57: 0.05 | L57: =N51*K57 -> 56193.044
B58: UTILIDAD | K58: 0.05 | L58: =N51*K58 -> 56193.044
B59: SUBTOTAL $ | N59: =L56+L57+L58 -> 337158.26
A61: Pfinal01 | B61: Precio Unitario Total Aproximado al Peso $ | N61: =N51+N59 -> 1461019.1

Sheet 12.1
B2: ANÁLISIS DE PRECIOS UNITARIOS
B3: ITEM | C3: DESCRIPCIÓN | L3: UNIDAD | N3: CANTIDAD
B4: 12.1 | C4: RETIRO DE COLUMPIOS Y SUMINISTRO, INSTALACIÓN Y DOTACIÓN DE CANCHAS DE MINIFUTBOL EN LOTE CONTIGUO AL PARQUEADERO | L4: GL | N4: 1
B6: I. EQUIPO
B8: DESCRIPCIÓN | I8: TIPO | K8: TARIFA/HORA | L8: RENDIMIENTO | N8: Vr. UNITARIO
B16: SUBTOTAL $ | N16: =SUM(N9:N15) -> 0
B18: II. MATERIALES
B20: DESCRIPCIÓN | J20: UNIDAD | K20: CANTIDAD | L20: PRECIO UNIT. | N20: Vr. UNITARIO
B21: DOS ARCOS DE MINI FUTBOL TUBULARES CON MALLA | J21: UNIDAD | K21: 1 | M21: 550000 | N21: =K21*M21 -> 550000
B27: SUBTOTAL $ | N27: =SUM(N21:N26) -> 550000
B29: III. TRANSPORTES
B30: MATERIAL | H30: UNIDAD | I30: CANTIDAD (1) | J30: DISTANCIA (2) | K30: (1) * (2) | L30: TARIFA | N30: Vr. UNITARIO
A31: T0010040 | B31: COLUMPIOS ANTIGUOS | H31: GL | I31: 1 | J31: 1 | K31: =I31*J31 -> 1 | L31: 35000 | N31: =L31*K31 -> 35000
B37: SUBTOTAL $ | N37: =N31+N32+N33+N34+N35 -> 35000
B39: IV. MANO DE OBRA
B41: TRABAJADOR | I41: JORNAL | J41: PRESTACIONES (%) | K41: JORNAL TOTAL | L41: RENDIMIENTO | N41: Vr. UNITARIO
A42: A0030040 | B42: ARMADOR | I42: =K42/J42*100 -> 30364.286 | J42: 185 | K42: 56173.93 | M42: 3 | N42: =K42/M42 -> 18724.643
B43: AYUDANTE | I43: =K43/J43*100 -> 27603.897 | J43: 185 | K43: 51067.21 | M43: 3 | N43: =K43/M43 -> 17022.403
B48: SUBTOTAL $ | N48: =N42+N43+N44+N45+N46 -> 35747.047
B50: TOTAL COSTO DIRECTO $ | N50: =N16+N27+N37+N48 -> 620747.05
B52: V. COSTOS INDIRECTOS
B54: Descripción | K54: Porcentaje | L54: Valor Total
B55: ADMINISTRACION | K55: 0.2 | L55: =N50*K55 -> 124149.41
B56: IMPREVISTOS | K56: 0.05 | L56: =N50*K56 -> 31037.352
B57: UTILIDAD | K57: 0.05 | L57: =N50*K57 -> 31037.352
B58: SUBTOTAL $ | N58: =L55+L56+L57 -> 186224.11
A60: Pfinal01 | B60: Precio Unitario Total Aproximado al Peso $ | N60: =N50+N58 -> 806971.16

Sheet 13.1
B2: ANÁLISIS DE PRECIOS UNITARIOS
B3: ITEM | C3: DESCRIPCIÓN | L3: UNIDAD | N3: CANTIDAD
B4: 13.1 | C4: LIMPIEZA, RECOLECCIÓN Y EVACUACIÓN DE ESCOMBROS | L4: GL | N4: 1
B6: I. EQUIPO
B8: DESCRIPCIÓN | I8: TIPO | K8: TARIFA/HORA | L8: RENDIMIENTO | N8: Vr. UNITARIO
B15: HERRAMIENTA Y EQUIPO MENOR (%) | L15: 0.2 | N15: =N48*L15 -> 15115.893
B16: SUBTOTAL $ | N16: =SUM(N9:N15) -> 15115.893
B18: II. MATERIALES
B20: DESCRIPCIÓN | J20: UNIDAD | K20: CANTIDAD | L20: PRECIO UNIT. | N20: Vr. UNITARIO
B27: SUBTOTAL $ | N27: =SUM(N21:N26) -> 0
B29: III. TRANSPORTES
B30: MATERIAL | H30: UNIDAD | I30: CANTIDAD (1) | J30: DISTANCIA (2) | K30: (1) * (2) | L30: TARIFA | N30: Vr. UNITARIO
A31: T0010040 | B31: TRANSPORTE MATERIAL DE DEMOLICIÓN | H31: M3*KM | I31: 1 | J31: 2 | K31: =J31*I31 -> 2 | L31: 50000 | N31: =L31*K31 -> 100000
B37: SUBTOTAL $ | N37: =N31+N32+N33+N34+N35 -> 100000
B39: IV. MANO DE OBRA
B41: TRABAJADOR | I41: JORNAL | J41: PRESTACIONES (%) | K41: JORNAL TOTAL | L41: RENDIMIENTO | N41: Vr. UNITARIO
A42: A0030040 | B42: Obrero (2) | I42: 102134.41 | J42: 185 | K42: =+J42*I42% -> 188948.66 | M42: 5 | N42: =+K42/M42 -> 37789.732
B43: Obrero (2) | I43: 102134.41 | J43: 185 | K43: =+J43*I43% -> 188948.66 | M43: 5 | N43: =+K43/M43 -> 37789.732
B48: SUBTOTAL $ | N48: =N42+N43+N44+N45+N46 -> 75579.464
B50: TOTAL COSTO DIRECTO $ | N50: =N16+N27+N37+N48 -> 190695.36
B52: V. COSTOS INDIRECTOS
B54: Descripción | K54: Porcentaje | L54: Valor Total
B55: ADMINISTRACION | K55: 0.2 | L55: =N50*K55 -> 38139.071
B56: IMPREVISTOS | K56: 0.05 | L56: =N50*K56 -> 9534.7678
B57: UTILIDAD | K57: 0.05 | L57: =N50*K57 -> 9534.7678
B58: SUBTOTAL $ | N58: =L55+L56+L57 -> 57208.607
A60: Pfinal01 | B60: Precio Unitario Total Aproximado al Peso $ | N60: =N50+N58 -> 247903.96

Sheet 13.2
B2: ANÁLISIS DE PRECIOS UNITARIOS
B3: ITEM | C3: DESCRIPCIÓN | L3: UNIDAD | N3: CANTIDAD
B4: 13.2 | C4: SUMINISTRO E INSTALACIÓN DE TAPA PARA TACOS DE LUZ | L4: UNIDAD | N4: 1
B6: I. EQUIPO
B8: DESCRIPCIÓN | I8: TIPO | K8: TARIFA/HORA | L8: RENDIMIENTO | N8: Vr. UNITARIO
B15: HERRAMIENTA Y EQUIPO MENOR (%) | L15: 0.1 | N15: =N48*L15 -> 944.7433
B16: SUBTOTAL $ | N16: =SUM(N9:N15) -> 944.7433
B18: II. MATERIALES
B20: DESCRIPCIÓN | J20: UNIDAD | K20: CANTIDAD | L20: PRECIO UNIT. | N20: Vr. UNITARIO
B21: TAPA METALICA CON MARCO (30X45CM) | J21: UNIDAD | K21: 1 | L21: 60000 | N21: =L21*K21 -> 60000
B22: PERNOS | J22: UNIDAD | K22: 4 | L22: 500 | N22: =L22*K22 -> 2000
B27: SUBTOTAL $ | N27: =SUM(N21:N26) -> 62000
B29: III. TRANSPORTES
B30: MATERIAL | H30: UNIDAD | I30: CANTIDAD (1) | J30: DISTANCIA (2) | K30: (1) * (2) | L30: TARIFA | N30: Vr. UNITARIO
A31: T0010040
B37: SUBTOTAL $ | N37: =N31+N32+N33+N34+N35 -> 0
B39: IV. MANO DE OBRA
B41: TRABAJADOR | I41: JORNAL | J41: PRESTACIONES (%) | K41: JORNAL TOTAL | L41: RENDIMIENTO | N41: Vr. UNITARIO
A42: A0030040 | B42: Obrero (2) | I42: 102134.41 | J42: 185 | K42: =+J42*I42% -> 188948.66 | M42: 20 | N42: =+K42/M42 -> 9447.433
B48: SUBTOTAL $ | N48: =N42+N43+N44+N45+N46 -> 9447.433
B50: TOTAL COSTO DIRECTO $ | N50: =N16+N27+N37+N48 -> 72392.176
B52: V. COSTOS INDIRECTOS
B54: Descripción | K54: Porcentaje | L54: Valor Total
B55: ADMINISTRACION | K55: 0.2 | L55: =N50*K55 -> 14478.435
B56: IMPREVISTOS | K56: 0.05 | L56: =N50*K56 -> 3619.6088
B57: UTILIDAD | K57: 0.05 | L57: =N50*K57 -> 3619.6088
B58: SUBTOTAL $ | N58: =L55+L56+L57 -> 21717.653
A60: Pfinal01 | B60: Precio Unitario Total Aproximado al Peso $ | N60: =N50+N58 -> 94109.829
