Workbook
Name Habilitante: #REF!

Sheet Resumen
D1: SI | G1: 1
D2: NO | G2: 2
G3: 3
A7: Ministerio de Educación Nacional
A8: Oficina Asesora de Planeación y Finanzas - OAPF
A9: CM-MEN-09-2019
A10: RESULTADO FINAL DE LA EVALUACIÓN
B12: Proponente: | D12: =+Proponente!J9 -> Escriba el nombre/razón social del proponente
B14: Empresas consorciadas | C14: 1 | D14: Escriba el nombre/razón social de la empresa 1
C15: 2 | D15: Escriba el nombre/razón social de la empresa 2
C16: 3 | D16: Escriba el nombre/razón social de la empresa 3
B17: Nit: | C17: =+Proponente!J10 -> Escriba el Nit del proponente
B19: REALIZAR AUDITORIA A LA INFORMACIÓN REPORTADA EN LOS SISTEMAS DE INFORMACIÓN PROVISTOS POR EL MINISTERIO DE EDUCACIÓN NACIONAL
B21: Descripción del anexo | C21: Folios | D21: CUMPLE | F21: Descripción del puntaje | H21: Folios | I21: Habilitado / No Habilitado | J21: Puntaje
B22: Carta de presentación de la propuesta | F22: Experiencia específica puntuable del proponente | I22: =+Proponente!J6 -> NO HABILITADO | J22: =+Proponente!J7:M7 -> 0
B23: Códificacion RUP | F23: Formación y experiencia adicional de los profesionales del equipo de trabajo
B24: Certificación de aportes | G24: Gerente
B25: Experiencia del proponente | G25: Ingeniero de sistemas básica
B26: Compromiso anticorrupción
B27: Certificación plataforma | F27: Apoyo a la industria nacional | J27: =IF(H27="SI",100,0) -> 0
B28: Certificación biometrización | F28: TOTALES --> | I28: =IF(COUNTIF(I22:I27,"HABILITADO")=4,"CUMPLE","NO CUMPLE") -> NO CUMPLE | J28: =IF(I28="NO CUMPLE",0,SUM(J22:J27)) -> 0

Sheet Proponente
D1: | | H1: Habilitante | J1: Presupuesto por GRUPO | L1: SMMLV | M1: (S/N)
H2: Puntuable | K2: 1575080784 | L2: 781242 | M2: SI
M3: NO
L4: =+L12/L2 -> 4027.3779
I6: HABILITANTE: | J6: =IF(G19="SI","HABILITADO","NO HABILITADO") -> NO HABILITADO
I7: PUNTUABLE: | J7: =IF(J6="HABILITADO",H22,0) -> 0
B8: Ministerio de Educación Nacional
B9: Oficina Asesora de Planeación y Finanzas - OAPF | I9: Proponente: | J9: Escriba el nombre/razón social del proponente
B10: =+Resumen!A9 -> CM-MEN-09-2019 | I10: Nit: | J10: Escriba el Nit del proponente | L10: Valor oficial presupuestado: $
B12: Objeto | L12: 3146356731 | M12: =+L4 -> 4027.3779 | N12: =+M12*30% -> 1208.2134
B14: =+Resumen!B19 -> REALIZAR AUDITORIA A LA INFORMACIÓN REPORTADA EN LOS SISTEMAS DE INFORMACIÓN PROVISTOS POR EL MINISTERIO DE EDUCACIÓN NACIONAL | G14: Habilitante | H14: Experiencia específica mínima habilitante: El proponente deberá acreditar experiencia en la ejecución de máximo tres (3) contratos ejecutados, terminados y liquidados, dentro de los 10 años anteriores a la fecha de cierre del presente proceso de selección, cuyo objeto se encuentre en alguna de las clasificaciones enunciadas en el pliego según la codificación de la UNSPSC, los contratos presentados deben ser CONTRATOS DE AUDITORÍA QUE INVOLUCREN TRABAJO EN CAMPO IN SITU. La sumatoria del valor de dichos contratos debe ser igual o superior al cien por ciento (100%) del valor del presupuesto oficial destinado, expresado en SMMLV IMPORTANTE: Para este punto, aplica lo establecido para el proponente en el pliego de condiciones "EXPERIENCIA MÍNIMA HABILITANTE (CUMPLE O NO CUMPLE) "
G16: Puntuable | H16: Por cada contrato adicional al mínimo requerido, que cumpla con los siguientes requisitos: El proponente deberá acreditar experiencia adicional a la mínima exigida sobre la ejecución de contratos ejecutados, terminados y liquidados, dentro de los 10 años anteriores a la fecha de cierre del presente proceso de selección, cuyo contrato se encuentre registrado en el RUP y que el mismo esté en alguna de las clasificaciones enunciadas en el pliego de condiciones según la codificación de la UNSPSC, los contratos presentados deben ser: Contratos de auditoría que involucren trabajo en campo in situ El valor de ejecución de cada contrato presentado* debe ser igual o superior al 30% del valor del presupuesto. Si cumple con lo anterior, se asignará para cada contrato presentado 19.50 puntos hasta un máximo de 39 puntos. *Para calcular este valor se tomará el valor en SMMLV registrados en el RUP
B17: Habilitantes y puntaje adicional
B18: Criterio | E18: Valores | G18: Habilitado | H18: Puntaje Adicional
B19: Valor de los contratos | E19: =SUMIF(Tabla1[Tipo de Experiencia],"Habilitante",Tabla1[Valor Contrato que aplica]) -> 0 | G19: =IF(E19>=M12,"SI","NO") -> NO
B20: Contrato adicional 1 | E20: =IF($G$19="SI",P30,0) -> 0 | H20: =IF(E20>=$N$12,20,0) -> 0
B21: Contrato adicional 2 | E21: =IF($G$19="SI",P31,0) -> 0 | H21: =IF(E21>=$N$12,20,0) -> 0
H22: =SUM(H20:H21) -> 0
B24: Relación de la experiencia | G24: dd/mm/aaaa | H24: dd/mm/aaaa | O24: Evaluación
B26: Ítem | C26: Tipo de Experiencia | D26: Entidad contratante | E26: Nro consecutivo RUP | F26: No. Contrato | G26: Fecha inicio | H26: Fecha Finaliza | I26: Objeto | J26: Descripción experiencia relevante | K26: % Participación | L26: Valor (SMMLV) reportado en el RUP | M26: FOLIO (en la propuesta) | N26: Duración (meses) | O26: Aplica (S/N) | P26: Valor Contrato que aplica | Q26: Resultado | R26: Observaciones 1ra Evaluación | S26: Observaciones_Aclaraciones
B27: 1 | C27: Habilitante | N27: =((H27-G27)/365)*12 -> 0 | P27: =IF(O27="si",L27*K27,0) -> 0
B28: 2 | C28: Habilitante | N28: =((H28-G28)/365)*12 -> 0 | P28: =IF(O28="si",L28*K28,0) -> 0
B29: 3 | C29: Habilitante | N29: =((H29-G29)/365)*12 -> 0 | P29: =IF(O29="si",L29*K29,0) -> 0
B30: 4 | C30: Puntuable | N30: =((H30-G30)/365)*12 -> 0 | P30: =IF(O30="si",L30*K30,0) -> 0
B31: 5 | C31: Puntuable | N31: =((H31-G31)/365)*12 -> 0 | P31: =IF(O31="si",L31*K31,0) -> 0
B33: FIRMA DEL REPRESENTANTE LEGAL O APODERADO
B34: Nombre y apellidos
D35: Identificación
B37: El Ministerio de Educación Nacional se reserva el derecho de verificar, cuando lo considere necesario, la información que suministren los oferentes sobre su experiencia. NOTA 1: Para efectos de la verificación de la experiencia, el proponente deberá identificar claramente cuales contratos aporta para acreditar experiencia mínima habilitante (hoja [Proponente_Habilitante] del formato en Excel) y cuáles serán objeto de evaluación para calificación; los contratos, en uno y otros caso, deben estar relacionados en el RUP. NOTA 2: Para efectos de la verificación de la experiencia, si el proponente relaciona más de cinco (5) contratos, sólo se tendrán en cuenta los cinco (5) primeros, de conformidad con el orden en que fueron incorporados en el FORMATO EXPERIENCIA DEL PROPONENTE N° 5 de la propuesta. NOTA 3: Diligenciar el Formato 5 anexo - experiencia del proponente, el mismo contiene una hoja de Excel para la experiencia habilitante y otra hoja de Excel para la experiencia adicional. Se indica que los formatos no pueden ser modificables. NOTA 4: Si el oferente relaciona la misma experiencia tanto para habilitante como para la puntuable, prevalece la experiencia habilitante. IMPORTANTE: El presente formato ha sido diseñado para que el oferente relacione la información requerida para la evaluación técnica de la propuesta. El oferente debe ABSTENERSE de realizar modificaciones en la estructura del presente archivo, lo cual significa: - NO Adicionar o suprimir FILAS o COLUMNAS - NO Cambiar el encabezado o títulos de las columnas. - NO adicionar, borrar, alterar fórmulas del presente formato.
B38: La información de los contratos de la Habilitante como la Adicional deben ser diligenciados en la respectiva casilla que aparece en el campo "Tipo de Experiencia"
