Workbook

Sheet TABACAL
A2: OBJETO: MEJORAMIENTO DE LA INFRAESTRUCTURA FISICA DEL CENTRO DE SALUD DEL CORREGIMIENTO TABACAL EN EL MUNICIPIO DE BURITICA .
A3: Item | B3: Descripción | C3: Unidad | D3: Cantidad | E3: Valor unitario | F3: Valor total
A4: 1 | B4: PROVISIONALES
A5: 1.1 | B5: Instalación de CERRAMIENTO PROVISIONAL en malla tipo zaran, con una altura de 2,10 m, estacones de madera común para fijación vertical de altura de 2 m, como elemento de aislamiento de las zonas de las obras, para protección de los usuarios y funcionarios de la sede principal y sede alterna del hospital. | C5: ml | D5: 143 | E5: 24140 | F5: =+E5*D5 -> 3452020
A6: 2 | B6: RETIROS Y DEMOLICIONES
A7: 2.1 | B7: Desmonte y Demolición de cubierta cualquier material existente de la sede del Centro de Salud. Incluye el cargue, transporte, botada o recuperación de fieltro, tablilla, alfardas, cargueras y soleras, incluye cargue, transporte y botada de escombros, recuperación de los materiales aprovechables o su transporte hasta el sitio que lo indique la interventoría. | C7: m2 | D7: 168.44 | E7: 28410 | F7: =+E7*D7 -> 4785380.4
A8: 2.2 | B8: Desmonte y retiro de ventanas existentes en el centro de salud. Incluye, cargue y transporte hasta la bodega o el sitio que indique la interventoría | C8: m2 | D8: 12.6 | E8: 50355 | F8: =+E8*D8 -> 634473
A9: 2.3 | B9: DEMOLICIÓN DE PISOS en concreto incluye retiro de baldosa de cemento, baldosín forros en arenón, entre otros), | C9: m2 | D9: 387.43 | E9: 41643 | F9: =+E9*D9 -> 16133747
A10: 2.4 | B10: RETIRO DE APARATOS SANITARIOS Y LAVAMANOS, incluye el cargue, transporte, botada o recuperación de aparatos sanitarios, lavamanos, lavaderos, orinales. Incluye botada en botaderos oficiales y la recuperación de los materiales aprovechables y/o su transporte hasta la bodega o el sitio que indique la interventoría | C10: Unidad | D10: 6 | E10: 53288 | F10: =+E10*D10 -> 319728
A11: 2.5 | B11: RETIRO DE PUERTAS (marcos y alas) metálicas, en aluminio, en madera o (puerta, ventana en reja). Ancho variable desde 0,60 a 1,20 m. | C11: Unidad | D11: 16 | E11: 66582 | F11: =+E11*D11 -> 1065312
A12: 3 | B12: CUBIERTA
A13: 3.1 | B13: Construcción de techo en teja de barro. Incluye suministro e instalación de teja de barro, viga en madera de 100mm x 100mmx2mm, alfardas en madera de 50mmx100mmx2mm, lima hoyas y limatones en madera de 50mmx100mmx2mm, entre capa de eterboard de 10mm, impermeabilización en frio con permofit , colocación de mortero en remate de tejas y caballete. Medido en proyección horizontal | C13: m2 | D13: 228.89994 | E13: 617844 | F13: =+E13*D13 -> 1.4142445e+08
A14: 3.2 | B14: SUMINISTO, TRANSPORTE E INSTALACION DE CANOA EN LAMINA GALVANIZADA Cal .24 d/ 0.60 m. (Suministro e instalación con 2 manos de anticorrosivo WASH PRIMER + esmalte + anclaje a muro + sikaflex 1A) Color por definir por interventoría | C14: ml | D14: 206.86 | E14: 98610 | F14: =+E14*D14 -> 20398465
A15: 3.3 | B15: Suministro, transporte y colocación de ruana en lámina galvanizada calibre 22., desarrollo 40 cm. Incluye canchada de muro, faja de revoque impermeabilizada, con filete., pintura anticorrosiva y a base de aceite, pestaña de 5 cm, y todos los elementos necesarios para su correcta construcción | C15: ml | D15: 15.55 | E15: 61332 | F15: =+E15*D15 -> 953712.6
A16: 4 | B16: REVOQUE, ESTUCO Y PINTURA
A17: 4.1 | B17: Aplicación pintura vinilo tipo 1, a tres manos, en espacios internos de las áreas donde se realizará la intervención y el mantenimiento. Incluye: Limpieza. preparación de la superficie. acabado final con pintura tipo viniltex color blanco calidad Pintuco o similar que cumpla la norma Icontec. la aplicación se hará con rodillo y brocha | C17: m2 | D17: 624.06 | E17: 21065 | F17: =+E17*D17 -> 13145824
A18: 4.2 | B18: Colocación de REVOQUE con mortero 1:4 IMPERMEABILIZADO con Sika 1 o equivalente. Incluye suministro y transporte de los materiales, ranuras, filetes, y todos los demás elementos necesarios para su correcta construcción. | C18: m2 | D18: 224.12 | E18: 55253 | F18: =+E18*D18 -> 12383302
A19: 4.3 | B19: Colocación de ESTUCO ACRÍLICO PROFESIONAL, SOBRE SUPERFICIES REVOCADAS, 3 manos mínimo, o las que sean necesarias para obtener una superficie pareja y homogénea. Incluye suministro y transporte de los materiales, ranuras, filetes, dilataciones y todos los elementos necesarios para su correcta aplicación y funcionamiento | C19: m2 | D19: 411.73 | E19: 22553 | F19: =+E19*D19 -> 9285746.7
A20: 5 | B20: PUERTAS
A21: 5.1 | B21: SUMINISTRO E INSTALACION DE PUERTAS EN VIDRIO 6mm con marcos en aluminio cuerpos aluminio natural mate, vidrio 3+3 mm batiente sin reja según diseño, incluyen todos los elementos necesarios para su correcta instalación y funcionamiento | C21: m2 | D21: 5.76 | E21: 1317692 | F21: =+E21*D21 -> 7589905.9
A22: 5.2 | B22: Suministro transporte e instalación de Puerta para interior de 0,8mt x 2,2mt en madera de cedro, entamborada en triple con chapa de bola en acero inoxidable con sus respectivas llaves según diseño acordado con interventoría | C22: Unidad | D22: 12 | E22: 851364 | F22: =+E22*D22 -> 10216368
A23: 5.3 | B23: SUMINISTRO E INSTALACION DE VENTANA EN ALUMINIO cuerpos aluminio natural mate, vidrio 5 mm con una fija y otra corrediza, incluyen todos los elementos necesarios para su correcta instalación y funcionamiento | C23: m2 | D23: 8.65 | E23: 907692 | F23: =+E23*D23 -> 7851535.8
A24: 6 | B24: PISOS
A25: 6.1 | B25: Suministro, transporte e instalación de baldosa de grano, incluye pulida, dilataciones, acabados y todo lo necesario para su correcto funcionamiento | C25: m2 | D25: 185.89 | E25: 172175 | F25: =+E25*D25 -> 32005611
A26: 6.2 | B26: Construcción de mortero de nivelación 1:4 para pisos espesor hasta 5 cm | C26: m2 | D26: 185.89 | E26: 55931 | F26: =+E26*D26 -> 10397014
A27: 6.3 | B27: Concreto de 21 Mpa para LOSA MACIZA de piso e=10 cms, incluye: armado, preparación, encofrada, vaciado, vibrado, curado y desencofrado. No incluye entresuelo. (Sin refuerzo) | C27: m2 | D27: 185.89 | E27: 160352 | F27: =+E27*D27 -> 29807833
A28: 6.4 | B28: Suministro transporte e instalación de guarda escoba piso en baldosa de grano pulido, incluye pega lechada y demás elementos necesarios para su correcta instalación | C28: ml | D28: 67.25 | E28: 68895 | F28: =+E28*D28 -> 4633188.8
A29: 7 | B29: RED HIDROSANITARIA
A30: 7.1 | B30: Mantenimiento y reposición de abasto en DIÁMETRO DE 1/2"con tubería RDE 9, 500 PSI, incluye todos los accesorios en PVC de diámetro 1/2" que se requieran para su correcta instalación. Estos deberán estar correctamente pegados usando limpiador, soldadura y teflón apropiados, sin presentar fugas, fisuras o cualquier otra clase de anomalía. Se debe garantizar la correcta instalación y funcionamiento. Incluye además las perforaciones (canchas) de paredes o pisos que lo requieran incluyendo cargue, transporte y botada de escombros en botaderos oficiales o donde indique la interventoría. | C30: Unidad | D30: 30 | E30: 37067 | F30: =+E30*D30 -> 1112010
A31: 7.2 | B31: Suministro, transporte e instalación de TUBERÍA PVC-SANITARIA, con un DIÁMETRO DE 2", para aguas residuales ENTERRADA y/o EMPOTRADA por losas. Incluye suministro y transporte de los materiales, accesorios, pegante, limpiador y todos los elementos necesarios para su correcta instalación y funcionamiento. La excavación y los llenos se pagarán en su ítem respectivo. | C31: m | D31: 20 | E31: 27818 | F31: =+E31*D31 -> 556360
A32: 7.3 | B32: Suministro, transporte e instalación de TUBERÍA PVC-SANITARIA, con un DIÁMETRO DE 4", para aguas residuales o lluvia ENTERRADA y/o EMPOTRADA por losas. Incluye suministro y transporte de los materiales, accesorios, pegante, limpiador y todos los elementos necesarios para su correcta instalación y funcionamiento. La excavación y los llenos se pagarán en su ítem respectivo | C32: m | D32: 32 | E32: 144188 | F32: =+E32*D32 -> 4614016
A33: 7.4 | B33: Suministro, transporte e instalación de TUBERÍA PVC-S, EN BAJANTES con un DIÁMETRO DE 4", aguas LLÚVIAS. Incluye suministro y transporte de los materiales, bocas, accesorios, pegante, limpiador, wash primer, acabado en esmalte mate, color a definir por parte de interventoría, andamios, abrazaderas y todos los elementos necesarios para su correcta instalación y funcionamiento. | C33: ml | D33: 36 | E33: 54298 | F33: =+E33*D33 -> 1954728
A34: 8 | B34: INSTALACIONES ELÉCTRICAS
A35: 8.1 | B35: CANALIZACIONES
A36: 8.1.1 | B36: Suministro, transporte e instalación de tubería metálica EMT diámetro 1/2". Incluye adaptadores, uniones, curvas, grapas doble ala y demás accesorios necesarios para su correcta instalación. | C36: ml | D36: 128 | E36: 36000 | F36: =+E36*D36 -> 4608000
A37: 8.1.2 | B37: Suministro, transporte e instalación de tubería metálica EMT diámetro 1". Incluye adaptadores, uniones, curvas, grapas doble ala y demás accesorios necesarios para su correcta instalación. | C37: ml | D37: 40 | E37: 44000 | F37: =+E37*D37 -> 1760000
A38: 8.1.3 | B38: Suministro, transporte e instalación de tubería metálica EMT diámetro 1". Incluye adaptadores, uniones, curvas, grapas doble ala y demás accesorios necesarios para su correcta instalación. | C38: ml | D38: 30 | E38: 41808 | F38: =+E38*D38 -> 1254240
A39: 8.1.4 | B39: Suministro e instalación de Canaleta Metálica con división 12X5. Fabricada en acero cold rolled, diseñadas para uso interior, poseen tornillos de puesta a tierra, pintura en polvo con aplicaciones electrostática, texturizado en pintura epóxica /poliéster, cumple con RETIE. | C39: ml | D39: 28 | E39: 75000 | F39: =+E39*D39 -> 2100000
A40: 8.2 | B40: CAJAS DE DISTRIBUCIÓN Y DE PASO
A41: 8.2.1 | B41: Suministro, transporte e instalación de caja metálica 12x12x5 de sobreponer con tapa liza, marcación con cinta de acuerdo a la norma y demás accesorios necesarios para su correcta instalación | C41: Unidad | D41: 32 | E41: 35000 | F41: =+E41*D41 -> 1120000
...

Sheet DISCRIMINACION AU
A4: OBJETO: | B4: MEJORAMIENTO DE LA INFRAESTRUCTURA FISICA DEL CENTRO DE SALUD DEL CORREGIMIENTO TABACAL EN EL MUNICIPIO DE BURITICA"
A5: PLAZO: | B5: 4 MESES
A6: COSTO PROYECTO | B6: =+(TABACAL!F52+TABACAL!F53+TABACAL!F54) -> 4.9791699e+08
A7: Item | B7: CARGO/OFICIO | C7: CANTIDAD | D7: SUELDO Y/O TARIFA MENSUAL | E7: DEDICACIÓN MENSUAL | F7: DURACIÓN (Meses) | G7: VALOR PARCIAL ($)
A8: 1 | B8: COSTOS DIRECTOS DE PERSONAL
A9: 1.1 | B9: Director de obra (ingeniero Civil, Arquitecto o Arquitecto Constructor) | C9: 1 | D9: 6500000 | E9: 0.5 | F9: 3 | G9: =+D9*F9*E9 -> 9750000
A10: 1.2 | B10: Residente (Ingeniero, Arquitecto y/o tecnologo en areas afines a la construccion) | C10: 1 | D10: 5500000 | E10: 1 | F10: 3 | G10: =+D10*F10*E10 -> 16500000
A11: 1.3 | B11: Profesional SST- (manejo de salud y seguridad en el trabajo) | C11: 1 | D11: 2500000 | E11: 1 | F11: 3 | G11: =+D11*F11*E11 -> 7500000
B13: Subtotal Costos Directos de Personal | G13: =+SUM(G9:G11) -> 33750000
E15: Factor Multiplicador | G15: =+'factor multiplicador'!D19 -> 1.6533333
B16: Total Costos Directos de Personal incluido Factor Multiplicador | G16: =G13*G15 -> 55800000
A17: 2 | B17: OTROS COSTOS DIRECTOS
B18: DESCRIPCION | C18: UNIDAD | D18: CANTIDAD | E18: SUELDO Y/O TARIFA MENSUAL | F18: DURACIÓN (Meses) | G18: VALOR PARCIAL ($)
A19: 2.1 | B19: Campamento | C19: UNIDAD | D19: 1 | E19: 1500000 | F19: 1 | G19: =+F19*E19 -> 1500000
A20: 2.2 | B20: Equipo de oficina (Impresoras - computadores) tiempo ejecución y legalización | C20: UNIDAD | D20: 1 | E20: 200000 | F20: 3 | G20: =+D20*F20*E20 -> 600000
A21: 2.3 | B21: Papeleria, fax, edición de informes, CD, DVD, fotocopias, fotografías, etc | C21: GL | D21: 1 | E21: 150000 | F21: 3 | G21: =+D21*F21*E21 -> 450000
B22: Subtotal Otros Costos Directos | G22: =SUM(G19:G21) -> 2550000
A23: 3 | B23: IMPUESTOS Y RETENCIONES
A24: 3.1 | B24: impuestos y retenciones | F24: 0.093338107 | G24: =+B6*F24 -> 46474629
B25: Subtotal Impuestos y retenciones | G25: =+G24 -> 46474629
B26: SUBTOTAL COSTOS DIRECTOS | G26: =+TABACAL!F52 -> 374373676
B27: ADMINISTRACION | E27: 0.28 | F27: 0.28 | G27: =+G16+G22+G25 -> 1.0482463e+08
B28: UTILIDAD | E28: 0.05 | G28: =+G26*E28 -> 18718684
B29: SUBTOTAL INVERSIÓN AMBIENTAL | G29: =+TABACAL!F55 -> 18957301
B30: TOTAL OBRA | G30: =+G26+G27+G28+G29 -> 5.1687429e+08

Sheet factor multiplicador
A2: MUNICIPIO DE BURITICA
A3: FACTOR MULTIPLICADOR
A4: 1 | B4: SALARIO BASICO | D4: 1
A5: 2 | B5: PRESTACIONES SOCIALES | D5: =SUM(D6:D13) -> 0.63333333
B6: CESANTIAS | D6: 0.08
B7: INTERESES | D7: 0.01
B8: PRIMA | D8: 0.083333333
B9: VACACIONES | D9: 0.05
B10: SALUD | D10: 0.16
B11: PENSION | D11: 0.12
B12: ARL | D12: 0.07
B13: PARAFISCALES | D13: 0.06
A14: 3 | B14: COSTOS INDIRECTOS | D14: =SUM(D15:D16) -> 0.02
B15: GASTOS LEGALES Y BANCARIOS | D15: 0.01
B16: PERFECCIONAMIENTO Y LEGALIZACION CONTRATO | D16: 0.01
B19: FACTOR MULTIPLICADOR | D19: =+D4+D5+D14 -> 1.6533333
B22: _______________________________________
B23: firma representante legal

Sheet inversion ambiental
A6: OBJETO: | B6: OBJETO: MEJORAMIENTO DE LA INFRAESTRUCTURA FISICA DEL CENTRO DE SALUD DEL CORREGIMIENTO TABACAL EN EL MUNICIPIO DE BURITICA .
A7: PLAZO: | B7: 3 MESES
A8: item | B8: GESTIÓN AMBIENTAL
A9: 1 | B9: Manejo de Residuos Sólidos | C9: unidad | D9: cantidad | E9: valor unitario | F9: valor total
A10: 1.1 | B10: Canecas de 5 galones con tapa y debidamente rotuladas (tener en cuenta tres juegos de dos recipientes ordinarios y reciclables para oficina Contratista, Interventoría y Almacén) | C10: un | D10: 3 | E10: 35000 | F10: =D10*E10 -> 105000
A11: 1.2 | B11: Canecas de 55 galones con tapa y debidamente rotuladas (tener en cuenta juego de tres recipientes ordinarios, reciclables y especiales ) | C11: un | D11: 1 | E11: 80000 | F11: =D11*E11 -> 80000
A12: 1.3 | B12: Bolsas plásticas para los frentes de obra color gris (residuos ordinarios) | C12: un | D12: 100 | E12: 250 | F12: =D12*E12 -> 25000
A13: 1.4 | B13: Bolsas plásticas para los frentes de obra color verde (residuos reciclables) | C13: un | D13: 100 | E13: 250 | F13: =D13*E13 -> 25000
A14: 1.5 | B14: Bolsas plásticas para los frentes de obra color rojo (residuos especiales) | C14: un | D14: 100 | E14: 120 | F14: =D14*E14 -> 12000
A15: 1.6 | B15: Recolección de residuos sólidos especiales por parte de una empresa autorizada | C15: un | D15: 1 | E15: 140000 | F15: =D15*E15 -> 140000
A16: 1.7 | B16: Herramientas y equipos para el aseo y limpieza en obra | C16: gl | D16: 2 | E16: 550000 | F16: =D16*E16 -> 1100000
A17: 1.8 | B17: Costales de fibra para recolección y acopio temporal de residuos de construcción | C17: un | D17: 100 | E17: 1000 | F17: =D17*E17 -> 100000
A18: 1.9 | B18: Señalización en sitios internos de disposición temporal de residuos (La señalización debe estar laminada o plastificada, letra visible tamaño 0.25*0.4m) | C18: gl | D18: 8 | E18: 300000 | F18: =D18*E18 -> 2400000
A19: 2 | B19: Maquinaria, vehículos y equipo en obra
A20: 2.1 | B20: Extintor Multipropósito (ABC) de 20 libras | C20: un | D20: 3 | E20: 85000 | F20: =D20*E20 -> 255000
A21: 3 | B21: Ahorro y uso eficiente de agua y energía
A22: 3.1 | B22: Elementos para la recolección y uso de agua lluvias | C22: un | D22: 10 | E22: 150000 | F22: =E22*D22 -> 1500000
A23: 4 | B23: Manejo de sustancias químicas
A24: 4.1 | B24: Kit de emergencia para derrames químicos. Incluye bolsa con arena, caneca de 5 galones, bolsas plásticas, pala pequeña, guantes y mascarilla para concentración de partículas) | C24: un | D24: 3 | E24: 350000 | F24: =E24*D24 -> 1050000
A25: 4.2 | B25: Extintor Multipropósito (ABC) de 20 libras | C25: un | D25: 2 | E25: 68250 | F25: =E25*D25 -> 136500
A26: 4.3 | B26: Adecuación del sitio para almacenamiento de sustancias químicas. Construcción de caseta para el acopio de combustibles (tamaño acorde al volumen máximo que se manejará). Incluye, extintor multipropósito ABC de 20 libras, tejas de zinc, largueros metálicos, cerramiento en malla metálica, vaciado de mortero para el piso y dique de contención en concreto (ningún material constructivo debe ser inflamable). | C26: gl | D26: 1 | E26: 1100000 | F26: =D26*E26 -> 1100000
A27: 5 | B27: Uso y almacenamiento adecuado de materiales de construcción
A28: 5.1 | B28: Teleras 1,35m x 0,90 m para construcción de acopios | C28: un | D28: 40 | E28: 21000 | F28: =D28*E28 -> 840000
A29: 5.2 | B29: Plástico Negro, calibre 4 y ancho de 2 m. | C29: m2 | D29: 300 | E29: 2200 | F29: =D29*E29 -> 660000
A30: 5.3 | B30: Malla de seguridad (construcción) Naranja (Rollo por 50 ms) | C30: un | D30: 10 | E30: 62500 | F30: =D30*E30 -> 625000
A31: 5.4 | B31: Balizas (1,4m) | C31: un | D31: 30 | E31: 42000 | F31: =D31*E31 -> 1260000
A32: 5.5 | B32: Señalización de zonas de acopio (La señalización debe estar laminada o plastificada, letra visible tamaño 0.25*0.4m) | C32: gl | D32: 2 | E32: 618668.52 | F32: =D32*E32 -> 1237337
A33: 6 | B33: Control de emisiones atmosféricas
A34: 6.1 | B34: Manguera 1/2" para riego | C34: m | D34: 30 | E34: 4500 | F34: =D34*E34 -> 135000
A35: 6.2 | B35: Plástico Negro, calibre 4 y ancho de 2 m. | C35: m2 | D35: 200 | E35: 2500 | F35: =D35*E35 -> 500000
A36: 6.3 | B36: Cubierta para la concretadora. Incluye largueros y plástico | C36: gl | D36: 1 | E36: 197334 | F36: =D36*E36 -> 197334
A37: 6.4 | B37: Caseta para la cortadora. Incluye largueros, plástico y caja desarenadora | C37: gl | D37: 1 | E37: 197334 | F37: =D37*E37 -> 197334
A38: 6.5 | B38: Tela negra para protección perimetral de edificaciones | C38: m | D38: 200 | E38: 4500 | F38: =D38*E38 -> 900000
A39: 7 | B39: Gestión de la fauna y la flora
A40: 7.1 | B40: Malla tipo polisombra color naranja para la delimitación de zonas verdes, zonas de tala y protección de árboles o arbustos.(Rollo por 100 m x 1,50 m ancho) | C40: m | D40: 100 | E40: 2200 | F40: =D40*E40 -> 220000
A41: 7.2 | B41: Teleras 1,35m x 0,90 m | C41: un | D41: 20 | E41: 21000 | F41: =D41*E41 -> 420000
A42: 7.3 | B42: Señales de alerta para la protección de la fauna | C42: gl | D42: 5 | E42: 120000 | F42: =D42*E42 -> 600000
A43: 7.4 | B43: Canecas de 5 galones con tapa y debidamente rotuladas (tener en cuenta tres juegos de dos recipientes ordinarios y reciclables para oficina Contratista, Interventoría y Almacén) | C43: un | D43: 20 | E43: 5500 | F43: =E43*D43 -> 110000
A44: subtotal programa ambiental | F44: =SUM(F10:F43) -> 15930505
A45: IVA | E45: 0.19 | F45: =+F44*E45 -> 3026796
...

Sheet insumos-MO
B1: ANALISIS DE PRESTACIONES SOCIALES | E1: 2023
B3: SALARIO REAL COMO PORCENTAJE DEL SALARIO BASICO
B5: CONCEPTO
B6: SALARIO DIAS TRABAJADOS 365*(100/275) | E6: =365*(0.363636363636364) -> 132.72727 | F6: % | G6: =365*(0.363636363636364)/100 -> 1.3272727
B8: PRESTACIONES | E8: =SUM(E9:E12) -> 31.025455 | F8: % | G8: =SUM(G9:G12) -> 0.31025455
B9: CESANTIAS 3*12*(100/275) | E9: =3*12*(0.363636363636364) -> 13.090909 | F9: % | G9: =3*12*(0.363636363636364)/100 -> 0.13090909
B10: INTERES CESANTIAS 0.12*CESANTIAS | E10: =+E9*0.12 -> 1.5709091 | F10: % | G10: =(+G9*12)/100 -> 0.015709091
B11: PRIMAS DE SERVICIOS 30*(100/275) | E11: =30*(0.363636363636364) -> 10.909091 | F11: % | G11: =30*(0.363636363636364)/100 -> 0.10909091
B12: DOTACION 5 SM*3*(100/275) | E12: =5*1*3*(0.363636363636364) -> 5.4545455 | F12: % | G12: =5*1*3*(0.363636363636364)/100 -> 0.054545455
B13: APORTES | E13: =SUM(E14:E20) -> 51.246 | F13: % | G13: =SUM(G14:G20) -> 0.51246
B14: PENSIONES 12*(365/275) | E14: =12*(365/275) -> 15.927273 | F14: % | G14: =12*(365/275)/100 -> 0.15927273
B15: E.P.S 8,5*(365/275) | E15: =8.81*(365/275) -> 11.693273 | F15: % | G15: =8.81*(365/275)/100 -> 0.11693273
B16: A.R.P 6.3*(365/275) | E16: =6.3*(1.32727272727273) -> 8.3618182 | F16: % | G16: =6.3*(1.32727272727273)/100 -> 0.083618182
B17: SENA 2*(365/275) | E17: =2*(365/275) -> 2.6545455 | F17: % | G17: =2*(365/275)/100 -> 0.026545455
B18: ICBF 3*(365/275) | E18: =3*(365/275) -> 3.9818182 | F18: % | G18: =3*(365/275)/100 -> 0.039818182
B19: C.C.F 4*(365/275) | E19: =4*(365/275) -> 5.3090909 | F19: % | G19: =4*(365/275)/100 -> 0.053090909
B20: F.I.C (365/40)*SM*(100/275) | E20: =+(365/40)*(100/275) -> 3.3181818 | F20: % | G20: =+(365/40)*(100/275)/100 -> 0.033181818
B21: OTROS CONCEPTOS | E21: =SUM(E22:E24) -> 16.274545 | F21: % | G21: =SUM(G22:G24) -> 0.16274545
B22: AUXILIO DE TRANSPORTE 11,9*(365/275)*SM | E22: =11.9*(365/275) -> 15.794545 | F22: % | G22: =11.9*(365/275)/100 -> 0.15794545
B23: INDEMNIZACIONES | E23: 0.2 | F23: % | G23: =0.2/100 -> 0.002
B24: OTROS | E24: 0.28 | F24: % | G24: =0.28/100 -> 0.0028
B25: TOTAL PAGADO | E25: =+E21+E13+E8+E6 -> 231.27327 | F25: % | G25: =+G21+G13+G8+G6 -> 2.3127327
B28: SALARIO MINIMO | C28: 1160000 | E28: =+C28 -> 1160000 | G28: =((+E28*F28)+E28) -> 1160000
B29: SALARIO BASICO DIA | G29: =ROUND((+G28/30),0) -> 38667
B30: SALARIO BASICO ÇMINIMO*%TOTAL PAGADO/30= | E30: =ROUND((+E28*E25/(100*30)),0) -> 89426
B33: Ayudante de construcción (1.00 S.M) | D33: Día | E33: =+E30 -> 89426 | G33: =+G29 -> 38667
B34: Ayudante de especialidad (1.20 S.M) | D34: Día | E34: =ROUND((+E33*1.2),0) -> 107311 | G34: =ROUND((+G33*1.2),0) -> 46400
B35: Oficial de construccion (1.50 S.M) | D35: Día | E35: =ROUND((+E33*1.5),0) -> 134139 | G35: =ROUND((+G33*1.5),0) -> 58001
B36: Oficial de especialidad (2.00 S.M) | D36: Día | E36: =+E33*2 -> 178852 | G36: =+G33*2 -> 77334
B37: Tecnico (2.50 S.M) | D37: Día | E37: =ROUND((+E33*2.5),0) -> 223565 | G37: =ROUND((+G33*2.5),0) -> 96668
B38: Maestro (3.00 S.M.) | D38: Día | E38: =+E33*3 -> 268278 | G38: =+G33*3 -> 116001
B39: Cuadrilla de construcción 0*1 | D39: Día | E39: =+E33 -> 89426 | G39: =+G33 -> 38667
B40: Cuadrilla de construcción 0*2 | D40: Día | E40: =+E33*2 -> 178852 | G40: =+G33*2 -> 77334
B41: Cuadrilla de construcción 0*3 | D41: Día | E41: =+E33*3 -> 268278 | G41: =+G33*10 -> 386670
B42: Cuadrilla de construcción 1*0 | D42: Día | E42: =+E35 -> 134139 | G42: =+G35 -> 58001
B43: Cuadrilla de construcción 1*1 | D43: Día | E43: =+(($E$33*1)+($E$35)*1) -> 223565 | G43: =+(($G$33*1)+($G$35)*1) -> 96668
B44: Cuadrilla de construcción 1*2 | D44: Día | E44: =+(($E$33*2)+($E$35)*1) -> 312991 | G44: =+(($G$33*1)+($G$35)*2) -> 154669
B45: Cuadrilla de construcción 1*3 | D45: Día | E45: =+(($E$33*3)+($E$35)*1) -> 402417 | G45: =+(($G$33*3)+($G$35)*1) -> 174002
B46: Cuadrilla de construcción 1*4 | D46: Día | E46: =+(($E$33*4)+($E$35)*1) -> 491843 | G46: =+(($G$33*4)+($G$35)*1) -> 212669
B47: Cuadrilla de construcción 1*5 | D47: Día | E47: =+(($E$33*5)+($E$35)*1) -> 581269 | G47: =+(($G$33*5)+($G$35)*1) -> 251336
...

Sheet 1.1 
A6: ITEM | B6: DESCRIPCIÓN | F6: UNIDAD | G6: CANTIDAD
A7: 1.1 | B7: =+TABACAL!B5 -> Instalación de CERRAMIENTO PROVISIONAL en malla tipo zaran, con una altura de 2,10 m, estacones de madera común para fijación vertical de altura de 2 m, como elemento de aislamiento de las zonas de las obras, para protección de los usuarios y funcionarios de la sede principal y sede alterna del hospital. | F7: =+TABACAL!$C$5 -> ml | G7: =+TABACAL!$D$5 -> 143
A9: 1- Costos Directos
A10: E- EQUIPO
A11: DESCRIPCIÓN | E11: Tarifa/Hora | F11: Rendimiento | G11: Vr. Unitario
A13: herramienta menor | G13: =0.05*G25 -> 447.13
F14: Sub-Total | G14: =SUM(G12:G13) -> 447.13
A15: MA- MATERIALES
A16: DESCRIPCIÓN | D16: Unidad | E16: Cantidad | F16: Precio Unitario | G16: Vr. Unitario
A17: malla tipo Zaran | D17: ml | E17: 1 | F17: =193600/25 -> 7744 | G17: =+E17*F17 -> 7744
A18: estacones de madera comun | D18: Unidad | E18: 1 | F18: 4702.34 | G18: =+E18*F18 -> 4702.34
A19: amarres | D19: gl | E19: 1 | F19: 1803.93 | G19: =+E19*F19 -> 1803.93
F21: Sub-Total | G21: =SUM(G17:G20) -> 14250.27
A22: MO- MANO OBRA
A23: PERSONAL | C23: Jornal | D23: Prestaciones | E23: Jornal Total | F23: Rendimiento | G23: Vr. Unitario
A24: =+'insumos-MO'!B40 -> Cuadrilla de construcción 0*2 | C24: =+'insumos-MO'!E40 -> 178852 | E24: =+C24 -> 178852 | F24: 20 | G24: =+E24/F24 -> 8942.6
F25: Sub-Total | G25: =SUM(G24) -> 8942.6
A26: AUXILIARES-TRANSPORTE-CARGUE
A27: DESCRIPCION | C27: UNIDAD | D27: CANTIDAD | F27: COSTO | G27: Vr. Unitario
A28: materiales | C28: ROYO | D28: 1 | F28: 500 | G28: =+F28 -> 500
A29: Disposicion final material
F30: Sub-Total | G30: =SUM(G28:G29) -> 500
A33: Total Costos Directos | G33: =+G30+G25+G21+G14 -> 24140 | H33: =+TABACAL!$E$5 -> 24140

Sheet 2,1
A6: ITEM | B6: DESCRIPCIÓN | F6: UNIDAD | G6: CANTIDAD
A7: =+TABACAL!A7 -> 2.1 | B7: =+TABACAL!B7 -> Desmonte y Demolición de cubierta cualquier material existente de la sede del Centro de Salud. Incluye el cargue, transporte, botada o recuperación de fieltro, tablilla, alfardas, cargueras y soleras, incluye cargue, transporte y botada de escombros, recuperación de los materiales aprovechables o su transporte hasta el sitio que lo indique la interventoría. | F7: =+TABACAL!C7 -> m2 | G7: =+TABACAL!D7 -> 168.44
A9: 1- Costos Directos
A10: E- EQUIPO
A11: DESCRIPCIÓN | E11: Tarifa/Hora/dia | F11: Rendimiento | G11: Vr. Unitario
A12: Sección completa de andamio (1.2m-1.5m) x 1.5 m. (+ 4 ruedas) Incluye transporte.H13 | E12: 1700 | F12: 0.15 | G12: =+E12*F12 -> 255
A13: herramienta menor | G13: =0.05*G25 -> 894.26
F14: Sub-Total | G14: =SUM(G12:G13) -> 1149.26
A15: MA- MATERIALES
A16: DESCRIPCIÓN | D16: Unidad | E16: Cantidad | F16: Precio Unitario | G16: Vr. Unitario
A17: costales de fibra | D17: ml | E17: 1 | F17: 510.05217 | G17: =+E17*F17 -> 510.05217
G18: =+E18*F18 -> 0
G19: =+E19*F19 -> 0
F21: Sub-Total | G21: =SUM(G17:G20) -> 510.05217
A22: MO- MANO OBRA
A23: PERSONAL | C23: Jornal | D23: Prestaciones | E23: Jornal Total | F23: Rendimiento | G23: Vr. Unitario
A24: =+'insumos-MO'!B41 -> Cuadrilla de construcción 0*3 | C24: =+'insumos-MO'!E41 -> 268278 | E24: =+C24 -> 268278 | F24: 15 | G24: =+E24/F24 -> 17885.2
F25: Sub-Total | G25: =SUM(G24) -> 17885.2
A26: AUXILIARES-TRANSPORTE-CARGUE
A27: DESCRIPCION | C27: UNIDAD | D27: CANTIDAD | F27: COSTOS | G27: Vr. Unitario
A28: Cargue (Paleros), transporte de materiales y derechos de botadero y/o almacenamiento en bodega | C28: M3 | D28: 0.14775813 | F28: 60000 | G28: =+F28*D28 -> 8865.4878
F29: Sub-Total | G29: =SUM(G28:G28) -> 8865.4878
A32: Total Costos Directos | G32: =+G29+G25+G21+G14 -> 28410 | H32: =+TABACAL!E7 -> 28410
B38: Ing. Civil Jorge Alberto Giraldo Rincon
B39: MP: 05202132680 ANT

Sheet 2,2
A6: ITEM | B6: DESCRIPCIÓN | F6: UNIDAD | G6: CANTIDAD
A7: =+TABACAL!A8 -> 2.2 | B7: =+TABACAL!B8 -> Desmonte y retiro de ventanas existentes en el centro de salud. Incluye, cargue y transporte hasta la bodega o el sitio que indique la interventoría | F7: =+TABACAL!C8 -> m2 | G7: =+TABACAL!D8 -> 12.6
A9: 1- Costos Directos
A10: E- EQUIPO
A11: DESCRIPCIÓN | E11: Tarifa/Hora | F11: Rendimiento | G11: Vr. Unitario
A12: herramienta menor | G12: =0.05*G22 -> 1490.4333
F13: Sub-Total | G13: =SUM(G12:G12) -> 1490.4333
A14: MA- MATERIALES
A15: DESCRIPCIÓN | D15: Unidad | E15: Cantidad | F15: Precio Unitario | G15: Vr. Unitario
G16: =+E16*F16 -> 0
F18: Sub-Total | G18: =SUM(G16:G17) -> 0
A19: MO- MANO OBRA
A20: PERSONAL | C20: Jornal | D20: Prestaciones | E20: Jornal Total | F20: Rendimiento | G20: Vr. Unitario
A21: =+'insumos-MO'!B40 -> Cuadrilla de construcción 0*2 | C21: =+'insumos-MO'!E40 -> 178852 | E21: =+C21 -> 178852 | F21: 6 | G21: =+E21/F21 -> 29808.667
F22: Sub-Total | G22: =SUM(G21) -> 29808.667
A23: AUXILIARES-TRANSPORTE-CARGUE
A24: DESCRIPCION | C24: UNIDAD | D24: CANTIDAD | F24: COSTOS | G24: Vr. Unitario
A25: Cargue (Paleros), transporte de materiales y derechos de botadero y/o almacenamiento en bodega | C25: M3 | D25: 0.31759833 | F25: 60000 | G25: =+F25*D25 -> 19055.9
F26: Sub-Total | G26: =SUM(G25:G25) -> 19055.9
A29: Total Costos Directos | G29: =+G26+G22+G18+G13 -> 50355 | H29: =+TABACAL!E8 -> 50355

Sheet 2,3
A6: ITEM | B6: DESCRIPCIÓN | F6: UNIDAD | G6: CANTIDAD
A7: =+TABACAL!A9 -> 2.3 | B7: =+TABACAL!B9 -> DEMOLICIÓN DE PISOS en concreto incluye retiro de baldosa de cemento, baldosín forros en arenón, entre otros), | F7: =+TABACAL!C9 -> m2 | G7: =+TABACAL!D9 -> 387.43
A9: 1- Costos Directos
A10: E- EQUIPO
A11: DESCRIPCIÓN | E11: Tarifa/Hora | F11: Rendimiento | G11: Vr. Unitario
A12: herramienta menor | G12: =0.05*G22 -> 894.26
F13: Sub-Total | G13: =SUM(G12:G12) -> 894.26
A14: MA- MATERIALES
A15: DESCRIPCIÓN | D15: Unidad | E15: Cantidad | F15: Precio Unitario | G15: Vr. Unitario
G16: =+E16*F16 -> 0
F18: Sub-Total | G18: =SUM(G16:G17) -> 0
A19: MO- MANO OBRA
A20: PERSONAL | C20: Jornal | D20: Prestaciones | E20: Jornal Total | F20: Rendimiento | G20: Vr. Unitario
A21: =+'insumos-MO'!B39 -> Cuadrilla de construcción 0*1 | C21: =+'insumos-MO'!E39 -> 89426 | E21: =+C21 -> 89426 | F21: 5 | G21: =+E21/F21 -> 17885.2
F22: Sub-Total | G22: =SUM(G21) -> 17885.2
A23: AUXILIARES-TRANSPORTE-CARGUE
A24: DESCRIPCION | C24: UNIDAD | D24: CANTIDAD | F24: COSTOS | G24: Vr. Unitario
A25: Cargue (Paleros), transporte de materiales y derechos de botadero y/o almacenamiento en bodega | C25: M3 | D25: 0.381059 | F25: 60000 | G25: =+F25*D25 -> 22863.54
F26: Sub-Total | G26: =SUM(G25:G25) -> 22863.54
A29: Total Costos Directos | G29: =+G26+G22+G18+G13 -> 41643 | H29: =+TABACAL!E9 -> 41643

Sheet 2,4
A6: ITEM | B6: DESCRIPCIÓN | F6: UNIDAD | G6: CANTIDAD
A7: =+TABACAL!A10 -> 2.4 | B7: =+TABACAL!B10 -> RETIRO DE APARATOS SANITARIOS Y LAVAMANOS, incluye el cargue, transporte, botada o recuperación de aparatos sanitarios, lavamanos, lavaderos, orinales. Incluye botada en botaderos oficiales y la recuperación de los materiales aprovechables y/o su transporte hasta la bodega o el sitio que indique la interventoría | F7: =+TABACAL!C10 -> Unidad | G7: =+TABACAL!D10 -> 6
A9: 1- Costos Directos
A10: E- EQUIPO
A11: DESCRIPCIÓN | E11: Tarifa/Hora | F11: Rendimiento | G11: Vr. Unitario
A12: herramienta menor | G12: =0.05*G22 -> 1117.825
F13: Sub-Total | G13: =SUM(G12:G12) -> 1117.825
A14: MA- MATERIALES
A15: DESCRIPCIÓN | D15: Unidad | E15: Cantidad | F15: Precio Unitario | G15: Vr. Unitario
G16: =+E16*F16 -> 0
F18: Sub-Total | G18: =SUM(G16:G17) -> 0
A19: MO- MANO OBRA
A20: PERSONAL | C20: Jornal | D20: Prestaciones | E20: Jornal Total | F20: Rendimiento | G20: Vr. Unitario
A21: =+'insumos-MO'!B39 -> Cuadrilla de construcción 0*1 | C21: =+'insumos-MO'!E39 -> 89426 | E21: =+C21 -> 89426 | F21: 4 | G21: =+E21/F21 -> 22356.5
F22: Sub-Total | G22: =SUM(G21) -> 22356.5
A23: AUXILIARES-TRANSPORTE-CARGUE
A24: DESCRIPCION | C24: UNIDAD | D24: CANTIDAD | F24: COSTOS | G24: Vr. Unitario
A25: Cargue (Paleros), transporte de materiales y derechos de botadero y/o almacenamiento en bodega | C25: M3 | D25: 0.49689458 | F25: 60000 | G25: =+F25*D25 -> 29813.675
F26: Sub-Total | G26: =SUM(G25:G25) -> 29813.675
A29: Total Costos Directos | G29: =+G26+G22+G18+G13 -> 53288 | H29: =+TABACAL!E10 -> 53288

Sheet 2,5
A6: ITEM | B6: DESCRIPCIÓN | F6: UNIDAD | G6: CANTIDAD
A7: =+TABACAL!A11 -> 2.5 | B7: =+TABACAL!B11 -> RETIRO DE PUERTAS (marcos y alas) metálicas, en aluminio, en madera o (puerta, ventana en reja). Ancho variable desde 0,60 a 1,20 m. | F7: =+TABACAL!C11 -> Unidad | G7: =+TABACAL!D11 -> 16
A9: 1- Costos Directos
A10: E- EQUIPO
A11: DESCRIPCIÓN | E11: Tarifa/Hora | F11: Rendimiento | G11: Vr. Unitario
A12: herramienta menor | G12: =0.05*G22 -> 1788.52
F13: Sub-Total | G13: =SUM(G12:G12) -> 1788.52
A14: MA- MATERIALES
A15: DESCRIPCIÓN | D15: Unidad | E15: Cantidad | F15: Precio Unitario | G15: Vr. Unitario
G16: =+E16*F16 -> 0
F18: Sub-Total | G18: =SUM(G16:G17) -> 0
A19: MO- MANO OBRA
A20: PERSONAL | C20: Jornal | D20: Prestaciones | E20: Jornal Total | F20: Rendimiento | G20: Vr. Unitario
A21: =+'insumos-MO'!B40 -> Cuadrilla de construcción 0*2 | C21: =+'insumos-MO'!E40 -> 178852 | E21: =+C21 -> 178852 | F21: 5 | G21: =+E21/F21 -> 35770.4
F22: Sub-Total | G22: =SUM(G21) -> 35770.4
A23: AUXILIARES-TRANSPORTE-CARGUE
A24: DESCRIPCION | C24: UNIDAD | D24: CANTIDAD | F24: COSTOS | G24: Vr. Unitario
A25: Cargue (Paleros), transporte de materiales y derechos de botadero y/o almacenamiento en bodega | C25: M3 | D25: 0.483718 | F25: 60000 | G25: =+F25*D25 -> 29023.08
F26: Sub-Total | G26: =SUM(G25:G25) -> 29023.08
A29: Total Costos Directos | G29: =+G26+G22+G18+G13 -> 66582 | H29: =+TABACAL!E11 -> 66582

Sheet 3,1
A6: ITEM | B6: DESCRIPCIÓN | F6: UNIDAD | G6: CANTIDAD
A7: =+TABACAL!A13 -> 3.1 | B7: =+TABACAL!B13 -> Construcción de techo en teja de barro. Incluye suministro e instalación de teja de barro, viga en madera de 100mm x 100mmx2mm, alfardas en madera de 50mmx100mmx2mm, lima hoyas y limatones en madera de 50mmx100mmx2mm, entre capa de eterboard de 10mm, impermeabilización en frio con permofit , colocación de mortero en remate de tejas y caballete. Medido en proyección horizontal | F7: =+TABACAL!C13 -> m2 | G7: =+TABACAL!D13 -> 228.89994
A9: 1- Costos Directos
A10: E- EQUIPO
A11: DESCRIPCIÓN | E11: Tarifa/Hora | F11: Rendimiento | G11: Vr. Unitario
A12: herramienta menor | G12: =0.05*G29 -> 10060.425
F13: Sub-Total | G13: =SUM(G12:G12) -> 10060.425
A14: MA- MATERIALES
A15: DESCRIPCIÓN | D15: Unidad | E15: Cantidad | F15: Precio Unitario | G15: Vr. Unitario
A16: Teja de barro | D16: Unidad | E16: 12.5 | F16: 2072.806 | G16: =+E16*F16 -> 25910.075
A17: Mort.1:5 En obra | D17: m3 | E17: 0.03 | F17: 350000 | G17: =+E17*F17 -> 10500
A18: Clavos | D18: lb | E18: 0.25 | F18: 4500 | G18: =+E18*F18 -> 1125
A19: manto permofit | D19: m2 | E19: 1 | F19: 17800 | G19: =+E19*F19 -> 17800
A20: Larguero 2" x 4" (alfardas) 2mm | D20: m | E20: 1.9 | F20: 25600 | G20: =+E20*F20 -> 48640
A21: viga en madera de 4" * 4" *2 mm | D21: m | E21: 1 | F21: 85000 | G21: =+E21*F21 -> 85000
A22: madera de 2" *4"* 2mm | D22: m | E22: 1.9 | F22: 54000 | G22: =+E22*F22 -> 102600
A23: lamina de eterboard 10mm | D23: m2 | E23: 1 | F23: 45000 | G23: =+E23*F23 -> 45000
F25: Sub-Total | G25: =SUM(G16:G24) -> 336575.07
A26: MO- MANO OBRA
A27: PERSONAL | C27: Jornal | D27: Prestaciones | E27: Jornal Total | F27: Rendimiento | G27: Vr. Unitario
A28: =+'insumos-MO'!B45 -> Cuadrilla de construcción 1*3 | C28: =+'insumos-MO'!E45 -> 402417 | E28: =+C28 -> 402417 | F28: 2 | G28: =+E28/F28 -> 201208.5
F29: Sub-Total | G29: =SUM(G28) -> 201208.5
A30: AUXILIARES-TRANSPORTE-CARGUE
A31: DESCRIPCION | C31: UNIDAD | D31: CANTIDAD | F31: COSTOS | G31: Vr. Unitario
A32: transporte interno y externo de mateariales a sitio | C32: gl | D32: 1 | F32: 70000 | G32: =+F32*D32 -> 70000
F33: Sub-Total | G33: =SUM(G32:G32) -> 70000
A36: Total Costos Directos | G36: =+G33+G29+G25+G13 -> 617844 | H36: =+TABACAL!E13 -> 617844

Sheet 3,2
A6: ITEM | B6: DESCRIPCIÓN | F6: UNIDAD | G6: CANTIDAD
A7: =+TABACAL!A14 -> 3.2 | B7: =+TABACAL!B14 -> SUMINISTO, TRANSPORTE E INSTALACION DE CANOA EN LAMINA GALVANIZADA Cal .24 d/ 0.60 m. (Suministro e instalación con 2 manos de anticorrosivo WASH PRIMER + esmalte + anclaje a muro + sikaflex 1A) Color por definir por interventoría | F7: =+TABACAL!C14 -> ml | G7: =+TABACAL!D14 -> 206.86
A9: 1- Costos Directos
A10: E- EQUIPO
A11: DESCRIPCIÓN | E11: Tarifa/Hora | F11: Rendimiento | G11: Vr. Unitario
A12: herramienta menor | G12: =0.05*G24 -> 1397.2812
F13: Sub-Total | G13: =SUM(G12:G12) -> 1397.2812
A14: MA- MATERIALES
A15: DESCRIPCIÓN | D15: Unidad | E15: Cantidad | F15: Precio Unitario | G15: Vr. Unitario
A16: Canoa el lamina galvanizada cal 24 D/0,60m | D16: ml | E16: 1 | F16: 42000 | G16: =+E16*F16 -> 42000
A17: Wash primer 1/4 galón | D17: Unidad | E17: 0.15 | F17: 51900 | G17: =+F17*E17 -> 7785
A18: anlcajes con sikaflex 1A. | D18: Unidad | E18: 1 | F18: 16500 | G18: =+F18*E18 -> 16500
A19: Pintura Anticorrosivo Esmalte Blanco 1/4 Galón | D19: Unidad | E19: 0.1197628 | F19: 24900 | G19: =+F19*E19 -> 2982.0938
F20: Sub-Total | G20: =SUM(G16:G19) -> 69267.094
A21: MO- MANO OBRA
A22: PERSONAL | C22: Jornal | D22: Prestaciones | E22: Jornal Total | F22: Rendimiento | G22: Vr. Unitario
A23: =+'insumos-MO'!B43 -> Cuadrilla de construcción 1*1 | C23: =+'insumos-MO'!E43 -> 223565 | E23: =+C23 -> 223565 | F23: 8 | G23: =+E23/F23 -> 27945.625
F24: Sub-Total | G24: =SUM(G23) -> 27945.625
A25: AUXILIARES-TRANSPORTE-CARGUE
A26: DESCRIPCION | C26: UNIDAD | D26: CANTIDAD | F26: COSTOS | G26: Vr. Unitario
F28: Sub-Total | G28: =SUM(G27:G27) -> 0
A31: Total Costos Directos | G31: =+G28+G24+G20+G13 -> 98610 | H31: =+TABACAL!E14 -> 98610

Sheet 3,3
A6: ITEM | B6: DESCRIPCIÓN | F6: UNIDAD | G6: CANTIDAD
A7: =+TABACAL!A15 -> 3.3 | B7: =+TABACAL!B15 -> Suministro, transporte y colocación de ruana en lámina galvanizada calibre 22., desarrollo 40 cm. Incluye canchada de muro, faja de revoque impermeabilizada, con filete., pintura anticorrosiva y a base de aceite, pestaña de 5 cm, y todos los elementos necesarios para su correcta construcción | F7: =+TABACAL!C14 -> ml | G7: =+TABACAL!D15 -> 15.55
A9: 1- Costos Directos
A10: E- EQUIPO
A11: DESCRIPCIÓN | E11: Tarifa/Hora | F11: Rendimiento | G11: Vr. Unitario
A12: herramienta menor | G12: =0.05*G23 -> 859.86538
F13: Sub-Total | G13: =SUM(G12:G12) -> 859.86538
A14: MA- MATERIALES
A15: DESCRIPCIÓN | D15: Unidad | E15: Cantidad | F15: Precio Unitario | G15: Vr. Unitario
A16: lamina galvanizada calibre 22 de 1*2 | D16: Unidad | E16: 0.4 | F16: 95409.977 | G16: =+E16*F16 -> 38163.991
A17: revoque 1:5 | D17: m3 | E17: 0.0081995322 | F17: 350000 | G17: =+F17*E17 -> 2869.8363
A18: Pintura Anticorrosivo Esmalte Blanco 1/4 Galón | D18: Unidad | E18: 0.09 | F18: 24900 | G18: =+F18*E18 -> 2241
F19: Sub-Total | G19: =SUM(G16:G18) -> 43274.827
A20: MO- MANO OBRA
A21: PERSONAL | C21: Jornal | D21: Prestaciones | E21: Jornal Total | F21: Rendimiento | G21: Vr. Unitario
A22: =+'insumos-MO'!B43 -> Cuadrilla de construcción 1*1 | C22: =+'insumos-MO'!E43 -> 223565 | E22: =+C22 -> 223565 | F22: 13 | G22: =+E22/F22 -> 17197.308
F23: Sub-Total | G23: =SUM(G22) -> 17197.308
A24: AUXILIARES-TRANSPORTE-CARGUE
A25: DESCRIPCION | C25: UNIDAD | D25: CANTIDAD | F25: COSTOS | G25: Vr. Unitario
F27: Sub-Total | G27: =SUM(G26:G26) -> 0
A30: Total Costos Directos | G30: =+G27+G23+G19+G13 -> 61332 | H30: =+TABACAL!E15 -> 61332

Sheet 4,1
A6: ITEM | B6: DESCRIPCIÓN | F6: UNIDAD | G6: CANTIDAD
A7: =+TABACAL!A17 -> 4.1 | B7: =+TABACAL!B17 -> Aplicación pintura vinilo tipo 1, a tres manos, en espacios internos de las áreas donde se realizará la intervención y el mantenimiento. Incluye: Limpieza. preparación de la superficie. acabado final con pintura tipo viniltex color blanco calidad Pintuco o similar que cumpla la norma Icontec. la aplicación se hará con rodillo y brocha | F7: =+TABACAL!C17 -> m2 | G7: =+TABACAL!D17 -> 624.06
A9: 1- Costos Directos
A10: E- EQUIPO
A11: DESCRIPCIÓN | E11: Tarifa/Hora | F11: Rendimiento | G11: Vr. Unitario
A12: Andamio tijera tramo completo 1.50 x 1.50 | E12: 15400 | F12: =1/20 -> 0.05 | G12: =+F12*E12 -> 770
A13: herramienta menor | G13: =0.05*G24 -> 709.73016
F14: Sub-Total | G14: =SUM(G12:G13) -> 1479.7302
A15: MA- MATERIALES
A16: DESCRIPCIÓN | D16: Unidad | E16: Cantidad | F16: Precio Unitario | G16: Vr. Unitario
A17: Pintura base agua tipo 1 | D17: galon | E17: =1/15 -> 0.066666667 | F17: 80860 | G17: =+F17*E17 -> 5390.6667
G18: =+F18*E18 -> 0
G19: =+F19*E19 -> 0
F20: Sub-Total | G20: =SUM(G17:G19) -> 5390.6667
A21: MO- MANO OBRA
A22: PERSONAL | C22: Jornal | D22: Prestaciones | E22: Jornal Total | F22: Rendimiento | G22: Vr. Unitario
A23: =+'insumos-MO'!B43 -> Cuadrilla de construcción 1*1 | C23: =+'insumos-MO'!E43 -> 223565 | E23: =+C23 -> 223565 | F23: 15.75 | G23: =+E23/F23 -> 14194.603
F24: Sub-Total | G24: =SUM(G23) -> 14194.603
A25: AUXILIARES-TRANSPORTE-CARGUE
A26: DESCRIPCION | C26: UNIDAD | D26: CANTIDAD | F26: COSTOS | G26: Vr. Unitario
F28: Sub-Total | G28: =SUM(G27:G27) -> 0
A31: Total Costos Directos | G31: =+G28+G24+G20+G14 -> 21065 | H31: =+TABACAL!E17 -> 21065

Sheet 4,2
A6: ITEM | B6: DESCRIPCIÓN | F6: UNIDAD | G6: CANTIDAD
A7: =+TABACAL!A18 -> 4.2 | B7: =+TABACAL!B18 -> Colocación de REVOQUE con mortero 1:4 IMPERMEABILIZADO con Sika 1 o equivalente. Incluye suministro y transporte de los materiales, ranuras, filetes, y todos los demás elementos necesarios para su correcta construcción. | F7: =+TABACAL!C18 -> m2 | G7: =+TABACAL!D18 -> 224.12
A9: 1- Costos Directos
A10: E- EQUIPO
A11: DESCRIPCIÓN | E11: Tarifa/Hora | F11: Rendimiento | G11: Vr. Unitario
A12: Andamio tijera tramo completo 1.50 x 1.50 | E12: 11500 | F12: =1/10 -> 0.1 | G12: =+E12*F12 -> 1150
A13: herramienta menor | G13: =0.05*G22 -> 1490.4333
F14: Sub-Total | G14: =SUM(G12:G13) -> 2640.4333
A15: MA- MATERIALES
A16: DESCRIPCIÓN | D16: Unidad | E16: Cantidad | F16: Precio Unitario | G16: Vr. Unitario
A17: mortero 1: 4 impermeabilizado | D17: m3 | E17: 0.03 | F17: 726796.67 | G17: =+E17*F17 -> 21803.9
F18: Sub-Total | G18: =SUM(G17:G17) -> 21803.9
A19: MO- MANO OBRA
A20: PERSONAL | C20: Jornal | D20: Prestaciones | E20: Jornal Total | F20: Rendimiento | G20: Vr. Unitario
A21: =+'insumos-MO'!B48 -> Cuadrilla de construcción 2*1 | C21: =+'insumos-MO'!E48 -> 357704 | E21: =+C21 -> 357704 | F21: 12 | G21: =+E21/F21 -> 29808.667
F22: Sub-Total | G22: =SUM(G21) -> 29808.667
A23: TR-TRANSPORTE
A24: MATERIAL | C24: UNIDAD | D24: CANTIDAD | F24: COSTOS | G24: Vr. Unitario
A25: materiales | F25: 1 | G25: 1000
A26: Disposicion final material
F27: Sub-Total | G27: =SUM(G25:G26) -> 1000
A30: Total Costos Directos | G30: =+G27+G22+G18+G14 -> 55253 | H30: 55253

Sheet 4,3
A6: ITEM | B6: DESCRIPCIÓN | F6: UNIDAD | G6: CANTIDAD
A7: =+TABACAL!A19 -> 4.3 | B7: =+TABACAL!B19 -> Colocación de ESTUCO ACRÍLICO PROFESIONAL, SOBRE SUPERFICIES REVOCADAS, 3 manos mínimo, o las que sean necesarias para obtener una superficie pareja y homogénea. Incluye suministro y transporte de los materiales, ranuras, filetes, dilataciones y todos los elementos necesarios para su correcta aplicación y funcionamiento | F7: =+TABACAL!C18 -> m2 | G7: =+TABACAL!D19 -> 411.73
A9: 1- Costos Directos
A10: E- EQUIPO
A11: DESCRIPCIÓN | E11: Tarifa/Hora | F11: Rendimiento | G11: Vr. Unitario
A12: Andamio tijera tramo completo 1.50 x 1.50 | E12: 11500 | F12: =1/10 -> 0.1 | G12: =+E12*F12 -> 1150
A13: herramienta menor | G13: =0.05*G22 -> 447.13
F14: Sub-Total | G14: =SUM(G12:G13) -> 1597.13
A15: MA- MATERIALES
A16: DESCRIPCIÓN | D16: Unidad | E16: Cantidad | F16: Precio Unitario | G16: Vr. Unitario
A17: estuco acrilico plastico 30kg | D17: caneca | E17: =2.5/30 -> 0.083333333 | F17: 132159.24 | G17: =+E17*F17 -> 11013.27
F18: Sub-Total | G18: =SUM(G17:G17) -> 11013.27
A19: MO- MANO OBRA
A20: PERSONAL | C20: Jornal | D20: Prestaciones | E20: Jornal Total | F20: Rendimiento | G20: Vr. Unitario
A21: =+'insumos-MO'!B43 -> Cuadrilla de construcción 1*1 | C21: =+'insumos-MO'!E43 -> 223565 | E21: =+C21 -> 223565 | F21: 25 | G21: =+E21/F21 -> 8942.6
F22: Sub-Total | G22: =SUM(G21) -> 8942.6
A23: TR-TRANSPORTE
A24: MATERIAL | C24: UNIDAD | D24: CANTIDAD | F24: COSTOS | G24: Vr. Unitario
A25: materiales | F25: 1 | G25: 1000
A26: Disposicion final material
F27: Sub-Total | G27: =SUM(G25:G26) -> 1000
A30: Total Costos Directos | G30: =+G27+G22+G18+G14 -> 22553 | H30: =+TABACAL!E19 -> 22553

Sheet 5,1
A6: ITEM | B6: DESCRIPCIÓN | F6: UNIDAD | G6: CANTIDAD
A7: =+TABACAL!A21 -> 5.1 | B7: =+TABACAL!B21 -> SUMINISTRO E INSTALACION DE PUERTAS EN VIDRIO 6mm con marcos en aluminio cuerpos aluminio natural mate, vidrio 3+3 mm batiente sin reja según diseño, incluyen todos los elementos necesarios para su correcta instalación y funcionamiento | F7: =+TABACAL!C21 -> m2 | G7: =+TABACAL!D21 -> 5.76
A9: 1- Costos Directos
A10: E- EQUIPO
A11: DESCRIPCIÓN | E11: Tarifa/Hora | F11: Rendimiento | G11: Vr. Unitario
A12: herramienta menor | G12: =0.05*G21 -> 5589.125
F13: Sub-Total | G13: =SUM(G12:G12) -> 5589.125
A14: MA- MATERIALES
A15: DESCRIPCIÓN | D15: Unidad | E15: Cantidad | F15: Precio Unitario | G15: Vr. Unitario
A16: SUMINISTRO E INSTALACION DE PUERTAS EN VIDRIO 6mm con marcos en aluminio cuerpos aluminio natural mate, vidrio 3+3 mm batiente lico plastico 30kg | D16: m2 | E16: 1 | F16: 1130320.4 | G16: =+E16*F16 -> 1130320.4
F17: Sub-Total | G17: =SUM(G16:G16) -> 1130320.4
A18: MO- MANO OBRA
A19: PERSONAL | C19: Jornal | D19: Prestaciones | E19: Jornal Total | F19: Rendimiento | G19: Vr. Unitario
A20: =+'insumos-MO'!B43 -> Cuadrilla de construcción 1*1 | C20: =+'insumos-MO'!E43 -> 223565 | E20: =+C20 -> 223565 | F20: 2 | G20: =+E20/F20 -> 111782.5
F21: Sub-Total | G21: =SUM(G20) -> 111782.5
A22: TR-TRANSPORTE
A23: MATERIAL | C23: UNIDAD | D23: CANTIDAD | F23: COSTOS | G23: Vr. Unitario
A24: transporte puerta | C24: UNIDAD | D24: 1 | F24: 70000 | G24: =+F24*D24 -> 70000
A25: Disposicion final material | J25: |
F26: Sub-Total | G26: =SUM(G24:G25) -> 70000
A29: Total Costos Directos | G29: =+G26+G21+G17+G13 -> 1317692 | H29: =+TABACAL!E21 -> 1317692

Sheet 5,2
A6: ITEM | B6: DESCRIPCIÓN | F6: UNIDAD | G6: CANTIDAD
A7: =+TABACAL!A22 -> 5.2 | B7: =+TABACAL!B22 -> Suministro transporte e instalación de Puerta para interior de 0,8mt x 2,2mt en madera de cedro, entamborada en triple con chapa de bola en acero inoxidable con sus respectivas llaves según diseño acordado con interventoría | F7: =+TABACAL!C22 -> Unidad | G7: =+TABACAL!D22 -> 12
A9: 1- Costos Directos
A10: E- EQUIPO
A11: DESCRIPCIÓN | E11: Tarifa/Hora | F11: Rendimiento | G11: Vr. Unitario
A12: herramienta menor | G12: =0.05*G21 -> 5589.125
F13: Sub-Total | G13: =SUM(G12:G12) -> 5589.125
A14: MA- MATERIALES
A15: DESCRIPCIÓN | D15: Unidad | E15: Cantidad | F15: Precio Unitario | G15: Vr. Unitario
A16: Puerta para interior de 0,8mt x 2,2mt en madera de cedro, entamborada en triple con chapa de bola en acero inoxidable con sus respectivas llaves según | D16: Unidad | E16: 1 | F16: 663992.38 | G16: =+E16*F16 -> 663992.38
F17: Sub-Total | G17: =SUM(G16:G16) -> 663992.38
A18: MO- MANO OBRA
A19: PERSONAL | C19: Jornal | D19: Prestaciones | E19: Jornal Total | F19: Rendimiento | G19: Vr. Unitario
A20: =+'insumos-MO'!B43 -> Cuadrilla de construcción 1*1 | C20: =+'insumos-MO'!E43 -> 223565 | E20: =+C20 -> 223565 | F20: 2 | G20: =+E20/F20 -> 111782.5
F21: Sub-Total | G21: =SUM(G20) -> 111782.5
A22: TR-TRANSPORTE
A23: MATERIAL | C23: UNIDAD | D23: CANTIDAD | F23: COSTOS | G23: Vr. Unitario
A24: transporte puerta | C24: UNIDAD | D24: 1 | F24: 70000 | G24: =+F24*D24 -> 70000
A25: Disposicion final material
F26: Sub-Total | G26: =SUM(G24:G25) -> 70000
A29: Total Costos Directos | G29: =+G26+G21+G17+G13 -> 851364 | H29: =+TABACAL!E22 -> 851364

Sheet 5,3
A6: ITEM | B6: DESCRIPCIÓN | F6: UNIDAD | G6: CANTIDAD
A7: =+TABACAL!A23 -> 5.3 | B7: =+TABACAL!B23 -> SUMINISTRO E INSTALACION DE VENTANA EN ALUMINIO cuerpos aluminio natural mate, vidrio 5 mm con una fija y otra corrediza, incluyen todos los elementos necesarios para su correcta instalación y funcionamiento | F7: =+TABACAL!C23 -> m2 | G7: =+TABACAL!D23 -> 8.65
A9: 1- Costos Directos
A10: E- EQUIPO
A11: DESCRIPCIÓN | E11: Tarifa/Hora | F11: Rendimiento | G11: Vr. Unitario
A12: herramienta menor | G12: =0.05*G21 -> 3726.0833
F13: Sub-Total | G13: =SUM(G12:G12) -> 3726.0833
A14: MA- MATERIALES
A15: DESCRIPCIÓN | D15: Unidad | E15: Cantidad | F15: Precio Unitario | G15: Vr. Unitario
A16: VENTANA EN ALUMINIO cuerpos aluminio natural mate, vidrio 5 mm con una fija y otra corrediza | D16: m2 | E16: 1 | F16: 759444.25 | G16: =+E16*F16 -> 759444.25
F17: Sub-Total | G17: =SUM(G16:G16) -> 759444.25
A18: MO- MANO OBRA
A19: PERSONAL | C19: Jornal | D19: Prestaciones | E19: Jornal Total | F19: Rendimiento | G19: Vr. Unitario
A20: =+'insumos-MO'!B43 -> Cuadrilla de construcción 1*1 | C20: =+'insumos-MO'!E43 -> 223565 | E20: =+C20 -> 223565 | F20: 3 | G20: =+E20/F20 -> 74521.667
F21: Sub-Total | G21: =SUM(G20) -> 74521.667
A22: TR-TRANSPORTE
A23: MATERIAL | C23: UNIDAD | D23: CANTIDAD | F23: COSTOS | G23: Vr. Unitario
A24: transporte ventana | C24: UNIDAD | D24: 1 | F24: 70000 | G24: =+F24*D24 -> 70000
A25: Disposicion final material
F26: Sub-Total | G26: =SUM(G24:G25) -> 70000
A29: Total Costos Directos | G29: =+G26+G21+G17+G13 -> 907692 | H29: =+TABACAL!E23 -> 907692

Sheet 6,1
A6: ITEM | B6: DESCRIPCIÓN | F6: UNIDAD | G6: CANTIDAD
A7: =+TABACAL!A25 -> 6.1 | B7: =+TABACAL!B25 -> Suministro, transporte e instalación de baldosa de grano, incluye pulida, dilataciones, acabados y todo lo necesario para su correcto funcionamiento | F7: =+TABACAL!C25 -> m2 | G7: =+TABACAL!D25 -> 185.89
A9: 1- Costos Directos
A10: E- EQUIPO
A11: DESCRIPCIÓN | E11: Tarifa/dia | F11: Rendimiento | G11: Vr. Unitario
A12: Pulidora de pisos duros de 6 piedras | E12: 45000 | F12: 0.056 | G12: =+E12*F12 -> 2520
A13: herramienta menor | G13: =0.05*G27 -> 2794.5625
F14: Sub-Total | G14: =SUM(G12:G13) -> 5314.5625
A15: MA- MATERIALES
A16: DESCRIPCIÓN | D16: Unidad | E16: Cantidad | F16: Precio Unitario | G16: Vr. Unitario
A17: baldosa de grano 30*30 | D17: m2 | E17: 1 | F17: 75000 | G17: =+F17*E17 -> 75000
A18: lechada | D18: kg | E18: 1 | F18: 6500 | G18: =+F18*E18 -> 6500
A19: varilla de dilatacion pvc 4 mm *37 mm | D19: ml | E19: 1 | F19: 2900 | G19: =+F19*E19 -> 2900
A20: Cera Polimérica líquida para pisos | D20: lt | E20: 0.041 | F20: 14980 | G20: =+F20*E20 -> 614.18
A21: mortero pega 1:4 | D21: m3 | E21: 0.046014252 | F21: 421000 | G21: =+F21*E21 -> 19372
A22: Eucon R200, aditivo plastificante de concreto. Presentación por 20 Kg. Incluye transporte | D22: Unidad | E22: 0.0025 | F22: 700000 | G22: =+F22*E22 -> 1750
F23: Sub-Total | G23: =SUM(G17:G22) -> 106136.18
A24: MO- MANO OBRA
A25: PERSONAL | C25: Jornal | D25: Prestaciones | E25: Jornal Total | F25: Rendimiento | G25: Vr. Unitario
A26: =+'insumos-MO'!B43 -> Cuadrilla de construcción 1*1 | C26: =+'insumos-MO'!E43 -> 223565 | E26: =+C26 -> 223565 | F26: 4 | G26: =+E26/F26 -> 55891.25
F27: Sub-Total | G27: =SUM(G26) -> 55891.25
A28: TR-TRANSPORTE
A29: MATERIAL | C29: UNIDAD | D29: CANTIDAD | F29: COSTOS | G29: Vr. Unitario
A30: trnsporte interno de materiales | C30: UNIDAD | D30: 1 | F30: 4833.0075 | G30: =+F30*D30 -> 4833.0075
F31: Sub-Total | G31: =+G30 -> 4833.0075
A34: Total Costos Directos | G34: =+G31+G27+G23+G14 -> 172175 | H34: =+TABACAL!E25 -> 172175

Sheet 6,2
A6: ITEM | B6: DESCRIPCIÓN | F6: UNIDAD | G6: CANTIDAD
A7: =+TABACAL!A26 -> 6.2 | B7: =+TABACAL!B26 -> Construcción de mortero de nivelación 1:4 para pisos espesor hasta 5 cm | F7: =+TABACAL!C25 -> m2 | G7: =+TABACAL!D26 -> 185.89
A9: 1- Costos Directos
A10: E- EQUIPO
A11: DESCRIPCIÓN | E11: Tarifa/dia | F11: Rendimiento | G11: Vr. Unitario
A12: herramienta menor | G12: =0.05*G21 -> 1242.0278
F13: Sub-Total | G13: =SUM(G12:G12) -> 1242.0278
A14: MA- MATERIALES
A15: DESCRIPCIÓN | D15: Unidad | E15: Cantidad | F15: Precio Unitario | G15: Vr. Unitario
A16: mortero 1:4 | D16: m3 | E16: 0.059022367 | F16: 421000 | G16: =+F16*E16 -> 24848.417
F17: Sub-Total | G17: =SUM(G16:G16) -> 24848.417
A18: MO- MANO OBRA
A19: PERSONAL | C19: Jornal | D19: Prestaciones | E19: Jornal Total | F19: Rendimiento | G19: Vr. Unitario
A20: =+'insumos-MO'!B43 -> Cuadrilla de construcción 1*1 | C20: =+'insumos-MO'!E43 -> 223565 | E20: =+C20 -> 223565 | F20: 9 | G20: =+E20/F20 -> 24840.556
F21: Sub-Total | G21: =SUM(G20) -> 24840.556
A22: TR-TRANSPORTE
A23: MATERIAL | C23: UNIDAD | D23: CANTIDAD | F23: COSTOS | G23: Vr. Unitario
A24: trnsporte interno de materiales | C24: UNIDAD | D24: 1 | F24: 5000 | G24: =+F24*D24 -> 5000
F25: Sub-Total | G25: =+G24 -> 5000
A28: Total Costos Directos | G28: =+G25+G21+G17+G13 -> 55931 | H28: =+TABACAL!E26 -> 55931

Sheet 6,3
A6: ITEM | B6: DESCRIPCIÓN | F6: UNIDAD | G6: CANTIDAD
A7: 6.3 | B7: =+TABACAL!B27 -> Concreto de 21 Mpa para LOSA MACIZA de piso e=10 cms, incluye: armado, preparación, encofrada, vaciado, vibrado, curado y desencofrado. No incluye entresuelo. (Sin refuerzo) | F7: =+TABACAL!C25 -> m2 | G7: =+TABACAL!D27 -> 185.89
A9: 1- Costos Directos
A10: E- EQUIPO
A11: DESCRIPCIÓN | E11: Tarifa/dia | F11: Rendimiento | G11: Vr. Unitario
A12: vibrador electrico | E12: 60000 | F12: 0.015 | G12: =+F12*E12 -> 900
A13: herramienta menor | G13: =0.05*G23 -> 2874.4071
F14: Sub-Total | G14: =SUM(G12:G13) -> 3774.4071
A15: MA- MATERIALES
A16: DESCRIPCIÓN | D16: Unidad | E16: Cantidad | F16: Precio Unitario | G16: Vr. Unitario
A17: concreto de 21 Mpa | D17: m3 | E17: 0.12 | F17: 583245.42 | G17: =+F17*E17 -> 69989.45
A18: formaleta | D18: gl | E18: 1 | F18: 25000 | G18: =+F18*E18 -> 25000
F19: Sub-Total | G19: =SUM(G17:G18) -> 94989.45
A20: MO- MANO OBRA
A21: PERSONAL | C21: Jornal | D21: Prestaciones | E21: Jornal Total | F21: Rendimiento | G21: Vr. Unitario
A22: =+'insumos-MO'!B45 -> Cuadrilla de construcción 1*3 | C22: =+'insumos-MO'!E45 -> 402417 | E22: =+C22 -> 402417 | F22: 7 | G22: =+E22/F22 -> 57488.143
F23: Sub-Total | G23: =SUM(G22) -> 57488.143
A24: TR-TRANSPORTE
A25: MATERIAL | C25: UNIDAD | D25: CANTIDAD | F25: COSTOS | G25: Vr. Unitario
A26: transporte interno de materiales | C26: UNIDAD | D26: 1 | F26: 4100 | G26: =+F26*D26 -> 4100
F27: Sub-Total | G27: =+G26 -> 4100
A30: Total Costos Directos | G30: =+G27+G23+G19+G14 -> 160352 | H30: =+TABACAL!E27 -> 160352

Sheet 6,4
A6: ITEM | B6: DESCRIPCIÓN | F6: UNIDAD | G6: CANTIDAD
A7: 6.4 | B7: =+TABACAL!B28 -> Suministro transporte e instalación de guarda escoba piso en baldosa de grano pulido, incluye pega lechada y demás elementos necesarios para su correcta instalación | F7: ml | G7: =+TABACAL!D28 -> 67.25
A9: 1- Costos Directos
A10: E- EQUIPO
A11: DESCRIPCIÓN | E11: Tarifa/dia | F11: Rendimiento | G11: Vr. Unitario
A12: Pulidora de pisos duros de 6 piedras | E12: 45000 | F12: 0.02 | G12: =+F12*E12 -> 900
A13: herramienta menor | G13: =0.05*G25 -> 1829.1682
F14: Sub-Total | G14: =SUM(G12:G13) -> 2729.1682
A15: MA- MATERIALES
A16: DESCRIPCIÓN | D16: Unidad | E16: Cantidad | F16: Precio Unitario | G16: Vr. Unitario
A17: baldosa de grano 30*30 | D17: m2 | E17: 0.333 | F17: 75000 | G17: =+F17*E17 -> 24975
A18: mortero pega 1:4 | D18: m3 | E18: 0.002 | F18: 421000 | G18: =+F18*E18 -> 842
A19: Cera Polimérica líquida para pisos | D19: lt | E19: 0.008 | F19: 14980 | G19: =+F19*E19 -> 119.84
F21: Sub-Total | G21: =SUM(G17:G20) -> 25936.84
A22: MO- MANO OBRA
A23: PERSONAL | C23: Jornal | D23: Prestaciones | E23: Jornal Total | F23: Rendimiento | G23: Vr. Unitario
A24: =+'insumos-MO'!B45 -> Cuadrilla de construcción 1*3 | C24: =+'insumos-MO'!E45 -> 402417 | E24: =+C24 -> 402417 | F24: 11 | G24: =+E24/F24 -> 36583.364
F25: Sub-Total | G25: =SUM(G24) -> 36583.364
A26: TR-TRANSPORTE
A27: MATERIAL | C27: UNIDAD | D27: CANTIDAD | F27: COSTOS | G27: Vr. Unitario
A28: transporte interno de materiales | C28: UNIDAD | D28: 1 | F28: 3645.6282 | G28: =+F28*D28 -> 3645.6282
F29: Sub-Total | G29: =+G28 -> 3645.6282
A32: Total Costos Directos | G32: =+G29+G25+G21+G14 -> 68895 | H32: =+TABACAL!E28 -> 68895

Sheet 7,1
A6: ITEM | B6: DESCRIPCIÓN | F6: UNIDAD | G6: CANTIDAD
A7: 7.1 | B7: =+TABACAL!B30 -> Mantenimiento y reposición de abasto en DIÁMETRO DE 1/2"con tubería RDE 9, 500 PSI, incluye todos los accesorios en PVC de diámetro 1/2" que se requieran para su correcta instalación. Estos deberán estar correctamente pegados usando limpiador, soldadura y teflón apropiados, sin presentar fugas, fisuras o cualquier otra clase de anomalía. Se debe garantizar la correcta instalación y funcionamiento. Incluye además las perforaciones (canchas) de paredes o pisos que lo requieran incluyendo cargue, transporte y botada de escombros en botaderos oficiales o donde indique la interventoría. | F7: UNIDAD | G7: =+TABACAL!D30 -> 30
A9: 1- Costos Directos
A10: E- EQUIPO
A11: DESCRIPCIÓN | E11: Tarifa/dia | F11: Rendimiento | G11: Vr. Unitario
A12: herramienta menor | G12: =0.05*G28 -> 372.60833
F13: Sub-Total | G13: =SUM(G12:G12) -> 372.60833
A14: MA- MATERIALES
A15: DESCRIPCIÓN | D15: Unidad | E15: Cantidad | F15: Precio Unitario | G15: Vr. Unitario
A16: Tubería PVC-P RDE 9 500 PSI, Ø= 1/2" - Pavco o equivalente. | D16: m | E16: 4 | F16: 5200 | G16: =+F16*E16 -> 20800
A17: Unión PVC-P, Ø= 1/2 | D17: Unidad | E17: 1 | F17: 750 | G17: =+F17*E17 -> 750
A18: "Codo 90º PVC-P Ø= 1/2". | D18: Unidad | E18: 1 | F18: 950 | G18: =+F18*E18 -> 950
A19: Tee PVC-P Ø= 1/2 | D19: Unidad | E19: 1 | F19: 1200 | G19: =+F19*E19 -> 1200
A20: Adaptador macho PVC-P Ø= 1/2" | D20: Unidad | E20: 1 | F20: 650 | G20: =+F20*E20 -> 650
A21: Adaptador hembra PVC-P Ø= 1/2" - Pavco o equivalente | D21: Unidad | E21: 1 | F21: 750 | G21: =+F21*E21 -> 750
A22: Soldadura PVC (Unión simple) 1/4 | D22: Unidad | E22: 0.0035 | F22: 98500 | G22: =+F22*E22 -> 344.75
A23: Limpiador Removedor PVC x 1/4 de galón. | D23: Unidad | E23: 0.0035 | F23: 65000 | G23: =+F23*E23 -> 227.5
F24: Sub-Total | G24: =SUM(G16:G23) -> 25672.25
A25: MO- MANO OBRA
A26: PERSONAL | C26: Jornal | D26: Prestaciones | E26: Jornal Total | F26: Rendimiento | G26: Vr. Unitario
A27: =+'insumos-MO'!B43 -> Cuadrilla de construcción 1*1 | C27: =+'insumos-MO'!E43 -> 223565 | E27: =+C27 -> 223565 | F27: 30 | G27: =+E27/F27 -> 7452.1667
F28: Sub-Total | G28: =SUM(G27) -> 7452.1667
A29: TR-TRANSPORTE
A30: MATERIAL | C30: UNIDAD | D30: CANTIDAD | F30: COSTOS | G30: Vr. Unitario
A31: cargue y botada de escombros | C31: UNIDAD | D31: 1 | F31: 2069.975 | G31: =+F31*D31 -> 2069.975
A32: transporte interno de materiales | C32: UNIDAD | D32: 1 | F32: 1500 | G32: =+F32*D32 -> 1500
F33: Sub-Total | G33: =SUM(G31:G32) -> 3569.975
A36: Total Costos Directos | G36: =+G33+G28+G24+G13 -> 37067 | H36: =+TABACAL!E30 -> 37067

Sheet 7,2
A6: ITEM | B6: DESCRIPCIÓN | F6: UNIDAD | G6: CANTIDAD
A7: 7.2 | B7: =+TABACAL!B31 -> Suministro, transporte e instalación de TUBERÍA PVC-SANITARIA, con un DIÁMETRO DE 2", para aguas residuales ENTERRADA y/o EMPOTRADA por losas. Incluye suministro y transporte de los materiales, accesorios, pegante, limpiador y todos los elementos necesarios para su correcta instalación y funcionamiento. La excavación y los llenos se pagarán en su ítem respectivo. | F7: ml | G7: =+TABACAL!D31 -> 20
A9: 1- Costos Directos
A10: E- EQUIPO
A11: DESCRIPCIÓN | E11: Tarifa/dia | F11: Rendimiento | G11: Vr. Unitario
A12: herramienta menor | G12: =0.05*G27 -> 372.60833
F13: Sub-Total | G13: =SUM(G12:G12) -> 372.60833
A14: MA- MATERIALES
A15: DESCRIPCIÓN | D15: Unidad | E15: Cantidad | F15: Precio Unitario | G15: Vr. Unitario
A16: Tubería PVC-S Ø= 2 | D16: m | E16: 1 | F16: 15299.725 | G16: =+F16*E16 -> 15299.725
A17: Tapón prueba PVC-S Ø= 2" | D17: Unidad | E17: 0.3 | F17: 1550 | G17: =+F17*E17 -> 465
A18: Codo 90º PVC-S CxC, Ø= 2". | D18: Unidad | E18: 0.15 | F18: 4500 | G18: =+F18*E18 -> 675
A19: Codo 45º PVC-S CxC, Ø= 2" | D19: Unidad | E19: 0.15 | F19: 5100 | G19: =+F19*E19 -> 765
A20: Tee PVC-S Ø= 2"x1 1/2" | D20: Unidad | E20: 0.15 | F20: 7500 | G20: =+F20*E20 -> 1125
A21: Soldadura PVC (Unión simple) 1/4 | D21: Unidad | E21: 0.001 | F21: 98500 | G21: =+F21*E21 -> 98.5
A22: Limpiador Removedor PVC x 1/4 de galón. | D22: Unidad | E22: 0.001 | F22: 65000 | G22: =+F22*E22 -> 65
F23: Sub-Total | G23: =SUM(G16:G22) -> 18493.225
A24: MO- MANO OBRA
A25: PERSONAL | C25: Jornal | D25: Prestaciones | E25: Jornal Total | F25: Rendimiento | G25: Vr. Unitario
A26: =+'insumos-MO'!B43 -> Cuadrilla de construcción 1*1 | C26: =+'insumos-MO'!E43 -> 223565 | E26: =+C26 -> 223565 | F26: 30 | G26: =+E26/F26 -> 7452.1667
F27: Sub-Total | G27: =SUM(G26) -> 7452.1667
A28: TR-TRANSPORTE
A29: MATERIAL | C29: UNIDAD | D29: CANTIDAD | F29: COSTOS | G29: Vr. Unitario
A30: transporte interno de materiales | C30: UNIDAD | D30: 1 | F30: 1500 | G30: =+F30*D30 -> 1500
F31: Sub-Total | G31: =SUM(G30:G30) -> 1500
A34: Total Costos Directos | G34: =+G31+G27+G23+G13 -> 27818 | H34: =+TABACAL!E31 -> 27818

Sheet 7,3
A6: ITEM | B6: DESCRIPCIÓN | F6: UNIDAD | G6: CANTIDAD
A7: 7.3 | B7: =+TABACAL!B32 -> Suministro, transporte e instalación de TUBERÍA PVC-SANITARIA, con un DIÁMETRO DE 4", para aguas residuales o lluvia ENTERRADA y/o EMPOTRADA por losas. Incluye suministro y transporte de los materiales, accesorios, pegante, limpiador y todos los elementos necesarios para su correcta instalación y funcionamiento. La excavación y los llenos se pagarán en su ítem respectivo | F7: ml | G7: =+TABACAL!D31 -> 20
