Workbook
Name \b: [1]INSUMOS!#REF!
Name \i: [1]INSUMOS!#REF!
Name \m: [1]INSUMOS!#REF!
Name \r: [1]INSUMOS!#REF!
Name \t: [1]INSUMOS!#REF!
Name \x: [1]INSUMOS!#REF!
Name ___EST12: #REF!
Name __aiu2: [2]AIU!$J$105
Name __EST1: #REF!
Name __EST10: #REF!
Name __EST11: #REF!
Name __EST12: #REF!
Name __EST13: #REF!
Name __EST14: #REF!
Name __EST15: #REF!
Name __EST16: #REF!
Name __EST17: #REF!
Name __EST18: #REF!
Name __EST19: #REF!
Name __EST2: #REF!
Name __EST23: #REF!
Name __EST3: #REF!
Name __EST4: #REF!
Name __EST5: #REF!
Name __EST6: #REF!
Name __EST7: #REF!
Name __EST8: #REF!
Name __EST9: #REF!
Name __EXC1: #REF!
Name __EXC10: #REF!
Name __EXC11: #REF!
Name __EXC12: #REF!
Name __EXC2: #REF!
Name __EXC3: #REF!
Name __EXC4: #REF!
Name __EXC5: #REF!
Name __EXC6: #REF!
Name __EXC7: #REF!
Name __EXC8: #REF!
Name __EXC9: #REF!
Name _aiu2: [2]AIU!$J$105
Name _EST1: #REF!
Name _EST10: #REF!
Name _EST11: #REF!
Name _EST12: #REF!
Name _EST13: #REF!
Name _EST14: #REF!
Name _EST15: #REF!
Name _EST16: #REF!
Name _EST17: #REF!
Name _EST18: #REF!
Name _EST19: #REF!
Name _EST2: #REF!
Name _EST23: #REF!
Name _EST3: #REF!
Name _EST4: #REF!
Name _EST5: #REF!
Name _EST6: #REF!
Name _EST7: #REF!
Name _EST8: #REF!

Sheet Presupuesto Final
B2: CONSTRUCCIÓN DE PLACAS HUELLAS
B4: VEREDA EL AVIÓN, MUNICIPIO DE VILLAMARÍA - CALDAS
B6: PRESUPUESTO DE OBRA
F7: Fecha: | G7: 43741
B9: Item de Pago | C9: Descripción | D9: Und | E9: Cantidad | F9: Valor Unitario | G9: Valor Total
B10: COSTOS DIRECTOS
B11: =+'Item de Pago'!B10 -> 1 | C11: =+'Item de Pago'!C10 -> CONSTRUCCIÓN DE PLACAS HUELLAS | G11: =SUM(G12:G21) -> 102982817
B12: =+'Item de Pago'!B11 -> 1.1 | C12: =IF($B12=0,"",VLOOKUP($B12,'Item de Pago'!B2:F37,2,FALSE)) -> LOCALIZACIÓN Y REPLANTEO | D12: =IF($B12=0,"",VLOOKUP($B12,'Item de Pago'!B2:F38,4,FALSE)) -> M2 | E12: 128.733 | F12: =IF($B12=0,"",VLOOKUP($B12,'Item de Pago'!B2:F37,5,FALSE)) -> 3261 | G12: =ROUND(E12*F12,0) -> 419798
B13: =+'Item de Pago'!B12 -> 1.2 | C13: =IF($B13=0,"",VLOOKUP($B13,'Item de Pago'!B3:F38,2,FALSE)) -> EXCAVACIÓN MANUAL PARA ESTRUCTURAS - MATERIAL COMÚN - 0.0 A 2.0 M | D13: =IF($B13=0,"",VLOOKUP($B13,'Item de Pago'!B3:F39,4,FALSE)) -> M3 | E13: =+'Memorias Cantidades'!J19 -> 165 | F13: =IF($B13=0,"",VLOOKUP($B13,'Item de Pago'!B3:F38,5,FALSE)) -> 25078 | G13: =ROUND(E13*F13,0) -> 4137870
B14: =+'Item de Pago'!B13 -> 1.3 | C14: =IF($B14=0,"",VLOOKUP($B14,'Item de Pago'!B4:F39,2,FALSE)) -> RETIRO DE MATERIAL SOBRANTE EN VOLQUETA, CARGUE MANUAL | D14: =IF($B14=0,"",VLOOKUP($B14,'Item de Pago'!B4:F40,4,FALSE)) -> M3 | E14: =+'Memorias Cantidades'!J20 -> 165 | F14: =IF($B14=0,"",VLOOKUP($B14,'Item de Pago'!B4:F39,5,FALSE)) -> 30666 | G14: =ROUND(E14*F14,0) -> 5059890
B15: =+'Item de Pago'!B14 -> 1.4 | C15: =IF($B15=0,"",VLOOKUP($B15,'Item de Pago'!B5:F40,2,FALSE)) -> CONFORMACIÓN DE LA SUBRASANTE | D15: =IF($B15=0,"",VLOOKUP($B15,'Item de Pago'!B5:F41,4,FALSE)) -> M2 | E15: =+'Memorias Cantidades'!J21 -> 549 | F15: =IF($B15=0,"",VLOOKUP($B15,'Item de Pago'!B5:F40,5,FALSE)) -> 4600 | G15: =ROUND(E15*F15,0) -> 2525400
B16: =+'Item de Pago'!B15 -> 1.5 | C16: =IF($B16=0,"",VLOOKUP($B16,'Item de Pago'!B6:F41,2,FALSE)) -> AFIRMADO COMPACTADO PARA ESTRUCTURAS | D16: =IF($B16=0,"",VLOOKUP($B16,'Item de Pago'!B6:F42,4,FALSE)) -> M3 | E16: =+'Memorias Cantidades'!J22 -> 82 | F16: =IF($B16=0,"",VLOOKUP($B16,'Item de Pago'!B6:F41,5,FALSE)) -> 93336 | G16: =ROUND(E16*F16,0) -> 7653552
B17: =+'Item de Pago'!B16 -> 1.6 | C17: =IF($B17=0,"",VLOOKUP($B17,'Item de Pago'!B7:F42,2,FALSE)) -> CONCRETO DE 210 KG/CM² (3.000 PSI), ESPESOR 0,15 M - PLACAS HUELLAS Y VIGAS RIOSTRAS | D17: =IF($B17=0,"",VLOOKUP($B17,'Item de Pago'!B7:F43,4,FALSE)) -> M3 | E17: =+'Memorias Cantidades'!J23 -> 50 | F17: =IF($B17=0,"",VLOOKUP($B17,'Item de Pago'!B7:F42,5,FALSE)) -> 743871 | G17: =ROUND(E17*F17,0) -> 37193550
B18: =+'Item de Pago'!B17 -> 1.7 | C18: =IF($B18=0,"",VLOOKUP($B18,'Item de Pago'!B8:F43,2,FALSE)) -> CONCRETO CICLÓPEO ESPESOR 0,15 M (60% CONCRETO 3000 PSI Y 40% PIEDRA DE MANO) | D18: =IF($B18=0,"",VLOOKUP($B18,'Item de Pago'!B8:F44,4,FALSE)) -> M3 | E18: =+'Memorias Cantidades'!J24 -> 18 | F18: =IF($B18=0,"",VLOOKUP($B18,'Item de Pago'!B8:F43,5,FALSE)) -> 363786 | G18: =ROUND(E18*F18,0) -> 6548148
B19: =+'Item de Pago'!B18 -> 1.8 | C19: =IF($B19=0,"",VLOOKUP($B19,'Item de Pago'!B9:F44,2,FALSE)) -> ACERO DE REFUERZO 4.200 KG/CM² (60.000 PSI) PARA PLACAS Y RIOSTRAS. (INCLUYE ALAMBRE NEGRO Y FIGURACION) | D19: =IF($B19=0,"",VLOOKUP($B19,'Item de Pago'!B9:F45,4,FALSE)) -> KG | E19: =+'Memorias Cantidades'!J25 -> 5204 | F19: =IF($B19=0,"",VLOOKUP($B19,'Item de Pago'!B9:F44,5,FALSE)) -> 4919 | G19: =ROUND(E19*F19,0) -> 25598476
B20: =+'Item de Pago'!B19 -> 1.9 | C20: =IF($B20=0,"",VLOOKUP($B20,'Item de Pago'!B10:F45,2,FALSE)) -> CUNETA Y BORDILLO PARA VÍA VEHICULAR CONCRETO CLASE II PRODUCIDO EN OBRA | D20: =IF($B20=0,"",VLOOKUP($B20,'Item de Pago'!B10:F46,4,FALSE)) -> M3 | E20: =+'Memorias Cantidades'!J26 -> 25 | F20: =IF($B20=0,"",VLOOKUP($B20,'Item de Pago'!B10:F45,5,FALSE)) -> 553454 | G20: =ROUND(E20*F20,0) -> 13836350
B21: =+'Item de Pago'!B20 -> 1.1 | C21: =IF($B21=0,"",VLOOKUP($B21,'Item de Pago'!B12:F37,2,FALSE)) -> SARDINEL ANCHO = 20 CM H = ENTRE 17 Y 24 CM EN CONCRETO 3000 PSI | D21: =IF($B21=0,"",VLOOKUP($B21,'Item de Pago'!B11:F47,4,FALSE)) -> M2 | E21: =+'Memorias Cantidades'!J27 -> 3 | F21: =IF($B21=0,"",VLOOKUP($B21,'Item de Pago'!B11:F46,5,FALSE)) -> 3261 | G21: =ROUND(E21*F21,0) -> 9783
B23: =+'Item de Pago'!B22 -> 2 | C23: =+'Item de Pago'!C22 -> CONSTRUCCIÓN DE OBRAS DE DRENAJE CON TUBERÍA Y CABEZALES | G23: =SUM(G24:G27) -> 16382259
B24: =+'Item de Pago'!B23 -> 2.1 | C24: =IF($B24=0,"",VLOOKUP($B24,'Item de Pago'!B12:F46,2,FALSE)) -> EXCAVACIÓN MANUAL 4,5 M * 2,1 M * 1,6 M PARA CABEZALES | D24: =IF($B24=0,"",VLOOKUP($B24,'Item de Pago'!B12:F47,4,FALSE)) -> M3 | E24: =+'Memorias Cantidades'!J30 -> 30 | F24: =IF($B24=0,"",VLOOKUP($B24,'Item de Pago'!B12:F46,5,FALSE)) -> 25078 | G24: =ROUND(E24*F24,0) -> 752340
B25: =+'Item de Pago'!B24 -> 2.2 | C25: =IF($B25=0,"",VLOOKUP($B25,'Item de Pago'!B13:F47,2,FALSE)) -> CONCRETO RESISTENCIA 140 KG/CM² (2.000 PSI) PARA SOLADOS EN MUROS Y CABEZALES | D25: =IF($B25=0,"",VLOOKUP($B25,'Item de Pago'!B13:F48,4,FALSE)) -> M3 | E25: =+'Memorias Cantidades'!J31 -> 1 | F25: =IF($B25=0,"",VLOOKUP($B25,'Item de Pago'!B13:F47,5,FALSE)) -> 396302 | G25: =ROUND(E25*F25,0) -> 396302
B26: =+'Item de Pago'!B25 -> 2.3 | C26: =IF($B26=0,"",VLOOKUP($B26,'Item de Pago'!B14:F48,2,FALSE)) -> CABEZAL DE ENTREGA DE AGUAS LLUVIAS EN CONCRETO DE 3000 PSI 250 mm (10"). (Incluye acero de refuerzo ) | D26: =IF($B26=0,"",VLOOKUP($B26,'Item de Pago'!B14:F49,4,FALSE)) -> UND | E26: =+'Memorias Cantidades'!J32 -> 7 | F26: =IF($B26=0,"",VLOOKUP($B26,'Item de Pago'!B14:F48,5,FALSE)) -> 1154418 | G26: =ROUND(E26*F26,0) -> 8080926
B27: =+'Item de Pago'!B26 -> 2.4 | C27: =IF($B27=0,"",VLOOKUP($B27,'Item de Pago'!B15:F49,2,FALSE)) -> TUBERÍA DE DIÁMETRO (36" = 0,9 M) UNA POR CADA 100 M PARA ALCANTARILLAS | D27: =IF($B27=0,"",VLOOKUP($B27,'Item de Pago'!B15:F50,4,FALSE)) -> M | E27: =+'Memorias Cantidades'!J33 -> 6.5 | F27: =IF($B27=0,"",VLOOKUP($B27,'Item de Pago'!B15:F49,5,FALSE)) -> 1100414 | G27: =ROUND(E27*F27,0) -> 7152691
E29: TOTAL COSTO DIRECTO: | G29: =ROUND(SUM(G11:G27)/2,0) -> 119365076
B31: COSTOS INDIRECTOS
E32: Administración: | F32: 0.25 | G32: =ROUND($G$29*F32,0) -> 29841269
E33: Imprevistos: | F33: 0 | G33: =ROUND($G$29*F33,0) -> 0
D34: Utilidad: | F34: 0.05 | G34: =ROUND($G$29*F34,0) -> 5968254
E35: TOTAL COSTO INDIRECTO: | G35: =ROUND(SUM(G32:G34),0) -> 35809523
C37: TOTAL PRESUPUESTO (APROXIMADO AL PESO): | G37: =ROUND(G29+G35,0) -> 155174599
B39: VALOR TOTAL EN LETRAS:
B40: CIENTO CINCUENTA Y CINCO MILLONES, CIENTO SETENTA Y CUATRO MIL, QUINIENTOS NOVENTA Y NUEVE PESOS M/CTE.
B41: NOTA 1: Todas las actividades de este presupuesto, incluyen el suministro, transporte e instalación de cada uno de los materiales. NOTA 2: Se debe tener en cuenta que el PRECIO UNITARIO incluye el valor del IVA (19%).
B42: NOTA 3: Cuando la fracción decimal del peso sea igual o superior a 5 se aproximara por exceso al número entero siguiente del peso y cuando la fracción decimal del peso sea inferior a 5 se aproximará por defecto al número entero del peso.
B43: NOTA 4: El reconocimiento económico de los requerimientos ambientales exigidos por las autoridades ambientales, y/o sociales que son de obligatorio cumplimiento, serán reconocidos a cargo de reembolso de gastos (afectados por un % de administracion).(Ajustar de acuerdo al proyecto)
B44: NOTA 5: El control de tráfico temporal y la señalización provisional necesarios para la ejecución de las obras será por cuenta y riesgo del contratista.
B45: NOTA 6: De acuerdo a la vereda, existen diferentes fuentes de materiales, las cuales serán reconocidas durante visita de campo realizada al sitio, como parte del proceso precontractual.
B52: Elaboró: _________________________________ | E52: Revisó: _______________________________
B53: Ing. Lady Johanna Quintero Osorio | E53: Arq. Estefanía Delgado Osorio
B54: Apoyo Técnico | E54: Secretaria de Infraestructura y Vias
B55: Secretaría de Infraestructura y Vias | E55: Alcaldia de Villamaría, Caldas
...

Sheet RESUMEN
B2: CONSTRUCCIÓN DE PLACAS HUELLAS
B4: VEREDA SANTO DOMINGO, MUNICIPIO DE VILLAMARÍA - CALDAS
F7: Fecha: | G7: =TODAY() -> 45146
B9: Item de Pago | C9: Descripción | G9: Valor total
B10: 1. | C10: Construcción de Plachas Huellas - Vereda Villarazo (Contrato de Obra) | G10: ='Presupuesto Final Veredas'!G30 -> 275211791
B11: 2. | C11: Construcción de Plachas Huellas - Vereda Villarazo (Contrato de Interventoria)
B12: COSTO TOTAL PROYECTO | G12: =SUM(G10:G11) -> 275211791

Sheet Presupuesto Final Veredas
B2: CONSTRUCCIÓN DE PLACAS HUELLAS - VEREDA VILLARAZO
B4: MUNICIPIO DE VILLAMARÍA - CALDAS
B6: PRESUPUESTO DE OBRA
F7: Fecha: | G7: 45146
B9: Item de Pago | C9: Descripción | D9: Und | E9: Cantidad | F9: Valor Unitario | G9: Valor Total
B10: COSTOS DIRECTOS
B11: =+'Item de Pago'!B10 -> 1 | C11: =+'Item de Pago'!C10 -> CONSTRUCCIÓN DE PLACAS HUELLAS | G11: =SUM(G12:G20) -> 203860586
B12: =+'Item de Pago'!B11 -> 1.1 | C12: =IF($B12=0,"",VLOOKUP($B12,'Item de Pago'!B2:F37,2,FALSE)) -> LOCALIZACIÓN Y REPLANTEO | D12: ML | E12: =+'Memorias Cantidades Veredas'!J47 -> 183 | F12: ='A.P.U. OBRA'!I11 -> 4121 | G12: =ROUND(E12*F12,0) -> 754143
B13: =+'Item de Pago'!B12 -> 1.2 | C13: =IF($B13=0,"",VLOOKUP($B13,'Item de Pago'!B3:F38,2,FALSE)) -> EXCAVACIÓN MANUAL PARA ESTRUCTURAS - MATERIAL COMÚN - 0.0 A 2.0 M | D13: =IF($B13=0,"",VLOOKUP($B13,'Item de Pago'!B3:F39,4,FALSE)) -> M3 | E13: =+'Memorias Cantidades Veredas'!J59 -> 313 | F13: =+'A.P.U. OBRA'!I18 -> 35590 | G13: =ROUND(E13*F13,0) -> 11139670
B14: =+'Item de Pago'!B13 -> 1.3 | C14: =IF($B14=0,"",VLOOKUP($B14,'Item de Pago'!B4:F39,2,FALSE)) -> RETIRO DE MATERIAL SOBRANTE EN VOLQUETA, CARGUE MANUAL | D14: =IF($B14=0,"",VLOOKUP($B14,'Item de Pago'!B4:F40,4,FALSE)) -> M3 | E14: =+'Memorias Cantidades Veredas'!J71 -> 313 | F14: =+'A.P.U. OBRA'!I23 -> 42618 | G14: =ROUND(E14*F14,0) -> 13339434
B15: =+'Item de Pago'!B14 -> 1.4 | C15: =IF($B15=0,"",VLOOKUP($B15,'Item de Pago'!B5:F40,2,FALSE)) -> CONFORMACIÓN DE LA SUBRASANTE | D15: =IF($B15=0,"",VLOOKUP($B15,'Item de Pago'!B5:F41,4,FALSE)) -> M2 | E15: =+'Memorias Cantidades Veredas'!J83 -> 897 | F15: 4600 | G15: =ROUND(E15*F15,0) -> 4126200
B16: =+'Item de Pago'!B15 -> 1.5 | C16: =IF($B16=0,"",VLOOKUP($B16,'Item de Pago'!B6:F41,2,FALSE)) -> AFIRMADO COMPACTADO PARA ESTRUCTURAS | D16: =IF($B16=0,"",VLOOKUP($B16,'Item de Pago'!B6:F42,4,FALSE)) -> M3 | E16: =+'Memorias Cantidades Veredas'!J95 -> 179 | F16: =+'A.P.U. OBRA'!I36 -> 154636 | G16: =ROUND(E16*F16,0) -> 27679844
B17: =+'Item de Pago'!B16 -> 1.6 | C17: =IF($B17=0,"",VLOOKUP($B17,'Item de Pago'!B7:F42,2,FALSE)) -> CONCRETO DE 210 KG/CM² (3.000 PSI), ESPESOR 0,15 M - PLACAS HUELLAS Y VIGAS RIOSTRAS | D17: =IF($B17=0,"",VLOOKUP($B17,'Item de Pago'!B7:F43,4,FALSE)) -> M3 | E17: =+'Memorias Cantidades Veredas'!J104 -> 60 | F17: =+'A.P.U. OBRA'!I44 -> 935166 | G17: =ROUND(E17*F17,0) -> 56109960
B18: =+'Item de Pago'!B17 -> 1.7 | C18: =IF($B18=0,"",VLOOKUP($B18,'Item de Pago'!B8:F43,2,FALSE)) -> CONCRETO CICLÓPEO ESPESOR 0,15 M (60% CONCRETO 3000 PSI Y 40% PIEDRA DE MANO) | D18: =IF($B18=0,"",VLOOKUP($B18,'Item de Pago'!B8:F44,4,FALSE)) -> M3 | E18: =+'Memorias Cantidades Veredas'!J112 -> 23 | F18: =+'A.P.U. OBRA'!I55 -> 524971 | G18: =ROUND(E18*F18,0) -> 12074333
B19: =+'Item de Pago'!B18 -> 1.8 | C19: =IF($B19=0,"",VLOOKUP($B19,'Item de Pago'!B9:F44,2,FALSE)) -> ACERO DE REFUERZO 4.200 KG/CM² (60.000 PSI) PARA PLACAS Y RIOSTRAS. (INCLUYE ALAMBRE NEGRO Y FIGURACION) | D19: =IF($B19=0,"",VLOOKUP($B19,'Item de Pago'!B9:F45,4,FALSE)) -> KG | E19: =+'Memorias Cantidades Veredas'!J129 -> 4535.29 | F19: =+'A.P.U. OBRA'!I64 -> 8459 | G19: =ROUND(E19*F19,0) -> 38364018
B20: =+'Item de Pago'!B19 -> 1.9 | C20: =IF($B20=0,"",VLOOKUP($B20,'Item de Pago'!B10:F45,2,FALSE)) -> CUNETA Y BORDILLO PARA VÍA VEHICULAR CONCRETO CLASE II PRODUCIDO EN OBRA | D20: =IF($B20=0,"",VLOOKUP($B20,'Item de Pago'!B10:F46,4,FALSE)) -> M3 | E20: =+'Memorias Cantidades Veredas'!J138 -> 47 | F20: =+'A.P.U. OBRA'!I72 -> 856872 | G20: =ROUND(E20*F20,0) -> 40272984
E22: TOTAL COSTO DIRECTO: | G22: =ROUND(SUM(G11:G21)/2,0) -> 203860586
B24: COSTOS INDIRECTOS
E25: Administración: | F25: 0.3 | G25: =ROUND($G$22*F25,0) -> 61158176
E26: Imprevistos: | F26: 0 | G26: =ROUND($G$22*F26,0) -> 0
D27: Utilidad: | F27: 0.05 | G27: =ROUND($G$22*F27,0) -> 10193029
E28: TOTAL COSTO INDIRECTO: | G28: =ROUND(SUM(G25:G27),0) -> 71351205
C30: TOTAL PRESUPUESTO (APROXIMADO AL PESO): | G30: =ROUND(G22+G28,0) -> 275211791
B32: VALOR TOTAL EN LETRAS:
B33: DOSCIENTOS SETENTA Y CINCO MILLONES DOSCIENTOS ONCE MIL SETECIENTOS NOVENTA Y UN PESOS
B34: NOTA 1: Todas las actividades de este presupuesto, incluyen el suministro, transporte e instalación de cada uno de los materiales. NOTA 2: Se debe tener en cuenta que el PRECIO UNITARIO incluye el valor del IVA (19%).
B35: NOTA 3: Cuando la fracción decimal del peso sea igual o superior a 5 se aproximara por exceso al número entero siguiente del peso y cuando la fracción decimal del peso sea inferior a 5 se aproximará por defecto al número entero del peso.
B36: NOTA 4: El reconocimiento económico de los requerimientos ambientales exigidos por las autoridades ambientales, y/o sociales que son de obligatorio cumplimiento, serán reconocidos a cargo de reembolso de gastos (afectados por un % de administracion).
B37: NOTA 5: El control de tráfico temporal y la señalización provisional necesarios para la ejecución de las obras será por cuenta y riesgo del contratista.

Sheet Memorias Cantidades
B2: CONSTRUCCIÓN DE PLACAS HUELLAS
B4: VEREDA EL AVIÓN, MUNICIPIO DE VILLAMARÍA - CALDAS
B6: MEMORIA DE CÁLCULO
H7: Fecha: | I7: 43741
B9: MUNICIPIO: | C9: VEREDA EL AVIÓN, MUNICIPIO DE VILLAMARÍA - CALDAS | G9: ID PROYECTO:
B11: DURACIÓN DEL PROYECTO EN MESES: | D11: DOS (2) Meses | G11: CONSTRUCCIÓN DE PLACAS HUELLAS
B14: RESUMEN MEMORIA DE CÁLCULO
B16: Item pago | C16: DESCRIPCIÓN | I16: UNID. | J16: CANT.
B17: =+'Item de Pago'!B10 -> 1 | C17: =IF($B17=0,"",VLOOKUP($B17,'Item de Pago'!B1:F36,2,FALSE)) -> CONSTRUCCIÓN DE PLACAS HUELLAS
B18: 1.1 | C18: =IF($B18=0,"",VLOOKUP($B18,'Item de Pago'!B2:F37,2,FALSE)) -> LOCALIZACIÓN Y REPLANTEO | I18: =IF($B18=0,"",VLOOKUP($B18,'Item de Pago'!B2:F37,4,FALSE)) -> M2 | J18: =+J52 -> 129
B19: 1.2 | C19: =IF($B19=0,"",VLOOKUP($B19,'Item de Pago'!B3:F38,2,FALSE)) -> EXCAVACIÓN MANUAL PARA ESTRUCTURAS - MATERIAL COMÚN - 0.0 A 2.0 M | I19: =IF($B19=0,"",VLOOKUP($B19,'Item de Pago'!B3:F38,4,FALSE)) -> M3 | J19: =+J64 -> 165
B20: 1.3 | C20: =IF($B20=0,"",VLOOKUP($B20,'Item de Pago'!B4:F39,2,FALSE)) -> RETIRO DE MATERIAL SOBRANTE EN VOLQUETA, CARGUE MANUAL | I20: =IF($B20=0,"",VLOOKUP($B20,'Item de Pago'!B4:F39,4,FALSE)) -> M3 | J20: =+J76 -> 165
B21: 1.4 | C21: =IF($B21=0,"",VLOOKUP($B21,'Item de Pago'!B5:F40,2,FALSE)) -> CONFORMACIÓN DE LA SUBRASANTE | I21: =IF($B21=0,"",VLOOKUP($B21,'Item de Pago'!B5:F40,4,FALSE)) -> M2 | J21: =+J88 -> 549
B22: 1.5 | C22: =IF($B22=0,"",VLOOKUP($B22,'Item de Pago'!B6:F41,2,FALSE)) -> AFIRMADO COMPACTADO PARA ESTRUCTURAS | I22: =IF($B22=0,"",VLOOKUP($B22,'Item de Pago'!B6:F41,4,FALSE)) -> M3 | J22: =+J100 -> 82
B23: 1.6 | C23: =IF($B23=0,"",VLOOKUP($B23,'Item de Pago'!B7:F42,2,FALSE)) -> CONCRETO DE 210 KG/CM² (3.000 PSI), ESPESOR 0,15 M - PLACAS HUELLAS Y VIGAS RIOSTRAS | I23: =IF($B23=0,"",VLOOKUP($B23,'Item de Pago'!B7:F42,4,FALSE)) -> M3 | J23: =+J109 -> 50
B24: 1.7 | C24: =IF($B24=0,"",VLOOKUP($B24,'Item de Pago'!B8:F43,2,FALSE)) -> CONCRETO CICLÓPEO ESPESOR 0,15 M (60% CONCRETO 3000 PSI Y 40% PIEDRA DE MANO) | I24: =IF($B24=0,"",VLOOKUP($B24,'Item de Pago'!B8:F43,4,FALSE)) -> M3 | J24: =+J117 -> 18
B25: 1.8 | C25: =IF($B25=0,"",VLOOKUP($B25,'Item de Pago'!B9:F44,2,FALSE)) -> ACERO DE REFUERZO 4.200 KG/CM² (60.000 PSI) PARA PLACAS Y RIOSTRAS. (INCLUYE ALAMBRE NEGRO Y FIGURACION) | I25: =IF($B25=0,"",VLOOKUP($B25,'Item de Pago'!B9:F44,4,FALSE)) -> KG | J25: =+J134 -> 5204
B26: 1.9 | C26: =IF($B26=0,"",VLOOKUP($B26,'Item de Pago'!B10:F45,2,FALSE)) -> CUNETA Y BORDILLO PARA VÍA VEHICULAR CONCRETO CLASE II PRODUCIDO EN OBRA | I26: =IF($B26=0,"",VLOOKUP($B26,'Item de Pago'!B10:F45,4,FALSE)) -> M3 | J26: =+J144 -> 25
B27: 1.1 | C27: =+'Item de Pago'!C20 -> SARDINEL ANCHO = 20 CM H = ENTRE 17 Y 24 CM EN CONCRETO 3000 PSI | I27: =IF($B27=0,"",VLOOKUP($B27,'Item de Pago'!B11:F46,4,FALSE)) -> M2 | J27: =+J152 -> 3
B29: =+'Item de Pago'!B22 -> 2 | C29: =IF($B29=0,"",VLOOKUP($B29,'Item de Pago'!B10:F45,2,FALSE)) -> CONSTRUCCIÓN DE OBRAS DE DRENAJE CON TUBERÍA Y CABEZALES
B30: =+'Item de Pago'!B23 -> 2.1 | C30: =IF($B30=0,"",VLOOKUP($B30,'Item de Pago'!B12:F46,2,FALSE)) -> EXCAVACIÓN MANUAL 4,5 M * 2,1 M * 1,6 M PARA CABEZALES | I30: =IF($B30=0,"",VLOOKUP($B30,'Item de Pago'!B12:F46,4,FALSE)) -> M3 | J30: =+J162 -> 30
B31: #REF! | C31: =IF($B31=0,"",VLOOKUP($B31,'Item de Pago'!B13:F47,2,FALSE)) -> #REF! | I31: =IF($B31=0,"",VLOOKUP($B31,'Item de Pago'!B13:F47,4,FALSE)) -> #REF! | J31: =+J175 -> 1
B32: =+'Item de Pago'!B25 -> 2.3 | C32: =IF($B32=0,"",VLOOKUP($B32,'Item de Pago'!B14:F48,2,FALSE)) -> CABEZAL DE ENTREGA DE AGUAS LLUVIAS EN CONCRETO DE 3000 PSI 250 mm (10"). (Incluye acero de refuerzo ) | I32: =IF($B32=0,"",VLOOKUP($B32,'Item de Pago'!B14:F48,4,FALSE)) -> UND | J32: =+J189 -> 7
B33: #REF! | C33: =IF($B33=0,"",VLOOKUP($B33,'Item de Pago'!B15:F49,2,FALSE)) -> #REF! | I33: =IF($B33=0,"",VLOOKUP($B33,'Item de Pago'!B15:F49,4,FALSE)) -> #REF! | J33: =+J197 -> 6.5
B35: MEMORIAS DE CÁLCULO
B37: REFERENCIA | C37: CANTIDAD | D37: LONGITUD | E37: ANCHO | F37: 52 Placas Huellas de 2,50 m | H37: 66 Riostras de 0,20 m de ancho | J37: Longitud Total
B38: Cinta huella perimetral | C38: 2 | D38: =+F38 -> 118.82481 | E38: =+(1+1+0.15)/2 -> 1.075 | F38: =(11+36.529925)*2.5 -> 118.82481 | H38: =(12+38)*0.2 -> 10 | J38: =SUM(F38:I38) -> 128.82481
B39: Cinta huella central (Ciclópeo) | C39: 1 | D39: =+F38 -> 118.82481 | E39: 1
B40: Bordillo | C40: 1 | D40: =+J38 -> 128.82481 | E40: 0.2
B41: Cuneta | C41: 1 | D41: =+J38 -> 128.82481 | E41: 0.85
B42: Riostras | C42: 66 | D42: 3 | E42: 0.2
B43: Sardinel | C43: 1 | D43: =+J38 -> 128.82481 | E43: 0.2
B45: =+'Item de Pago'!B10 -> 1 | C45: =IF($B45=0,"",VLOOKUP($B45,'Item de Pago'!$B$2:$F$37,2,FALSE)) -> CONSTRUCCIÓN DE PLACAS HUELLAS
B47: ITEM DE PAGO | C47: DESCRIPCIÓN | J47: UNID.
B48: =+'Item de Pago'!B11 -> 1.1 | C48: =IF($B48=0,"",VLOOKUP($B48,'Item de Pago'!$B$2:$F$37,2,FALSE)) -> LOCALIZACIÓN Y REPLANTEO | J48: =IF($B48=0,"",VLOOKUP($B48,'Item de Pago'!$B$2:$F$37,4,FALSE)) -> M2
B50: Área/lugar/elemento | D50: Longitud (m) | E50: Ancho (m) | F50: Espesor | G50: Vr. Parcial | I50: No. de Elemenstos | J50: Total
B51: =+C48 -> LOCALIZACIÓN Y REPLANTEO | D51: =+J38 -> 128.82481 | G51: =+D51:D52 -> 128.82481 | I51: 1 | J51: =+G51*I51 -> 128.82481
J52: =ROUND(SUM(J51:J51),0) -> 129
B55: ITEM DE PAGO | C55: DESCRIPCIÓN | J55: UNID.
B56: =+'Item de Pago'!B12 -> 1.2 | C56: =IF($B56=0,"",VLOOKUP($B56,'Item de Pago'!$B$2:$F$37,2,FALSE)) -> EXCAVACIÓN MANUAL PARA ESTRUCTURAS - MATERIAL COMÚN - 0.0 A 2.0 M | J56: =IF($B56=0,"",VLOOKUP($B56,'Item de Pago'!$B$2:$F$37,4,FALSE)) -> M3
...

Sheet Memorias Cantidades Veredas
B2: CONSTRUCCIÓN DE PLACAS HUELLAS
B4: VEREDA TIPO MUNICIPIO DE VILLAMARÍA - CALDAS
B6: MEMORIA DE CÁLCULO
H7: Fecha: | I7: 45146
B9: MUNICIPIO: | C9: VEREDA POMOS Y SAN JULIAN MUNICIPIO DE VILLAMARÍA - CALDAS | G9: ID PROYECTO:
B11: DURACIÓN DEL PROYECTO EN MESES: | D11: (2) Meses | G11: CONSTRUCCIÓN DE PLACAS HUELLAS
B14: RESUMEN MEMORIA DE CÁLCULO
B16: Item pago | C16: DESCRIPCIÓN | I16: UNID. | J16: CANT.
B17: =+'Item de Pago'!B10 -> 1 | C17: =IF($B17=0,"",VLOOKUP($B17,'Item de Pago'!B1:F36,2,FALSE)) -> CONSTRUCCIÓN DE PLACAS HUELLAS
B18: 1.1 | C18: =IF($B18=0,"",VLOOKUP($B18,'Item de Pago'!B2:F37,2,FALSE)) -> LOCALIZACIÓN Y REPLANTEO | I18: =IF($B18=0,"",VLOOKUP($B18,'Item de Pago'!B2:F37,4,FALSE)) -> M2 | J18: =+J47 -> 183 | L18: 1107
B19: 1.2 | C19: =IF($B19=0,"",VLOOKUP($B19,'Item de Pago'!B3:F38,2,FALSE)) -> EXCAVACIÓN MANUAL PARA ESTRUCTURAS - MATERIAL COMÚN - 0.0 A 2.0 M | I19: =IF($B19=0,"",VLOOKUP($B19,'Item de Pago'!B3:F38,4,FALSE)) -> M3 | J19: =+J59 -> 313 | L19: 1951
B20: 1.3 | C20: =IF($B20=0,"",VLOOKUP($B20,'Item de Pago'!B4:F39,2,FALSE)) -> RETIRO DE MATERIAL SOBRANTE EN VOLQUETA, CARGUE MANUAL | I20: =IF($B20=0,"",VLOOKUP($B20,'Item de Pago'!B4:F39,4,FALSE)) -> M3 | J20: =+J71 -> 313 | L20: 1951
B21: 1.4 | C21: =IF($B21=0,"",VLOOKUP($B21,'Item de Pago'!B5:F40,2,FALSE)) -> CONFORMACIÓN DE LA SUBRASANTE | I21: =IF($B21=0,"",VLOOKUP($B21,'Item de Pago'!B5:F40,4,FALSE)) -> M2 | J21: =+J83 -> 897 | L21: 5757
B22: 1.5 | C22: =IF($B22=0,"",VLOOKUP($B22,'Item de Pago'!B6:F41,2,FALSE)) -> AFIRMADO COMPACTADO PARA ESTRUCTURAS | I22: =IF($B22=0,"",VLOOKUP($B22,'Item de Pago'!B6:F41,4,FALSE)) -> M3 | J22: =+J95 -> 179 | L22: 1151
B23: 1.6 | C23: =IF($B23=0,"",VLOOKUP($B23,'Item de Pago'!B7:F42,2,FALSE)) -> CONCRETO DE 210 KG/CM² (3.000 PSI), ESPESOR 0,15 M - PLACAS HUELLAS Y VIGAS RIOSTRAS | I23: =IF($B23=0,"",VLOOKUP($B23,'Item de Pago'!B7:F42,4,FALSE)) -> M3 | J23: =+J104 -> 60 | L23: 417
B24: 1.7 | C24: =IF($B24=0,"",VLOOKUP($B24,'Item de Pago'!B8:F43,2,FALSE)) -> CONCRETO CICLÓPEO ESPESOR 0,15 M (60% CONCRETO 3000 PSI Y 40% PIEDRA DE MANO) | I24: =IF($B24=0,"",VLOOKUP($B24,'Item de Pago'!B8:F43,4,FALSE)) -> M3 | J24: =+J112 -> 23 | L24: 165
B25: 1.8 | C25: =IF($B25=0,"",VLOOKUP($B25,'Item de Pago'!B9:F44,2,FALSE)) -> ACERO DE REFUERZO 4.200 KG/CM² (60.000 PSI) PARA PLACAS Y RIOSTRAS. (INCLUYE ALAMBRE NEGRO Y FIGURACION) | I25: =IF($B25=0,"",VLOOKUP($B25,'Item de Pago'!B9:F44,4,FALSE)) -> KG | J25: =+J129 -> 4535.29 | L25: 34046.28
B26: 1.9 | C26: =IF($B26=0,"",VLOOKUP($B26,'Item de Pago'!B10:F45,2,FALSE)) -> CUNETA Y BORDILLO PARA VÍA VEHICULAR CONCRETO CLASE II PRODUCIDO EN OBRA | I26: =IF($B26=0,"",VLOOKUP($B26,'Item de Pago'!B10:F45,4,FALSE)) -> M3 | J26: =+J138 -> 47 | L26: 315
B27: 1.1 | C27: =+'Item de Pago'!C20 -> SARDINEL ANCHO = 20 CM H = ENTRE 17 Y 24 CM EN CONCRETO 3000 PSI | I27: =IF($B27=0,"",VLOOKUP($B27,'Item de Pago'!B11:F46,4,FALSE)) -> M2 | J27: =+J146 -> 0 | L27: 25
B30: MEMORIAS DE CÁLCULO
B32: REFERENCIA | C32: CANTIDAD | D32: LONGITUD | E32: ANCHO | F32: 46 Placas Huellas de 3,00 m | H32: 47 Riostras de 0,20 m de ancho | J32: Longitud Total
B33: Cinta huella perimetral | C33: 2 | D33: =+J33 -> 183 | E33: 0.9 | F33: =57*3 -> 171 | H33: =58*0.2 -> 11.6 | J33: =ROUNDUP(SUM(F33:I33),0) -> 183
B34: Cinta huella central (Ciclópeo) | C34: 1 | D34: =+D33 -> 183 | E34: 0.9
B35: Bordillo | C35: 1 | D35: =+J33*2 -> 366 | E35: 0.2
B36: Cuneta | C36: 1 | D36: =+D35 -> 366 | E36: 0.55
B37: Riostras | C37: 58 | D37: 4.9 | E37: 0.2
B38: Sardinel
B40: =+'Item de Pago'!B10 -> 1 | C40: =IF($B40=0,"",VLOOKUP($B40,'Item de Pago'!$B$2:$F$37,2,FALSE)) -> CONSTRUCCIÓN DE PLACAS HUELLAS
B42: ITEM DE PAGO | C42: DESCRIPCIÓN | J42: UNID.
B43: =+'Item de Pago'!B11 -> 1.1 | C43: =IF($B43=0,"",VLOOKUP($B43,'Item de Pago'!$B$2:$F$37,2,FALSE)) -> LOCALIZACIÓN Y REPLANTEO | J43: ML
B45: Área/lugar/elemento | D45: Longitud (m) | E45: Ancho (m) | F45: Espesor | G45: Vr. Parcial | I45: No. de Elemenstos | J45: Total
B46: =+C43 -> LOCALIZACIÓN Y REPLANTEO | D46: =+J33 -> 183 | G46: =+D46:D47 -> 183 | I46: 1 | J46: =+G46*I46 -> 183
J47: =ROUND(SUM(J46:J46),0) -> 183
B50: ITEM DE PAGO | C50: DESCRIPCIÓN | J50: UNID.
B51: =+'Item de Pago'!B12 -> 1.2 | C51: =IF($B51=0,"",VLOOKUP($B51,'Item de Pago'!$B$2:$F$37,2,FALSE)) -> EXCAVACIÓN MANUAL PARA ESTRUCTURAS - MATERIAL COMÚN - 0.0 A 2.0 M | J51: =IF($B51=0,"",VLOOKUP($B51,'Item de Pago'!$B$2:$F$37,4,FALSE)) -> M3
B53: Área/lugar/elemento | D53: Longitud (m) | E53: Ancho (m) | F53: Espesor | G53: Vr. Parcial | I53: No. de Elemenstos | J53: Total
B54: Ancho promedio vía | D54: =+F33 -> 171 | E54: =+D37 -> 4.9 | F54: 0.35 | G54: =+D54*E54*F54 -> 293.265 | I54: 1 | J54: =+G54*I54 -> 293.265
B55: Riostras | D55: 0.2 | E55: =+E54 -> 4.9 | F55: 0.35 | G55: =+D55*E55*F55 -> 0.343 | I55: =+C37 -> 58 | J55: =+G55*I55 -> 19.894
J59: =ROUND(SUM(J54:J58),0) -> 313
B62: ITEM DE PAGO | C62: DESCRIPCIÓN | J62: UNID.
...

Sheet Item de Pago
B2: CONSTRUCCIÓN DE PLACAS HUELLAS
B4: VEREDA EL AVIÓN, MUNICIPIO DE VILLAMARÍA - CALDAS
B6: ITEMS DE PAGO
D7: Fecha: | E7: 43712
B9: Item de Pago | C9: DESCRIPCIÓN | D9: MEDIDA | E9: U.M. | F9: TOTAL
B10: 1 | C10: CONSTRUCCIÓN DE PLACAS HUELLAS
B11: 1.1 | C11: LOCALIZACIÓN Y REPLANTEO | D11: METRO CUADRADO | E11: M2 | F11: 3261
B12: 1.2 | C12: EXCAVACIÓN MANUAL PARA ESTRUCTURAS - MATERIAL COMÚN - 0.0 A 2.0 M | D12: METRO CÚBICO | E12: M3 | F12: 25078
B13: 1.3 | C13: RETIRO DE MATERIAL SOBRANTE EN VOLQUETA, CARGUE MANUAL | D13: METRO CÚBICO | E13: M3 | F13: 30666
B14: 1.4 | C14: CONFORMACIÓN DE LA SUBRASANTE | D14: METRO CUADRADO | E14: M2 | F14: 4600
B15: 1.5 | C15: AFIRMADO COMPACTADO PARA ESTRUCTURAS | D15: METRO CÚBICO | E15: M3 | F15: 93336
B16: 1.6 | C16: CONCRETO DE 210 KG/CM² (3.000 PSI), ESPESOR 0,15 M - PLACAS HUELLAS Y VIGAS RIOSTRAS | D16: METRO CÚBICO | E16: M3 | F16: 743871
B17: 1.7 | C17: CONCRETO CICLÓPEO ESPESOR 0,15 M (60% CONCRETO 3000 PSI Y 40% PIEDRA DE MANO) | D17: METRO CÚBICO | E17: M3 | F17: 363786
B18: 1.8 | C18: ACERO DE REFUERZO 4.200 KG/CM² (60.000 PSI) PARA PLACAS Y RIOSTRAS. (INCLUYE ALAMBRE NEGRO Y FIGURACION) | D18: KILOGRAMO | E18: KG | F18: 4919
B19: 1.9 | C19: CUNETA Y BORDILLO PARA VÍA VEHICULAR CONCRETO CLASE II PRODUCIDO EN OBRA | D19: METRO CÚBICO | E19: M3 | F19: 553454
B20: 1.1 | C20: SARDINEL ANCHO = 20 CM H = ENTRE 17 Y 24 CM EN CONCRETO 3000 PSI | D20: METRO LINEAL | E20: M | F20: 40744
B22: 2 | C22: CONSTRUCCIÓN DE OBRAS DE DRENAJE CON TUBERÍA Y CABEZALES
B23: 2.1 | C23: EXCAVACIÓN MANUAL 4,5 M * 2,1 M * 1,6 M PARA CABEZALES | D23: METRO CÚBICO | E23: M3 | F23: 25078
B24: 2.2 | C24: CONCRETO RESISTENCIA 140 KG/CM² (2.000 PSI) PARA SOLADOS EN MUROS Y CABEZALES | D24: METRO CÚBICO | E24: M3 | F24: 396302
B25: 2.3 | C25: CABEZAL DE ENTREGA DE AGUAS LLUVIAS EN CONCRETO DE 3000 PSI 250 mm (10"). (Incluye acero de refuerzo ) | D25: UNIDAD | E25: UND | F25: 1154418 | G25: 2
B26: 2.4 | C26: TUBERÍA DE DIÁMETRO (36" = 0,9 M) UNA POR CADA 100 M PARA ALCANTARILLAS | D26: METRO LINEAL | E26: M | F26: 1100414 | G26: 6.5
D33: Revisó: _______________________________
B34: Elaboró: ________________________________
B35: Ing. Lady Johanna Quintero Osorio | D35: Arq. Estefanía Delgado Osorio
B36: Apoyo Técnico | D36: Secretaría de Infraestructura y Vias
B37: Secretaría de Infraestructura y Vias | D37: Alcandia de Villamaría, Caldas

Sheet EQUIPO Y TRANSP.
C2: CONSTRUCCIÓN DE PLACAS HUELLA EN VÍAS TERCIARIAS DEL MUNICIPIO DE VILLAMARÍA, DEPARTAMENTO DE CALDAS.
B8: Cuadro de equipos y Transporte
B10: Código | C10: Actividades | D10: unidad | E10: Precio guía
B11: EH | C11: EQUIPOS Y HERRAMIENTAS
B13: EH-01 | C13: =+#REF! -> #REF! | D13: =+#REF! -> #REF! | E13: =+#REF! -> #REF!
B14: EH-02 | C14: =+#REF! -> #REF! | D14: =+#REF! -> #REF! | E14: =+#REF! -> #REF!
B15: EH-03 | C15: =+#REF! -> #REF! | D15: =+#REF! -> #REF! | E15: =+#REF! -> #REF!
B16: EH-04 | C16: =+#REF! -> #REF! | D16: =+#REF! -> #REF! | E16: =+#REF! -> #REF!
B17: EH-05 | C17: =+#REF! -> #REF! | D17: =+#REF! -> #REF! | E17: =+#REF! -> #REF!
B18: EH-06 | C18: =+#REF! -> #REF! | D18: =+#REF! -> #REF! | E18: =+#REF! -> #REF!
B19: EH-07 | C19: =+#REF! -> #REF! | D19: =+#REF! -> #REF! | E19: =+#REF! -> #REF!
B20: EH-08 | C20: =+#REF! -> #REF! | D20: =+#REF! -> #REF! | E20: =+#REF! -> #REF!
B21: EH-09 | C21: =+#REF! -> #REF! | D21: =+#REF! -> #REF! | E21: =+#REF! -> #REF!
B22: EH-10 | C22: =+#REF! -> #REF! | D22: =+#REF! -> #REF! | E22: =+#REF! -> #REF!
B23: EH-11 | C23: =+#REF! -> #REF! | D23: =+#REF! -> #REF! | E23: =+#REF! -> #REF!
B24: EH-12 | C24: =+#REF! -> #REF! | D24: =+#REF! -> #REF! | E24: =+#REF! -> #REF!
B25: EH-13 | C25: =+#REF! -> #REF! | D25: =+#REF! -> #REF! | E25: =+#REF! -> #REF!
B26: EH-14 | C26: =#REF! -> #REF! | D26: =+#REF! -> #REF! | E26: =+#REF! -> #REF!
B27: EH-15 | C27: =+#REF! -> #REF! | D27: =+#REF! -> #REF! | E27: =+#REF! -> #REF!
B28: EH-16 | C28: =+#REF! -> #REF! | D28: =+#REF! -> #REF! | E28: =+#REF! -> #REF!
B29: EH-17 | C29: =+#REF! -> #REF! | D29: =+#REF! -> #REF! | E29: =+#REF! -> #REF!
B30: EH-18 | C30: =+#REF! -> #REF! | D30: =+#REF! -> #REF! | E30: =+#REF! -> #REF!
B31: EH-19 | C31: =+#REF! -> #REF! | D31: =+#REF! -> #REF! | E31: =+#REF! -> #REF!
B32: EH-20 | C32: =+#REF! -> #REF! | D32: =+#REF! -> #REF! | E32: =+#REF! -> #REF!
B33: EH-21 | C33: =+#REF! -> #REF! | D33: =+#REF! -> #REF! | E33: =+#REF! -> #REF!
B34: EH-22 | C34: =+#REF! -> #REF! | D34: =+#REF! -> #REF! | E34: =+#REF! -> #REF!
B35: EH-23 | C35: =+#REF! -> #REF! | D35: =+#REF! -> #REF! | E35: =+#REF! -> #REF!
B36: EH-24 | C36: =+#REF! -> #REF! | D36: =+#REF! -> #REF! | E36: =+#REF! -> #REF!
B37: EH-25 | C37: TRANSPORTE DE ACERO | D37: TKM | E37: 1393.3519
B38: EH-26 | C38: TRANSPORTE DE AFIRMADO | D38: M3/Km | E38: 1400
B39: EH-27 | C39: TRANSPORTE MATERIAL DE EXCAVACION | D39: M3/Km | E39: 1400
B40: EH-28 | C40: =+#REF! -> #REF! | D40: =+#REF! -> #REF! | E40: =+#REF! -> #REF!
B41: EH-29 | C41: MOTOBOMBA DE 2" A GASOLINA | D41: DIA | E41: =+#REF! -> #REF!
B42: EH-30 | C42: HERRAMIENTA MENOR (% MANO DE OBRA) | D42: % M.O | E42: 0.1
B43: EH-31 | C43: TRANSPORTE DE PIEDRA | D43: M3/Km | E43: =+E38 -> 1400
B53: Elaboró: ________________________________ | D53: Revisó: ________________________________
B54: Ing. Lady Johanna Quintero Osorio | D54: Arq. Estefanía Delgado Osorio
B55: Apoyo Técnico | D55: Secretaría de Infraestructura y Vias
B56: Secretaría de Infraestructura y Vias | D56: Alcandia de Villamaría, Caldas

Sheet A.P.U. OBRA
B2: CONSTRUCCIÓN DE PLACAS HUELLAS
B4: MUNICIPIO DE VILLAMARÍA, CALDAS
B6: ANÁLISIS DE PRECIOS UNITARIOS | G6: -335544.32
G7: Fecha: | H7: 45146
B9: CODIGO | C9: COD. INSUMO | D9: INSUMO | F9: UND | G9: REND | H9: UNITARIO (Iva Incluido) | I9: TOTAL
B10: 1 | C10: PRELIMINARES
B11: 1.1 | C11: LOCALIZACION Y REPLANTEO VIAS. INCLUYE PLANO RECORD | F11: ML | I11: =SUM(I12:I16) -> 4121
C12: H2 | D12: EQUIPO BASICO (HERRAMIENTA MENOR) | E12: Herramienta | F12: UND | G12: 0.05 | H12: 2679 | I12: =ROUND((+H12*G12),0) -> 134
C13: I1015 | D13: PINTURA ACRILICA PARA TRAFICO TIPO PINTUCO (PINTUTRÁFICO) O SIMILAR - COLORES: BLANCO, AMARILLO O NEGRO SEGÚN DISEÑO. | E13: Insumo | F13: GAL | G13: 0.008 | H13: 96810 | I13: =ROUND((+H13*G13),0) -> 774
C14: I1562 | D14: COMISION TOPOGRAFICA (INCLUYE TOPOGRAFO, CADENERO Y EQUIPO TOPOGRAFÍA (ESTACIÓN Y NIVEL)). | E14: Insumo | F14: DIA | G14: 0.004 | H14: 689121 | I14: =ROUND((+H14*G14),0) -> 2756
C15: I425 | D15: PUNTILLA CON CABEZA 2" | E15: Insumo | F15: LB | G15: 0.01 | H15: 3787 | I15: =ROUND((+H15*G15),0) -> 38
C16: I998 | D16: LATA DE GUADUA | E16: Insumo | F16: UND | G16: 1 | H16: 419 | I16: =ROUND((+H16*G16),0) -> 419
B18: 1.2 | C18: EXCAVACIÓN PARA ESTRUCTURAS - MATERIAL COMÚN - 0.0 A 2.0 M | F18: m3 | I18: =SUM(I19:I21) -> 35590
C19: C29 | D19: CUADRILLA AA TIPO 5 (1 OFICIAL + 5 AYUDANTE) (Albañileria) | E19: Cuadrilla | F19: HR | G19: 0.6 | H19: =+'Factor Prestacional'!D86 -> 55825 | I19: =ROUND((+H19*G19),0) -> 33495
C20: E37 | D20: MOTOBOMBA DE 2" A GASOLINA | E20: Equipos | F20: DIA | G20: 0.02 | H20: 51152 | I20: =ROUND((+H20*G20),0) -> 1023
C21: H2 | D21: EQUIPO BASICO (HERRAMIENTA MENOR) | E21: Herramienta | F21: UND | G21: 0.4 | H21: 2679 | I21: =ROUND((+H21*G21),0) -> 1072
B23: 1.3 | C23: RETIRO DE MATERIAL SOBRANTE EN VOLQUETA, CARGUE MANUAL | F23: m3 | I23: =SUM(I24:I26) -> 42618
C24: C15 | D24: CUADRILLA AA TIPO 3 (1 OFICIAL + 3 AYUDANTE) (Albañileria) | E24: Cuadrilla | F24: HR | G24: 0.217 | H24: =+'Factor Prestacional'!D84 -> 39005 | I24: =ROUND((+H24*G24),0) -> 8464
C25: E24 | D25: VOLQUETA 6M3 (CARGUE A MANO) | E25: Equipos | F25: VJE | G25: 0.217 | H25: 154713 | I25: =ROUND((+H25*G25),0) -> 33573
C26: H2 | D26: EQUIPO BASICO (HERRAMIENTA MENOR) | E26: Herramienta | F26: UND | G26: 0.217 | H26: 2679 | I26: =ROUND((+H26*G26),0) -> 581
B28: 1.4 | C28: CONFORMACIÓN DE LA SUBRASANTE | F28: m2 | I28: =SUM(I29:I34) -> 4942
C29: M03 | D29: EQUIPO BASICO ( HERRAMIENTA MENOR ) | E29: Herramienta | F29: und | G29: 0.01 | H29: 2679 | I29: =ROUND((+H29*G29),0) -> 27
C30: I37 | D30: CUADRILLA AA TIPO 3 (1 OFICIAL + 3 AYUDANTE) (Albañileria) | E30: Mano de Obra | F30: hr | G30: =1/150 -> 0.0066666667 | H30: =+'Factor Prestacional'!D84 -> 39005 | I30: =ROUND((+H30*G30),0) -> 260
C31: E15 | D31: MOTONIVELADORA 120 HP. | E31: Equipo | F31: hr | G31: =1/150 -> 0.0066666667 | H31: =ROUND((225054*1.16),0) -> 261063 | I31: =ROUND((+H31*G31),0) -> 1740
C32: E49 | D32: CILINDRO COMPACTADOR 6 TONELADAS | E32: Equipos | F32: HR | G32: =+G31 -> 0.0066666667 | H32: =ROUND((225054*1.16),0) -> 261063 | I32: =ROUND((+H32*G32),0) -> 1740
D33: AGUA | E33: Insumo | F33: Lt | G33: 10 | H33: 100 | I33: =ROUND((+H33*G33),0) -> 1000
C34: M18 | D34: EQUIPO DE TRANSPORTE | E34: Equipo | F34: dia | G34: 0.00104 | H34: =ROUND(129127*1.3,0) -> 167865 | I34: =ROUND((+H34*G34),0) -> 175
B36: 1.5 | C36: AFIRMADO COMPACTADO PARA ESTRUCTURAS | F36: m3 | I36: =SUM(I37:I42) -> 154636
C37: C15 | D37: CUADRILLA AA TIPO 3 (1 OFICIAL + 3 AYUDANTE) (Albañileria) | E37: Cuadrilla | F37: HR | G37: 0.3 | H37: =+'Factor Prestacional'!D84 -> 39005 | I37: =ROUND((+H37*G37),0) -> 11702
C38: E47 | D38: VIBROCOMPACTADOR TIPO RANA | E38: Equipos | F38: DIA | G38: 0.4 | H38: 45733 | I38: =ROUND((+H38*G38),0) -> 18293
C39: H2 | D39: EQUIPO BASICO (HERRAMIENTA MENOR) | E39: Herramienta | F39: UND | G39: 0.5 | H39: 2679 | I39: =ROUND((+H39*G39),0) -> 1340
C40: I1565 | D40: ACARREO INTERNO | E40: Insumo | F40: UND | G40: 0.6 | H40: 1402 | I40: =ROUND((+H40*G40),0) -> 841
C41: I50 | D41: AFIRMADO NORMA INVIAS | E41: Insumo | F41: M3 | G41: 1.35 | H41: 68211 | I41: =ROUND((+H41*G41),0) -> 92085
D42: SOBREACARREO AFIRMADO NORMA INVIAS - CABECERA MUNICIPAL VRA SANTODOMINGO | E42: Insumo | F42: m3/Km | G42: =+(G41)*15 -> 20.25 | H42: 1500 | I42: =ROUND((+H42*G42),0) -> 30375
B44: 1.6 | C44: CONCRETO DE 210 KG/CM² (3.000 PSI), ESPESOR 0,15 M - PLACAS HUELLAS Y VIGAS RIOSTRAS | F44: m3 | I44: =SUM(I45:I53) -> 935166
C45: M03 | D45: EQUIPO BASICO ( HERRAMIENTA MENOR ) | E45: Herramienta | F45: und | G45: 0.3 | H45: 2679 | I45: =ROUND((+H45*G45),0) -> 804
C46: I58 | D46: CUADRILLA AAA TIPO 6 (2 OFICIAL + 6 AYUDANTE) (Albañileria) | E46: Mano de Obra | F46: hr | G46: 3 | H46: =+'Factor Prestacional'!D92 -> 78010 | I46: =ROUND((+H46*G46),0) -> 234030
C47: W02 | D47: LISTON 2 X 4 | E47: Insumo | F47: m | G47: 12 | H47: 3426 | I47: =ROUND((+H47*G47),0) -> 41112
C48: W16 | D48: TABLA CHAPA ORDINARIO 30 CM X 2 CM X 3 M. | E48: Insumo | F48: und | G48: 4 | H48: 14472 | I48: =ROUND((+H48*G48),0) -> 57888
C49: O15 | D49: PUNTILLA CON CABEZA 2" | E49: Insumo | F49: lb | G49: 0.05 | H49: 3787 | I49: =ROUND((+H49*G49),0) -> 189
...

Sheet Analisis AIU
A1: ANALISIS DEL AIU
A3: Valor estimado de la Obra (Costo Directo). | D3: Valor | E3: =+'Presupuesto Final Veredas'!G22 -> 203860586
A4: Plazo estimado de ejecución. | D4: Meses | E4: 1.5
A5: Contratista Persona Natural (SI o NO) | E5: SI
A7: CAPITULO | B7: TIPO DE GASTO | C7: UN | D7: CANTIDAD. | E7: DEDICACION | F7: VLOR UNITARIO (mes) | G7: FACTOR PRESTACIONAL O FACTOR AIU (PARA INDIRECTOS) | H7: VALOR TOTAL | I7: SUMA | J7: PORCENTAJE
A8: 1 | B8: GASTOS GENERALES. | J8: =+J9 -> 0.06472953
A9: 1.1 | B9: MANO DE OBRA Y GASTOS DE OFICINA | I9: =SUM(H10:H25) -> 13195800 | J9: =+I9/$E$3 -> 0.06472953
B10: Contratista (solo aplica para personas naturales) | C10: Un | D10: 0 | E10: 0.2 | F10: 15400000 | G10: 0.62 | H10: =+D10*E10*$E$4*F10*(1+G10) -> 0 | J10: =+H10/$E$3 -> 0
B11: Ingeniero Director | C11: Un | D11: 1 | E11: 0 | F11: 4200000 | G11: 0.62 | H11: =+D11*E11*$E$4*F11*(1+G11) -> 0 | J11: =+H11/$E$3 -> 0
B12: Ingeniero Residente | C12: Un | D12: 1 | E12: 0.4 | F12: 3200000 | G12: 0.62 | H12: =+D12*E12*$E$4*F12*(1+G12) -> 3110400 | J12: =+H12/$E$3 -> 0.015257486
B13: Maestro de Obra | C13: Un | D13: 1 | E13: 1 | F13: 2800000 | G13: 0.62 | H13: =+D13*E13*$E$4*F13*(1+G13) -> 6804000 | J13: =+H13/$E$3 -> 0.03337575
B14: Residente de Salud Ocupacional | C14: Un | D14: 1 | E14: 0 | F14: 2800000 | G14: 0.62 | H14: =+D14*E14*$E$4*F14*(1+G14) -> 0 | J14: =+H14/$E$3 -> 0
B15: Trabajador social | C15: Un | D15: 1 | E15: 0.2 | F15: 2800000 | G15: 0.62 | H15: =+D15*E15*$E$4*F15*(1+G15) -> 1360800 | J15: =+H15/$E$3 -> 0.00667515
B16: Almacenista | C16: Un | D16: 0 | E16: 1 | F16: 1160000 | G16: 0.74 | H16: =+D16*E16*$E$4*F16*(1+G16) -> 0 | J16: =+H16/$E$3 -> 0
B17: Celador con prestaciones | C17: Un | D17: 0 | E17: 1 | F17: 1800000 | G17: 0.74 | H17: =+D17*E17*$E$4*F17*(1+G17) -> 0 | J17: =+H17/$E$3 -> 0
B18: Secretaria con prestaciones | C18: Un | D18: 0 | E18: 0.15 | F18: 1500000 | G18: 0.74 | H18: =+D18*E18*$E$4*F18*(1+G18) -> 0 | J18: =+H18/$E$3 -> 0
B19: Contador | C19: Un | D19: 1 | E19: 0.15 | F19: 2800000 | G19: 0.62 | H19: =+D19*E19*$E$4*F19*(1+G19) -> 1020600 | J19: =+H19/$E$3 -> 0.0050063625
B20: Equipo de Oficina (Escritorio, pc, impresora, sillas, papeleria) | C20: Mes | D20: 0 | E20: 1 | F20: 350000 | H20: =+D20*E20*$E$4*F20*(1+G20) -> 0 | J20: =+H20/$E$3 -> 0
B21: Seguridad industrial personal | C21: Mes | D21: 0 | E21: 0.5 | F21: 1000000 | H21: =+D21*E21*$E$4*F21*(1+G21) -> 0 | J21: =+H21/$E$3 -> 0
B22: Plan de Salud ocupacional y seguridad industrial | C22: Mes | D22: 1 | E22: 1 | F22: 300000 | H22: =+D22*E22*$E$4*F22*(1+G22) -> 450000 | J22: =+H22/$E$3 -> 0.0022073909
B23: Sistema de gestion ambiental | C23: Mes | D23: 1 | E23: 1 | F23: 300000 | H23: =+D23*E23*$E$4*F23*(1+G23) -> 450000 | J23: =+H23/$E$3 -> 0.0022073909
B24: Sistema de gestion de calidad | C24: Mes | D24: 0 | E24: 1 | F24: 300000 | H24: =+D24*E24*$E$4*F24*(1+G24) -> 0 | J24: =+H24/$E$3 -> 0
B25: Costos financiero | C25: Mes | D25: 0 | E25: 1 | F25: 300000 | H25: =+D25*E25*$E$4*F25*(1+G25) -> 0 | J25: =+H25/$E$3 -> 0
A26: 2 | B26: GASTOS INDIRECTOS. | J26: =+J27+J31+J40 -> 0.2243192
A27: 2.1 | B27: LEGALIZACION. | I27: =SUM(H28:H30) -> 0 | J27: =+I27/$E$3 -> 0 | M27: =+J26+J9 -> 0.28904873
B28: Impuesto de Timbre | C28: % | D28: 0 | F28: 0 | G28: 1.3678 | H28: =+F28*D28*G28 -> 0 | J28: =+H28/$E$3 -> 0
B29: Publicación diario oficial | C29: % | D29: 0 | F29: 0 | G29: =+$G$28 -> 1.3678 | H29: =+F29*D29*G29 -> 0 | J29: =+H29/$E$3 -> 0
B30: Licencia de Construccion | C30: % | D30: 0 | F30: 0 | G30: =+$G$28 -> 1.3678 | H30: =+F30*D30*G30 -> 0 | J30: =+H30/$E$3 -> 0
A31: 2.2 | B31: POLIZAS | I31: =SUM(H32:H39) -> 2509564.6 | J31: =+I31/$E$3 -> 0.0123102
B32: Seriedad de la Propuesta. | C32: % | D32: 0.0002 | F32: =+$E$3 -> 203860586 | G32: =+$G$28 -> 1.3678 | H32: =+F32*D32*G32 -> 55768.102 | J32: =+H32/$E$3 -> 0.00027356
B33: Anticipo | C33: % | D33: 0.0009 | F33: =+$E$3 -> 203860586 | G33: =+$G$28 -> 1.3678 | H33: =+F33*D33*G33 -> 250956.46 | J33: =+H33/$E$3 -> 0.00123102
B34: Cumplimiento | C34: % | D34: 0.0007 | F34: =+$E$3 -> 203860586 | G34: =+$G$28 -> 1.3678 | H34: =+F34*D34*G34 -> 195188.36 | J34: =+H34/$E$3 -> 0.00095746
B35: Estabilidad | C35: % | D35: 0.0038 | F35: =+$E$3 -> 203860586 | G35: =+$G$28 -> 1.3678 | H35: =+F35*D35*G35 -> 1059593.9 | J35: =+H35/$E$3 -> 0.00519764
B36: Calidad | C36: % | D36: 0 | F36: =+$E$3 -> 203860586 | G36: =+$G$28 -> 1.3678 | H36: =+F36*D36*G36 -> 0 | J36: =+H36/$E$3 -> 0
B37: Prestaciones Sociales | C37: % | D37: 0.0015 | F37: =+$E$3 -> 203860586 | G37: =+$G$28 -> 1.3678 | H37: =+F37*D37*G37 -> 418260.76 | J37: =+H37/$E$3 -> 0.0020517
B38: Responsabilidad Civil | C38: % | D38: 0.0019 | F38: =+$E$3 -> 203860586 | G38: =+$G$28 -> 1.3678 | H38: =+F38*D38*G38 -> 529796.97 | J38: =+H38/$E$3 -> 0.00259882
B39: Todo riesgo | C39: % | D39: 0 | F39: =+$E$3 -> 203860586 | G39: =+$G$28 -> 1.3678 | H39: =+F39*D39*G39 -> 0 | J39: =+H39/$E$3 -> 0
A40: 2.3 | B40: IMPUESTOS Y CONTRIBUCIONES | I40: =SUM(H41:H49) -> 43220279 | J40: =+I40/$E$3 -> 0.212009
B41: Contribuación Especial | C41: % | D41: 0.05 | F41: =+$E$3 -> 203860586 | G41: =+$G$28 -> 1.3678 | H41: =+F41*D41*G41 -> 13942025 | J41: =+H41/$E$3 -> 0.06839
B42: Retencion en la fuente | C42: % | D42: 0.02 | F42: =+$E$3 -> 203860586 | G42: =+$G$28 -> 1.3678 | H42: =+F42*D42*G42 -> 5576810.2 | J42: =+H42/$E$3 -> 0.027356
...

Sheet Factor Prestacional
A1: CALCULO DEL FACTOR PRESTACIONAL PARA MAXIMO 2 SMMLV- PERSONAL EN OBRA
B3: MENSUAL BASE | C3: DIARIO
A4: SALARIO | B4: 1600000 | C4: =B4/30 -> 53333.333
A5: SUBSIDIO DE TRANSPORTE | B5: 140606 | C5: =B5/30 -> 4686.8667
A7: TEM | B7: Valor | C7: Porcentaje | D7: Formula
A8: Jornales | B8: =ROUND(C4,0) -> 53333 | C8: =ROUND(B8/$C$4,5) -> 0.99999 | D8: $ 877,803/30
A9: Subsidio de Transporte | B9: =ROUND(C5,0) -> 4687 | C9: =ROUND(B9/$C$4,5) -> 0.08788 | D9: $ 102,854/30
A10: Cesantías | B10: =ROUND((C4+C5)*(30/360),0) -> 4835 | C10: =ROUND(B10/$C$4,5) -> 0.09066 | D10: (Jornales + Subsidio Transporte)x30/360
A11: Intereses sobre Cesantías | B11: =ROUND(B10*1%,0) -> 48 | C11: =ROUND(B11/$C$4,5) -> 0.0009 | D11: Cesantias *1%
A12: Prima de Servicio | B12: =ROUND((C4+C5)*(30/360),0) -> 4835 | C12: =ROUND(B12/$C$4,5) -> 0.09066 | D12: (Jornales + Subsidio Transporte)x30/360
A13: Vacaciones | B13: =ROUND(C4*0.0417,0) -> 2224 | C13: =ROUND(B13/$C$4,5) -> 0.0417 | D13: Jornal x 30/720
A14: Aportes Salud | B14: =ROUND(C4*8.5%,0) -> 4533 | C14: =ROUND(B14/$C$4,5) -> 0.08499 | D14: 8,5% de los jornales
A15: Aportes Pensión | B15: =ROUND(C4*12%,0) -> 6400 | C15: =ROUND(B15/$C$4,5) -> 0.12 | D15: 12% de los jornales
A16: Riesgos Laborales | B16: =ROUND(C4*6.96%,0) -> 3712 | C16: =ROUND(B16/$C$4,5) -> 0.0696 | D16: 6.96% de los jornales
A17: Caja de compensación | B17: =ROUND(C4*4%,0) -> 2133 | C17: =ROUND(B17/$C$4,5) -> 0.03999 | D17: 4% de los Jornales
A18: Aporte SENA | B18: =ROUND(C4*2%,0) -> 1067 | C18: =ROUND(B18/$C$4,5) -> 0.02001 | D18: 2% de los Jornales
A19: Aporte ICBF | B19: =ROUND(C4*3%,0) -> 1600 | C19: =ROUND(B19/$C$4,5) -> 0.03 | D19: 3% de los Jornales
A20: Examenes de ingreso y egreso | B20: =ROUND(C4*2%,0) -> 1067 | C20: =ROUND(B20/$C$4,5) -> 0.02001 | D20: 2% de los Jornales
A21: Fondo Nacional de Formación Profesional de Industria de la construcción | B21: =((B4*12)/40)/360 -> 1333.3333 | C21: =ROUND(B21/$C$4,5) -> 0.025 | D21: 1 SMMLV por cada 40 trabajadores ((1 SMML*12)/40)/salario anual
A22: Dotación | B22: =ROUND(400000/360,0) -> 1111 | C22: =ROUND(B22/$C$4,5) -> 0.02083 | D22: Tres dotaciones al año de $200,000 cada una
B23: =SUM(B8:B22) -> 92918.333 | C23: =SUM(C8:C22) -> 1.74222
A26: CALCULO DEL FACTOR PRESTACIONAL PARA MAYOR A 2 SMMLV - PERSONAL EN OBRA
B28: MENSUAL BASE | C28: DIARIO
A29: SALARIO | B29: =B4*2 -> 3200000 | C29: =B29/30 -> 106666.67
A30: SUBSIDIO DE TRANSPORTE | B30: 0 | C30: =B30/30 -> 0
A32: TEM | B32: Valor | C32: Porcentaje | D32: Formula
A33: Jornales | B33: =ROUND(C29,0) -> 106667 | C33: =ROUND(B33/$C$29,5) -> 1 | D33: $ 877,803/30
A34: Subsidio de Transporte | B34: =ROUND(C30,0) -> 0 | C34: =ROUND(B34/$C$29,5) -> 0 | D34: $ 102,854/30
A35: Cesantías | B35: =ROUND((C29+C30)*(30/360),0) -> 8889 | C35: =ROUND(B35/$C$29,5) -> 0.08333 | D35: (Jornales + Subsidio Transporte)x30/360
A36: Intereses sobre Cesantías | B36: =ROUND(B35*1%,0) -> 89 | C36: =ROUND(B36/$C$29,5) -> 0.00083 | D36: Cesantias *1%
A37: Prima de Servicio | B37: =ROUND((C29+C30)*(30/360),0) -> 8889 | C37: =ROUND(B37/$C$29,5) -> 0.08333 | D37: (Jornales + Subsidio Transporte)x30/360
A38: Vacaciones | B38: =ROUND(C29*0.0417,0) -> 4448 | C38: =ROUND(B38/$C$29,5) -> 0.0417 | D38: Jornal x 30/720
A39: Aportes Salud | B39: =ROUND(C29*8.5%,0) -> 9067 | C39: =ROUND(B39/$C$29,5) -> 0.085 | D39: 8,5% de los jornales
A40: Aportes Pensión | B40: =ROUND(C29*12%,0) -> 12800 | C40: =ROUND(B40/$C$29,5) -> 0.12 | D40: 12% de los jornales
A41: Riesgos Laborales | B41: =ROUND(C29*6.96%,0) -> 7424 | C41: =ROUND(B41/$C$29,5) -> 0.0696 | D41: 6.96% de los jornales
A42: Caja de compensación | B42: =ROUND(C29*4%,0) -> 4267 | C42: =ROUND(B42/$C$29,5) -> 0.04 | D42: 4% de los Jornales
A43: Aporte SENA | B43: =ROUND(C29*2%,0) -> 2133 | C43: =ROUND(B43/$C$29,5) -> 0.02 | D43: 2% de los Jornales
A44: Aporte ICBF | B44: =ROUND(C29*3%,0) -> 3200 | C44: =ROUND(B44/$C$29,5) -> 0.03 | D44: 3% de los Jornales
A45: Examenes de ingreso y egreso | B45: =ROUND(C29*2%,0) -> 2133 | C45: =ROUND(B45/$C$29,5) -> 0.02 | D45: 2% de los Jornales
A46: Fondo Nacional de Formación Profesional de Industria de la construcción | B46: =((B29*12)/40)/360 -> 2666.6667 | C46: =ROUND(B46/$C$29,5) -> 0.025 | D46: 1 SMMLV por cada 40 trabajadores ((1 SMML*12)/40)/salario anual
...
