Workbook
Name AnticipoM1: [1]POA!$D$2
Name ase: '[2]FORMULA 1'!#REF!
Name CapFinanciera1: [3]Puntajes!$C$12
Name CapFinanciera1: Puntajes!$C$12
Name CapFinanciera2: [3]Puntajes!$C$13
Name CapFinanciera2: Puntajes!$C$13
Name CapFinanciera3: [3]Puntajes!$C$14
Name CapFinanciera3: Puntajes!$C$14
Name CapFinanciera4: [3]Puntajes!$C$15
Name CapFinanciera4: Puntajes!$C$15
Name CapTecnica1: [3]Puntajes!$G$4
Name CapTecnica1: Puntajes!$G$4
Name CapTecnica2: [3]Puntajes!$G$5
Name CapTecnica2: Puntajes!$G$5
Name DDDA: [4]SMLM!$H$14
Name ESCONDIDO: #REF!
Name ESCONDIDO: #REF!
Name ESCONDIDO: #REF!
Name Estado: [5]LISTAS!$E$2:$E$3
Name Experiencia1: [3]Puntajes!$C$4
Name Experiencia1: Puntajes!$C$4
Name Experiencia2: [3]Puntajes!$C$5
Name Experiencia2: Puntajes!$C$5
Name Experiencia3: [3]Puntajes!$C$6
Name Experiencia3: Puntajes!$C$6
Name FIIF: '[2]FORMULA 1'!#REF!
Name FRRUUU: '[6]FORMULA 1'!#REF!
Name hide: #REF!
Name inf: #REF!
Name inf: #REF!
Name inf: #REF!
Name JERARQUIA: '[6]FORMULA 1'!#REF!
Name JERARQUIA: '[7]FORMULA 1'!#REF!
Name JERARQUIA: '[6]FORMULA 1'!#REF!
Name JERARQUIA: '[7]FORMULA 1'!#REF!
Name JERARQUIA: '[7]FORMULA 1'!#REF!
Name NONO: '[2]FORMULA 1'!#REF!
Name ORDEN: '[6]FORMULA 1'!#REF!
Name ORDEN: '[7]FORMULA 1'!#REF!
Name ORDEN: '[6]FORMULA 1'!#REF!
Name ORDEN: '[7]FORMULA 1'!#REF!
Name ORDEN: '[7]FORMULA 1'!#REF!
Name PO: CRC!$F$48
Name PORPOM: [5]EXPERIENCIA!$P$14
Name PPPPP: #REF!
Name PRO: #REF!
Name prueba: #REF!
Name prueba: #REF!
Name prueba: #REF!
Name PUNTOS: #REF!
Name PUNTOS2: #REF!
Name rrrrrrrr: '[2]FORMULA 1'!#REF!
Name rryyy: '[2]FORMULA 1'!#REF!
Name SALACTUAL: [1]SALARIOS!$D$19
Name tdRepliesUniqueIdentifierCol_lnkRepliesUniqueIdentifierViewLink_0: 'OrdenValor '!#REF!
Name tdRepliesUniqueIdentifierCol_lnkRepliesUniqueIdentifierViewLink_0: 'Valor propuestas'!#REF!
Name tdRepliesUniqueIdentifierCol_lnkRepliesUniqueIdentifierViewLink_1: 'OrdenValor '!#REF!
Name tdRepliesUniqueIdentifierCol_lnkRepliesUniqueIdentifierViewLink_1: 'Valor propuestas'!#REF!
Name tdRepliesUniqueIdentifierCol_lnkRepliesUniqueIdentifierViewLink_10: 'Propuestas recibidas'!#REF!
Name tdRepliesUniqueIdentifierCol_lnkRepliesUniqueIdentifierViewLink_2: 'OrdenValor '!#REF!

Sheet Propuestas recibidas
B2: PROPUESTAS RECIBIDAS
A3: No. | B3: Referencia de oferta | C3: Entidad | D3: Evaluación | E3: Presentada | F3: Oferta | G3: OBSERVACIONES
A4: 1 | B4: IP-DT-CAS-012-2023 - CIVITEL INGENIEROS | C4: CIVITEL | D4: Oferta en evaluación | E4: 45163.656 | F4: 98.900.841 COP
A5: 2 | B5: PROPUESTA SEÑALIZACION | C5: YAMEL ARANGO PINILLA | D5: Oferta en evaluación | E5: 45163.603 | F5: 91.999.745 COP
A6: 3 | B6: ROMA SEÑALIZACION CASANARE | C6: ROMA INTEGRAL GROUP SAS | D6: Oferta en evaluación | E6: 45163.593 | F6: 87.716.076,84 COP
A7: 4 | B7: JBCP 012 | C7: JUAN BERNARDO CAÑON PARRA | D7: Oferta en evaluación | E7: 45163.576 | F7: 97.130.374,53 COP
E20: m

Sheet Valor propuestas
B1: VALOR PROPUESTAS
A2: NO. | B2: OFERENTES | C2: % | D2: CARTA DE PRESENTACION DE LA OFERTA | E2: FECHA DE ENTREGA | F2: OFERTA ECONOMICA | G2: OFERTA ECONOMICA REVISADA. VALOR NETO SIN IVA | H2: OFERTA ECONOMICA REVISADA | I2: OBSERVACION
A3: 1 | B3: CIVITEL | C3: 100 | D3: SI | E3: 45163.656 | F3: 98900841 | G3: =+'Revision económica'!J29 -> 98183347 | H3: =+'Revision económica'!J31 -> 98900841
A4: 2 | B4: YAMEL ARANGO PINILLA | C4: 100 | D4: SI | E4: 45163.603 | F4: 91999745 | G4: =+'Revision económica'!L29 -> 91332317 | H4: =+'Revision económica'!L31 -> 91999745
A5: 3 | B5: ROMA INTEGRAL GROUP SAS | C5: 100 | D5: SI | E5: 45163.593 | F5: 87716077 | G5: =+'Revision económica'!N29 -> 87079725 | H5: =+'Revision económica'!N31 -> 87716077
A6: 4 | B6: JUAN BERNARDO CAÑON PARRA | C6: 100 | D6: SI | E6: 45163.576 | F6: 97130375 | G6: =+'Revision económica'!P29 -> 96425725 | H6: =+'Revision económica'!P31 -> 97130375

Sheet Revision económica
A1: MINISTERIO DE TRANSPORTE
A2: INSTITUTO NACIONAL DE VÍAS
A3: DIRECCION TERRITORIAL CASANARE
A5: =+PROPONENTE!A6 -> INVITACION A PÚBLICA No. IP-DT-CAS-012-2023
A6: =+PROPONENTE!A8 -> OBJETO: CONSTRUCCION DE OBRAS DE SEÑALIZACION PARA LA SEGURIDAD VIAL EN LA VÍA CON CÓDIGO 6512 MONTERREY - YOPAL, A CARGO DEL INSTITUTO NACIONAL DE VÍAS EN JURISDICCION DE LA TERRITORIAL CASANARE
A8: FORMULARIO 1
A10: PRESUPUESTO OFICIAL
I11: =+'Valor propuestas'!$B3 -> CIVITEL | K11: =+'Valor propuestas'!$B4 -> YAMEL ARANGO PINILLA | M11: =+'Valor propuestas'!$B5 -> ROMA INTEGRAL GROUP SAS | O11: =+'Valor propuestas'!$B6 -> JUAN BERNARDO CAÑON PARRA | Q11: =+'Valor propuestas'!$B7 -> 0 | S11: =+'Valor propuestas'!$B8 -> 0
A13: ITEM DE PAGO | C13: Descripción | D13: UND. | E13: CANTIDAD | F13: VALOR UNITARIO ( $ ) | G13: VALOR TOTAL ( $ ) | I13: VALOR UNITARIO ( $ ) | J13: VALOR TOTAL ( $ ) | K13: VALOR UNITARIO ( $ ) | L13: VALOR TOTAL ( $ ) | M13: VALOR UNITARIO ( $ ) | N13: VALOR TOTAL ( $ ) | O13: VALOR UNITARIO ( $ ) | P13: VALOR TOTAL ( $ ) | Q13: VALOR UNITARIO ( $ ) | R13: VALOR TOTAL ( $ ) | S13: VALOR UNITARIO ( $ ) | T13: VALOR TOTAL ( $ )
B15: OBRAS DE DEMARCACIÓN HORIZONTAL
A16: 1 | C16: Línea de Demarcación con Pintura en Frío. | D16: ML | E16: 2400 | F16: 2799 | G16: =+F16*E16 -> 6717600 | I16: 2775.6706 | J16: =$E16*I16 -> 6661609.4 | K16: 2575 | L16: =$E16*K16 -> 6180000 | M16: 2500 | N16: =$E16*M16 -> 6000000 | O16: 2600 | P16: =$E16*O16 -> 6240000
A17: 2 | C17: Marca Vial con Pintura en Frío. | D17: M2 | E17: 492 | F17: 44842 | G17: =+F17*E17 -> 22062264 | I17: 44503.715 | J17: =$E17*I17 -> 21895828 | K17: 41255 | L17: =$E17*K17 -> 20297460 | M17: 34000 | N17: =$E17*M17 -> 16728000 | O17: 43500 | P17: =$E17*O17 -> 21402000 | R17: =$E17*Q17 -> 0 | T17: =$E17*S17 -> 0
A18: 3 | C18: Tacha reflectiva -Adhesivo Epoxico | D18: UN | E18: 877 | F18: 11295 | G18: =+F18*E18 -> 9905715 | I18: 11048.526 | J18: =$E18*I18 -> 9689557.4 | K18: 10391 | L18: =$E18*K18 -> 9112907 | M18: 10000 | N18: =$E18*M18 -> 8770000 | O18: 11000 | P18: =$E18*O18 -> 9647000 | R18: =$E18*Q18 -> 0 | T18: =$E18*S18 -> 0
C19: Ajuste | G19: 725 | H19: NO MODIFICAR | J19: 725 | L19: 725 | N19: 725 | P19: 725 | R19: =$E19*Q19 -> 0 | T19: =$E19*S19 -> 0
B20: INSTALACION REDUCTORES DE VELOCIDAD | J20: =$E20*I20 -> 0 | L20: =$E20*K20 -> 0 | N20: =$E20*M20 -> 0 | P20: =$E20*O20 -> 0 | R20: =$E20*Q20 -> 0 | T20: =$E20*S20 -> 0
A21: 4 | C21: Concreto resistencia 28mpa (c) - compra de mezcla | D21: M3 | E21: 13 | F21: 1120516 | G21: =+F21*E21 -> 14566708 | I21: 1112787.9 | J21: =$E21*I21 -> 14466243 | K21: 1030875 | L21: =$E21*K21 -> 13401375 | M21: 1080000 | N21: =$E21*M21 -> 14040000 | O21: 1150000 | P21: =$E21*O21 -> 14950000 | R21: =$E21*Q21 -> 0 | T21: =$E21*S21 -> 0
A22: 5 | C22: Acero de Refuerzo Fy 4200 MPa. | D22: KG | E22: 62 | F22: 8182 | G22: =+F22*E22 -> 507284 | I22: 8126.0019 | J22: =$E22*I22 -> 503812.12 | K22: 7527 | L22: =$E22*K22 -> 466674 | M22: 7500 | N22: =$E22*M22 -> 465000 | O22: 8000 | P22: =$E22*O22 -> 496000 | R22: =$E22*Q22 -> 0 | T22: =$E22*S22 -> 0
A23: 6 | C23: Excavación en Pavimento Asfáltico existente Incluyendo el corte y la remociòn de las capas asfalticas subyacentes | D23: M3 | E23: 26 | F23: 110262 | G23: =+F23*E23 -> 2866812 | I23: 109782.03 | J23: =$E23*I23 -> 2854332.7 | K23: 101441 | L23: =$E23*K23 -> 2637466 | M23: 90000 | N23: =$E23*M23 -> 2340000 | O23: 110000 | P23: =$E23*O23 -> 2860000 | R23: =$E23*Q23 -> 0 | T23: =$E23*S23 -> 0
A24: 7 | C24: Demolición de pavimentos rígidos | D24: M2 | E24: 180 | F24: 27942 | G24: =+F24*E24 -> 5029560 | I24: 27672.775 | J24: =$E24*I24 -> 4981099.5 | K24: 25707 | L24: =$E24*K24 -> 4627260 | M24: 25000 | N24: =$E24*M24 -> 4500000 | O24: 25000 | P24: =$E24*O24 -> 4500000 | R24: =$E24*Q24 -> 0 | T24: =$E24*S24 -> 0
A25: 8 | C25: Base granular para bacheo clase a gradación fina | D25: M3 | E25: 18 | F25: 111691 | G25: =+F25*E25 -> 2010438 | I25: 110854.97 | J25: =$E25*I25 -> 1995389.5 | K25: 102756 | L25: =$E25*K25 -> 1849608 | M25: 102000 | N25: =$E25*M25 -> 1836000 | O25: 110000 | P25: =$E25*O25 -> 1980000 | R25: =$E25*Q25 -> 0 | T25: =$E25*S25 -> 0
A26: 9 | C26: Mezcla en Caliente para Bacheo MDC-19 | D26: M3 | E26: 18 | F26: 1311352 | G26: =+F26*E26 -> 23604336 | I26: 1298488.5 | J26: =$E26*I26 -> 23372792 | K26: 1206444 | L26: =$E26*K26 -> 21715992 | M26: 1200000 | N26: =$E26*M26 -> 21600000 | O26: 1250000 | P26: =$E26*O26 -> 22500000 | R26: =$E26*Q26 -> 0 | T26: =$E26*S26 -> 0
B27: SEÑALES VERTICALES Y DEFENSAS METALICAS | J27: =$E27*I27 -> 0 | L27: =$E27*K27 -> 0 | N27: =$E27*M27 -> 0 | P27: =$E27*O27 -> 0 | R27: =$E27*Q27 -> 0 | T27: =$E27*S27 -> 0
A28: 10 | C28: Señal vertical de transito tipo sr, sp y/o si, tablero en lámina con lamina retrorreflectiva tipo iv (75x75 cm) | D28: UN | E28: 15 | F28: 800206 | G28: =+F28*E28 -> 12003090 | I28: 784130.52 | J28: =$E28*I28 -> 11761958 | K28: 736190 | L28: =$E28*K28 -> 11042850 | M28: 720000 | N28: =$E28*M28 -> 10800000 | O28: 790000 | P28: =$E28*O28 -> 11850000 | R28: =SUM(R16:R27) -> 0 | T28: =SUM(T16:T27) -> 0 | V28: =SMALL(J28,1) -> 11761958 | W28: 1
F29: VALOR TOTAL DEL CONTRATO | G29: =SUM(G16:G28) -> 99274532 | J29: =SUM(J16:J28) -> 98183347 | L29: =SUM(L16:L28) -> 91332317 | N29: =SUM(N16:N28) -> 87079725 | P29: =SUM(P16:P28) -> 96425725 | R29: =SUM(#REF!) -> #REF! | T29: =SUM(#REF!) -> #REF!
D30: VALOR IVA (19% SOBRE UTILIDADES 5% ) | G30: =ROUND((+G29/(1+G37)*G36*0.19),0) -> 725468 | I30: IVA | J30: =ROUND((+J29/(1+J37)*J36*0.19),0) -> 717494 | K30: IVA | L30: =ROUND((+L29/(1+L37)*L36*0.19),0) -> 667428 | M30: IVA | N30: =ROUND((+N29/(1+N37)*N36*0.19),0) -> 636352 | O30: IVA | P30: =ROUND((+P29/(1+P37)*P36*0.19),0) -> 704650 | Q30: IVA | R30: =ROUND((R28*0.19),0) -> 0 | S30: IVA | T30: =ROUND((T28*0.19),0) -> 0
D31: VALOR TOTAL DE LA OBRA | G31: =+G29+G30 -> 100000000 | I31: Total | J31: =+ROUND(J29+J30,0) -> 98900841 | K31: Total | L31: =+L29+L30 -> 91999745 | M31: Total | N31: =+N29+N30 -> 87716077 | O31: Total | P31: =+P29+P30 -> 97130375 | Q31: Total | R31: =+R28+R30 -> 0 | S31: Total | T31: =+T28+T30 -> 0
D33: DESCRIPCION | G33: PORCENTAJE | J33: PORCENTAJE | L33: PORCENTAJE | N33: PORCENTAJE | P33: PORCENTAJE | R33: PORCENTAJE | T33: PORCENTAJE
D34: ADMINISTRACION | F34: A= | G34: 0.2 | J34: 0.2 | L34: 0.2 | N34: 0.2 | P34: 0.2
D35: IMPREVISTO | F35: I= | G35: 0.05 | J35: 0.05 | L35: 0.05 | N35: 0.05 | P35: 0.05
D36: UTILIDAD | F36: U= | G36: 0.05 | J36: 0.05 | L36: 0.05 | N36: 0.05 | P36: 0.05
D37: TOTAL A.I.U | F37: A.I.U.= | G37: =SUM(G34:G36) -> 0.3 | J37: =SUM(J34:J36) -> 0.3 | L37: =SUM(L34:L36) -> 0.3 | N37: =SUM(N34:N36) -> 0.3 | P37: =SUM(P34:P36) -> 0.3 | R37: =SUM(R34:R36) -> 0 | T37: =SUM(T34:T36) -> 0
I39: SE REDONDEA CERO DECIMALES | M39: SE REDONDE A CERO DECIMALES EL IVA | O39: SE REDONDE A CERO DECIMALES EL IVA
J41: =+J31/$G$31 -> 0.98900841 | L41: =+L31/$G$31 -> 0.91999745 | N41: =+N31/$G$31 -> 0.87716077 | P41: =+P31/$G$31 -> 0.97130375 | R41: =+R31/$G$31 -> 0 | T41: =+T31/$G$31 -> 0
G42: =+G31*0.8 -> 80000000

Sheet OrdenValor 
C1: ORDEN VALOR DE LAS PROPUESTAS
A2: Orden menor valor básico | B2: No. | C2: OFERENTES | D2: % | E2: CARTA DE PRESENTACION DE LA OFERTA | F2: FECHA DE ENTREGA | G2: OFERTA ECONOMICA | H2: OFERTA ECONOMICA REVISADA | I2: OBSERVACION
A3: 1 | B3: 3 | C3: ROMA INTEGRAL GROUP SAS | D3: 100 | E3: SI | F3: 45163.593 | G3: 87716077 | H3: 87716077 | I3: RECHAZADA NO RESPONDE A INFORME DE RESPUESTA OBSERVACIONES PUBLICADO EL 5/9/2023, EN EL PLAZO FIJADO POR LA ENTIDAD
A4: 2 | B4: 2 | C4: YAMEL ARANGO PINILLA | D4: 100 | E4: SI | F4: 45163.603 | G4: 91999745 | H4: 91999745 | I4: RECHAZADA NO CUMPLE CON MIPYME DEPARTAMENTO DE CASANARE
A5: 3 | B5: 4 | C5: JUAN BERNARDO CAÑON PARRA | D5: 100 | E5: SI | F5: 45163.576 | G5: 97130375 | H5: 97130375
A6: 4 | B6: 1 | C6: CIVITEL | D6: 100 | E6: SI | F6: 45163.656 | G6: 98900841 | H6: 98900841
C9: SI HAY MAS DE 5 PROPUESTAS
C10: COSTO ESTIMADO DEL CONTRATO | H10: =+'Revision económica'!G31 -> 100000000 | I10: =+H10*0.8 -> 80000000
C11: PROMEDIO | H11: =AVERAGE(H3:H6) -> 93936760
C12: MEDIANA | H12: =MEDIAN(H3:H6) -> 94565060
C13: DESVIACION ESTANDAR | H13: =STDEVPA(H3:H6) -> 4395742.3
C14: DIFERENCIA ENTRE COSTO ESTIMADO Y PROMEDIO O MEDIANA DE LAS OFERTAS | H14: =+H10-H11 -> 6063240.5
C15: Diferencia entre el valor de la oferta que puede ser artificialmente baja y el promedio del valor de las ofertas. | H15: =+H11-H3 -> 6220682.5
C16: Diferencia entre el valor de la oferta que puede ser artificialmente baja y el costo estimado del contrato. | H16: =+H10-H3 -> 12283923
C17: Valor Mínimo Aceptable: Valor Mínimo Aceptable = Mediana - Desviación Estándar | H17: =+H12-H13 -> 90169318

Sheet PROPONENTE
A1: INSTITUTO NACIONAL DE VÍAS
A2: DIRECCIÓN GENERAL
A3: DIRECCIÓN DE CONTRATACIÓN
A4: DIRECCION TERRITORIAL CASANARE
A6: INVITACION A PÚBLICA No. IP-DT-CAS-012-2023
A8: OBJETO: CONSTRUCCION DE OBRAS DE SEÑALIZACION PARA LA SEGURIDAD VIAL EN LA VÍA CON CÓDIGO 6512 MONTERREY - YOPAL, A CARGO DEL INSTITUTO NACIONAL DE VÍAS EN JURISDICCION DE LA TERRITORIAL CASANARE
A10: LISTADO DE PROPONENTES
A12: PROPUESTA | B12: PROPONENTE | C12: Porcentaje de
A13: NÚMERO | C13: participación
A14: 1 | B14: =+'OrdenValor '!C5 -> JUAN BERNARDO CAÑON PARRA | C14: 1

Sheet REQUISITOS HABILITANTES
A1: =+PROPONENTE!A6 -> INVITACION A PÚBLICA No. IP-DT-CAS-012-2023
A3: =+PROPONENTE!A8 -> OBJETO: CONSTRUCCION DE OBRAS DE SEÑALIZACION PARA LA SEGURIDAD VIAL EN LA VÍA CON CÓDIGO 6512 MONTERREY - YOPAL, A CARGO DEL INSTITUTO NACIONAL DE VÍAS EN JURISDICCION DE LA TERRITORIAL CASANARE
B5: PRESUPUESTO OFICIAL:
B6: =+'Revision económica'!G31 -> 100000000
B8: SERIEDAD DE LA OFERTA:
B9: =+B6*0.1 -> 10000000
C12: =+[8]PROPONENTES!A13 -> 1
C13: =+PROPONENTE!B14 -> JUAN BERNARDO CAÑON PARRA
C14: 1
A15: No. | B15: REQUISITOS HABILITANTES | C15: PRESENTA
B16: LEGALES Y ADMINISTRATIVOS
B17: CARTA DE PRESENTACIÓN DE LA OFERTA. | C17: SI
B18: CARTA DE INFORMACIÓN DE CONSORCIOS O UNIONES TEMPORALES. | C18: N.A
B19: CERTIFICADO DE EXISTENCIA Y REPRESENTACIÓN LEGAL | C19: SI
B20: DOCUMENTO DE CUMPLIMIENTO ARTÍCULO 50 DE LA LEY 789 DE 2002 (SEGURIDAD SOCIAL INTEGRAL Y PARAFISCALES) | C20: SI
B21: DECLARACIÓN DE NO REPORTAR ANTECEDENTES FISCALES ANTE LA CONTRALORÍA GENERAL DE LA REPÚBLICA NI SANCIONES QUE IMPLIQUEN INHABILIDAD PARA CONTRATAR CON EL ESTADO | C21: SI
B22: CEDULA DE CIUDADANIA DEL PROPONENTE | C22: SI
B23: CERTIFICACION DEL REVISOR FISCAL | C23: NA
B24: GARANTÍA DE SERIEDAD DE LA OFERTA | C24: SI
B25: REQUISITOS TECNICOS
B26: EXPERIENCIA REQUERIDA PARA EL PROYECTO | C26: SI
B27: CERTIFICACIÓN DE CUMPLIMIENTO DE CONDICIONES TÉCNICAS MÍNIMAS | C27: SI
B28: DOCUMENTOS ADICIONALES A APORTAR NO HABILITANTES, NECESARIOS PARA EMITIR LA COMUNICACIÓN DE ACEPTACION DE OFERTA.
B29: CONSULTA DE ANTECEDENTES JUDICIALES | C29: SI
B30: CONSULTA DE ANTECEDENTES FISCALES | C30: SI
B31: CONSULTA DE ANTECEDENTES DISCIPLINARIOS | C31: SI
B32: SISTEMA REGISTRO NACIONAL DE MEDIDAS CORRECTIVAS RNMC | C32: SI
B33: CERTIFICACIÓN BANCARIA | C33: SI
B34: RÉGIMEN DE IMPUESTOS A LAS VENTAS AL CUAL PERTENECE. | C34: SI
A35: OBSERVACIONES
B39: OFERTA ECONOMICA | C39: =+'OrdenValor '!H5 -> 97130375
C41: =+C39/B6 -> 0.97130375

Sheet FORMULARIO No 2A PFM
A1: =PROPONENTE!A1 -> INSTITUTO NACIONAL DE VÍAS
A2: =PROPONENTE!A2 -> DIRECCIÓN GENERAL
A3: =PROPONENTE!A3 -> DIRECCIÓN DE CONTRATACIÓN
A4: =PROPONENTE!A4 -> DIRECCION TERRITORIAL CASANARE
A6: =+PROPONENTE!A6 -> INVITACION A PÚBLICA No. IP-DT-CAS-012-2023
A8: =+PROPONENTE!A8 -> OBJETO: CONSTRUCCION DE OBRAS DE SEÑALIZACION PARA LA SEGURIDAD VIAL EN LA VÍA CON CÓDIGO 6512 MONTERREY - YOPAL, A CARGO DEL INSTITUTO NACIONAL DE VÍAS EN JURISDICCION DE LA TERRITORIAL CASANARE
A10: CUADRO No. 2
A12: DETERMINACIÓN DEL PROMEDIO DE LA FACTURACIÓN MENSUAL PARA ACREDITACION DE LA EXPERIENCIA
H14: Fecha minima | I14: Fecha de cierre | J14: fecha máxima | K14: Fecha exp. | L14: Plazo contractual minimo | N14: N | O14: PO
H15: 36526 | I15: 45163 | K15: =H15 -> 36526 | N15: 2 | O15: =+'REQUISITOS HABILITANTES'!B6 -> 100000000 | P15: =+ROUND(O15/SMLM!D44,0) -> 86
A17: =IF(D17-INT(D17)=0,"PROPONENTE","INTEGRANTE") -> PROPONENTE | D17: =PROPONENTE!A14 -> 1 | E17: =+PROPONENTE!B14 -> JUAN BERNARDO CAÑON PARRA
H18: H | I18: I | J18: J | K18: K | L18: L | M18: M | N18: N | O18: O | P18: P | Q18: Q | R18: R | T18: S
A19: No. de | B19: Entidad | C19: Contrato o Resolución | E19: Porcentaje de | F19: Cumple Experiencia General (SI/NO) | G19: Integrante que aporta experiencia | H19: Incluye | I19: Fecha de | J19: Fecha de | K19: Fecha de | L19: Fecha de | M19: Plazo (n) meses | P19: Valor total del | Q19: VTE | S19: 100 VTE
A20: Orden | B20: Contratante | C20: No. | D20: Objeto | E20: participación | H20: ajustes? | I20: iniciación | J20: suspensión | K20: reanudación | L20: terminacion | M20: Ejecutado | N20: Faltante | O20: TOTAL | P20: contrato (VT) (Bas+Ajs+IVA) | Q20: Valor Aportado | R20: (smml) | S20: (smml) | T20: PFM
A21: 1 | B21: MUNICIPIO DE YOPAL | C21: 2781-2022 | D21: REALIZAR LA SEÑALIZACION VIAL HORIZONTAL Y VERTICAL A TODO COSTO DE LAS VIAS DE LA CABECERA MUNICIPAL PRIORIZADAS POR LA SECRETARIA DE MOVILIDAD COMO ACCION DE FORTALECIMIENTO DE LA SEGURIDAD VIAL EN EL MUNICIPIO DE YOPAL. | E21: 0.9 | F21: SI | G21: =+E17 -> JUAN BERNARDO CAÑON PARRA | H21: NO | I21: 44894 | L21: 44923 | M21: =IF(I21="",0,IF(L21>$I$15,ROUND(IF(K21="---",IF(J21="---",IF(I21>$K$15,($I$15-I21+1)/365*12,($I$15-$K$15+1)/365*12),IF(I21>$K$15,(J21-I21+1)/365*12,(J21-$K$15+1)/365*12)),IF(I21>$K$15,(($I$15-I21+1)-(K21-J21))/365*12,(($I$15-$K$15+1)-(K21-J21))/365*12)),1),ROUND(IF(J21="---",IF(I21>$K$15,(L21-I21+1)/365*12,(L21-$K$15+1)/365*12),IF(I21>$K$15,((L21-I21+1)-(K21-J21))/365*12,((L21-$K$15+1)-(K21-J21))/365*12)),1))) -> 1 | O21: =IF(I21="",(M21+N21),ROUND(IF(K21="---",IF(J21="---",(L21-I21+1)/365*12,(L21-I21+1)/365*12),((L21-I21+1)-(K21-J21))/365*12),1)) -> 1 | P21: 6.3586685e+08 | Q21: =P21*E21 -> 5.7228016e+08 | R21: =Q21/SMLM!D42 -> 629.8996 | S21: =R21*1 -> 629.8996 | T21: =R21/O21 -> 629.8996 | W21: =1353800816.9+34325284.8+41655387.2+1245720+108129+162712+709305.3+6732225+8151715+15505525 -> 1.4623968e+09
A22: 2 | B22: MUNICIPIO DE SOACHA | C22: 3540-2022 | D22: SEÑALIZACIÓNVIALVERTICALYHORIZONTALEN LA MALLA VIAL DEL MUNICIPIO DE SOACHA | E22: 0.75 | F22: SI | G22: =+E17 -> JUAN BERNARDO CAÑON PARRA | H22: NO | I22: 44845 | L22: 44926 | M22: =IF(I22="",0,IF(L22>$I$15,ROUND(IF(K22="---",IF(J22="---",IF(I22>$K$15,($I$15-I22+1)/365*12,($I$15-$K$15+1)/365*12),IF(I22>$K$15,(J22-I22+1)/365*12,(J22-$K$15+1)/365*12)),IF(I22>$K$15,(($I$15-I22+1)-(K22-J22))/365*12,(($I$15-$K$15+1)-(K22-J22))/365*12)),1),ROUND(IF(J22="---",IF(I22>$K$15,(L22-I22+1)/365*12,(L22-$K$15+1)/365*12),IF(I22>$K$15,((L22-I22+1)-(K22-J22))/365*12,((L22-$K$15+1)-(K22-J22))/365*12)),1))) -> 2.7 | O22: =IF(I22="",(M22+N22),ROUND(IF(K22="---",IF(J22="---",(L22-I22+1)/365*12,(L22-I22+1)/365*12),((L22-I22+1)-(K22-J22))/365*12),1)) -> 2.7 | P22: 1.162598e+09 | Q22: =P22*E22 -> 8.7194847e+08 | R22: =Q22/SMLM!D42 -> 959.7397 | S22: =R22*1 -> 959.7397 | T22: =R22/O22 -> 355.45915 | W22: 2.1373085e+09
A23: 3 | M23: =IF(I23="",0,IF(L23>$I$15,ROUND(IF(K23="---",IF(J23="---",IF(I23>$K$15,($I$15-I23+1)/365*12,($I$15-$K$15+1)/365*12),IF(I23>$K$15,(J23-I23+1)/365*12,(J23-$K$15+1)/365*12)),IF(I23>$K$15,(($I$15-I23+1)-(K23-J23))/365*12,(($I$15-$K$15+1)-(K23-J23))/365*12)),1),ROUND(IF(J23="---",IF(I23>$K$15,(L23-I23+1)/365*12,(L23-$K$15+1)/365*12),IF(I23>$K$15,((L23-I23+1)-(K23-J23))/365*12,((L23-$K$15+1)-(K23-J23))/365*12)),1))) -> 0 | O23: =IF(I23="",(M23+N23),ROUND(IF(K23="---",IF(J23="---",(L23-I23+1)/365*12,(L23-I23+1)/365*12),((L23-I23+1)-(K23-J23))/365*12),1)) -> 0 | Q23: =P23*E23 -> 0 | R23: =Q23/SMLM!D40 -> 0 | S23: =R23*1 -> 0 | T23: =R23/O23 -> #DIV/0! | W23: =+W22*0.23 -> 4.9158095e+08
A24: 4 | M24: =IF(I24="",0,IF(L24>$I$15,ROUND(IF(K24="---",IF(J24="---",IF(I24>$K$15,($I$15-I24+1)/365*12,($I$15-$K$15+1)/365*12),IF(I24>$K$15,(J24-I24+1)/365*12,(J24-$K$15+1)/365*12)),IF(I24>$K$15,(($I$15-I24+1)-(K24-J24))/365*12,(($I$15-$K$15+1)-(K24-J24))/365*12)),1),ROUND(IF(J24="---",IF(I24>$K$15,(L24-I24+1)/365*12,(L24-$K$15+1)/365*12),IF(I24>$K$15,((L24-I24+1)-(K24-J24))/365*12,((L24-$K$15+1)-(K24-J24))/365*12)),1))) -> 0 | O24: =IF(I24="",(M24+N24),ROUND(IF(K24="---",IF(J24="---",(L24-I24+1)/365*12,(L24-I24+1)/365*12),((L24-I24+1)-(K24-J24))/365*12),1)) -> 0 | Q24: =P24*E24 -> 0 | R24: =Q24/SMLM!D43 -> 0 | S24: =R24*1 -> 0 | T24: =R24/O24 -> #DIV/0! | W24: =+W22*0.02 -> 42746170
A25: OBSERVACIONES: | O25: TOTALES = | R25: =SUM(R21:R24) -> 1589.6393 | S25: =SUM(S21:S24) -> 1589.6393 | T25: =SUM(T21:T21) -> 629.8996 | W25: =+W22*0.05 -> 1.0686542e+08
W26: =SUM(W22:W25) -> 2.778501e+09
A29: ADMISIBLE

Sheet EXPERIENCIA
A1: =PROPONENTE!A1 -> INSTITUTO NACIONAL DE VÍAS
A2: =PROPONENTE!A2 -> DIRECCIÓN GENERAL
A3: =PROPONENTE!A3 -> DIRECCIÓN DE CONTRATACIÓN
A4: =PROPONENTE!A4 -> DIRECCION TERRITORIAL CASANARE
A6: =+PROPONENTE!A6 -> INVITACION A PÚBLICA No. IP-DT-CAS-012-2023
A8: =+PROPONENTE!A8 -> OBJETO: CONSTRUCCION DE OBRAS DE SEÑALIZACION PARA LA SEGURIDAD VIAL EN LA VÍA CON CÓDIGO 6512 MONTERREY - YOPAL, A CARGO DEL INSTITUTO NACIONAL DE VÍAS EN JURISDICCION DE LA TERRITORIAL CASANARE
A10: CUADRO No. 3
A12: RESUMEN EVALUACIÓN DE LA EXPERIENCIA GENERAL
C15: POM= | D15: =+'FORMULARIO No 2A PFM'!P15/'FORMULARIO No 2A PFM'!N15 -> 43
C16: PO= | D16: ='FORMULARIO No 2A PFM'!P15 -> 86
C17: 100 %PO= | D17: =D16*1 -> 86
A20: PROPUESTA | B20: PROPONENTE | C20: Porcentaje de | D20: VTE | E20: PFM | F20: 100% PFM | G20: CALIFICACION
A21: NÚMERO | C21: participación | D21: SMMLV | E21: SMMLV | F21: SMMLV | G21: OBTENIDA
A23: =PROPONENTE!A14 -> 1 | B23: =PROPONENTE!B14 -> JUAN BERNARDO CAÑON PARRA | C23: =PROPONENTE!C14 -> 1 | D23: ='FORMULARIO No 2A PFM'!R25 -> 1589.6393 | E23: ='FORMULARIO No 2A PFM'!T25 -> 629.8996 | F23: ='FORMULARIO No 2A PFM'!S25 -> 1589.6393 | G23: =+'FORMULARIO No 2A PFM'!A29 -> ADMISIBLE | H23: =IF(D23>$D$16,"ADMISIBLE","NO ADMISIBLE") -> ADMISIBLE

Sheet Cap Financiera y Organizacional
A1: =+[1]PROPONENTES!C1 -> INSTITUTO NACIONAL DE VÍAS
A2: =+[1]PROPONENTES!C2 -> DIRECCIÓN TERRITORIAL CASANARE
A3: =+[1]PROPONENTES!C3 -> SA-MC-DT-CAS-004-2023
A4: EVALUACIÓN FINANCIERA
A5: =+[1]PROPONENTES!C5 -> OBJETO: HABILITAR Y/O BRINDAR TRANSITABILIDAD EN LA RED VIAL A CARGO DEL INVIAS, A TRAVÉS DEL SISTEMA DE MONTO AGOTABLE, EN VÍAS A CARGO DE LA DIRECCIÓN TERRITORIAL CASANARE
C7: CIFRAS FINANCIERAS - RUP ACTUALIZADO | J7: INDICE-LIQUIDEZ | L7: INDICE-ENDEUDAMIENTO | N7: RAZÓN COBERTURA DE INTERESES | P7: EVALUACIÓN FINANCIERA | Q7: RENTABILIDAD DEL PATRIMONIO | S7: RENTABILIDAD DEL ACTIVO | U7: EVALUACIÓN ORGANIZACIONAL | V7: OBSERVACIONES
A8: OFERTA | B8: PROPONENTE | C8: ACTIVO CORRIENTE | D8: ACTIVO TOTAL | E8: PASIVO CORRIENTE | F8: PASIVO TOTAL | G8: PATRIMONIO | H8: UTILIDAD OPERACIONAL | I8: GASTOS INTERESES | J8: Fórmula: Liquidez=AC/PC>=1,0 | L8: Fórmula: Endeudamiento=Pas.T/Act.T<=70% | N8: Fórmula: RCI=Utilidad Operacional/Gastos Intereses | P8: CAPACIDAD FINANCIERA ADMISIBLE/NO ADMISIBLE | Q8: Fórmula: ROE=Utilidad Operacional/Patrimonio*100% | S8: Fórmula: ROA=Utilidad Operacional/Activo Total*100% | U8: CAPACIDAD ORGANIZACIONAL ADMISIBLE/NO ADMISIBLE
J9: Req. Min. Solvencia: > = | K9: 1 | L9: Req. Min. Endeudamiento: < | M9: 0.7 | N9: Req. Min. >= | O9: 1 | Q9: Req. Min.: > = | R9: 0 | S9: Req. Min.: > = | T9: 0.0001
J10: INDICADOR | K10: RESULTADO | L10: INDICADOR | M10: RESULTADO | N10: INDICADOR | O10: RESULTADO | Q10: INDICADOR | R10: RESULTADO | S10: INDICADOR | T10: RESULTADO
A12: 1 | B12: =+PROPONENTE!B14 -> JUAN BERNARDO CAÑON PARRA | C12: =SUM(C13:C14) -> 1236289083 | D12: =SUM(D13:D14) -> 1407082433 | E12: =SUM(E13:E14) -> 10164399 | F12: =SUM(F13:F14) -> 414116631 | G12: =SUM(G13:G14) -> 992965802 | H12: =SUM(H13:H14) -> 83246389 | I12: =SUM(I13:I14) -> 7584750 | J12: =SUM(C12/E12) -> 121.62933 | K12: =+IF(J12>=$K$9,"ADMISIBLE","NO ADMISIBLE") -> ADMISIBLE | L12: =SUM(F12/D12) -> 0.29430872 | M12: =+IF(L12<=$M$9,"ADMISIBLE","NO ADMISIBLE") -> ADMISIBLE | N12: =IF(I12=0,"",H12/I12) -> 10.975495 | O12: =+IF(I12=0,"ADMISIBLE",IF(N12>=$O$9,"ADMISIBLE","NO ADMISIBLE")) -> ADMISIBLE | P12: =+IF(K12="NO ADMISIBLE","NO ADMISIBLE",IF(M12="NO ADMISIBLE","NO ADMISIBLE",IF(O12="NO ADMISIBLE","NO ADMISIBLE","ADMISIBLE"))) -> ADMISIBLE | Q12: =H12/G12 -> 0.083836109 | R12: =+IF(Q12>=$R$9,"ADMISIBLE","NO ADMISIBLE") -> ADMISIBLE | S12: =H12/D12 -> 0.059162411 | T12: =+IF(S12>=$T$9,"ADMISIBLE","NO ADMISIBLE") -> ADMISIBLE | U12: =+IF(R12="NO ADMISIBLE","NO ADMISIBLE",IF(T12="NO ADMISIBLE","NO ADMISIBLE","ADMISIBLE")) -> ADMISIBLE
A13: 1.1 | B13: CAÑON PARRA JUAN BERNARDO | C13: 1236289083 | D13: 1407082433 | E13: 10164399 | F13: 414116631 | G13: 992965802 | H13: 83246389 | I13: 7584750
I14: 0
G15: =IF(ISERROR(D15-F15),"",D15-F15) -> 0
A16: 2 | C16: =SUM(C17:C19) -> 0 | D16: =SUM(D17:D19) -> 0 | E16: =SUM(E17:E19) -> 0 | F16: =SUM(F17:F19) -> 0 | G16: =SUM(G17:G19) -> 0 | H16: =SUM(H17:H19) -> 0 | I16: =SUM(I17:I19) -> 0 | J16: =SUM(C16/E16) -> #DIV/0! | K16: =+IF(J16>=$K$9,"ADMISIBLE","NO ADMISIBLE") -> #DIV/0! | L16: =SUM(F16/D16) -> #DIV/0! | M16: =+IF(L16<$M$9,"ADMISIBLE","NO ADMISIBLE") -> #DIV/0! | N16: =IF(I16=0,"",H16/I16) | O16: =+IF(I16=0,"ADMISIBLE",IF(N16>$O$9,"ADMISIBLE","NO ADMISIBLE")) -> ADMISIBLE | P16: =+IF(K16="NO ADMISIBLE","NO ADMISIBLE",IF(M16="NO ADMISIBLE","NO ADMISIBLE",IF(O16="NO ADMISIBLE","NO ADMISIBLE","ADMISIBLE"))) -> #DIV/0! | Q16: =H16/G16 -> #DIV/0! | R16: =+IF(Q16>=$R$9,"ADMISIBLE","NO ADMISIBLE") -> #DIV/0! | S16: =H16/D16 -> #DIV/0! | T16: =+IF(S16>=$T$9,"ADMISIBLE","NO ADMISIBLE") -> #DIV/0! | U16: =+IF(R16="NO ADMISIBLE","NO ADMISIBLE",IF(T16="NO ADMISIBLE","NO ADMISIBLE","ADMISIBLE")) -> #DIV/0!
A17: 2.1 | B17: =+B16 -> 0
A20: 3 | C20: =SUM(C21:C22) -> 0 | D20: =SUM(D21:D22) -> 0 | E20: =SUM(E21:E22) -> 0 | F20: =SUM(F21:F22) -> 0 | G20: =SUM(G21:G22) -> 0 | H20: =SUM(H21:H22) -> 0 | I20: =SUM(I21:I22) -> 0 | J20: =SUM(C20/E20) -> #DIV/0! | K20: =+IF(J20>=$K$9,"ADMISIBLE","NO ADMISIBLE") -> #DIV/0! | L20: =SUM(F20/D20) -> #DIV/0! | M20: =+IF(L20<$M$9,"ADMISIBLE","NO ADMISIBLE") -> #DIV/0! | N20: =IF(I20=0,"",H20/I20) | O20: =+IF(I20=0,"ADMISIBLE",IF(N20>$O$9,"ADMISIBLE","NO ADMISIBLE")) -> ADMISIBLE | P20: =+IF(K20="NO ADMISIBLE","NO ADMISIBLE",IF(M20="NO ADMISIBLE","NO ADMISIBLE",IF(O20="NO ADMISIBLE","NO ADMISIBLE","ADMISIBLE"))) -> #DIV/0! | Q20: =H20/G20 -> #DIV/0! | R20: =+IF(Q20>=$R$9,"ADMISIBLE","NO ADMISIBLE") -> #DIV/0! | S20: =H20/D20 -> #DIV/0! | T20: =+IF(S20>=$T$9,"ADMISIBLE","NO ADMISIBLE") -> #DIV/0! | U20: =+IF(R20="NO ADMISIBLE","NO ADMISIBLE",IF(T20="NO ADMISIBLE","NO ADMISIBLE","ADMISIBLE")) -> #DIV/0!
A21: 3.1
A22: 3.2
A24: 4 | C24: =SUM(C25:C26) -> 0 | D24: =SUM(D25:D26) -> 0 | E24: =SUM(E25:E26) -> 0 | F24: =SUM(F25:F26) -> 0 | G24: =SUM(G25:G26) -> 0 | H24: =SUM(H25:H26) -> 0 | I24: =SUM(I25:I26) -> 0 | J24: =SUM(C24/E24) -> #DIV/0! | K24: =+IF(J24>=$K$9,"ADMISIBLE","NO ADMISIBLE") -> #DIV/0! | L24: =SUM(F24/D24) -> #DIV/0! | M24: =+IF(L24<$M$9,"ADMISIBLE","NO ADMISIBLE") -> #DIV/0! | N24: =IF(I24=0,"",H24/I24) | O24: =+IF(I24=0,"ADMISIBLE",IF(N24>$O$9,"ADMISIBLE","NO ADMISIBLE")) -> ADMISIBLE | P24: =+IF(K24="NO ADMISIBLE","NO ADMISIBLE",IF(M24="NO ADMISIBLE","NO ADMISIBLE",IF(O24="NO ADMISIBLE","NO ADMISIBLE","ADMISIBLE"))) -> #DIV/0! | Q24: =H24/G24 -> #DIV/0! | R24: =+IF(Q24>=$R$9,"ADMISIBLE","NO ADMISIBLE") -> #DIV/0! | S24: =H24/D24 -> #DIV/0! | T24: =+IF(S24>=$T$9,"ADMISIBLE","NO ADMISIBLE") -> #DIV/0! | U24: =+IF(R24="NO ADMISIBLE","NO ADMISIBLE",IF(T24="NO ADMISIBLE","NO ADMISIBLE","ADMISIBLE")) -> #DIV/0!
A25: 4.1 | B25: =+B24 -> 0
A28: 5 | B28: =+[1]PROPONENTES!D16 -> 0 | C28: =SUM(C29:C30) -> 0 | D28: =SUM(D29:D30) -> 0 | E28: =SUM(E29:E30) -> 0 | F28: =SUM(F29:F30) -> 0 | G28: =SUM(G29:G30) -> 0 | H28: =SUM(H29:H30) -> 0 | I28: =SUM(I29:I30) -> 0 | J28: =SUM(C28/E28) -> #DIV/0! | K28: =+IF(J28>=$K$9,"ADMISIBLE","NO ADMISIBLE") -> #DIV/0! | L28: =SUM(F28/D28) -> #DIV/0! | M28: =+IF(L28<$M$9,"ADMISIBLE","NO ADMISIBLE") -> #DIV/0! | N28: =IF(I28=0,"",H28/I28) | O28: =+IF(I28=0,"ADMISIBLE",IF(N28>$O$9,"ADMISIBLE","NO ADMISIBLE")) -> ADMISIBLE | P28: =+IF(K28="NO ADMISIBLE","NO ADMISIBLE",IF(M28="NO ADMISIBLE","NO ADMISIBLE",IF(O28="NO ADMISIBLE","NO ADMISIBLE","ADMISIBLE"))) -> #DIV/0! | Q28: =H28/G28 -> #DIV/0! | R28: =+IF(Q28>=$R$9,"ADMISIBLE","NO ADMISIBLE") -> #DIV/0! | S28: =H28/D28 -> #DIV/0! | T28: =+IF(S28>=$T$9,"ADMISIBLE","NO ADMISIBLE") -> #DIV/0! | U28: =+IF(R28="NO ADMISIBLE","NO ADMISIBLE",IF(T28="NO ADMISIBLE","NO ADMISIBLE","ADMISIBLE")) -> #DIV/0!
A29: 5.1
A32: 6 | B32: =+[1]PROPONENTES!D17 -> 0 | C32: =SUM(C33:C34) -> 0 | D32: =SUM(D33:D34) -> 0 | E32: =SUM(E33:E34) -> 0 | F32: =SUM(F33:F34) -> 0 | G32: =SUM(G33:G34) -> 0 | H32: =SUM(H33:H34) -> 0 | I32: =SUM(I33:I34) -> 0 | J32: =SUM(C32/E32) -> #DIV/0! | K32: =+IF(J32>=$K$9,"ADMISIBLE","NO ADMISIBLE") -> #DIV/0! | L32: =SUM(F32/D32) -> #DIV/0! | M32: =+IF(L32<$M$9,"ADMISIBLE","NO ADMISIBLE") -> #DIV/0! | N32: =IF(I32=0,"",H32/I32) | O32: =+IF(I32=0,"ADMISIBLE",IF(N32>$O$9,"ADMISIBLE","NO ADMISIBLE")) -> ADMISIBLE | P32: =+IF(K32="NO ADMISIBLE","NO ADMISIBLE",IF(M32="NO ADMISIBLE","NO ADMISIBLE",IF(O32="NO ADMISIBLE","NO ADMISIBLE","ADMISIBLE"))) -> #DIV/0! | Q32: =H32/G32 -> #DIV/0! | R32: =+IF(Q32>=$R$9,"ADMISIBLE","NO ADMISIBLE") -> #DIV/0! | S32: =H32/D32 -> #DIV/0! | T32: =+IF(S32>=$T$9,"ADMISIBLE","NO ADMISIBLE") -> #DIV/0! | U32: =+IF(R32="NO ADMISIBLE","NO ADMISIBLE",IF(T32="NO ADMISIBLE","NO ADMISIBLE","ADMISIBLE")) -> #DIV/0!
A33: 6.1
A36: 7 | B36: =+[1]PROPONENTES!D18 -> 0 | C36: =SUM(C37:C38) -> 0 | D36: =SUM(D37:D38) -> 0 | E36: =SUM(E37:E38) -> 0 | F36: =SUM(F37:F38) -> 0 | G36: =SUM(G37:G38) -> 0 | H36: =SUM(H37:H38) -> 0 | I36: =SUM(I37:I38) -> 0 | J36: =SUM(C36/E36) -> #DIV/0! | K36: =+IF(J36>=$K$9,"ADMISIBLE","NO ADMISIBLE") -> #DIV/0! | L36: =SUM(F36/D36) -> #DIV/0! | M36: =+IF(L36<$M$9,"ADMISIBLE","NO ADMISIBLE") -> #DIV/0! | N36: =IF(I36=0,"",H36/I36) | O36: =+IF(I36=0,"ADMISIBLE",IF(N36>$O$9,"ADMISIBLE","NO ADMISIBLE")) -> ADMISIBLE | P36: =+IF(K36="NO ADMISIBLE","NO ADMISIBLE",IF(M36="NO ADMISIBLE","NO ADMISIBLE",IF(O36="NO ADMISIBLE","NO ADMISIBLE","ADMISIBLE"))) -> #DIV/0! | Q36: =H36/G36 -> #DIV/0! | R36: =+IF(Q36>=$R$9,"ADMISIBLE","NO ADMISIBLE") -> #DIV/0! | S36: =H36/D36 -> #DIV/0! | T36: =+IF(S36>=$T$9,"ADMISIBLE","NO ADMISIBLE") -> #DIV/0! | U36: =+IF(R36="NO ADMISIBLE","NO ADMISIBLE",IF(T36="NO ADMISIBLE","NO ADMISIBLE","ADMISIBLE")) -> #DIV/0!
A37: 7.1
A40: 8 | B40: =+[1]PROPONENTES!D19 -> 0 | C40: =+C41+C42 -> 0 | D40: =+D41+D42 -> 0 | E40: =+E41+E42 -> 0 | F40: =+F41+F42 -> 0 | G40: =+G41+G42 -> 0 | H40: =+H41+H42 -> 0 | I40: =+I41+I42 -> 0 | J40: =SUM(C40/E40) -> #DIV/0! | K40: =+IF(J40>=$K$9,"ADMISIBLE","NO ADMISIBLE") -> #DIV/0! | L40: =SUM(F40/D40) -> #DIV/0! | M40: =+IF(L40<$M$9,"ADMISIBLE","NO ADMISIBLE") -> #DIV/0! | N40: =IF(I40=0,"",H40/I40) | O40: =+IF(I40=0,"ADMISIBLE",IF(N40>$O$9,"ADMISIBLE","NO ADMISIBLE")) -> ADMISIBLE | P40: =+IF(K40="NO ADMISIBLE","NO ADMISIBLE",IF(M40="NO ADMISIBLE","NO ADMISIBLE",IF(O40="NO ADMISIBLE","NO ADMISIBLE","ADMISIBLE"))) -> #DIV/0! | Q40: =H40/G40 -> #DIV/0! | R40: =+IF(Q40>=$R$9,"ADMISIBLE","NO ADMISIBLE") -> #DIV/0! | S40: =H40/D40 -> #DIV/0! | T40: =+IF(S40>=$T$9,"ADMISIBLE","NO ADMISIBLE") -> #DIV/0! | U40: =+IF(R40="NO ADMISIBLE","NO ADMISIBLE",IF(T40="NO ADMISIBLE","NO ADMISIBLE","ADMISIBLE")) -> #DIV/0!
A41: 8.1
A42: 8.2 | G42: =IF(ISERROR(D42-F42),"",D42-F42) -> 0
A43: 8.3
A44: 9 | B44: =+[1]PROPONENTES!D20 -> 0 | C44: =+C45+C46 -> 0 | D44: =+D45+D46 -> 0 | E44: =+E45+E46 -> 0 | F44: =+F45+F46 -> 0 | G44: =+G45+G46 -> 0 | H44: =+H45+H46 -> 0 | I44: =+I45+I46 -> 0 | J44: =SUM(C44/E44) -> #DIV/0! | K44: =+IF(J44>=$K$9,"ADMISIBLE","NO ADMISIBLE") -> #DIV/0! | L44: =SUM(F44/D44) -> #DIV/0! | M44: =+IF(L44<$M$9,"ADMISIBLE","NO ADMISIBLE") -> #DIV/0! | N44: =IF(I44=0,"",H44/I44) | O44: =+IF(I44=0,"ADMISIBLE",IF(N44>$O$9,"ADMISIBLE","NO ADMISIBLE")) -> ADMISIBLE | P44: =+IF(K44="NO ADMISIBLE","NO ADMISIBLE",IF(M44="NO ADMISIBLE","NO ADMISIBLE",IF(O44="NO ADMISIBLE","NO ADMISIBLE","ADMISIBLE"))) -> #DIV/0! | Q44: =H44/G44 -> #DIV/0! | R44: =+IF(Q44>=$R$9,"ADMISIBLE","NO ADMISIBLE") -> #DIV/0! | S44: =H44/D44 -> #DIV/0! | T44: =+IF(S44>=$T$9,"ADMISIBLE","NO ADMISIBLE") -> #DIV/0! | U44: =+IF(R44="NO ADMISIBLE","NO ADMISIBLE",IF(T44="NO ADMISIBLE","NO ADMISIBLE","ADMISIBLE")) -> #DIV/0!
A45: 9.1 | G45: =IF(ISERROR(D45-F45),"",D45-F45) -> 0
A46: 9.2 | G46: =IF(ISERROR(D46-F46),"",D46-F46) -> 0
A47: 9.3
A48: 10 | B48: =+[1]PROPONENTES!D21 -> 0 | C48: =+C49+C50 -> 0 | D48: =+D49+D50 -> 0 | E48: =+E49+E50 -> 0 | F48: =+F49+F50 -> 0 | G48: =+G49+G50 -> 0 | H48: =+H49+H50 -> 0 | I48: =+I49+I50 -> 0 | J48: =SUM(C48/E48) -> #DIV/0! | K48: =+IF(J48>=$K$9,"ADMISIBLE","NO ADMISIBLE") -> #DIV/0! | L48: =SUM(F48/D48) -> #DIV/0! | M48: =+IF(L48<$M$9,"ADMISIBLE","NO ADMISIBLE") -> #DIV/0! | N48: =IF(I48=0,"",H48/I48) | O48: =+IF(I48=0,"ADMISIBLE",IF(N48>$O$9,"ADMISIBLE","NO ADMISIBLE")) -> ADMISIBLE | P48: =+IF(K48="NO ADMISIBLE","NO ADMISIBLE",IF(M48="NO ADMISIBLE","NO ADMISIBLE",IF(O48="NO ADMISIBLE","NO ADMISIBLE","ADMISIBLE"))) -> #DIV/0! | Q48: =H48/G48 -> #DIV/0! | R48: =+IF(Q48>=$R$9,"ADMISIBLE","NO ADMISIBLE") -> #DIV/0! | S48: =H48/D48 -> #DIV/0! | T48: =+IF(S48>=$T$9,"ADMISIBLE","NO ADMISIBLE") -> #DIV/0! | U48: =+IF(R48="NO ADMISIBLE","NO ADMISIBLE",IF(T48="NO ADMISIBLE","NO ADMISIBLE","ADMISIBLE")) -> #DIV/0!
A49: 10.1 | G49: =IF(ISERROR(D49-F49),"",D49-F49) -> 0
A50: 10.2 | G50: =IF(ISERROR(D50-F50),"",D50-F50) -> 0
A51: 10.3
A52: OBSERVACIONES:

Sheet Puntajes
B2: EXPERIENCIA | F2: CAPACIDAD TÉCNICA
B3: Mayor a | C3: Menor o Igual a | D3: Puntaje | F3: Desde | G3: Hasta | H3: Puntaje
B4: 0 | C4: 3 | D4: 60 | F4: 1 | G4: 5 | H4: 20
B5: 3 | C5: 6 | D5: 80 | F5: 6 | G5: 10 | H5: 30
B6: 6 | C6: 10 | D6: 100 | F6: 11 | G6: Mayores | H6: 40
B7: 10 | C7: Mayores | D7: 120
B10: CAPACIDAD FINANCIERA
B11: Mayor a | C11: Menor o Igual a | D11: Puntaje
B12: 0 | C12: 0.5 | D12: 20
B13: 0.5 | C13: 0.75 | D13: 25
B14: 0.75 | C14: 1 | D14: 30
B15: 1 | C15: 1.5 | D15: 35
B16: 1.5 | C16: Mayores | D16: 40
B19: Concepto Puntaje máximo
B20: Oferta económica | D20: 59.5
B21: Factor de calidad | D21: 20
B22: Apoyo a la industria nacional | D22: 20
B23: Emprendimientos y empresas de mujeres | D23: 0.25
B24: Mipyme | D24: 0.25
B25: Total | D25: =SUM(D20:D24) -> 100

Sheet CRC
B1: =[1]PRESUPUESTOS!B1 -> INSTITUTO NACIONAL DE VÍAS
B2: =[1]PRESUPUESTOS!B2 -> DIRECCIÓN TERRITORIAL CASANARE
B3: =[1]PRESUPUESTOS!B3 -> SA-MC-DT-CAS-004-2023
B6: =[1]PRESUPUESTOS!B5 -> OBJETO: HABILITAR Y/O BRINDAR TRANSITABILIDAD EN LA RED VIAL A CARGO DEL INVIAS, A TRAVÉS DEL SISTEMA DE MONTO AGOTABLE, EN VÍAS A CARGO DE LA DIRECCIÓN TERRITORIAL CASANARE
B8: CUADRO 2
B9: CAPACIDAD RESIDUAL PARA LA CONTRATACION DE OBRAS (CR)
K10: 1 | L10: =IF(K10=1,"K COMO CONSTRUCTOR",IF(K10=2,"K COMO CONSULTOR",IF(K10=3,"K COMO PROVEEDOR",""))) -> K COMO CONSTRUCTOR
B12: PROPUESTA No. | C12: PROPONENTE | D12: CAPACIDAD RESIDUAL DEL PROCESO DE CONTRATACIÓN | E12: CAPACIDAD RESIDUAL DEL PROPONENTE (PLIEGO DE CONDICIONES) | F12: CAPACIDAD ORGANIZACIONAL ( PCD) | G12: EXPERIENCIA | H12: CAPACIDAD FINANCIERA | I12: CAPACIDAD TÉCNICA | J12: SALDO DE CONTRATOS EN EJECUCIÓN | K12: ADMISIBLE? | L12: OBSERVACIONES
B13: NUMERO | F13: CO | G13: E | H13: CF | I13: CT | J13: SCE
B15: ='[1]Cap Financiera y Organizacional'!A12 -> 1 | C15: =+PROPONENTE!B14 -> JUAN BERNARDO CAÑON PARRA | D15: =+'Revision económica'!G31 -> 100000000 | E15: =+E16+E17 -> 1.6172361e+09 | K15: =IF(B15-INT(B15)>0,"",IF((E15)>=D15,"ADMISIBLE","NO ADMISIBLE")) -> ADMISIBLE
B16: ='[1]Cap Financiera y Organizacional'!A13 -> 1.1 | C16: =+C15 -> JUAN BERNARDO CAÑON PARRA | D16: =+D15 -> 100000000 | E16: =(F16*((G16+H16+I16)/100))-J16 -> 1.6172361e+09 | F16: 898464488 | G16: ='Puntaje Exp'!I10 -> 120 | H16: ='Puntaje CF'!H10 -> 40 | I16: ='Puntaje CT'!F10 -> 20 | J16: 0
G17: ='Puntaje Exp'!I11 | H17: ='Puntaje CF'!H11 | I17: ='Puntaje CT'!F11
D20: =+D19 -> 0 | G20: ='Puntaje Exp'!I21 | H20: ='Puntaje CF'!H21 | I20: =+'Puntaje CT'!F21
G21: ='Puntaje Exp'!I22 | I21: =+'Puntaje CT'!F22
D24: =+D23 -> 0 | G24: ='Puntaje Exp'!I32 | H24: ='Puntaje CF'!H32 | I24: ='Puntaje CT'!F32
D25: =+D24 -> 0 | G25: ='Puntaje Exp'!I33 | H25: ='Puntaje CF'!H33 | I25: ='Puntaje CT'!F33
D28: =+D27 -> 0 | G28: =+'Puntaje Exp'!I43 | H28: ='Puntaje CF'!H43 | I28: ='Puntaje CT'!F43
C29: ='[1]Cap Financiera y Organizacional'!B26 -> 0 | H29: ='Puntaje CF'!H44 | I29: ='Puntaje CT'!F44
B31: ='[1]Cap Financiera y Organizacional'!A28 -> 5 | C31: ='[1]Cap Financiera y Organizacional'!B28 -> 0 | D31: =+[1]PROPONENTES!S16 -> 0
B32: ='[1]Cap Financiera y Organizacional'!A29 -> 5.1 | C32: ='[1]Cap Financiera y Organizacional'!B29 -> 0 | D32: =+D31 -> 0 | G32: ='Puntaje Exp'!I46 | H32: ='Puntaje CF'!H54 -> 0 | I32: ='Puntaje CT'!F54 | K32: =IF(B32-INT(B32)>0,"",IF((E32)>=D32,"ADMISIBLE","NO ADMISIBLE"))
B35: ='[1]Cap Financiera y Organizacional'!A32 -> 6 | C35: ='[1]Cap Financiera y Organizacional'!B32 -> 0 | D35: =+[1]PROPONENTES!S17 -> 0
B36: ='[1]Cap Financiera y Organizacional'!A33 -> 6.1 | C36: ='[1]Cap Financiera y Organizacional'!B33 -> 0 | D36: =+D35 -> 0 | G36: ='Puntaje Exp'!I49 | H36: ='Puntaje CF'!H65 -> 0 | I36: ='Puntaje CT'!F65
C37: ='[1]Cap Financiera y Organizacional'!B34 -> 0 | G37: ='Puntaje Exp'!I50 | H37: ='Puntaje CF'!H66 | I37: ='Puntaje CT'!F66
B39: ='[1]Cap Financiera y Organizacional'!A36 -> 7 | C39: ='[1]Cap Financiera y Organizacional'!B36 -> 0 | D39: =+[1]PROPONENTES!S18 -> 0
B40: ='[1]Cap Financiera y Organizacional'!A37 -> 7.1 | C40: ='[1]Cap Financiera y Organizacional'!B37 -> 0 | D40: =+D39 -> 0 | G40: ='Puntaje Exp'!I52 | H40: ='Puntaje CF'!H76 -> 0 | I40: ='Puntaje CT'!F76 | K40: =IF(B40-INT(B40)>0,"",IF((E40)>=D40,"ADMISIBLE","NO ADMISIBLE"))
B41: ='[1]Cap Financiera y Organizacional'!A38 -> 0
B43: ='[1]Cap Financiera y Organizacional'!A40 -> 8 | C43: ='[1]Cap Financiera y Organizacional'!B40 -> 0 | D43: =+[1]PROPONENTES!S19 -> 0
B44: ='[1]Cap Financiera y Organizacional'!A41 -> 8.1 | C44: ='[1]Cap Financiera y Organizacional'!B41 -> 0 | D44: =+D43 -> 0 | G44: ='Puntaje Exp'!I55 | H44: ='Puntaje CF'!H87 -> 0 | I44: ='Puntaje CT'!F87 | K44: =IF(B44-INT(B44)>0,"",IF((E44)>=D44,"ADMISIBLE","NO ADMISIBLE"))
I45: ='Puntaje CT'!F88
C46: ='[1]Cap Financiera y Organizacional'!B43 -> 0 | I46: ='Puntaje CT'!F89
B47: ='[1]Cap Financiera y Organizacional'!A44 -> 9 | C47: ='[1]Cap Financiera y Organizacional'!B44 -> 0 | D47: =+[1]PROPONENTES!S23 -> 0 | E47: =(F47*((G47+H47+I47)/100))-J47 -> 0 | K47: =IF((E47)>=D47,"ADMISIBLE","NO ADMISIBLE") -> ADMISIBLE
C48: ='[1]Cap Financiera y Organizacional'!B45 -> 0 | D48: =+D47 -> 0 | E48: =(F48*((G48+H48+I48)/100))-J48 -> #VALUE! | F48: ='Puntaje Exp'!F59 -> 0 | G48: ='Puntaje Exp'!I59 -> 0 | H48: ='Puntaje CF'!H91 | I48: ='Puntaje CT'!F91 | K48: =IF(B48-INT(B48)>0,"",IF((E48)>=D48,"ADMISIBLE","NO ADMISIBLE")) -> #VALUE!
C49: ='[1]Cap Financiera y Organizacional'!B46 -> 0 | D49: =+D47 -> 0 | E49: =(F49*((G49+H49+I49)/100))-J49 -> #VALUE! | F49: ='Puntaje Exp'!F60 -> 0 | G49: ='Puntaje Exp'!I60 -> 0 | H49: ='Puntaje CF'!H92 | I49: ='Puntaje CT'!F92 | K49: =IF(B49-INT(B49)>0,"",IF((E49)>=D49,"ADMISIBLE","NO ADMISIBLE")) -> #VALUE!
C50: ='[1]Cap Financiera y Organizacional'!B47 -> 0 | G50: ='Puntaje Exp'!I61 -> 0 | H50: ='Puntaje CF'!H93 | I50: ='Puntaje CT'!F93 | K50: =IF(B50-INT(B50)>0,"",IF((E50)>=D50,"ADMISIBLE","NO ADMISIBLE")) -> ADMISIBLE
B51: ='[1]Cap Financiera y Organizacional'!A48 -> 10 | C51: ='[1]Cap Financiera y Organizacional'!B48 -> 0 | D51: =+[1]PROPONENTES!S27 -> 0 | E51: =(F51*((G51+H51+I51)/100))-J51 -> 0 | K51: =IF((E51)>=D51,"ADMISIBLE","NO ADMISIBLE") -> ADMISIBLE
C52: ='[1]Cap Financiera y Organizacional'!B49 -> 0 | D52: =+D51 -> 0 | E52: =(F52*((G52+H52+I52)/100))-J52 -> #VALUE! | F52: ='Puntaje Exp'!F63 -> 0 | G52: ='Puntaje Exp'!I63 -> 0 | H52: ='Puntaje CF'!H95 | I52: ='Puntaje CT'!F95 | K52: =IF(B52-INT(B52)>0,"",IF((E52)>=D52,"ADMISIBLE","NO ADMISIBLE")) -> #VALUE!
C53: ='[1]Cap Financiera y Organizacional'!B50 -> 0 | D53: =+D51 -> 0 | E53: =(F53*((G53+H53+I53)/100))-J53 -> #VALUE! | F53: ='Puntaje Exp'!F64 -> 0 | G53: ='Puntaje Exp'!I64 -> 0 | H53: ='Puntaje CF'!H96 | I53: ='Puntaje CT'!F96 | K53: =IF(B53-INT(B53)>0,"",IF((E53)>=D53,"ADMISIBLE","NO ADMISIBLE")) -> #VALUE!
C54: ='[1]Cap Financiera y Organizacional'!B51 -> 0 | G54: ='Puntaje Exp'!I65 -> 0 | H54: ='Puntaje CF'!H97 -> 0 | I54: ='Puntaje CT'!F97 | K54: =IF(B54-INT(B54)>0,"",IF((E54)>=D54,"ADMISIBLE","NO ADMISIBLE")) -> ADMISIBLE
E59: Valor umbral Mipyme en USD | F59: 125000
E60: Valor umbral Mipyme en COP | F60: 457297264 | G60: Colombia Compra Eficiente

Sheet Puntaje Exp
C2: INSTITUTO NACIONAL DE VIAS
C3: =+[1]PRESUPUESTOS!B2 -> DIRECCIÓN TERRITORIAL CASANARE
C4: =+[1]PRESUPUESTOS!B3 -> SA-MC-DT-CAS-004-2023
C5: PUNTAJE POR EXPERIENCIA
C7: OFERTA | D7: PROPONENTE | E7: Porcentaje de Participación para este Proceso (A) | F7: VALOR TOTAL DE LOS CONTRATOS EJECUTADOS (B) | G7: PRESUPUESTO OFICIAL ESTIMADO (POE) (C) | H7: PUNTAJE POR EXPERIENCIA
H8: RESULTADO B / (C * A) | I8: Rangos: Mayor a 0 y Menor o Igual a 3 = 60 Puntos Mayor a 3 y Menor o Igual a 6 = 80 Puntos Mayor a 6 y Menor o Igual a 10 = 100 Puntos Mayor a 10 y Mayores = 120 Puntos
A9: Módulo | C9: 1 | D9: =+PROPONENTE!B14 -> JUAN BERNARDO CAÑON PARRA | E9: =+E10+E11 -> 1 | G9: =IF(OR(D9="",E9="",F9=""),"",IF(C9<>"",IF(ISERROR(VLOOKUP($A$10,[1]POA!$A$2:$D$25,2,0)),"",VLOOKUP($A$10,[1]POA!$A$2:$D$25,2,0)),"")) | H9: =IF(OR(D9="",E9="",F9=""),"",IF(C9<>"",F9/(G9*E9),""))
A10: 1 | C10: 1.1 | D10: =+D9 -> JUAN BERNARDO CAÑON PARRA | E10: 1 | F10: 6.0240134e+09 | G10: =+'FORMULARIO No 2A PFM'!O15 -> 100000000 | H10: =IF(OR(D10="",E10="",F10=""),"",IF(C10<>"",F10/(G10*E10),"")) -> 60.240134 | I10: =IF(OR(C10="",D10="",E10=""),"",IF(AND(H10>0,H10<=3),Puntajes!$D$4,IF(AND(H10>3,H10<=6),Puntajes!$D$5,IF(AND(H10>6,H10<=10),Puntajes!$D$6,IF(H10>10,Puntajes!$D$7,0))))) -> 120
C11: 1.2 | G11: =IF(OR(D11="",E11="",F11=""),"",IF(C11<>"",IF(ISERROR(VLOOKUP($A$10,[1]POA!$A$2:$D$25,2,0)),"",VLOOKUP($A$10,[1]POA!$A$2:$D$25,2,0)),"")) | H11: =IF(OR(D11="",E11="",F11=""),"",IF(C11<>"",F11/(G11*E11),"")) | I11: =IF(OR(C11="",D11="",E11=""),"",IF(AND(H11>0,H11<=Experiencia1),[1]Puntajes!$D$4,IF(AND(H11>Experiencia1,H11<=Experiencia2),[1]Puntajes!$D$5,IF(AND(H11>Experiencia2,H11<=Experiencia3),[1]Puntajes!$D$6,IF(H11>Experiencia3,[1]Puntajes!$D$7,0)))))
D12: =IF(ISERROR(VLOOKUP(C12,'[1]Cap Financiera y Organizacional'!$A$12:$X$62743,2,0)),"",VLOOKUP(C12,'[1]Cap Financiera y Organizacional'!$A$12:$X$3603,2,0)) | G12: =IF(OR(D12="",E12="",F12=""),"",IF(C12<>"",IF(ISERROR(VLOOKUP($A$10,[1]POA!$A$2:$D$25,2,0)),"",VLOOKUP($A$10,[1]POA!$A$2:$D$25,2,0)),"")) | H12: =IF(OR(D12="",E12="",F12=""),"",IF(C12<>"",F12/(G12*E12),"")) | I12: =IF(OR(C12="",D12="",E12=""),"",IF(AND(H12>0,H12<=Experiencia1),[1]Puntajes!$D$4,IF(AND(H12>Experiencia1,H12<=Experiencia2),[1]Puntajes!$D$5,IF(AND(H12>Experiencia2,H12<=Experiencia3),[1]Puntajes!$D$6,IF(H12>Experiencia3,[1]Puntajes!$D$7,0)))))
D13: =IF(ISERROR(VLOOKUP(C13,'[1]Cap Financiera y Organizacional'!$A$12:$X$62743,2,0)),"",VLOOKUP(C13,'[1]Cap Financiera y Organizacional'!$A$12:$X$3603,2,0)) | G13: =IF(OR(D13="",E13="",F13=""),"",IF(C13<>"",IF(ISERROR(VLOOKUP($A$10,[1]POA!$A$2:$D$25,2,0)),"",VLOOKUP($A$10,[1]POA!$A$2:$D$25,2,0)),"")) | H13: =IF(OR(D13="",E13="",F13=""),"",IF(C13<>"",F13/(G13*E13),""))
D14: =IF(ISERROR(VLOOKUP(C14,'[1]Cap Financiera y Organizacional'!$A$12:$X$62743,2,0)),"",VLOOKUP(C14,'[1]Cap Financiera y Organizacional'!$A$12:$X$3603,2,0)) | G14: =IF(OR(D14="",E14="",F14=""),"",IF(C14<>"",IF(ISERROR(VLOOKUP($A$10,[1]POA!$A$2:$D$25,2,0)),"",VLOOKUP($A$10,[1]POA!$A$2:$D$25,2,0)),"")) | H14: =IF(OR(D14="",E14="",F14=""),"",IF(C14<>"",F14/(G14*E14),""))
D15: =IF(ISERROR(VLOOKUP(C15,'[1]Cap Financiera y Organizacional'!$A$12:$X$62743,2,0)),"",VLOOKUP(C15,'[1]Cap Financiera y Organizacional'!$A$12:$X$3603,2,0)) | G15: =IF(OR(D15="",E15="",F15=""),"",IF(C15<>"",IF(ISERROR(VLOOKUP($A$10,[1]POA!$A$2:$D$25,2,0)),"",VLOOKUP($A$10,[1]POA!$A$2:$D$25,2,0)),"")) | H15: =IF(OR(D15="",E15="",F15=""),"",IF(C15<>"",F15/(G15*E15),""))
D16: =IF(ISERROR(VLOOKUP(C16,'[1]Cap Financiera y Organizacional'!$A$12:$X$62743,2,0)),"",VLOOKUP(C16,'[1]Cap Financiera y Organizacional'!$A$12:$X$3603,2,0)) | G16: =IF(OR(D16="",E16="",F16=""),"",IF(C16<>"",IF(ISERROR(VLOOKUP($A$10,[1]POA!$A$2:$D$25,2,0)),"",VLOOKUP($A$10,[1]POA!$A$2:$D$25,2,0)),"")) | H16: =IF(OR(D16="",E16="",F16=""),"",IF(C16<>"",F16/(G16*E16),""))
D17: =IF(ISERROR(VLOOKUP(C17,'[1]Cap Financiera y Organizacional'!$A$12:$X$62743,2,0)),"",VLOOKUP(C17,'[1]Cap Financiera y Organizacional'!$A$12:$X$3603,2,0)) | G17: =IF(OR(D17="",E17="",F17=""),"",IF(C17<>"",IF(ISERROR(VLOOKUP($A$10,[1]POA!$A$2:$D$25,2,0)),"",VLOOKUP($A$10,[1]POA!$A$2:$D$25,2,0)),"")) | H17: =IF(OR(D17="",E17="",F17=""),"",IF(C17<>"",F17/(G17*E17),""))
D18: =IF(ISERROR(VLOOKUP(C18,'[1]Cap Financiera y Organizacional'!$A$12:$X$62743,2,0)),"",VLOOKUP(C18,'[1]Cap Financiera y Organizacional'!$A$12:$X$3603,2,0)) | G18: =IF(OR(D18="",E18="",F18=""),"",IF(C18<>"",IF(ISERROR(VLOOKUP($A$10,[1]POA!$A$2:$D$25,2,0)),"",VLOOKUP($A$10,[1]POA!$A$2:$D$25,2,0)),"")) | H18: =IF(OR(D18="",E18="",F18=""),"",IF(C18<>"",F18/(G18*E18),""))
D19: =IF(ISERROR(VLOOKUP(C19,'[1]Cap Financiera y Organizacional'!$A$12:$X$62743,2,0)),"",VLOOKUP(C19,'[1]Cap Financiera y Organizacional'!$A$12:$X$3603,2,0)) | G19: =IF(OR(D19="",E19="",F19=""),"",IF(C19<>"",IF(ISERROR(VLOOKUP($A$10,[1]POA!$A$2:$D$25,2,0)),"",VLOOKUP($A$10,[1]POA!$A$2:$D$25,2,0)),"")) | H19: =IF(OR(D19="",E19="",F19=""),"",IF(C19<>"",F19/(G19*E19),""))
C20: 2 | E20: =SUM(E21:E22) -> 0 | G20: =IF(OR(D20="",E20="",F20=""),"",IF(C20<>"",IF(ISERROR(VLOOKUP($A$10,[1]POA!$A$2:$D$25,2,0)),"",VLOOKUP($A$10,[1]POA!$A$2:$D$25,2,0)),"")) | H20: =IF(OR(D20="",E20="",F20=""),"",IF(C20<>"",F20/(G20*E20),""))
C21: 2.1 | G21: =IF(OR(D21="",E21="",F21=""),"",IF(C21<>"",IF(ISERROR(VLOOKUP($A$10,[1]POA!$A$2:$D$25,2,0)),"",VLOOKUP($A$10,[1]POA!$A$2:$D$25,2,0)),"")) | H21: =IF(OR(D21="",E21="",F21=""),"",IF(C21<>"",F21/(G21*E21),"")) | I21: =IF(OR(C21="",D21="",E21=""),"",IF(AND(H21>0,H21<=Experiencia1),[1]Puntajes!$D$4,IF(AND(H21>Experiencia1,H21<=Experiencia2),[1]Puntajes!$D$5,IF(AND(H21>Experiencia2,H21<=Experiencia3),[1]Puntajes!$D$6,IF(H21>Experiencia3,[1]Puntajes!$D$7,0)))))
D22: =IF(ISERROR(VLOOKUP(C22,'[1]Cap Financiera y Organizacional'!$A$12:$X$62743,2,0)),"",VLOOKUP(C22,'[1]Cap Financiera y Organizacional'!$A$12:$X$3603,2,0)) | G22: =IF(OR(D22="",E22="",F22=""),"",IF(C22<>"",IF(ISERROR(VLOOKUP($A$10,[1]POA!$A$2:$D$25,2,0)),"",VLOOKUP($A$10,[1]POA!$A$2:$D$25,2,0)),"")) | H22: =IF(OR(D22="",E22="",F22=""),"",IF(C22<>"",F22/(G22*E22),"")) | I22: =IF(OR(C22="",D22="",E22=""),"",IF(AND(H22>0,H22<=Experiencia1),[1]Puntajes!$D$4,IF(AND(H22>Experiencia1,H22<=Experiencia2),[1]Puntajes!$D$5,IF(AND(H22>Experiencia2,H22<=Experiencia3),[1]Puntajes!$D$6,IF(H22>Experiencia3,[1]Puntajes!$D$7,0)))))
D23: =IF(ISERROR(VLOOKUP(C23,'[1]Cap Financiera y Organizacional'!$A$12:$X$62743,2,0)),"",VLOOKUP(C23,'[1]Cap Financiera y Organizacional'!$A$12:$X$3603,2,0)) | F23: 0 | G23: =IF(OR(D23="",E23="",F23=""),"",IF(C23<>"",IF(ISERROR(VLOOKUP($A$10,[1]POA!$A$2:$D$25,2,0)),"",VLOOKUP($A$10,[1]POA!$A$2:$D$25,2,0)),"")) | H23: =IF(OR(D23="",E23="",F23=""),"",IF(C23<>"",F23/(G23*E23),"")) | I23: =IF(OR(C23="",D23="",E23=""),"",IF(AND(H23>0,H23<=Experiencia1),[1]Puntajes!$D$4,IF(AND(H23>Experiencia1,H23<=Experiencia2),[1]Puntajes!$D$5,IF(AND(H23>Experiencia2,H23<=Experiencia3),[1]Puntajes!$D$6,IF(H23>Experiencia3,[1]Puntajes!$D$7,0)))))
D24: =IF(ISERROR(VLOOKUP(C24,'[1]Cap Financiera y Organizacional'!$A$12:$X$62743,2,0)),"",VLOOKUP(C24,'[1]Cap Financiera y Organizacional'!$A$12:$X$3603,2,0)) | G24: =IF(OR(D24="",E24="",F24=""),"",IF(C24<>"",IF(ISERROR(VLOOKUP($A$10,[1]POA!$A$2:$D$25,2,0)),"",VLOOKUP($A$10,[1]POA!$A$2:$D$25,2,0)),"")) | H24: =IF(OR(D24="",E24="",F24=""),"",IF(C24<>"",F24/(G24*E24),"")) | I24: =IF(OR(C24="",D24="",E24=""),"",IF(AND(H24>0,H24<=Experiencia1),[1]Puntajes!$D$4,IF(AND(H24>Experiencia1,H24<=Experiencia2),[1]Puntajes!$D$5,IF(AND(H24>Experiencia2,H24<=Experiencia3),[1]Puntajes!$D$6,IF(H24>Experiencia3,[1]Puntajes!$D$7,0)))))
D25: =IF(ISERROR(VLOOKUP(C25,'[1]Cap Financiera y Organizacional'!$A$12:$X$62743,2,0)),"",VLOOKUP(C25,'[1]Cap Financiera y Organizacional'!$A$12:$X$3603,2,0)) | G25: =IF(OR(D25="",E25="",F25=""),"",IF(C25<>"",IF(ISERROR(VLOOKUP($A$10,[1]POA!$A$2:$D$25,2,0)),"",VLOOKUP($A$10,[1]POA!$A$2:$D$25,2,0)),"")) | H25: =IF(OR(D25="",E25="",F25=""),"",IF(C25<>"",F25/(G25*E25),"")) | I25: =IF(OR(C25="",D25="",E25=""),"",IF(AND(H25>0,H25<=Experiencia1),[1]Puntajes!$D$4,IF(AND(H25>Experiencia1,H25<=Experiencia2),[1]Puntajes!$D$5,IF(AND(H25>Experiencia2,H25<=Experiencia3),[1]Puntajes!$D$6,IF(H25>Experiencia3,[1]Puntajes!$D$7,0)))))
D26: =IF(ISERROR(VLOOKUP(C26,'[1]Cap Financiera y Organizacional'!$A$12:$X$62743,2,0)),"",VLOOKUP(C26,'[1]Cap Financiera y Organizacional'!$A$12:$X$3603,2,0)) | G26: =IF(OR(D26="",E26="",F26=""),"",IF(C26<>"",IF(ISERROR(VLOOKUP($A$10,[1]POA!$A$2:$D$25,2,0)),"",VLOOKUP($A$10,[1]POA!$A$2:$D$25,2,0)),"")) | H26: =IF(OR(D26="",E26="",F26=""),"",IF(C26<>"",F26/(G26*E26),"")) | I26: =IF(OR(C26="",D26="",E26=""),"",IF(AND(H26>0,H26<=Experiencia1),[1]Puntajes!$D$4,IF(AND(H26>Experiencia1,H26<=Experiencia2),[1]Puntajes!$D$5,IF(AND(H26>Experiencia2,H26<=Experiencia3),[1]Puntajes!$D$6,IF(H26>Experiencia3,[1]Puntajes!$D$7,0)))))
D27: =IF(ISERROR(VLOOKUP(C27,'[1]Cap Financiera y Organizacional'!$A$12:$X$62743,2,0)),"",VLOOKUP(C27,'[1]Cap Financiera y Organizacional'!$A$12:$X$3603,2,0)) | G27: =IF(OR(D27="",E27="",F27=""),"",IF(C27<>"",IF(ISERROR(VLOOKUP($A$10,[1]POA!$A$2:$D$25,2,0)),"",VLOOKUP($A$10,[1]POA!$A$2:$D$25,2,0)),"")) | H27: =IF(OR(D27="",E27="",F27=""),"",IF(C27<>"",F27/(G27*E27),"")) | I27: =IF(OR(C27="",D27="",E27=""),"",IF(AND(H27>0,H27<=Experiencia1),[1]Puntajes!$D$4,IF(AND(H27>Experiencia1,H27<=Experiencia2),[1]Puntajes!$D$5,IF(AND(H27>Experiencia2,H27<=Experiencia3),[1]Puntajes!$D$6,IF(H27>Experiencia3,[1]Puntajes!$D$7,0)))))
D28: =IF(ISERROR(VLOOKUP(C28,'[1]Cap Financiera y Organizacional'!$A$12:$X$62743,2,0)),"",VLOOKUP(C28,'[1]Cap Financiera y Organizacional'!$A$12:$X$3603,2,0)) | G28: =IF(OR(D28="",E28="",F28=""),"",IF(C28<>"",IF(ISERROR(VLOOKUP($A$10,[1]POA!$A$2:$D$25,2,0)),"",VLOOKUP($A$10,[1]POA!$A$2:$D$25,2,0)),"")) | H28: =IF(OR(D28="",E28="",F28=""),"",IF(C28<>"",F28/(G28*E28),"")) | I28: =IF(OR(C28="",D28="",E28=""),"",IF(AND(H28>0,H28<=Experiencia1),[1]Puntajes!$D$4,IF(AND(H28>Experiencia1,H28<=Experiencia2),[1]Puntajes!$D$5,IF(AND(H28>Experiencia2,H28<=Experiencia3),[1]Puntajes!$D$6,IF(H28>Experiencia3,[1]Puntajes!$D$7,0)))))
D29: =IF(ISERROR(VLOOKUP(C29,'[1]Cap Financiera y Organizacional'!$A$12:$X$62743,2,0)),"",VLOOKUP(C29,'[1]Cap Financiera y Organizacional'!$A$12:$X$3603,2,0)) | G29: =IF(OR(D29="",E29="",F29=""),"",IF(C29<>"",IF(ISERROR(VLOOKUP($A$10,[1]POA!$A$2:$D$25,2,0)),"",VLOOKUP($A$10,[1]POA!$A$2:$D$25,2,0)),"")) | H29: =IF(OR(D29="",E29="",F29=""),"",IF(C29<>"",F29/(G29*E29),"")) | I29: =IF(OR(C29="",D29="",E29=""),"",IF(AND(H29>0,H29<=Experiencia1),[1]Puntajes!$D$4,IF(AND(H29>Experiencia1,H29<=Experiencia2),[1]Puntajes!$D$5,IF(AND(H29>Experiencia2,H29<=Experiencia3),[1]Puntajes!$D$6,IF(H29>Experiencia3,[1]Puntajes!$D$7,0)))))
D30: =IF(ISERROR(VLOOKUP(C30,'[1]Cap Financiera y Organizacional'!$A$12:$X$62743,2,0)),"",VLOOKUP(C30,'[1]Cap Financiera y Organizacional'!$A$12:$X$3603,2,0)) | G30: =IF(OR(D30="",E30="",F30=""),"",IF(C30<>"",IF(ISERROR(VLOOKUP($A$10,[1]POA!$A$2:$D$25,2,0)),"",VLOOKUP($A$10,[1]POA!$A$2:$D$25,2,0)),"")) | H30: =IF(OR(D30="",E30="",F30=""),"",IF(C30<>"",F30/(G30*E30),"")) | I30: =IF(OR(C30="",D30="",E30=""),"",IF(AND(H30>0,H30<=Experiencia1),[1]Puntajes!$D$4,IF(AND(H30>Experiencia1,H30<=Experiencia2),[1]Puntajes!$D$5,IF(AND(H30>Experiencia2,H30<=Experiencia3),[1]Puntajes!$D$6,IF(H30>Experiencia3,[1]Puntajes!$D$7,0)))))
C31: 3 | E31: =+E32+E33+E34 -> 0 | G31: =IF(OR(D31="",E31="",F31=""),"",IF(C32="",IF(C31<>"",IF(ISERROR(VLOOKUP($A$10,[3]POA!$A$2:$D$25,2,0)),"",VLOOKUP($A$10,[3]POA!$A$2:$D$25,2,0)),""),"")) | H31: =IF(OR(D31="",E31="",F31=""),"",IF(C32="",IF(C31<>"",F31/G31,""),"")) | I31: =IF(C32="",IF(F31="","",IF(AND(H31>0,H31<=Experiencia1),[3]Puntajes!$D$4,IF(AND(H31>Experiencia1,H31<=Experiencia2),[3]Puntajes!$D$5,IF(AND(H31>Experiencia2,H31<=Experiencia3),[3]Puntajes!$D$6,IF(H31>Experiencia3,[3]Puntajes!$D$7,0))))),"")
C32: 3.1 | G32: =IF(OR(D32="",E32="",F32=""),"",IF(C32<>"",IF(ISERROR(VLOOKUP($A$10,[1]POA!$A$2:$D$25,2,0)),"",VLOOKUP($A$10,[1]POA!$A$2:$D$25,2,0)),"")) | H32: =IF(OR(D32="",E32="",F32=""),"",IF(C32<>"",F32/(G32*E32),"")) | I32: =IF(OR(C32="",D32="",E32=""),"",IF(AND(H32>0,H32<=Experiencia1),[1]Puntajes!$D$4,IF(AND(H32>Experiencia1,H32<=Experiencia2),[1]Puntajes!$D$5,IF(AND(H32>Experiencia2,H32<=Experiencia3),[1]Puntajes!$D$6,IF(H32>Experiencia3,[1]Puntajes!$D$7,0)))))
C33: 3.2 | G33: =IF(OR(D33="",E33="",F33=""),"",IF(C33<>"",IF(ISERROR(VLOOKUP($A$10,[1]POA!$A$2:$D$25,2,0)),"",VLOOKUP($A$10,[1]POA!$A$2:$D$25,2,0)),"")) | H33: =IF(OR(D33="",E33="",F33=""),"",IF(C33<>"",F33/(G33*E33),"")) | I33: =IF(OR(C33="",D33="",E33=""),"",IF(AND(H33>0,H33<=Experiencia1),[1]Puntajes!$D$4,IF(AND(H33>Experiencia1,H33<=Experiencia2),[1]Puntajes!$D$5,IF(AND(H33>Experiencia2,H33<=Experiencia3),[1]Puntajes!$D$6,IF(H33>Experiencia3,[1]Puntajes!$D$7,0)))))
D34: =IF(ISERROR(VLOOKUP(C34,'[1]Cap Financiera y Organizacional'!$A$12:$X$62743,2,0)),"",VLOOKUP(C34,'[1]Cap Financiera y Organizacional'!$A$12:$X$3603,2,0)) | F34: 0 | G34: =IF(OR(D34="",E34="",F34=""),"",IF(C34<>"",IF(ISERROR(VLOOKUP($A$10,[1]POA!$A$2:$D$25,2,0)),"",VLOOKUP($A$10,[1]POA!$A$2:$D$25,2,0)),"")) | H34: =IF(OR(D34="",E34="",F34=""),"",IF(C34<>"",F34/(G34*E34),"")) | I34: =IF(OR(C34="",D34="",E34=""),"",IF(AND(H34>0,H34<=Experiencia1),[1]Puntajes!$D$4,IF(AND(H34>Experiencia1,H34<=Experiencia2),[1]Puntajes!$D$5,IF(AND(H34>Experiencia2,H34<=Experiencia3),[1]Puntajes!$D$6,IF(H34>Experiencia3,[1]Puntajes!$D$7,0)))))
D35: =IF(ISERROR(VLOOKUP(C35,'[1]Cap Financiera y Organizacional'!$A$12:$X$62743,2,0)),"",VLOOKUP(C35,'[1]Cap Financiera y Organizacional'!$A$12:$X$3603,2,0)) | G35: =IF(OR(D35="",E35="",F35=""),"",IF(C35<>"",IF(ISERROR(VLOOKUP($A$10,[1]POA!$A$2:$D$25,2,0)),"",VLOOKUP($A$10,[1]POA!$A$2:$D$25,2,0)),"")) | H35: =IF(OR(D35="",E35="",F35=""),"",IF(C35<>"",F35/(G35*E35),"")) | I35: =IF(OR(C35="",D35="",E35=""),"",IF(AND(H35>0,H35<=Experiencia1),[1]Puntajes!$D$4,IF(AND(H35>Experiencia1,H35<=Experiencia2),[1]Puntajes!$D$5,IF(AND(H35>Experiencia2,H35<=Experiencia3),[1]Puntajes!$D$6,IF(H35>Experiencia3,[1]Puntajes!$D$7,0)))))
D36: =IF(ISERROR(VLOOKUP(C36,'[1]Cap Financiera y Organizacional'!$A$12:$X$62743,2,0)),"",VLOOKUP(C36,'[1]Cap Financiera y Organizacional'!$A$12:$X$3603,2,0)) | G36: =IF(OR(D36="",E36="",F36=""),"",IF(C36<>"",IF(ISERROR(VLOOKUP($A$10,[1]POA!$A$2:$D$25,2,0)),"",VLOOKUP($A$10,[1]POA!$A$2:$D$25,2,0)),"")) | H36: =IF(OR(D36="",E36="",F36=""),"",IF(C36<>"",F36/(G36*E36),"")) | I36: =IF(OR(C36="",D36="",E36=""),"",IF(AND(H36>0,H36<=Experiencia1),[1]Puntajes!$D$4,IF(AND(H36>Experiencia1,H36<=Experiencia2),[1]Puntajes!$D$5,IF(AND(H36>Experiencia2,H36<=Experiencia3),[1]Puntajes!$D$6,IF(H36>Experiencia3,[1]Puntajes!$D$7,0)))))
D37: =IF(ISERROR(VLOOKUP(C37,'[1]Cap Financiera y Organizacional'!$A$12:$X$62743,2,0)),"",VLOOKUP(C37,'[1]Cap Financiera y Organizacional'!$A$12:$X$3603,2,0)) | G37: =IF(OR(D37="",E37="",F37=""),"",IF(C37<>"",IF(ISERROR(VLOOKUP($A$10,[1]POA!$A$2:$D$25,2,0)),"",VLOOKUP($A$10,[1]POA!$A$2:$D$25,2,0)),"")) | H37: =IF(OR(D37="",E37="",F37=""),"",IF(C37<>"",F37/(G37*E37),"")) | I37: =IF(OR(C37="",D37="",E37=""),"",IF(AND(H37>0,H37<=Experiencia1),[1]Puntajes!$D$4,IF(AND(H37>Experiencia1,H37<=Experiencia2),[1]Puntajes!$D$5,IF(AND(H37>Experiencia2,H37<=Experiencia3),[1]Puntajes!$D$6,IF(H37>Experiencia3,[1]Puntajes!$D$7,0)))))
D38: =IF(ISERROR(VLOOKUP(C38,'[1]Cap Financiera y Organizacional'!$A$12:$X$62743,2,0)),"",VLOOKUP(C38,'[1]Cap Financiera y Organizacional'!$A$12:$X$3603,2,0)) | G38: =IF(OR(D38="",E38="",F38=""),"",IF(C38<>"",IF(ISERROR(VLOOKUP($A$10,[1]POA!$A$2:$D$25,2,0)),"",VLOOKUP($A$10,[1]POA!$A$2:$D$25,2,0)),"")) | H38: =IF(OR(D38="",E38="",F38=""),"",IF(C38<>"",F38/(G38*E38),"")) | I38: =IF(OR(C38="",D38="",E38=""),"",IF(AND(H38>0,H38<=Experiencia1),[1]Puntajes!$D$4,IF(AND(H38>Experiencia1,H38<=Experiencia2),[1]Puntajes!$D$5,IF(AND(H38>Experiencia2,H38<=Experiencia3),[1]Puntajes!$D$6,IF(H38>Experiencia3,[1]Puntajes!$D$7,0)))))
D39: =IF(ISERROR(VLOOKUP(C39,'[1]Cap Financiera y Organizacional'!$A$12:$X$62743,2,0)),"",VLOOKUP(C39,'[1]Cap Financiera y Organizacional'!$A$12:$X$3603,2,0)) | G39: =IF(OR(D39="",E39="",F39=""),"",IF(C39<>"",IF(ISERROR(VLOOKUP($A$10,[1]POA!$A$2:$D$25,2,0)),"",VLOOKUP($A$10,[1]POA!$A$2:$D$25,2,0)),"")) | H39: =IF(OR(D39="",E39="",F39=""),"",IF(C39<>"",F39/(G39*E39),"")) | I39: =IF(OR(C39="",D39="",E39=""),"",IF(AND(H39>0,H39<=Experiencia1),[1]Puntajes!$D$4,IF(AND(H39>Experiencia1,H39<=Experiencia2),[1]Puntajes!$D$5,IF(AND(H39>Experiencia2,H39<=Experiencia3),[1]Puntajes!$D$6,IF(H39>Experiencia3,[1]Puntajes!$D$7,0)))))
D40: =IF(ISERROR(VLOOKUP(C40,'[1]Cap Financiera y Organizacional'!$A$12:$X$62743,2,0)),"",VLOOKUP(C40,'[1]Cap Financiera y Organizacional'!$A$12:$X$3603,2,0)) | G40: =IF(OR(D40="",E40="",F40=""),"",IF(C40<>"",IF(ISERROR(VLOOKUP($A$10,[1]POA!$A$2:$D$25,2,0)),"",VLOOKUP($A$10,[1]POA!$A$2:$D$25,2,0)),"")) | H40: =IF(OR(D40="",E40="",F40=""),"",IF(C40<>"",F40/(G40*E40),"")) | I40: =IF(OR(C40="",D40="",E40=""),"",IF(AND(H40>0,H40<=Experiencia1),[1]Puntajes!$D$4,IF(AND(H40>Experiencia1,H40<=Experiencia2),[1]Puntajes!$D$5,IF(AND(H40>Experiencia2,H40<=Experiencia3),[1]Puntajes!$D$6,IF(H40>Experiencia3,[1]Puntajes!$D$7,0)))))
D41: =IF(ISERROR(VLOOKUP(C41,'[1]Cap Financiera y Organizacional'!$A$12:$X$62743,2,0)),"",VLOOKUP(C41,'[1]Cap Financiera y Organizacional'!$A$12:$X$3603,2,0)) | G41: =IF(OR(D41="",E41="",F41=""),"",IF(C41<>"",IF(ISERROR(VLOOKUP($A$10,[1]POA!$A$2:$D$25,2,0)),"",VLOOKUP($A$10,[1]POA!$A$2:$D$25,2,0)),"")) | H41: =IF(OR(D41="",E41="",F41=""),"",IF(C41<>"",F41/(G41*E41),"")) | I41: =IF(OR(C41="",D41="",E41=""),"",IF(AND(H41>0,H41<=Experiencia1),[1]Puntajes!$D$4,IF(AND(H41>Experiencia1,H41<=Experiencia2),[1]Puntajes!$D$5,IF(AND(H41>Experiencia2,H41<=Experiencia3),[1]Puntajes!$D$6,IF(H41>Experiencia3,[1]Puntajes!$D$7,0)))))
C42: 4 | E42: =+E43+E44 -> 0 | G42: =IF(OR(D42="",E42="",F42=""),"",IF(C42<>"",IF(ISERROR(VLOOKUP($A$10,[1]POA!$A$2:$D$25,2,0)),"",VLOOKUP($A$10,[1]POA!$A$2:$D$25,2,0)),"")) | H42: =IF(OR(D42="",E42="",F42=""),"",IF(C43="",IF(C42<>"",F42/G42,""),"")) | I42: =IF(C43="",IF(F42="","",IF(AND(H42>0,H42<=Experiencia1),[3]Puntajes!$D$4,IF(AND(H42>Experiencia1,H42<=Experiencia2),[3]Puntajes!$D$5,IF(AND(H42>Experiencia2,H42<=Experiencia3),[3]Puntajes!$D$6,IF(H42>Experiencia3,[3]Puntajes!$D$7,0))))),"")
...

Sheet Puntaje CF
C2: ='Puntaje Exp'!C2 -> INSTITUTO NACIONAL DE VIAS
C3: ='Puntaje Exp'!C3 -> DIRECCIÓN TERRITORIAL CASANARE
C4: ='Puntaje Exp'!C4 -> SA-MC-DT-CAS-004-2023
C5: PUNTAJE POR CAPACIDAD FINANCIERA
C7: OFERTA | D7: PROPONENTE | E7: ACTIVOS CORRIENTES (A) | F7: PASIVOS CORRIENTES (B) | G7: ÍNDICE DE LIQUIDEZ (A) / (B) = (C) | H7: PUNTAJE POR CAPACIDAD FINANCIERA
H8: Rangos: Mayor a 0 y Menor o Igual a 0,5 = 20 Puntos Mayor a 0,5 y Menor o Igual a 0,75 = 25 Puntos Mayor a 0,75 y Menor o Igual a 1,00 = 30 Puntos Mayor a 1,00 y Menor o Igual a 1,5 = 35 Puntos Mayor a 1,5 y Mayores = 40 Puntos
C9: 1 | D9: =+PROPONENTE!B14 -> JUAN BERNARDO CAÑON PARRA
