Workbook

Sheet PUNTAJE OFERTA ECONOMICA
C1: ENTIDAD DE GESTION ADMINISTRATIVA Y TECNICA - EGAT
C2: PONDERACIÓN OFERTA ECONOMICA
C3: PROCESO | D3: CA-005-2023
C4: OBJETO | D4: ADQUISICIÓN DE EQUIPOS BIOMÉDICOS, MOBILIARIO Y DEMÁS ELEMENTOS NECESARIOS PARA LA DOTACIÓN DE LOS CAPS DE LA SUBRED INTEGRADA DE SERVICIOS DE SALUD SUR OCCIDENTE E.S.E DECLARADOS FALLIDOS DE LOS PROCESOS ISI 011 – ISI 014 Y CD 004 DE 2022
A5: Fecha: | C5: Bogota D.C., | I5: =TODAY() -> 45125
A6: LOTE | B6: DESCRIPCION | C6: VALOR ESTIMADO LOTE | D6: 1. C I COLOMBIAN MED S.A.S. | F6: 2. ULTRA SCHALL DE COLOMBIA S.A.S. | H6: 3. ASISTENCIA TÉCNICA DENTAL | J6: 4. HOSPICLINIC DE COLOMBIA S.A.S. | L6: 5. HOSPIOFFICE DOTACIONES HOSPITALARIAS Y DE OFICINA S A S - HOSPIOFFICE S.A.S | N6: 6. MEMCO S.A.S.
D7: VALOR TOTAL OFERTADO INCLUIDO IVA | E7: PUNTAJE | F7: VALOR TOTAL OFERTADO INCLUIDO IVA | G7: PUNTAJE | H7: VALOR TOTAL OFERTADO INCLUIDO IVA | I7: PUNTAJE | J7: VALOR TOTAL OFERTADO INCLUIDO IVA | K7: PUNTAJE | L7: VALOR TOTAL OFERTADO INCLUIDO IVA | M7: PUNTAJE | N7: VALOR TOTAL OFERTADO INCLUIDO IVA | O7: PUNTAJE | P7: MENOR VALOR OFERTADO
A8: 3 | B8: BAÑO SEROLOGICO | C8: 10896850 | E8: =+((P8*50)/D8) -> #DIV/0! | F8: =+'RESUMEN EVALUCION FINANC-ECONOM'!D5 -> 7980000 | G8: =+((P8*50)/F8) -> 50 | I8: =+((P8*50)/H8) -> #DIV/0! | K8: =+((P8*50)/J8) -> #DIV/0! | M8: =+((P8*50)/L8) -> #DIV/0! | N8: =+'RESUMEN EVALUCION FINANC-ECONOM'!D6 -> 10115000 | O8: =+((P8*50)/N8) -> 39.446367 | P8: =+MIN(D8,F8,H8,J8,L8,N8) -> 7980000
A9: 5 | B9: CENTRIFUGA | C9: 26066576 | E9: =+((P9*50)/D9) -> #DIV/0! | F9: =+'RESUMEN EVALUCION FINANC-ECONOM'!D12 -> 23830000 | G9: =+((P9*50)/F9) -> 50 | I9: =+((P9*50)/H9) -> #DIV/0! | K9: =+((P9*50)/J9) -> #DIV/0! | M9: =+((P9*50)/L9) -> #DIV/0! | N9: =+'RESUMEN EVALUCION FINANC-ECONOM'!D13 -> 24990000 | O9: =+((P9*50)/N9) -> 47.679072 | P9: =+MIN(D9,F9,H9,J9,L9,N9) -> 23830000
A10: 6 | B10: DOPPLER FETAL | C10: 3097262 | D10: =+'RESUMEN EVALUCION FINANC-ECONOM'!D19 -> 1761200 | E10: =+((P10*50)/D10) -> 50 | G10: =+((P10*50)/F10) -> #DIV/0! | I10: =+((P10*50)/H10) -> #DIV/0! | J10: =+'RESUMEN EVALUCION FINANC-ECONOM'!D20 -> 2277470 | K10: =+((P10*50)/J10) -> 38.665712 | L10: =+'RESUMEN EVALUCION FINANC-ECONOM'!D21 -> 2023000 | M10: =+((P10*50)/L10) -> 43.529412 | N10: =+'RESUMEN EVALUCION FINANC-ECONOM'!D22 -> 2380000 | O10: =+((P10*50)/N10) -> 37 | P10: =+MIN(D10,F10,H10,J10,L10,N10) -> 1761200
A11: 7 | B11: ESCALERILLA DEDOS | C11: 662735 | E11: =+((P11*50)/D11) -> #DIV/0! | G11: =+((P11*50)/F11) -> #DIV/0! | I11: =+((P11*50)/H11) -> #DIV/0! | K11: =+((P11*50)/J11) -> #DIV/0! | L11: =+'RESUMEN EVALUCION FINANC-ECONOM'!D28 -> 490280 | M11: =+((P11*50)/L11) -> 50 | O11: =+((P11*50)/N11) -> #DIV/0! | P11: =+MIN(D11,F11,H11,J11,L11,N11) -> 490280
A12: 10 | B12: LAMPARA DE FOTOCURADO | C12: 11935895 | D12: =+'RESUMEN EVALUCION FINANC-ECONOM'!D34 -> 4105500 | E12: =+((P12*50)/D12) -> 50 | G12: =+((P12*50)/F12) -> #DIV/0! | H12: =+'RESUMEN EVALUCION FINANC-ECONOM'!D35 -> 9703885 | I12: =+((P12*50)/H12) -> 21.153899 | J12: =+'RESUMEN EVALUCION FINANC-ECONOM'!D36 -> 8461555 | K12: =+((P12*50)/J12) -> 24.259725 | L12: =+'RESUMEN EVALUCION FINANC-ECONOM'!D37 -> 9639000 | M12: =+((P12*50)/L12) -> 21.296296 | N12: =+'RESUMEN EVALUCION FINANC-ECONOM'!D38 -> 11305000 | O12: =+((P12*50)/N12) -> 18.157895 | P12: =+MIN(D12,F12,H12,J12,L12,N12) -> 4105500
A13: 11 | B13: LAVADORA DE INSTRUMENTAL | C13: 27452604 | E13: =+((P13*50)/D13) -> #DIV/0! | G13: =+((P13*50)/F13) -> #DIV/0! | I13: =+((P13*50)/H13) -> #DIV/0! | K13: =+((P13*50)/J13) -> #DIV/0! | M13: =+((P13*50)/L13) -> #DIV/0! | N13: =+'RESUMEN EVALUCION FINANC-ECONOM'!D52 -> 57120000 | O13: =+((P13*50)/N13) -> 50 | P13: =+MIN(D13,F13,H13,J13,L13,N13) -> 57120000
A14: 13 | B14: NEVERA DE VACUNACION | C14: 77908206 | D14: =+'RESUMEN EVALUCION FINANC-ECONOM'!D50 -> 55930000 | E14: =+((P14*50)/D14) -> 48.399785 | F14: =+'RESUMEN EVALUCION FINANC-ECONOM'!D51 -> 54140000 | G14: =+((P14*50)/F14) -> 50 | I14: =+((P14*50)/H14) -> #DIV/0! | K14: =+((P14*50)/J14) -> #DIV/0! | M14: =+((P14*50)/L14) -> #DIV/0! | N14: =+'RESUMEN EVALUCION FINANC-ECONOM'!D52 -> 57120000 | O14: =+((P14*50)/N14) -> 47.391457 | P14: =+MIN(D14,F14,H14,J14,L14,N14) -> 54140000
A15: 14 | B15: REFRIGERADOR VERTICAL - HEMODERIVADOS | C15: 31030203 | D15: =+'RESUMEN EVALUCION FINANC-ECONOM'!D58 -> 15351000 | E15: =+((P15*50)/D15) -> 50 | F15: =+'RESUMEN EVALUCION FINANC-ECONOM'!D59 -> 24699999 | G15: =+((P15*50)/F15) -> 31.0749 | I15: =+((P15*50)/H15) -> #DIV/0! | K15: =+((P15*50)/J15) -> #DIV/0! | M15: =+((P15*50)/L15) -> #DIV/0! | N15: =+'RESUMEN EVALUCION FINANC-ECONOM'!D60 -> 28560000 | O15: =+((P15*50)/N15) -> 26.875 | P15: =+MIN(D15,F15,H15,J15,L15,N15) -> 15351000
A16: 20 | B16: HORNO MICROONDAS | C16: 11998434 | E16: =+((P16*50)/D16) -> #DIV/0! | G16: =+((P16*50)/F16) -> #DIV/0! | I16: =+((P16*50)/H16) -> #DIV/0! | K16: =+((P16*50)/J16) -> #DIV/0! | M16: =+((P16*50)/L16) -> #DIV/0! | N16: =+'RESUMEN EVALUCION FINANC-ECONOM'!D66 -> 8568000 | O16: =+((P16*50)/N16) -> 50 | P16: =+MIN(D16,F16,H16,J16,L16,N16) -> 8568000
A17: 22 | B17: ESTIBAS | C17: 3652584 | E17: =+((P17*50)/D17) -> #DIV/0! | G17: =+((P17*50)/F17) -> #DIV/0! | I17: =+((P17*50)/H17) -> #DIV/0! | K17: =+((P17*50)/J17) -> #DIV/0! | L17: =+'RESUMEN EVALUCION FINANC-ECONOM'!D72 -> 3498600 | M17: =+((P17*50)/L17) -> 50 | O17: =+((P17*50)/N17) -> #DIV/0! | P17: =+MIN(D17,F17,H17,J17,L17,N17) -> 3498600
A19: Nota: | B19: Es importante precisar que en el CONSOLIDADO DEL PUNTAJE A OTORGAR se establecera las ofertas hábiles, es decir aquellas que cumplan la totalidad de los requisitos de orden jurídico, técnico, financiero y organizacional.
A22: Elaborado por: | B22: DIDSY YOANA MAHECHA PRIETO
B23: Profesiona Inteligencia de Mercados
B24: Contratista EGAT

Sheet RESUMEN EVALUCION FINANC-ECONOM
B2: LOTE: | C2: 3
B4: PROPONENTE | C4: VALOR TOTAL PRESUPUESTO LOTE | D4: VALOR TOTAL OFERTADO | E4: % DESCUENTO | F4: VERIFICACION FINANCIERA | G4: VERIFICACION OFERTA ECONÓMICA | H4: OBSERVACIONES EVALUACION PRELIMINAR | I4: ACTUALIZACION VERIFICACION | J4: RESULTADO EVALUACIÓN ECONOMICA Y FINANCIERA
B5: ULTRA SCHALL DE COLOMBIA S A S | C5: =+'EVAL_OFERTA ECONOMICA_Lote 3'!F8*'EVAL_OFERTA ECONOMICA_Lote 3'!E8 -> 10896850 | D5: =+'EVAL_OFERTA ECONOMICA_Lote 3'!H8*'EVAL_OFERTA ECONOMICA_Lote 3'!E8 -> 7980000 | E5: =(C5-D5)/C5 -> 0.26767827 | F5: CUMPLE | G5: CUMPLE | H5: Se requiere al proponente, para que justifique el valor ofertado, teniendo en cuenta lo establecido por Colombia Compra en la Guia Para el Manejo de Ofertas con Precios Presuntamente Artificialmente Bajos, incluyendo la estructura de costos correspondiente. | I5: Este requerimiento es subsanado por el oferente en el termino de traslado | J5: HABILITADO
B6: MEMCO SAS | C6: =+'EVAL_OFERTA ECONOMICA_Lote 3'!F8*'EVAL_OFERTA ECONOMICA_Lote 3'!E8 -> 10896850 | D6: =+'EVAL_OFERTA ECONOMICA_Lote 3'!L8*'EVAL_OFERTA ECONOMICA_Lote 3'!E8 -> 10115000 | E6: =(C6-D6)/C6 -> 0.071750093 | F6: CUMPLE | G6: CUMPLE | H6: N/A | I6: Se realiza verificacion oferta economica del excel FORMATO DE OFERTA ECONOMICA. | J6: HABILITADO
B9: LOTE: | C9: 5
B11: PROPONENTE | C11: VALOR TOTAL PRESUPUESTO LOTE | D11: VALOR TOTAL OFERTADO | E11: % DESCUENTO | F11: VERIFICACION FINANCIERA | G11: VERIFICACION OFERTA ECONÓMICA | H11: OBSERVACIONES EVALUACION PRELIMINAR | I11: ACTUALIZACION VERIFICACION | J11: RESULTADO EVALUACIÓN ECONOMICA Y FINANCIERA
B12: ULTRA SCHALL DE COLOMBIA S A S | C12: =+'EVAL_OFERTA ECONOMICA_Lote 5'!F8*'EVAL_OFERTA ECONOMICA_Lote 5'!E8 -> 26066576 | D12: =+'EVAL_OFERTA ECONOMICA_Lote 5'!H8*'EVAL_OFERTA ECONOMICA_Lote 5'!E8 -> 23830000 | E12: =(C12-D12)/C12 -> 0.085802447 | F12: CUMPLE | G12: CUMPLE | H12: N/A | I12: N/A | J12: HABILITADO
B13: MEMCO SAS | C13: =+'EVAL_OFERTA ECONOMICA_Lote 5'!F8*'EVAL_OFERTA ECONOMICA_Lote 5'!E8 -> 26066576 | D13: =+'EVAL_OFERTA ECONOMICA_Lote 5'!L8*'EVAL_OFERTA ECONOMICA_Lote 5'!E8 -> 24990000 | E13: =(C13-D13)/C13 -> 0.041301013 | F13: CUMPLE | G13: CUMPLE | H13: N/A | I13: Se realiza verificacion oferta economica del excel FORMATO DE OFERTA ECONOMICA. | J13: HABILITADO
B16: LOTE: | C16: 6
B18: PROPONENTE | C18: VALOR TOTAL PRESUPUESTO LOTE | D18: VALOR TOTAL OFERTADO | E18: % DESCUENTO | F18: VERIFICACION FINANCIERA | G18: VERIFICACION OFERTA ECONÓMICA | H18: OBSERVACIONES EVALUACION PRELIMINAR | I18: ACTUALIZACION VERIFICACION | J18: RESULTADO EVALUACIÓN ECONOMICA Y FINANCIERA
B19: C I COLOMBIAN MED S.A.S | C19: =+'EVAL_OFERTA ECONOMICA_Lote 6'!F8*'EVAL_OFERTA ECONOMICA_Lote 6'!E8 -> 3097262 | D19: 1761200 | E19: =(C19-D19)/C19 -> 0.43136874 | F19: CUMPLE | G19: CUMPLE | H19: Se requiere al proponente, para que justifique el valor ofertado, teniendo en cuenta lo establecido por Colombia Compra en la Guia Para el Manejo de Ofertas con Precios Presuntamente Artificialmente Bajos, incluyendo la estructura de costos correspondiente. | I19: Este requerimiento es subsanado por el oferente en el termino de traslado | J19: HABILITADO
B20: HOSPICLINIC DE COLOMBIA SAS | C20: =+'EVAL_OFERTA ECONOMICA_Lote 6'!F8*'EVAL_OFERTA ECONOMICA_Lote 6'!E8 -> 3097262 | D20: 2277470 | E20: =(C20-D20)/C20 -> 0.26468281 | F20: CUMPLE | G20: CUMPLE | H20: Se requiere al proponente, para que justifique el valor ofertado, teniendo en cuenta lo establecido por Colombia Compra en la Guia Para el Manejo de Ofertas con Precios Presuntamente Artificialmente Bajos, incluyendo la estructura de costos correspondiente. | I20: Este requerimiento es subsanado por el oferente en el termino de traslado | J20: HABILITADO
B21: HOSPIOFFICE DOTACIONES HOSPITALARIAS Y DE OFICINA S A S - HOSPIOFFICE S.A.S | C21: =+'EVAL_OFERTA ECONOMICA_Lote 6'!F8*'EVAL_OFERTA ECONOMICA_Lote 6'!E8 -> 3097262 | D21: 2023000 | E21: =(C21-D21)/C21 -> 0.34684247 | F21: CUMPLE | G21: CUMPLE | H21: Se requiere al proponente, para que justifique el valor ofertado, teniendo en cuenta lo establecido por Colombia Compra en la Guia Para el Manejo de Ofertas con Precios Presuntamente Artificialmente Bajos, incluyendo la estructura de costos correspondiente. | I21: Este requerimiento es subsanado por el oferente en el termino de traslado | J21: HABILITADO
B22: MEMCO SAS | C22: =+'EVAL_OFERTA ECONOMICA_Lote 6'!F8*'EVAL_OFERTA ECONOMICA_Lote 6'!E8 -> 3097262 | D22: 2380000 | E22: =(C22-D22)/C22 -> 0.23157938 | F22: CUMPLE | G22: CUMPLE | H22: Se requiere al proponente, para que justifique el valor ofertado, teniendo en cuenta lo establecido por Colombia Compra en la Guia Para el Manejo de Ofertas con Precios Presuntamente Artificialmente Bajos, incluyendo la estructura de costos correspondiente. | I22: Este requerimiento es subsanado por el oferente en el termino de traslado. Se realiza verificacion oferta economica del excel FORMATO DE OFERTA ECONOMICA. | J22: HABILITADO
B25: LOTE: | C25: 7
B27: PROPONENTE | C27: VALOR TOTAL PRESUPUESTO LOTE | D27: VALOR TOTAL OFERTADO | E27: % DESCUENTO | F27: VERIFICACION FINANCIERA | G27: VERIFICACION OFERTA ECONÓMICA | H27: OBSERVACIONES EVALUACION PRELIMINAR | I27: ACTUALIZACION VERIFICACION | J27: RESULTADO EVALUACIÓN ECONOMICA Y FINANCIERA
B28: HOSPIOFFICE DOTACIONES HOSPITALARIAS Y DE OFICINA S A S - HOSPIOFFICE S.A.S | C28: =+'EVAL_OFERTA ECONOMICA_Lote 7'!F8*'EVAL_OFERTA ECONOMICA_Lote 7'!E8 -> 662735 | D28: =+'EVAL_OFERTA ECONOMICA_Lote 7'!K8*'EVAL_OFERTA ECONOMICA_Lote 7'!E8 -> 490280 | E28: =(C28-D28)/C28 -> 0.26021713 | F28: CUMPLE | G28: CUMPLE | H28: Se requiere al proponente, para que justifique el valor ofertado, teniendo en cuenta lo establecido por Colombia Compra en la Guia Para el Manejo de Ofertas con Precios Presuntamente Artificialmente Bajos, incluyendo la estructura de costos correspondiente. | I28: Este requerimiento es subsanado por el oferente en el termino de traslado | J28: HABILITADO
B31: LOTE: | C31: 10
B33: PROPONENTE | C33: VALOR TOTAL PRESUPUESTO LOTE | D33: VALOR TOTAL OFERTADO | E33: % DESCUENTO | F33: VERIFICACION FINANCIERA | G33: VERIFICACION OFERTA ECONÓMICA | H33: OBSERVACIONES EVALUACION PRELIMINAR | I33: ACTUALIZACION VERIFICACION | J33: RESULTADO EVALUACIÓN ECONOMICA Y FINANCIERA
B34: C I COLOMBIAN MED S.A.S | C34: =+'EVAL_OFERTA ECONOMICA_Lote 10'!F8*'EVAL_OFERTA ECONOMICA_Lote 10'!E8 -> 11935895 | D34: =+'EVAL_OFERTA ECONOMICA_Lote 10'!G8*'EVAL_OFERTA ECONOMICA_Lote 10'!E8 -> 4105500 | E34: =(C34-D34)/C34 -> 0.65603752 | F34: CUMPLE | G34: CUMPLE | H34: Se requiere al proponente, para que justifique el valor ofertado, teniendo en cuenta lo establecido por Colombia Compra en la Guia Para el Manejo de Ofertas con Precios Presuntamente Artificialmente Bajos, incluyendo la estructura de costos correspondiente. | I34: Este requerimiento es subsanado por el oferente en el termino de traslado | J34: HABILITADO
B35: ASISTENCIA TECNICA DENTAL SAS | C35: =+C34 -> 11935895 | D35: =+'EVAL_OFERTA ECONOMICA_Lote 10'!I8*'EVAL_OFERTA ECONOMICA_Lote 10'!E8 -> 9703885 | E35: =(C35-D35)/C35 -> 0.1869998 | F35: CUMPLE | G35: CUMPLE | H35: N/A | I35: Respecto al informe consolidado de verificacion y evaluacion preliminar se aclara que por error de transcripcion se indico en el resultado para la VERIFICACION OFERTA ECONOMICA RECHAZADO. Se realiza verificacion oferta economica plataforma SECOP II. | J35: HABILITADO
B36: HOSPICLINIC DE COLOMBIA SAS | C36: =+C35 -> 11935895 | D36: =+'EVAL_OFERTA ECONOMICA_Lote 10'!J8*'EVAL_OFERTA ECONOMICA_Lote 10'!E8 -> 8461555 | E36: =(C36-D36)/C36 -> 0.29108332 | F36: CUMPLE | G36: CUMPLE | H36: Se requiere al proponente, para que justifique el valor ofertado, teniendo en cuenta lo establecido por Colombia Compra en la Guia Para el Manejo de Ofertas con Precios Presuntamente Artificialmente Bajos, incluyendo la estructura de costos correspondiente. | I36: Este requerimiento es subsanado por el oferente en el termino de traslado | J36: HABILITADO
B37: HOSPIOFFICE DOTACIONES HOSPITALARIAS Y DE OFICINA S A S - HOSPIOFFICE S.A.S | C37: =+C36 -> 11935895 | D37: =+'EVAL_OFERTA ECONOMICA_Lote 10'!K8*'EVAL_OFERTA ECONOMICA_Lote 10'!E8 -> 9639000 | E37: =(C37-D37)/C37 -> 0.19243593 | F37: CUMPLE | G37: CUMPLE | H37: N/A | I37: N/A | J37: HABILITADO
B38: MEMCO SAS | C38: =+C37 -> 11935895 | D38: =+'EVAL_OFERTA ECONOMICA_Lote 10'!L8*'EVAL_OFERTA ECONOMICA_Lote 10'!E8 -> 11305000 | E38: =(C38-D38)/C38 -> 0.05285695 | F38: CUMPLE | G38: CUMPLE | H38: N/A | I38: Se realiza verificacion oferta economica del excel FORMATO DE OFERTA ECONOMICA. | J38: HABILITADO
B41: LOTE: | C41: 11
B43: PROPONENTE | C43: VALOR TOTAL PRESUPUESTO LOTE | D43: VALOR TOTAL OFERTADO | E43: % DESCUENTO | F43: VERIFICACION FINANCIERA | G43: VERIFICACION OFERTA ECONÓMICA | H43: OBSERVACIONES EVALUACION PRELIMINAR | I43: ACTUALIZACION VERIFICACION | J43: RESULTADO EVALUACIÓN ECONOMICA Y FINANCIERA
B44: MEMCO SAS | C44: =+'EVAL_OFERTA ECONOMICA_Lote 11'!F8*'EVAL_OFERTA ECONOMICA_Lote 11'!E8 -> 27452604 | D44: =+'EVAL_OFERTA ECONOMICA_Lote 11'!L8*'EVAL_OFERTA ECONOMICA_Lote 11'!E8 -> 25704000 | E44: =(C44-D44)/C44 -> 0.063695378 | F44: CUMPLE | G44: CUMPLE | H44: N/A | I44: Se realiza verificacion oferta economica del excel FORMATO DE OFERTA ECONOMICA. | J44: HABILITADO
B47: LOTE: | C47: 13
B49: PROPONENTE | C49: VALOR TOTAL PRESUPUESTO LOTE | D49: VALOR TOTAL OFERTADO | E49: % DESCUENTO | F49: VERIFICACION FINANCIERA | G49: VERIFICACION OFERTA ECONÓMICA | H49: OBSERVACIONES EVALUACION PRELIMINAR | I49: ACTUALIZACION VERIFICACION | J49: RESULTADO EVALUACIÓN ECONOMICA Y FINANCIERA
B50: C I COLOMBIAN MED S.A.S | C50: =+'EVAL_OFERTA ECONOMICA_Lote 13'!F8*'EVAL_OFERTA ECONOMICA_Lote 13'!E8 -> 77908206 | D50: =+'EVAL_OFERTA ECONOMICA_Lote 13'!G8*'EVAL_OFERTA ECONOMICA_Lote 13'!E8 -> 55930000 | E50: =(C50-D50)/C50 -> 0.28210386 | F50: CUMPLE | G50: CUMPLE | H50: Se requiere al proponente, para que justifique el valor ofertado, teniendo en cuenta lo establecido por Colombia Compra en la Guia Para el Manejo de Ofertas con Precios Presuntamente Artificialmente Bajos, incluyendo la estructura de costos correspondiente. | I50: Este requerimiento es subsanado por el oferente en el termino de traslado | J50: HABILITADO
B51: ULTRA SCHALL DE COLOMBIA S A S | C51: =+C50 -> 77908206 | D51: =+'EVAL_OFERTA ECONOMICA_Lote 13'!H8*'EVAL_OFERTA ECONOMICA_Lote 13'!E8 -> 54140000 | E51: =(C51-D51)/C51 -> 0.30507962 | F51: CUMPLE | G51: CUMPLE | H51: Se requiere al proponente, para que justifique el valor ofertado, teniendo en cuenta lo establecido por Colombia Compra en la Guia Para el Manejo de Ofertas con Precios Presuntamente Artificialmente Bajos, incluyendo la estructura de costos correspondiente. | I51: Este requerimiento es subsanado por el oferente en el termino de traslado | J51: HABILITADO
B52: MEMCO SAS | C52: =+C51 -> 77908206 | D52: =+'EVAL_OFERTA ECONOMICA_Lote 13'!L8*'EVAL_OFERTA ECONOMICA_Lote 13'!E8 -> 57120000 | E52: =(C52-D52)/C52 -> 0.26682948 | F52: CUMPLE | G52: CUMPLE | H52: Se requiere al proponente, para que justifique el valor ofertado, teniendo en cuenta lo establecido por Colombia Compra en la Guia Para el Manejo de Ofertas con Precios Presuntamente Artificialmente Bajos, incluyendo la estructura de costos correspondiente. | I52: Este requerimiento es subsanado por el oferente en el termino de traslado. Se realiza verificacion oferta economica del excel FORMATO DE OFERTA ECONOMICA. | J52: HABILITADO
B55: LOTE: | C55: 14
B57: PROPONENTE | C57: VALOR TOTAL PRESUPUESTO LOTE | D57: VALOR TOTAL OFERTADO | E57: % DESCUENTO | F57: VERIFICACION FINANCIERA | G57: VERIFICACION OFERTA ECONÓMICA | H57: OBSERVACIONES EVALUACION PRELIMINAR | I57: ACTUALIZACION VERIFICACION | J57: RESULTADO EVALUACIÓN ECONOMICA Y FINANCIERA
B58: C I COLOMBIAN MED S.A.S | C58: =+'EVAL_OFERTA ECONOMICA_Lote 14'!F8*'EVAL_OFERTA ECONOMICA_Lote 14'!E8 -> 31030203 | D58: =+'EVAL_OFERTA ECONOMICA_Lote 14'!G8*'EVAL_OFERTA ECONOMICA_Lote 14'!E8 -> 15351000 | E58: =(C58-D58)/C58 -> 0.50528844 | F58: CUMPLE | G58: CUMPLE | H58: Se requiere al proponente, para que justifique el valor ofertado, teniendo en cuenta lo establecido por Colombia Compra en la Guia Para el Manejo de Ofertas con Precios Presuntamente Artificialmente Bajos, incluyendo la estructura de costos correspondiente. | I58: Este requerimiento es subsanado por el oferente en el termino de traslado | J58: HABILITADO
B59: ULTRA SCHALL DE COLOMBIA S A S | C59: =+C58 -> 31030203 | D59: =+'EVAL_OFERTA ECONOMICA_Lote 14'!H8*'EVAL_OFERTA ECONOMICA_Lote 14'!E8 -> 24699999 | E59: =(C59-D59)/C59 -> 0.20400137 | F59: CUMPLE | G59: CUMPLE | H59: Se requiere al proponente, para que justifique el valor ofertado, teniendo en cuenta lo establecido por Colombia Compra en la Guia Para el Manejo de Ofertas con Precios Presuntamente Artificialmente Bajos, incluyendo la estructura de costos correspondiente. | I59: Este requerimiento es subsanado por el oferente en el termino de traslado | J59: HABILITADO
B60: MEMCO SAS | C60: =+C59 -> 31030203 | D60: =+'EVAL_OFERTA ECONOMICA_Lote 14'!L8*'EVAL_OFERTA ECONOMICA_Lote 14'!E8 -> 28560000 | E60: =(C60-D60)/C60 -> 0.079606408 | F60: CUMPLE | G60: CUMPLE | H60: N/A | I60: Se realiza verificacion oferta economica del excel FORMATO DE OFERTA ECONOMICA. | J60: HABILITADO
B63: LOTE: | C63: 20
B65: PROPONENTE | C65: VALOR TOTAL PRESUPUESTO LOTE | D65: VALOR TOTAL OFERTADO | E65: % DESCUENTO | F65: VERIFICACION FINANCIERA | G65: VERIFICACION OFERTA ECONÓMICA | H65: OBSERVACIONES EVALUACION PRELIMINAR | I65: ACTUALIZACION VERIFICACION | J65: RESULTADO EVALUACIÓN ECONOMICA Y FINANCIERA
B66: MEMCO SAS | C66: =+'EVAL_OFERTA ECONOMICA_Lote 20'!F8*'EVAL_OFERTA ECONOMICA_Lote 20'!E8 -> 11998434 | D66: =+'EVAL_OFERTA ECONOMICA_Lote 20'!L8*'EVAL_OFERTA ECONOMICA_Lote 20'!E8 -> 8568000 | E66: =(C66-D66)/C66 -> 0.28590681 | F66: CUMPLE | G66: CUMPLE | H66: Se requiere al proponente, para que justifique el valor ofertado, teniendo en cuenta lo establecido por Colombia Compra en la Guia Para el Manejo de Ofertas con Precios Presuntamente Artificialmente Bajos, incluyendo la estructura de costos correspondiente. | I66: Este requerimiento es subsanado por el oferente en el termino de traslado. Se realiza verificacion oferta economica del excel FORMATO DE OFERTA ECONOMICA. | J66: HABILITADO
...

Sheet EVAL_OFERTA ECONOMICA_Lote 3
C1: ENTIDAD DE GESTION ADMINISTRATIVA Y TECNICA - EGAT
C2: EVALUACION OFERTA ECONOMICA
C3: PROCESO | D3: CA-005-2023
C4: OBJETO | D4: ADQUISICIÓN DE EQUIPOS BIOMÉDICOS, MOBILIARIO Y DEMÁS ELEMENTOS NECESARIOS PARA LA DOTACIÓN DE LOS CAPS DE LA SUBRED INTEGRADA DE SERVICIOS DE SALUD SUR OCCIDENTE E.S.E DECLARADOS FALLIDOS DE LOS PROCESOS ISI 011 – ISI 014 Y CD 004 DE 2022
A5: Fecha: | C5: Bogota D.C., | D5: =TODAY() -> 45125
A6: LOTE | B6: ITEM | C6: DESCRIPCIÓN | D6: UNIDAD DE MEDIDA | E6: CANTIDAD ESTIMADA | F6: PRECIO UNITARIO ESTIMADO EGAT INCLUIDO IVA | G6: 1. C I COLOMBIAN MED S.A.S. | H6: 2. ULTRA SCHALL DE COLOMBIA S.A.S. | I6: 3. ASISTENCIA TÉCNICA DENTAL | J6: 4. HOSPICLINIC DE COLOMBIA S.A.S. | K6: 5. HOSPIOFFICE S.A.S | L6: 6. MEMCO S.A.S. | M6: MENOR VALOR OFERTADO | N6: % DE AHORRO | O6: OBSERVACION | Q6: 1. C I COLOMBIAN MED S.A.S. | R6: 2. ULTRA SCHALL DE COLOMBIA S.A.S. | S6: 3. ASISTENCIA TÉCNICA DENTAL | T6: 4. HOSPICLINIC DE COLOMBIA S.A.S. | U6: 5. HOSPIOFFICE S.A.S | V6: 6. MEMCO S.A.S.
G7: VALOR UNITARIO OFERTADO INCLUIDO IVA | H7: VALOR UNITARIO OFERTADO INCLUIDO IVA | I7: VALOR UNITARIO OFERTADO INCLUIDO IVA | J7: VALOR UNITARIO OFERTADO INCLUIDO IVA | K7: VALOR UNITARIO OFERTADO INCLUIDO IVA | L7: VALOR UNITARIO OFERTADO INCLUIDO IVA | Q7: % DIFERENCIA VALOR UNITARIO OFERTADO | R7: % DIFERENCIA VALOR UNITARIO OFERTADO | S7: % DIFERENCIA VALOR UNITARIO OFERTADO | T7: % DIFERENCIA VALOR UNITARIO OFERTADO | U7: % DIFERENCIA VALOR UNITARIO OFERTADO | V7: % DIFERENCIA VALOR UNITARIO OFERTADO
A8: 3 | B8: 3 | C8: BAÑO SEROLOGICO | D8: UNIDAD | E8: 1 | F8: 10896850 | H8: 7980000 | L8: 10115000 | M8: =+MIN(G8:L8) -> 7980000 | N8: =+ABS((M8-F8)/F8) -> 0.26767827 | O8: 1. Se requiere al proponente ULTRA SCHALL DE COLOMBIA S.A.S., para que justifique el valor ofertado, teniendo en cuenta lo establecido por Colombia Compra en la Guia Para el Manejo de Ofertas con Precios Presuntamente Artificialmente Bajos, incluyendo la estructura de costos correspondiente. | Q8: =($F$8-G8)/$F$8 -> 1 | R8: =($F$8-H8)/$F$8 -> 0.26767827 | S8: =($F$8-I8)/$F$8 -> 1 | T8: =($F$8-J8)/$F$8 -> 1 | U8: =($F$8-K8)/$F$8 -> 1 | V8: =($F$8-L8)/$F$8 -> 0.071750093
A14: Elaborado por: | B14: DIDSY YOANA MAHECHA PRIETO
B15: Profesional Inteligencia de Mercados
B16: Contratista EGAT

Sheet EVAL_OFERTA ECONOMICA_Lote  5
C1: ENTIDAD DE GESTION ADMINISTRATIVA Y TECNICA - EGAT
C2: EVALUACION OFERTA ECONOMICA
C3: PROCESO | D3: CA-005-2023
C4: OBJETO | D4: ADQUISICIÓN DE EQUIPOS BIOMÉDICOS, MOBILIARIO Y DEMÁS ELEMENTOS NECESARIOS PARA LA DOTACIÓN DE LOS CAPS DE LA SUBRED INTEGRADA DE SERVICIOS DE SALUD SUR OCCIDENTE E.S.E DECLARADOS FALLIDOS DE LOS PROCESOS ISI 011 – ISI 014 Y CD 004 DE 2022
A5: Fecha: | C5: Bogota D.C., | D5: =TODAY() -> 45125
A6: LOTE | B6: ITEM | C6: DESCRIPCIÓN | D6: UNIDAD DE MEDIDA | E6: CANTIDAD ESTIMADA | F6: PRECIO UNITARIO ESTIMADO EGAT INCLUIDO IVA | G6: 1. C I COLOMBIAN MED S.A.S. | H6: 2. ULTRA SCHALL DE COLOMBIA S.A.S. | I6: 3. ASISTENCIA TÉCNICA DENTAL | J6: 4. HOSPICLINIC DE COLOMBIA S.A.S. | K6: 5. HOSPIOFFICE S.A.S | L6: 6. MEMCO S.A.S. | M6: MENOR VALOR OFERTADO | N6: % DE AHORRO | O6: OBSERVACION | Q6: 1. C I COLOMBIAN MED S.A.S. | R6: 2. ULTRA SCHALL DE COLOMBIA S.A.S. | S6: 3. ASISTENCIA TÉCNICA DENTAL | T6: 4. HOSPICLINIC DE COLOMBIA S.A.S. | U6: 5. HOSPIOFFICE S.A.S | V6: 6. MEMCO S.A.S.
G7: VALOR UNITARIO OFERTADO INCLUIDO IVA | H7: VALOR UNITARIO OFERTADO INCLUIDO IVA | I7: VALOR UNITARIO OFERTADO INCLUIDO IVA | J7: VALOR UNITARIO OFERTADO INCLUIDO IVA | K7: VALOR UNITARIO OFERTADO INCLUIDO IVA | L7: VALOR UNITARIO OFERTADO INCLUIDO IVA | Q7: % DIFERENCIA VALOR UNITARIO OFERTADO | R7: % DIFERENCIA VALOR UNITARIO OFERTADO | S7: % DIFERENCIA VALOR UNITARIO OFERTADO | T7: % DIFERENCIA VALOR UNITARIO OFERTADO | U7: % DIFERENCIA VALOR UNITARIO OFERTADO | V7: % DIFERENCIA VALOR UNITARIO OFERTADO
A8: 5 | B8: 5 | C8: CENTRIFUGA | D8: UNIDAD | E8: 1 | F8: 26066576 | H8: 23830000 | L8: 24990000 | M8: =+MIN(G8:L8) -> 23830000 | N8: =+ABS((M8-F8)/F8) -> 0.085802447 | Q8: =($F$8-G8)/$F$8 -> 1 | R8: =($F$8-H8)/$F$8 -> 0.085802447 | S8: =($F$8-I8)/$F$8 -> 1 | T8: =($F$8-J8)/$F$8 -> 1 | U8: =($F$8-K8)/$F$8 -> 1 | V8: =($F$8-L8)/$F$8 -> 0.041301013
A14: Elaborado por: | B14: DIDSY YOANA MAHECHA PRIETO
B15: Profesional Inteligencia de Mercados
B16: Contratista EGAT

Sheet EVAL_OFERTA ECONOMICA_Lote 6
C1: ENTIDAD DE GESTION ADMINISTRATIVA Y TECNICA - EGAT
C2: EVALUACION OFERTA ECONOMICA
C3: PROCESO | D3: CA-005-2023
C4: OBJETO | D4: ADQUISICIÓN DE EQUIPOS BIOMÉDICOS, MOBILIARIO Y DEMÁS ELEMENTOS NECESARIOS PARA LA DOTACIÓN DE LOS CAPS DE LA SUBRED INTEGRADA DE SERVICIOS DE SALUD SUR OCCIDENTE E.S.E DECLARADOS FALLIDOS DE LOS PROCESOS ISI 011 – ISI 014 Y CD 004 DE 2022
A5: Fecha: | C5: Bogota D.C., | D5: =TODAY() -> 45125
A6: LOTE | B6: ITEM | C6: DESCRIPCIÓN | D6: UNIDAD DE MEDIDA | E6: CANTIDAD ESTIMADA | F6: PRECIO UNITARIO ESTIMADO EGAT INCLUIDO IVA | G6: 1. C I COLOMBIAN MED S.A.S. | H6: 2. ULTRA SCHALL DE COLOMBIA S.A.S. | I6: 3. ASISTENCIA TÉCNICA DENTAL | J6: 4. HOSPICLINIC DE COLOMBIA S.A.S. | K6: 5. HOSPIOFFICE S.A.S | L6: 6. MEMCO S.A.S. | M6: MENOR VALOR OFERTADO | N6: % DE AHORRO | O6: OBSERVACION | Q6: 1. C I COLOMBIAN MED S.A.S. | R6: 2. ULTRA SCHALL DE COLOMBIA S.A.S. | S6: 3. ASISTENCIA TÉCNICA DENTAL | T6: 4. HOSPICLINIC DE COLOMBIA S.A.S. | U6: 5. HOSPIOFFICE S.A.S | V6: 6. MEMCO S.A.S.
G7: VALOR UNITARIO OFERTADO INCLUIDO IVA | H7: VALOR UNITARIO OFERTADO INCLUIDO IVA | I7: VALOR UNITARIO OFERTADO INCLUIDO IVA | J7: VALOR UNITARIO OFERTADO INCLUIDO IVA | K7: VALOR UNITARIO OFERTADO INCLUIDO IVA | L7: VALOR UNITARIO OFERTADO INCLUIDO IVA | Q7: % DIFERENCIA VALOR UNITARIO OFERTADO | R7: % DIFERENCIA VALOR UNITARIO OFERTADO | S7: % DIFERENCIA VALOR UNITARIO OFERTADO | T7: % DIFERENCIA VALOR UNITARIO OFERTADO | U7: % DIFERENCIA VALOR UNITARIO OFERTADO | V7: % DIFERENCIA VALOR UNITARIO OFERTADO
A8: 6 | B8: 6 | C8: DOPPLER FETAL | D8: UNIDAD | E8: 2 | F8: 1548631 | G8: 880600 | J8: 1138735 | K8: 1011500 | L8: 1190000 | M8: =+MIN(G8:L8) -> 880600 | N8: =+ABS((M8-F8)/F8) -> 0.43136874 | O8: 1. Se requiere a los proponentes CI COLOMBIAN MED S.A.S., HOSPICLINIC DE COLOMBIA S.A.S., HOSPIOFFICE S.A.S. y MEMCO S.A.S., para que justifiquen los valores ofertados, teniendo en cuenta lo establecido por Colombia Compra en la Guia Para el Manejo de Ofertas con Precios Presuntamente Artificialmente Bajos, incluyendo la estructura de costos correspondiente. | Q8: =($F$8-G8)/$F$8 -> 0.43136874 | R8: =($F$8-H8)/$F$8 -> 1 | S8: =($F$8-I8)/$F$8 -> 1 | T8: =($F$8-J8)/$F$8 -> 0.26468281 | U8: =($F$8-K8)/$F$8 -> 0.34684247 | V8: =($F$8-L8)/$F$8 -> 0.23157938
A14: Elaborado por: | B14: DIDSY YOANA MAHECHA PRIETO
B15: Profesional Inteligencia de Mercados
B16: Contratista EGAT

Sheet EVAL_OFERTA ECONOMICA_Lote 7
C1: ENTIDAD DE GESTION ADMINISTRATIVA Y TECNICA - EGAT
C2: EVALUACION OFERTA ECONOMICA
C3: PROCESO | D3: CA-005-2023
C4: OBJETO | D4: ADQUISICIÓN DE EQUIPOS BIOMÉDICOS, MOBILIARIO Y DEMÁS ELEMENTOS NECESARIOS PARA LA DOTACIÓN DE LOS CAPS DE LA SUBRED INTEGRADA DE SERVICIOS DE SALUD SUR OCCIDENTE E.S.E DECLARADOS FALLIDOS DE LOS PROCESOS ISI 011 – ISI 014 Y CD 004 DE 2022
A5: Fecha: | C5: Bogota D.C., | D5: =TODAY() -> 45125
A6: LOTE | B6: ITEM | C6: DESCRIPCIÓN | D6: UNIDAD DE MEDIDA | E6: CANTIDAD ESTIMADA | F6: PRECIO UNITARIO ESTIMADO EGAT INCLUIDO IVA | G6: 1. C I COLOMBIAN MED S.A.S. | H6: 2. ULTRA SCHALL DE COLOMBIA S.A.S. | I6: 3. ASISTENCIA TÉCNICA DENTAL | J6: 4. HOSPICLINIC DE COLOMBIA S.A.S. | K6: 5. HOSPIOFFICE S.A.S | L6: 6. MEMCO S.A.S. | M6: MENOR VALOR OFERTADO | N6: % DE AHORRO | O6: OBSERVACION | Q6: 1. C I COLOMBIAN MED S.A.S. | R6: 2. ULTRA SCHALL DE COLOMBIA S.A.S. | S6: 3. ASISTENCIA TÉCNICA DENTAL | T6: 4. HOSPICLINIC DE COLOMBIA S.A.S. | U6: 5. HOSPIOFFICE S.A.S | V6: 6. MEMCO S.A.S.
G7: VALOR UNITARIO OFERTADO INCLUIDO IVA | H7: VALOR UNITARIO OFERTADO INCLUIDO IVA | I7: VALOR UNITARIO OFERTADO INCLUIDO IVA | J7: VALOR UNITARIO OFERTADO INCLUIDO IVA | K7: VALOR UNITARIO OFERTADO INCLUIDO IVA | L7: VALOR UNITARIO OFERTADO INCLUIDO IVA | Q7: % DIFERENCIA VALOR UNITARIO OFERTADO | R7: % DIFERENCIA VALOR UNITARIO OFERTADO | S7: % DIFERENCIA VALOR UNITARIO OFERTADO | T7: % DIFERENCIA VALOR UNITARIO OFERTADO | U7: % DIFERENCIA VALOR UNITARIO OFERTADO | V7: % DIFERENCIA VALOR UNITARIO OFERTADO
A8: 7 | B8: 7 | C8: ESCALERILLA DEDOS | D8: UNIDAD | E8: 1 | F8: 662735 | K8: 490280 | M8: =+MIN(G8:L8) -> 490280 | N8: =+ABS((M8-F8)/F8) -> 0.26021713 | O8: 1. Se requiere al proponente HOSPIOFFICE S.A.S., para que justifique el valor ofertado, teniendo en cuenta lo establecido por Colombia Compra en la Guia Para el Manejo de Ofertas con Precios Presuntamente Artificialmente Bajos, incluyendo la estructura de costos correspondiente. | Q8: =($F$8-G8)/$F$8 -> 1 | R8: =($F$8-H8)/$F$8 -> 1 | S8: =($F$8-I8)/$F$8 -> 1 | T8: =($F$8-J8)/$F$8 -> 1 | U8: =($F$8-K8)/$F$8 -> 0.26021713 | V8: =($F$8-L8)/$F$8 -> 1
A14: Elaborado por: | B14: DIDSY YOANA MAHECHA PRIETO
B15: Profesional Inteligencia de Mercados
B16: Contratista EGAT

Sheet EVAL_OFERTA ECONOMICA_Lote 10
C1: ENTIDAD DE GESTION ADMINISTRATIVA Y TECNICA - EGAT
C2: EVALUACION OFERTA ECONOMICA
C3: PROCESO | D3: CA-005-2023
C4: OBJETO | D4: ADQUISICIÓN DE EQUIPOS BIOMÉDICOS, MOBILIARIO Y DEMÁS ELEMENTOS NECESARIOS PARA LA DOTACIÓN DE LOS CAPS DE LA SUBRED INTEGRADA DE SERVICIOS DE SALUD SUR OCCIDENTE E.S.E DECLARADOS FALLIDOS DE LOS PROCESOS ISI 011 – ISI 014 Y CD 004 DE 2022
A5: Fecha: | C5: Bogota D.C., | D5: =TODAY() -> 45125
A6: LOTE | B6: ITEM | C6: DESCRIPCIÓN | D6: UNIDAD DE MEDIDA | E6: CANTIDAD ESTIMADA | F6: PRECIO UNITARIO ESTIMADO EGAT INCLUIDO IVA | G6: 1. C I COLOMBIAN MED S.A.S. | H6: 2. ULTRA SCHALL DE COLOMBIA S.A.S. | I6: 3. ASISTENCIA TÉCNICA DENTAL | J6: 4. HOSPICLINIC DE COLOMBIA S.A.S. | K6: 5. HOSPIOFFICE S.A.S | L6: 6. MEMCO S.A.S. | M6: MENOR VALOR UNITARIO OFERTADO | N6: % DE AHORRO | O6: OBSERVACION | Q6: 1. C I COLOMBIAN MED S.A.S. | R6: 2. ULTRA SCHALL DE COLOMBIA S.A.S. | S6: 3. ASISTENCIA TÉCNICA DENTAL | T6: 4. HOSPICLINIC DE COLOMBIA S.A.S. | U6: 5. HOSPIOFFICE S.A.S | V6: 6. MEMCO S.A.S.
G7: VALOR UNITARIO OFERTADO INCLUIDO IVA | H7: VALOR UNITARIO OFERTADO INCLUIDO IVA | I7: VALOR UNITARIO OFERTADO INCLUIDO IVA | J7: VALOR UNITARIO OFERTADO INCLUIDO IVA | K7: VALOR UNITARIO OFERTADO INCLUIDO IVA | L7: VALOR UNITARIO OFERTADO INCLUIDO IVA | Q7: % DIFERENCIA VALOR UNITARIO OFERTADO | R7: % DIFERENCIA VALOR UNITARIO OFERTADO | S7: % DIFERENCIA VALOR UNITARIO OFERTADO | T7: % DIFERENCIA VALOR UNITARIO OFERTADO | U7: % DIFERENCIA VALOR UNITARIO OFERTADO | V7: % DIFERENCIA VALOR UNITARIO OFERTADO
A8: 10 | B8: 40 | C8: LAMPARA DE FOTOCURADO | D8: UNIDAD | E8: 5 | F8: 2387179 | G8: 821100 | I8: 1940777 | J8: 1692311 | K8: 1927800 | L8: 2261000 | M8: =+MIN(G8:L8) -> 821100 | N8: =+ABS((M8-F8)/F8) -> 0.65603752 | O8: 1. Se requiere a los proponentes CI COLOMBIAN MED S.A.S. Y HOSPICLINIC DE COLOMBIA S.A.S., para que justifiquen los valores ofertados, teniendo en cuenta lo establecido por Colombia Compra en la Guia Para el Manejo de Ofertas con Precios Presuntamente Artificialmente Bajos, incluyendo la estructura de costos correspondiente. | Q8: =($F$8-G8)/$F$8 -> 0.65603752 | R8: =($F$8-H8)/$F$8 -> 1 | S8: =($F$8-I8)/$F$8 -> 0.1869998 | T8: =($F$8-J8)/$F$8 -> 0.29108332 | U8: =($F$8-K8)/$F$8 -> 0.19243593 | V8: =($F$8-L8)/$F$8 -> 0.05285695
A14: Elaborado por: | B14: DIDSY YOANA MAHECHA PRIETO
B15: Profesional Inteligencia de Mercados
B16: Contratista EGAT

Sheet EVAL_OFERTA ECONOMICA_Lote 11
C1: ENTIDAD DE GESTION ADMINISTRATIVA Y TECNICA - EGAT
C2: EVALUACION OFERTA ECONOMICA
C3: PROCESO | D3: CA-005-2023
C4: OBJETO | D4: ADQUISICIÓN DE EQUIPOS BIOMÉDICOS, MOBILIARIO Y DEMÁS ELEMENTOS NECESARIOS PARA LA DOTACIÓN DE LOS CAPS DE LA SUBRED INTEGRADA DE SERVICIOS DE SALUD SUR OCCIDENTE E.S.E DECLARADOS FALLIDOS DE LOS PROCESOS ISI 011 – ISI 014 Y CD 004 DE 2022
A5: Fecha: | C5: Bogota D.C., | D5: =TODAY() -> 45125
A6: LOTE | B6: ITEM | C6: DESCRIPCIÓN | D6: UNIDAD DE MEDIDA | E6: CANTIDAD ESTIMADA | F6: PRECIO UNITARIO ESTIMADO EGAT INCLUIDO IVA | G6: 1. C I COLOMBIAN MED S.A.S. | H6: 2. ULTRA SCHALL DE COLOMBIA S.A.S. | I6: 3. ASISTENCIA TÉCNICA DENTAL | J6: 4. HOSPICLINIC DE COLOMBIA S.A.S. | K6: 5. HOSPIOFFICE S.A.S | L6: 6. MEMCO S.A.S. | M6: MENOR VALOR OFERTADO | N6: % DE AHORRO | O6: OBSERVACION | Q6: 1. C I COLOMBIAN MED S.A.S. | R6: 2. ULTRA SCHALL DE COLOMBIA S.A.S. | S6: 3. ASISTENCIA TÉCNICA DENTAL | T6: 4. HOSPICLINIC DE COLOMBIA S.A.S. | U6: 5. HOSPIOFFICE S.A.S | V6: 6. MEMCO S.A.S.
G7: VALOR UNITARIO OFERTADO INCLUIDO IVA | H7: VALOR UNITARIO OFERTADO INCLUIDO IVA | I7: VALOR UNITARIO OFERTADO INCLUIDO IVA | J7: VALOR UNITARIO OFERTADO INCLUIDO IVA | K7: VALOR UNITARIO OFERTADO INCLUIDO IVA | L7: VALOR UNITARIO OFERTADO INCLUIDO IVA | Q7: % DIFERENCIA VALOR UNITARIO OFERTADO | R7: % DIFERENCIA VALOR UNITARIO OFERTADO | S7: % DIFERENCIA VALOR UNITARIO OFERTADO | T7: % DIFERENCIA VALOR UNITARIO OFERTADO | U7: % DIFERENCIA VALOR UNITARIO OFERTADO | V7: % DIFERENCIA VALOR UNITARIO OFERTADO
A8: 11 | B8: 41 | C8: LAVADORA DE INSTRUMENTAL | D8: UNIDAD | E8: 3 | F8: 9150868 | L8: 8568000 | M8: =+MIN(G8:L8) -> 8568000 | N8: =+ABS((M8-F8)/F8) -> 0.063695378 | Q8: =($F$8-G8)/$F$8 -> 1 | R8: =($F$8-H8)/$F$8 -> 1 | S8: =($F$8-I8)/$F$8 -> 1 | T8: =($F$8-J8)/$F$8 -> 1 | U8: =($F$8-K8)/$F$8 -> 1 | V8: =($F$8-L8)/$F$8 -> 0.063695378
A14: Elaborado por: | B14: DIDSY YOANA MAHECHA PRIETO
B15: Profesional Inteligencia de Mercados
B16: Contratista EGAT

Sheet EVAL_OFERTA ECONOMICA_Lote 13
C1: ENTIDAD DE GESTION ADMINISTRATIVA Y TECNICA - EGAT
C2: EVALUACION OFERTA ECONOMICA
C3: PROCESO | D3: CA-005-2023
C4: OBJETO | D4: ADQUISICIÓN DE EQUIPOS BIOMÉDICOS, MOBILIARIO Y DEMÁS ELEMENTOS NECESARIOS PARA LA DOTACIÓN DE LOS CAPS DE LA SUBRED INTEGRADA DE SERVICIOS DE SALUD SUR OCCIDENTE E.S.E DECLARADOS FALLIDOS DE LOS PROCESOS ISI 011 – ISI 014 Y CD 004 DE 2022
A5: Fecha: | C5: Bogota D.C., | D5: =TODAY() -> 45125
A6: LOTE | B6: ITEM | C6: DESCRIPCIÓN | D6: UNIDAD DE MEDIDA | E6: CANTIDAD ESTIMADA | F6: PRECIO UNITARIO ESTIMADO EGAT INCLUIDO IVA | G6: 1. C I COLOMBIAN MED S.A.S. | H6: 2. ULTRA SCHALL DE COLOMBIA S.A.S. | I6: 3. ASISTENCIA TÉCNICA DENTAL | J6: 4. HOSPICLINIC DE COLOMBIA S.A.S. | K6: 5. HOSPIOFFICE S.A.S | L6: 6. MEMCO S.A.S. | M6: MENOR VALOR OFERTADO | N6: % DE AHORRO | O6: OBSERVACION | Q6: 1. C I COLOMBIAN MED S.A.S. | R6: 2. ULTRA SCHALL DE COLOMBIA S.A.S. | S6: 3. ASISTENCIA TÉCNICA DENTAL | T6: 4. HOSPICLINIC DE COLOMBIA S.A.S. | U6: 5. HOSPIOFFICE S.A.S | V6: 6. MEMCO S.A.S.
G7: VALOR UNITARIO OFERTADO INCLUIDO IVA | H7: VALOR UNITARIO OFERTADO INCLUIDO IVA | I7: VALOR UNITARIO OFERTADO INCLUIDO IVA | J7: VALOR UNITARIO OFERTADO INCLUIDO IVA | K7: VALOR UNITARIO OFERTADO INCLUIDO IVA | L7: VALOR UNITARIO OFERTADO INCLUIDO IVA | Q7: % DIFERENCIA VALOR UNITARIO OFERTADO | R7: % DIFERENCIA VALOR UNITARIO OFERTADO | S7: % DIFERENCIA VALOR UNITARIO OFERTADO | T7: % DIFERENCIA VALOR UNITARIO OFERTADO | U7: % DIFERENCIA VALOR UNITARIO OFERTADO | V7: % DIFERENCIA VALOR UNITARIO OFERTADO
A8: 13 | B8: 43 | C8: NEVERA DE VACUNACION | D8: UNIDAD | E8: 2 | F8: 38954103 | G8: 27965000 | H8: 27070000 | L8: 28560000 | M8: =+MIN(G8:L8) -> 27070000 | N8: =+ABS((M8-F8)/F8) -> 0.30507962 | O8: 1. Se requiere a los proponentes CI COLOMBIAN MED S.A.S., ULTRA SCHALL DE COLOMBIA S.A.S. y MEMCO S.A.S., para que justifiquen los valores ofertados, teniendo en cuenta lo establecido por Colombia Compra en la Guia Para el Manejo de Ofertas con Precios Presuntamente Artificialmente Bajos, incluyendo la estructura de costos correspondiente. | Q8: =($F$8-G8)/$F$8 -> 0.28210386 | R8: =($F$8-H8)/$F$8 -> 0.30507962 | S8: =($F$8-I8)/$F$8 -> 1 | T8: =($F$8-J8)/$F$8 -> 1 | U8: =($F$8-K8)/$F$8 -> 1 | V8: =($F$8-L8)/$F$8 -> 0.26682948
A14: Elaborado por: | B14: DIDSY YOANA MAHECHA PRIETO
B15: Profesional Inteligencia de Mercados
B16: Contratista EGAT

Sheet EVAL_OFERTA ECONOMICA_Lote 14
C1: ENTIDAD DE GESTION ADMINISTRATIVA Y TECNICA - EGAT
C2: EVALUACION OFERTA ECONOMICA
C3: PROCESO | D3: CA-005-2023
C4: OBJETO | D4: ADQUISICIÓN DE EQUIPOS BIOMÉDICOS, MOBILIARIO Y DEMÁS ELEMENTOS NECESARIOS PARA LA DOTACIÓN DE LOS CAPS DE LA SUBRED INTEGRADA DE SERVICIOS DE SALUD SUR OCCIDENTE E.S.E DECLARADOS FALLIDOS DE LOS PROCESOS ISI 011 – ISI 014 Y CD 004 DE 2022
A5: Fecha: | C5: Bogota D.C., | D5: =TODAY() -> 45125
A6: LOTE | B6: ITEM | C6: DESCRIPCIÓN | D6: UNIDAD DE MEDIDA | E6: CANTIDAD ESTIMADA | F6: PRECIO UNITARIO ESTIMADO EGAT INCLUIDO IVA | G6: 1. C I COLOMBIAN MED S.A.S. | H6: 2. ULTRA SCHALL DE COLOMBIA S.A.S. | I6: 3. ASISTENCIA TÉCNICA DENTAL | J6: 4. HOSPICLINIC DE COLOMBIA S.A.S. | K6: 5. HOSPIOFFICE S.A.S | L6: 6. MEMCO S.A.S. | M6: MENOR VALOR OFERTADO | N6: % DE AHORRO | O6: OBSERVACION | Q6: 1. C I COLOMBIAN MED S.A.S. | R6: 2. ULTRA SCHALL DE COLOMBIA S.A.S. | S6: 3. ASISTENCIA TÉCNICA DENTAL | T6: 4. HOSPICLINIC DE COLOMBIA S.A.S. | U6: 5. HOSPIOFFICE S.A.S | V6: 6. MEMCO S.A.S.
G7: VALOR UNITARIO OFERTADO INCLUIDO IVA | H7: VALOR UNITARIO OFERTADO INCLUIDO IVA | I7: VALOR UNITARIO OFERTADO INCLUIDO IVA | J7: VALOR UNITARIO OFERTADO INCLUIDO IVA | K7: VALOR UNITARIO OFERTADO INCLUIDO IVA | L7: VALOR UNITARIO OFERTADO INCLUIDO IVA | Q7: % DIFERENCIA VALOR UNITARIO OFERTADO | R7: % DIFERENCIA VALOR UNITARIO OFERTADO | S7: % DIFERENCIA VALOR UNITARIO OFERTADO | T7: % DIFERENCIA VALOR UNITARIO OFERTADO | U7: % DIFERENCIA VALOR UNITARIO OFERTADO | V7: % DIFERENCIA VALOR UNITARIO OFERTADO
A8: 14 | B8: 44 | C8: REFRIGERADOR VERTICAL - HEMODERIVADOS | D8: UNIDAD | E8: 1 | F8: 31030203 | G8: 15351000 | H8: 24699999 | L8: 28560000 | M8: =+MIN(G8:L8) -> 15351000 | N8: =+ABS((M8-F8)/F8) -> 0.50528844 | O8: 1. Se requiere a los proponentes CI COLOMBIAN MED S.A.S. y ULTRA SCHALL DE COLOMBIA S.A.S., para que justifiquen los valores ofertados, teniendo en cuenta lo establecido por Colombia Compra en la Guia Para el Manejo de Ofertas con Precios Presuntamente Artificialmente Bajos, incluyendo la estructura de costos correspondiente. | Q8: =($F$8-G8)/$F$8 -> 0.50528844 | R8: =($F$8-H8)/$F$8 -> 0.20400137 | S8: =($F$8-I8)/$F$8 -> 1 | T8: =($F$8-J8)/$F$8 -> 1 | U8: =($F$8-K8)/$F$8 -> 1 | V8: =($F$8-L8)/$F$8 -> 0.079606408
A14: Elaborado por: | B14: DIDSY YOANA MAHECHA PRIETO
B15: Profesional Inteligencia de Mercados
B16: Contratista EGAT

Sheet EVAL_OFERTA ECONOMICA_Lote 20
C1: ENTIDAD DE GESTION ADMINISTRATIVA Y TECNICA - EGAT
C2: EVALUACION OFERTA ECONOMICA
C3: PROCESO | D3: CA-005-2023
C4: OBJETO | D4: ADQUISICIÓN DE EQUIPOS BIOMÉDICOS, MOBILIARIO Y DEMÁS ELEMENTOS NECESARIOS PARA LA DOTACIÓN DE LOS CAPS DE LA SUBRED INTEGRADA DE SERVICIOS DE SALUD SUR OCCIDENTE E.S.E DECLARADOS FALLIDOS DE LOS PROCESOS ISI 011 – ISI 014 Y CD 004 DE 2022
A5: Fecha: | C5: Bogota D.C., | D5: =TODAY() -> 45125
A6: LOTE | B6: ITEM | C6: DESCRIPCIÓN | D6: UNIDAD DE MEDIDA | E6: CANTIDAD ESTIMADA | F6: PRECIO UNITARIO ESTIMADO EGAT INCLUIDO IVA | G6: 1. C I COLOMBIAN MED S.A.S. | H6: 2. ULTRA SCHALL DE COLOMBIA S.A.S. | I6: 3. ASISTENCIA TÉCNICA DENTAL | J6: 4. HOSPICLINIC DE COLOMBIA S.A.S. | K6: 5. HOSPIOFFICE S.A.S | L6: 6. MEMCO S.A.S. | M6: MENOR VALOR OFERTADO | N6: % DE AHORRO | O6: OBSERVACION | Q6: 1. C I COLOMBIAN MED S.A.S. | R6: 2. ULTRA SCHALL DE COLOMBIA S.A.S. | S6: 3. ASISTENCIA TÉCNICA DENTAL | T6: 4. HOSPICLINIC DE COLOMBIA S.A.S. | U6: 5. HOSPIOFFICE S.A.S | V6: 6. MEMCO S.A.S.
G7: VALOR UNITARIO OFERTADO INCLUIDO IVA | H7: VALOR UNITARIO OFERTADO INCLUIDO IVA | I7: VALOR UNITARIO OFERTADO INCLUIDO IVA | J7: VALOR UNITARIO OFERTADO INCLUIDO IVA | K7: VALOR UNITARIO OFERTADO INCLUIDO IVA | L7: VALOR UNITARIO OFERTADO INCLUIDO IVA | Q7: % DIFERENCIA VALOR UNITARIO OFERTADO | R7: % DIFERENCIA VALOR UNITARIO OFERTADO | S7: % DIFERENCIA VALOR UNITARIO OFERTADO | T7: % DIFERENCIA VALOR UNITARIO OFERTADO | U7: % DIFERENCIA VALOR UNITARIO OFERTADO | V7: % DIFERENCIA VALOR UNITARIO OFERTADO
A8: 20 | B8: 50 | C8: HORNO MICROONDAS | D8: UNIDAD | E8: 6 | F8: 1999739 | L8: 1428000 | M8: =+MIN(G8:L8) -> 1428000 | N8: =+ABS((M8-F8)/F8) -> 0.28590681 | O8: 1. Se requiere al proponente MEMCO S.A.S., para que justifique el valor ofertado, teniendo en cuenta lo establecido por Colombia Compra en la Guia Para el Manejo de Ofertas con Precios Presuntamente Artificialmente Bajos, incluyendo la estructura de costos correspondiente. | Q8: =($F$8-G8)/$F$8 -> 1 | R8: =($F$8-H8)/$F$8 -> 1 | S8: =($F$8-I8)/$F$8 -> 1 | T8: =($F$8-J8)/$F$8 -> 1 | U8: =($F$8-K8)/$F$8 -> 1 | V8: =($F$8-L8)/$F$8 -> 0.28590681
A14: Elaborado por: | B14: DIDSY YOANA MAHECHA PRIETO
B15: Profesional Inteligencia de Mercados
B16: Contratista EGAT

Sheet EVAL_OFERTA ECONOMICA_Lote 22
C1: ENTIDAD DE GESTION ADMINISTRATIVA Y TECNICA - EGAT
C2: EVALUACION OFERTA ECONOMICA
C3: PROCESO | D3: CA-005-2023
C4: OBJETO | D4: ADQUISICIÓN DE EQUIPOS BIOMÉDICOS, MOBILIARIO Y DEMÁS ELEMENTOS NECESARIOS PARA LA DOTACIÓN DE LOS CAPS DE LA SUBRED INTEGRADA DE SERVICIOS DE SALUD SUR OCCIDENTE E.S.E DECLARADOS FALLIDOS DE LOS PROCESOS ISI 011 – ISI 014 Y CD 004 DE 2022
A5: Fecha: | C5: Bogota D.C., | D5: =TODAY() -> 45125
A6: LOTE | B6: ITEM | C6: DESCRIPCIÓN | D6: UNIDAD DE MEDIDA | E6: CANTIDAD ESTIMADA | F6: PRECIO UNITARIO ESTIMADO EGAT INCLUIDO IVA | G6: 1. C I COLOMBIAN MED S.A.S. | H6: 2. ULTRA SCHALL DE COLOMBIA S.A.S. | I6: 3. ASISTENCIA TÉCNICA DENTAL | J6: 4. HOSPICLINIC DE COLOMBIA S.A.S. | K6: 5. HOSPIOFFICE S.A.S | L6: 6. MEMCO S.A.S. | M6: MENOR VALOR OFERTADO | N6: % DE AHORRO | O6: OBSERVACION | Q6: 1. C I COLOMBIAN MED S.A.S. | R6: 2. ULTRA SCHALL DE COLOMBIA S.A.S. | S6: 3. ASISTENCIA TÉCNICA DENTAL | T6: 4. HOSPICLINIC DE COLOMBIA S.A.S. | U6: 5. HOSPIOFFICE S.A.S | V6: 6. MEMCO S.A.S.
G7: VALOR UNITARIO OFERTADO INCLUIDO IVA | H7: VALOR UNITARIO OFERTADO INCLUIDO IVA | I7: VALOR UNITARIO OFERTADO INCLUIDO IVA | J7: VALOR UNITARIO OFERTADO INCLUIDO IVA | K7: VALOR UNITARIO OFERTADO INCLUIDO IVA | L7: VALOR UNITARIO OFERTADO INCLUIDO IVA | Q7: % DIFERENCIA VALOR UNITARIO OFERTADO | R7: % DIFERENCIA VALOR UNITARIO OFERTADO | S7: % DIFERENCIA VALOR UNITARIO OFERTADO | T7: % DIFERENCIA VALOR UNITARIO OFERTADO | U7: % DIFERENCIA VALOR UNITARIO OFERTADO | V7: % DIFERENCIA VALOR UNITARIO OFERTADO
A8: 22 | B8: 52 | C8: ESTIBAS | D8: UNIDAD | E8: 12 | F8: 304382 | K8: 291550 | M8: =+MIN(G8:L8) -> 291550 | N8: =+ABS((M8-F8)/F8) -> 0.042157552 | Q8: =($F$8-G8)/$F$8 -> 1 | R8: =($F$8-H8)/$F$8 -> 1 | S8: =($F$8-I8)/$F$8 -> 1 | T8: =($F$8-J8)/$F$8 -> 1 | U8: =($F$8-K8)/$F$8 -> 0.042157552 | V8: =($F$8-L8)/$F$8 -> 1
A14: Elaborado por: | B14: DIDSY YOANA MAHECHA PRIETO
B15: Profesional Inteligencia de Mercados
B16: Contratista EGAT
