Workbook
Name _____PJ50: #REF!
Name _____PJ50: #REF!
Name _____PJ50: #REF!
Name _____PJ50: #REF!
Name _____pj51: #REF!
Name _____pj51: #REF!
Name _____pj51: #REF!
Name _____pj51: #REF!
Name ____PJ50: #REF!
Name ____PJ50: #REF!
Name ____PJ50: #REF!
Name ____PJ50: #REF!
Name ____pj51: #REF!
Name ____pj51: #REF!
Name ____pj51: #REF!
Name ____pj51: #REF!
Name ___EST12: #REF!
Name ___EST12: #REF!
Name ___EST12: #REF!
Name ___EST12: #REF!
Name ___PJ50: #REF!
Name ___PJ50: #REF!
Name ___PJ50: #REF!
Name ___PJ50: #REF!
Name ___pj51: #REF!
Name ___pj51: #REF!
Name ___pj51: #REF!
Name ___pj51: #REF!
Name __aiu2: [1]AIU!$J$105
Name __EST1: #REF!
Name __EST1: #REF!
Name __EST1: #REF!
Name __EST1: #REF!
Name __EST10: #REF!
Name __EST10: #REF!
Name __EST10: #REF!
Name __EST10: #REF!
Name __EST11: #REF!
Name __EST11: #REF!
Name __EST11: #REF!
Name __EST11: #REF!
Name __EST12: #REF!
Name __EST12: #REF!
Name __EST12: #REF!
Name __EST12: #REF!
Name __EST13: #REF!
Name __EST13: #REF!
Name __EST13: #REF!
Name __EST13: #REF!
Name __EST14: #REF!
Name __EST14: #REF!
Name __EST14: #REF!
Name __EST14: #REF!
Name __EST15: #REF!
Name __EST15: #REF!
Name __EST15: #REF!
Name __EST15: #REF!
Name __EST16: #REF!
Name __EST16: #REF!
Name __EST16: #REF!

Sheet Presupuesto
B3: CONSTRUCCIÓN DE PAVIMENTO EN CONCRETO
B5: CRA 3 ENTRE CALLE 10A Y 12A VILLAMARÍA, CALDAS
B7: PRESUPUESTO DE OBRA
F8: Fecha | G8: 45120
B28: =+APU!B10 -> 1 | C28: =+APU!C10 -> PAVIMENTACIÓN
B30: ITEM | C30: DESCRIPCIÓN | D30: UNIDAD | E30: CANT. | F30: VALOR UNITARIO | G30: VALOR TOTAL TODO COSTO
B32: COSTO DIRECTO
B33: 1.1 | C33: =IF(B33=0,"",VLOOKUP(B33,APU!$B$12:$G$1048576,2,FALSE)) -> PRELIMINARES | G33: =SUM(G34:G37) -> 12986067
B34: 1.1.1 | C34: =IF(B34=0,"",VLOOKUP(B34,APU!$B$12:$G$1048576,2,FALSE)) -> SEÑAL PREVENTIVA, REGLAMENTARIA E INFORMATIVA | D34: =IF(B34=0,"",VLOOKUP(B34,APU!$B$12:$G$1048576,3,FALSE)) -> UND | E34: =IF(B34=0,"",VLOOKUP(B34,Memorias!$B$15:$V$53,21,FALSE)) -> 2 | F34: =IF(B34=0,"",VLOOKUP(B34,APU!$B$12:$G$1048576,6,FALSE)) -> 194600 | G34: =ROUND((+PRODUCT(E34:F34)),0) -> 389200
B35: 1.1.2 | C35: =IF(B35=0,"",VLOOKUP(B35,APU!$B$12:$G$1048576,2,FALSE)) -> SUMINISTRO, TRANSPORTE E INSTALACION BARRERA CON BOMBONES EN GUADUA Y CINTA DE SEGURIDAD | D35: =IF(B35=0,"",VLOOKUP(B35,APU!$B$12:$G$1048576,3,FALSE)) -> ML | E35: =IF(B35=0,"",VLOOKUP(B35,Memorias!$B$15:$V$53,21,FALSE)) -> 134.8 | F35: =IF(B35=0,"",VLOOKUP(B35,APU!$B$12:$G$1048576,6,FALSE)) -> 6868 | G35: =ROUND((+PRODUCT(E35:F35)),0) -> 925806
B36: 1.1.3 | C36: =IF(B36=0,"",VLOOKUP(B36,APU!$B$12:$G$1048576,2,FALSE)) -> DEMOLICION DE PAVIMENTO CONCRETO HIDRAULICO CON EQUIPO MECANICO | D36: =IF(B36=0,"",VLOOKUP(B36,APU!$B$12:$G$1048576,3,FALSE)) -> M3 | E36: =IF(B36=0,"",VLOOKUP(B36,Memorias!$B$15:$V$53,21,FALSE)) -> 131 | F36: =IF(B36=0,"",VLOOKUP(B36,APU!$B$12:$G$1048576,6,FALSE)) -> 84597 | G36: =ROUND((+PRODUCT(E36:F36)),0) -> 11082207
B37: 1.1.4 | C37: =IF(B37=0,"",VLOOKUP(B37,APU!$B$12:$G$1048576,2,FALSE)) -> DEMOLICIÓN DE ANDENES Y SARDINELES EN CONCRETO HIDRÁULICO | D37: =IF(B37=0,"",VLOOKUP(B37,APU!$B$12:$G$1048576,3,FALSE)) -> M3 | E37: =IF(B37=0,"",VLOOKUP(B37,Memorias!$B$15:$V$53,21,FALSE)) -> 7 | F37: =IF(B37=0,"",VLOOKUP(B37,APU!$B$12:$G$1048576,6,FALSE)) -> 84122 | G37: =ROUND((+PRODUCT(E37:F37)),0) -> 588854
B39: 1.2 | C39: =IF(B39=0,"",VLOOKUP(B39,APU!$B$12:$G$1048576,2,FALSE)) -> LOCALIZACIÓN Y REPLANTEO | G39: =SUM(G40:G40) -> 509937
B40: 1.2.1 | C40: =IF(B40=0,"",VLOOKUP(B40,APU!$B$12:$G$1048576,2,FALSE)) -> LOCALIZACION Y REPLANTEO DE VIAS incluye eje de via y laterales con andenes | D40: =IF(B40=0,"",VLOOKUP(B40,APU!$B$12:$G$1048576,3,FALSE)) -> ML | E40: =IF(B40=0,"",VLOOKUP(B40,Memorias!$B$15:$V$53,21,FALSE)) -> 129 | F40: =IF(B40=0,"",VLOOKUP(B40,APU!$B$12:$G$1048576,6,FALSE)) -> 3953 | G40: =ROUND((+PRODUCT(E40:F40)),0) -> 509937
B42: 1.3 | C42: =IF(B42=0,"",VLOOKUP(B42,APU!$B$12:$G$1048576,2,FALSE)) -> EXCAVACIONES Y LLENOS | G42: =SUM(G43:G44) -> 10513200
B43: 1.3.1 | C43: =IF(B43=0,"",VLOOKUP(B43,APU!$B$12:$G$1048576,2,FALSE)) -> EXCAVACIÓN A CIELO ABIERTO - MATERIAL COMÚN - 0.0 A 2.0 M | D43: =IF(B43=0,"",VLOOKUP(B43,APU!$B$12:$G$1048576,3,FALSE)) -> M3 | E43: =IF(B43=0,"",VLOOKUP(B43,Memorias!$B$15:$V$53,21,FALSE)) -> 116.883 | F43: =IF(B43=0,"",VLOOKUP(B43,APU!$B$12:$G$1048576,6,FALSE)) -> 28631 | G43: =ROUND((+PRODUCT(E43:F43)),0) -> 3346477
B44: 1.3.2 | C44: =IF(B44=0,"",VLOOKUP(B44,APU!$B$12:$G$1048576,2,FALSE)) -> EXCAVACIÓN A CIELO ABIERTO - CONGLOMERADO - 0.0 A 2.0 M | D44: =IF(B44=0,"",VLOOKUP(B44,APU!$B$12:$G$1048576,3,FALSE)) -> M3 | E44: =IF(B44=0,"",VLOOKUP(B44,Memorias!$B$15:$V$53,21,FALSE)) -> 174.632 | F44: =IF(B44=0,"",VLOOKUP(B44,APU!$B$12:$G$1048576,6,FALSE)) -> 41039 | G44: =ROUND((+PRODUCT(E44:F44)),0) -> 7166723
B46: 1.4 | C46: =IF(B46=0,"",VLOOKUP(B46,APU!$B$12:$G$1048576,2,FALSE)) -> RETIRO DE MATERIAL SOBRANTE | G46: =SUM(G47:G47) -> 19450587
B47: 1.4.1 | C47: =IF(B47=0,"",VLOOKUP(B47,APU!$B$12:$G$1048576,2,FALSE)) -> RETIRO DE MATERIAL SOBRANTE Y ESCOMBROS MEDIDO EN BANCO | D47: =IF(B47=0,"",VLOOKUP(B47,APU!$B$12:$G$1048576,3,FALSE)) -> M3 | E47: =IF(B47=0,"",VLOOKUP(B47,Memorias!$B$15:$V$53,21,FALSE)) -> 429.515 | F47: =IF(B47=0,"",VLOOKUP(B47,APU!$B$12:$G$1048576,6,FALSE)) -> 45285 | G47: =ROUND((+PRODUCT(E47:F47)),0) -> 19450587
B49: 1.5 | C49: =IF(B49=0,"",VLOOKUP(B49,APU!$B$12:$G$1048576,2,FALSE)) -> CIMIENTOS | G49: =SUM(G50:G50) -> 27899305
B50: 1.5.1 | C50: =IF(B50=0,"",VLOOKUP(B50,APU!$B$12:$G$1048576,2,FALSE)) -> RELLENO EN BASE GRANULAR B-400 COMPACTADO AL 95% DEL PROCTOR | D50: =IF(B50=0,"",VLOOKUP(B50,APU!$B$12:$G$1048576,3,FALSE)) -> M3 | E50: =IF(B50=0,"",VLOOKUP(B50,Memorias!$B$15:$V$53,21,FALSE)) -> 145 | F50: =IF(B50=0,"",VLOOKUP(B50,APU!$B$12:$G$1048576,6,FALSE)) -> 192409 | G50: =ROUND((+PRODUCT(E50:F50)),0) -> 27899305
B52: 1.6 | C52: =IF(B52=0,"",VLOOKUP(B52,APU!$B$12:$G$1048576,2,FALSE)) -> PAVIMENTO EN CONCRETO | G52: =SUM(G53:G60) -> 141771671
B53: 1.6.1 | C53: =IF(B53=0,"",VLOOKUP(B53,APU!$B$12:$G$1048576,2,FALSE)) -> SUMINISTRO, TRANSPORTE E INSTALACION PAVIMENTO EN CONCRETO MR 42 HECHO EN OBRA | D53: =IF(B53=0,"",VLOOKUP(B53,APU!$B$12:$G$1048576,3,FALSE)) -> M3 | E53: =IF(B53=0,"",VLOOKUP(B53,Memorias!$B$15:$V$10117,21,FALSE)) -> 131 | F53: =IF(B53=0,"",VLOOKUP(B53,APU!$B$12:$G$1048576,6,FALSE)) -> 791735 | G53: =ROUND((+PRODUCT(E53:F53)),0) -> 103717285
B54: 1.6.2 | C54: =IF(B54=0,"",VLOOKUP(B54,APU!$B$12:$G$1048576,2,FALSE)) -> SUMINISTRO, TRANSPORTE E INSTALACION SARDINEL ANCHO = 20 CM H = ENTRE 17 Y 24 CM EN CONCRETO 3000 PSI | D54: =IF(B54=0,"",VLOOKUP(B54,APU!$B$12:$G$1048576,3,FALSE)) -> ML | E54: =IF(B54=0,"",VLOOKUP(B54,Memorias!$B$15:$V$10117,21,FALSE)) -> 218 | F54: =IF(B54=0,"",VLOOKUP(B54,APU!$B$12:$G$1048576,6,FALSE)) -> 54332 | G54: =ROUND((+PRODUCT(E54:F54)),0) -> 11844376
B55: 1.6.3 | C55: =IF(B55=0,"",VLOOKUP(B55,APU!$B$12:$G$1048576,2,FALSE)) -> CORTE MECANIZADO DE PAVIMENTO 6 mm | D55: =IF(B55=0,"",VLOOKUP(B55,APU!$B$12:$G$1048576,3,FALSE)) -> ML | E55: =IF(B55=0,"",VLOOKUP(B55,Memorias!$B$15:$V$10117,21,FALSE)) -> 374 | F55: =IF(B55=0,"",VLOOKUP(B55,APU!$B$12:$G$1048576,6,FALSE)) -> 8866 | G55: =ROUND((+PRODUCT(E55:F55)),0) -> 3315884
B56: 1.6.4 | C56: =IF(B56=0,"",VLOOKUP(B56,APU!$B$12:$G$1048576,2,FALSE)) -> SUMINISTRO, TRANSPORTE E INSTALACION SELLO DE JUNTA ELASTOMERICO EN PAVIMENTO RIGIDO 6mm | D56: =IF(B56=0,"",VLOOKUP(B56,APU!$B$12:$G$1048576,3,FALSE)) -> ML | E56: =IF(B56=0,"",VLOOKUP(B56,Memorias!$B$15:$V$10117,21,FALSE)) -> 374 | F56: =IF(B56=0,"",VLOOKUP(B56,APU!$B$12:$G$1048576,6,FALSE)) -> 8523 | G56: =ROUND((+PRODUCT(E56:F56)),0) -> 3187602
B57: 1.6.5 | C57: =IF(B57=0,"",VLOOKUP(B57,APU!$B$12:$G$1048576,2,FALSE)) -> SUMINISTRO, TRANSPORTE E INSTALACIÓN DE ANTISOL PARA LOSA DE CONCRETO. | D57: =IF(B57=0,"",VLOOKUP(B57,APU!$B$12:$G$1048576,3,FALSE)) -> M2 | E57: =IF(B57=0,"",VLOOKUP(B57,Memorias!$B$15:$V$10117,21,FALSE)) -> 725 | F57: =IF(B57=0,"",VLOOKUP(B57,APU!$B$12:$G$1048576,6,FALSE)) -> 7357 | G57: =ROUND((+PRODUCT(E57:F57)),0) -> 5333825
B58: 1.6.6 | C58: =IF(B58=0,"",VLOOKUP(B58,APU!$B$12:$G$1048576,2,FALSE)) -> SUMINISTRO, TRANSPORTE E INSTALACIÓN DE ACELERANTE A 7 DIAS PARA CONCRETO MR 42 | D58: =IF(B58=0,"",VLOOKUP(B58,APU!$B$12:$G$1048576,3,FALSE)) -> M3 | E58: =IF(B58=0,"",VLOOKUP(B58,Memorias!$B$15:$V$10117,21,FALSE)) -> 131 | F58: =IF(B58=0,"",VLOOKUP(B58,APU!$B$12:$G$1048576,6,FALSE)) -> 101263 | G58: =ROUND((+PRODUCT(E58:F58)),0) -> 13265453
B59: 1.6.7 | C59: =IF(B59=0,"",VLOOKUP(B59,APU!$B$12:$G$1048576,2,FALSE)) -> SUMINISTRO TRANSPORTE E INSTALACION DE ICOPOR PARA DILATACION EN ESTRUCTURAS - (PAV ANTIGUO CON NUEVO) | D59: =IF(B59=0,"",VLOOKUP(B59,APU!$B$12:$G$1048576,3,FALSE)) -> ML | E59: =IF(B59=0,"",VLOOKUP(B59,Memorias!$B$15:$V$10117,21,FALSE)) -> 79 | F59: =IF(B59=0,"",VLOOKUP(B59,APU!$B$12:$G$1048576,6,FALSE)) -> 4479.72 | G59: =ROUND((+PRODUCT(E59:F59)),0) -> 353898
B60: 1.6.8 | C60: =IF(B60=0,"",VLOOKUP(B60,APU!$B$12:$G$1048576,2,FALSE)) -> SUMINISTRO, TRANSPORTE E INSTALACION ANCLAJE EPOXICO 1/2" L=15 cm (Incluye perforación y adhesivo epóxico) | D60: =IF(B60=0,"",VLOOKUP(B60,APU!$B$12:$G$1048576,3,FALSE)) -> UND | E60: =IF(B60=0,"",VLOOKUP(B60,Memorias!$B$15:$V$10117,21,FALSE)) -> 40 | F60: =IF(B60=0,"",VLOOKUP(B60,APU!$B$12:$G$1048576,6,FALSE)) -> 18833.7 | G60: =ROUND((+PRODUCT(E60:F60)),0) -> 753348
B62: 1.7 | C62: =IF(B62=0,"",VLOOKUP(B62,APU!$B$12:$G$1048576,2,FALSE)) -> ACERO DE REFUERZO | G62: =SUM(G63:G65) -> 23793861
B63: 1.7.1 | C63: =IF(B63=0,"",VLOOKUP(B63,APU!$B$12:$G$1048576,2,FALSE)) -> SUMINISTRO, TRANSPORTE E INSTALACIÓN DE ACERO DE REFUERZO FY = 60.000 PSI = 420 MPA (INCLUYE ALAMBRE NEGRO Y FIGURACIÓN) | D63: =IF(B63=0,"",VLOOKUP(B63,APU!$B$12:$G$1048576,3,FALSE)) -> KG | E63: =+Memorias!V45 -> 953 | F63: =IF(B63=0,"",VLOOKUP(B63,APU!$B$12:$G$1048576,6,FALSE)) -> 9586 | G63: =ROUND((+PRODUCT(E63:F63)),0) -> 9135458
B64: 1.7.2 | C64: CANASTILLA DE SOPORTE DE DOVELAS EN HIERRO 1/4" | D64: =IF(B64=0,"",VLOOKUP(B64,APU!$B$12:$G$1048576,3,FALSE)) -> ML | E64: =+Memorias!V46 -> 161 | F64: =IF(B64=0,"",VLOOKUP(B64,APU!$B$12:$G$1048576,6,FALSE)) -> 20099 | G64: =ROUND((+PRODUCT(E64:F64)),0) -> 3235939
B65: 1.7.3 | C65: =IF(B65=0,"",VLOOKUP(B65,APU!$B$12:$G$1048576,2,FALSE)) -> DOVELAS DE ACERO LISO 60000 PSI PARA PAVIMENTOS | D65: =IF(B65=0,"",VLOOKUP(B65,APU!$B$12:$G$1048576,3,FALSE)) -> KG | E65: =+Memorias!V47 -> 556 | F65: =IF(B65=0,"",VLOOKUP(B65,APU!$B$12:$G$1048576,6,FALSE)) -> 20544 | G65: =ROUND((+PRODUCT(E65:F65)),0) -> 11422464
B67: 1.8 | C67: =IF(B67=0,"",VLOOKUP(B67,APU!$B$12:$G$1048576,2,FALSE)) -> OBRAS EXTERIORES | G67: =SUM(G68:G71) -> 3666509
B68: 1.8.1 | C68: =IF(B68=0,"",VLOOKUP(B68,APU!$B$12:$G$1048576,2,FALSE)) -> ARO TAPA HF D=0.68 M. P/CÁMARA DE INSPECCIÓN | D68: =IF(B68=0,"",VLOOKUP(B68,APU!$B$12:$G$1048576,3,FALSE)) -> UND | E68: =+Memorias!V50 -> 1 | F68: =IF(B68=0,"",VLOOKUP(B68,APU!$B$12:$G$1048576,6,FALSE)) -> 710884 | G68: =ROUND((+PRODUCT(E68:F68)),0) -> 710884
B69: 1.8.2 | C69: =IF(B69=0,"",VLOOKUP(B69,APU!$B$12:$G$1048576,2,FALSE)) -> PLAN DE MANEJO DE TRÁNSITO | D69: =IF(B69=0,"",VLOOKUP(B69,APU!$B$12:$G$1048576,3,FALSE)) -> GLB | E69: =+Memorias!V51 -> 1 | F69: =IF(B69=0,"",VLOOKUP(B69,APU!$B$12:$G$1048576,6,FALSE)) -> 2000000 | G69: =ROUND((+PRODUCT(E69:F69)),0) -> 2000000
B70: 1.8.3 | C70: =IF(B70=0,"",VLOOKUP(B70,APU!$B$12:$G$1048576,2,FALSE)) -> REALCE DE CÁMARA CIRCULAR DE INSPECCIÓN/CAÍDA D=1.20 M. EN CONCRETO CLASE II | D70: =IF(B70=0,"",VLOOKUP(B70,APU!$B$12:$G$1048576,3,FALSE)) -> M3 | E70: =+Memorias!V52 -> 1 | F70: =IF(B70=0,"",VLOOKUP(B70,APU!$B$12:$G$1048576,6,FALSE)) -> 552690 | G70: =ROUND((+PRODUCT(E70:F70)),0) -> 552690
B71: 1.8.4 | C71: =IF(B71=0,"",VLOOKUP(B71,APU!$B$12:$G$1048576,2,FALSE)) -> SUMINISTRO, TRANSPORTE E INSTALACION DEMARCACION PASOS PEATONALES, LINEAS DE PARE, SIMBOLOS, TEXTOS Y OTRAS, CON PINTURA ACRILICA BASE SOLVENTE. | D71: =IF(B71=0,"",VLOOKUP(B71,APU!$B$12:$G$1048576,3,FALSE)) -> M2 | E71: 13 | F71: =IF(B71=0,"",VLOOKUP(B71,APU!$B$12:$G$1048576,6,FALSE)) -> 30995 | G71: =ROUND((+PRODUCT(E71:F71)),0) -> 402935
B73: TOTAL COSTO DIRECTO PAVIMENTO: | G73: =+SUM(G33:G71)/2 -> 240591137
...

Sheet APU_SANTA ANA
B3: =+Presupuesto!B3:G3 -> CONSTRUCCIÓN DE PAVIMENTO EN CONCRETO
B4: =+Presupuesto!B4:G4 -> 0
B6: =+Presupuesto!B5:G5 -> CRA 3 ENTRE CALLE 10A Y 12A VILLAMARÍA, CALDAS
B8: ANÁLISIS DE PRECIOS UNITARIOS - (APU)
F9: Fecha: | G9: 44347
B32: =+B4 -> 0
B34: ITEM | C34: DESCRIPCIÓN | D34: UNIDAD | E34: CANTIDAD | F34: VALOR UNITARIO | G34: VALOR PARCIAL
B36: 1 | C36: Preliminares
B38: 1.01 | C38: Localización y replanteo de Vias. Incluye eje de via y laterales con andenes | D38: ml | G38: =+ROUND(SUM(G39:G43),0) -> 3333
C39: EQUIPO BASICO ( HERRAMIENTA MENOR ) | D39: und | E39: 0.05 | F39: 3017 | G39: =ROUND((+PRODUCT(E39:F39)),0) -> 151
C40: LATA DE GUADUA | D40: und | E40: 1 | F40: 398 | G40: =ROUND((+PRODUCT(E40:F40)),0) -> 398
C41: PINTURA ACRILICA PARA TRAFICO TIPO PINTUCO (PINTUTRÁFICO) O SIMILAR - COLORES: BLANCO, AMARILLO O NEGRO SEGÚN DISEÑO. | D41: gal | E41: 0.008 | F41: 91660 | G41: =ROUND((+PRODUCT(E41:F41)),0) -> 733
C42: PUNTILLA CON CABEZA 2" | D42: lb | E42: 0.01 | F42: 3585 | G42: =ROUND((+PRODUCT(E42:F42)),0) -> 36
C43: COMISION TOPOGRAFICA (INCLUYE TOPOGRAFO, CADENERO Y EQUIPO TOPOGRAFÍA (ESTACIÓN Y NIVEL)). | D43: dia | E43: 0.004 | F43: 503805 | G43: =ROUND((+PRODUCT(E43:F43)),0) -> 2015
B45: 1.02 | C45: Descapote Manual e=0.20 m. | D45: m2 | G45: =+ROUND(SUM(G46:G49),0) -> 2150
C46: EQUIPO BASICO ( HERRAMIENTA MENOR ) | D46: und | E46: 0.09 | F46: 3017 | G46: =ROUND((+PRODUCT(E46:F46)),0) -> 272
C47: CUADRILLA AA TIPO 1 (1 OFICIAL + 1 AYUDANTE) (Albañileria) | D47: hr | E47: 0.09 | F47: 18146 | G47: =ROUND((+PRODUCT(E47:F47)),0) -> 1633
C48: VOLQUETA 6M3 (CARGUE A MANO) | D48: vje | E48: 0.001 | F48: 118086 | G48: =ROUND((+PRODUCT(E48:F48)),0) -> 118
C49: ACARREO INTERNO | D49: und | E49: 0.096 | F49: 1326 | G49: =ROUND((+PRODUCT(E49:F49)),0) -> 127
B51: 1.03 | C51: Nivelacion y Limpieza | D51: m2 | G51: =+ROUND(SUM(G52:G55),0) -> 5762
C52: EQUIPO BASICO ( HERRAMIENTA MENOR ) | D52: und | E52: 0.25 | F52: 3017 | G52: =ROUND((+PRODUCT(E52:F52)),0) -> 754
C53: CUADRILLA AA TIPO 1 (1 OFICIAL + 1 AYUDANTE) (Albañileria) | D53: hr | E53: 0.25 | F53: 18146 | G53: =ROUND((+PRODUCT(E53:F53)),0) -> 4537
C54: VOLQUETA 6M3 (CARGUE A MANO) | D54: vje | E54: 0.001 | F54: 118086 | G54: =ROUND((+PRODUCT(E54:F54)),0) -> 118
C55: ACARREO INTERNO | D55: und | E55: 0.266 | F55: 1326 | G55: =ROUND((+PRODUCT(E55:F55)),0) -> 353
B57: 1.04 | C57: Barrera con bombones en guadua y Cinta de Seguridad | D57: ml | G57: =+ROUND(SUM(G58:G66),0) -> 5825
C58: EQUIPO BASICO ( HERRAMIENTA MENOR ) | D58: und | E58: 0.1 | F58: 3017 | G58: =ROUND((+PRODUCT(E58:F58)),0) -> 302
C59: CUADRILLA AA TIPO 1 (1 OFICIAL + 1 AYUDANTE) (Albañileria) | D59: hr | E59: 0.1 | F59: 18146 | G59: =ROUND((+PRODUCT(E59:F59)),0) -> 1815
C60: FORMALETA PARA BASE DE CONCRETO | D60: und | E60: 0.03 | F60: 4150 | G60: =ROUND((+PRODUCT(E60:F60)),0) -> 125
C61: GUADUA SOBREBASA L= 1.50 MT. 3 USOS | D61: und | E61: 0.06 | F61: 4640 | G61: =ROUND((+PRODUCT(E61:F61)),0) -> 278
C62: CINTA REFLECTIVA DE SEGURIDAD (2 HILERAS) | D62: m | E62: 2.3 | F62: 114 | G62: =ROUND((+PRODUCT(E62:F62)),0) -> 262
C63: CONCRETO 2500 psi - 17.5 Mpa | D63: m3 | E63: 0.004 | F63: 382222 | G63: =ROUND((+PRODUCT(E63:F63)),0) -> 1529
C64: ACARREO INTERNO | D64: und | E64: 0.106 | F64: 1326 | G64: =ROUND((+PRODUCT(E64:F64)),0) -> 141
C65: EQUIPO DE TRANSPORTE | D65: dia | E65: 0.00031 | F65: 131206 | G65: =ROUND((+PRODUCT(E65:F65)),0) -> 41
C66: ESMALTE SINTETICO PINTULUX - TIPO PINTUCO REF. SEGÚN COLOR DISEÑO O SIMILAR | D66: gal | E66: 0.015 | F66: 88790 | G66: =ROUND((+PRODUCT(E66:F66)),0) -> 1332
B68: 1.05 | C68: Corte Mecanizado de Pavimento 0.07 m | D68: ml | G68: =+ROUND(SUM(G69:G72),0) -> 7414
C69: EQUIPO BASICO ( HERRAMIENTA MENOR ) | D69: und | E69: 0.27 | F69: 3017 | G69: =ROUND((+PRODUCT(E69:F69)),0) -> 815
C70: CUADRILLA AA TIPO 1 (1 OFICIAL + 1 AYUDANTE) (Albañileria) | D70: hr | E70: 0.27 | F70: 18146 | G70: =ROUND((+PRODUCT(E70:F70)),0) -> 4899
C71: CORTADORA DE CONCRETO | D71: hr | E71: 0.4 | F71: 2767 | G71: =ROUND((+PRODUCT(E71:F71)),0) -> 1107
C72: ACARREO INTERNO | D72: und | E72: 0.447 | F72: 1326 | G72: =ROUND((+PRODUCT(E72:F72)),0) -> 593
B74: 1.06 | C74: Demolición de Estructuras de Concreto Hidráulico | D74: m3 | G74: =+ROUND(SUM(G75:G79),0) -> 116131
...

Sheet APU_CANT._MATERIALES
B3: =+Presupuesto!B3:G3 -> CONSTRUCCIÓN DE PAVIMENTO EN CONCRETO
B4: =+Presupuesto!B4:G4 -> 0
B6: =+Presupuesto!B5:G5 -> CRA 3 ENTRE CALLE 10A Y 12A VILLAMARÍA, CALDAS
B8: CANTIDAD DE MATERIALES
F9: Fecha: | G9: 44370
B32: =+B4 -> 0
B34: ITEM | C34: DESCRIPCIÓN | D34: UNIDAD | E34: CANTIDAD | F34: VALOR UNITARIO | G34: VALOR PARCIAL
B36: 1 | C36: Preliminares
B38: 1.01 | C38: Localización y replanteo de Vias. Incluye eje de via y laterales con andenes | D38: ml | G38: =+ROUND(SUM(G39:G43),0) -> 585
C39: EQUIPO BASICO ( HERRAMIENTA MENOR ) | D39: und | E39: 0.05 | F39: 3017 | G39: =ROUND((+PRODUCT(E39:F39)),0) -> 151
C40: LATA DE GUADUA | D40: und | E40: 1 | F40: 398 | G40: =ROUND((+PRODUCT(E40:F40)),0) -> 398
C41: PINTURA ACRILICA PARA TRAFICO TIPO PINTUCO (PINTUTRÁFICO) O SIMILAR - COLORES: BLANCO, AMARILLO O NEGRO SEGÚN DISEÑO. | D41: gal | E41: 0.008 | F41: 91660
C42: PUNTILLA CON CABEZA 2" | D42: lb | E42: 0.01 | F42: 3585 | G42: =ROUND((+PRODUCT(E42:F42)),0) -> 36
C43: COMISION TOPOGRAFICA (INCLUYE TOPOGRAFO, CADENERO Y EQUIPO TOPOGRAFÍA (ESTACIÓN Y NIVEL)). | D43: dia | E43: 0.004 | F43: 503805
B45: 1.02 | C45: Descapote Manual e=0.20 m. | D45: m2 | G45: =+ROUND(SUM(G46:G49),0) -> 390
C46: EQUIPO BASICO ( HERRAMIENTA MENOR ) | D46: und | E46: 0.09 | F46: 3017 | G46: =ROUND((+PRODUCT(E46:F46)),0) -> 272
C47: CUADRILLA AA TIPO 1 (1 OFICIAL + 1 AYUDANTE) (Albañileria) | D47: hr | E47: 0.09 | F47: 18146
C48: VOLQUETA 6M3 (CARGUE A MANO) | D48: vje | E48: 0.001 | F48: 118086 | G48: =ROUND((+PRODUCT(E48:F48)),0) -> 118
C49: ACARREO INTERNO | D49: und | E49: 0.096 | F49: 1326
B51: 1.03 | C51: Nivelacion y Limpieza | D51: m2 | G51: =+ROUND(SUM(G52:G55),0) -> 872
C52: EQUIPO BASICO ( HERRAMIENTA MENOR ) | D52: und | E52: 0.25 | F52: 3017 | G52: =ROUND((+PRODUCT(E52:F52)),0) -> 754
C53: CUADRILLA AA TIPO 1 (1 OFICIAL + 1 AYUDANTE) (Albañileria) | D53: hr | E53: 0.25 | F53: 18146
C54: VOLQUETA 6M3 (CARGUE A MANO) | D54: vje | E54: 0.001 | F54: 118086 | G54: =ROUND((+PRODUCT(E54:F54)),0) -> 118
C55: ACARREO INTERNO | D55: und | E55: 0.266 | F55: 1326
B57: 1.04 | C57: Barrera con bombones en guadua y Cinta de Seguridad | D57: ml | G57: =+ROUND(SUM(G58:G66),0) -> 4236
C58: EQUIPO BASICO ( HERRAMIENTA MENOR ) | D58: und | E58: 0.1 | F58: 3017 | G58: =ROUND((+PRODUCT(E58:F58)),0) -> 302
C59: CUADRILLA AA TIPO 1 (1 OFICIAL + 1 AYUDANTE) (Albañileria) | D59: hr | E59: 0.1 | F59: 18146
C60: FORMALETA PARA BASE DE CONCRETO | D60: und | E60: 0.03 | F60: 4150 | G60: =ROUND((+PRODUCT(E60:F60)),0) -> 125
C61: GUADUA SOBREBASA L= 1.50 MT. 3 USOS | D61: und | E61: 0.06 | F61: 4640 | G61: =ROUND((+PRODUCT(E61:F61)),0) -> 278
C62: CINTA REFLECTIVA DE SEGURIDAD (2 HILERAS) | D62: m | E62: 2.3 | F62: 114 | G62: =ROUND((+PRODUCT(E62:F62)),0) -> 262
C63: CONCRETO 2500 psi - 17.5 Mpa | D63: m3 | E63: 0.004 | F63: 474019 | G63: =ROUND((+PRODUCT(E63:F63)),0) -> 1896
C64: ACARREO INTERNO | D64: und | E64: 0.106 | F64: 1326
C65: EQUIPO DE TRANSPORTE | D65: dia | E65: 0.00031 | F65: 131206 | G65: =ROUND((+PRODUCT(E65:F65)),0) -> 41
C66: ESMALTE SINTETICO PINTULUX - TIPO PINTUCO REF. SEGÚN COLOR DISEÑO O SIMILAR | D66: gal | E66: 0.015 | F66: 88790 | G66: =ROUND((+PRODUCT(E66:F66)),0) -> 1332
B68: 1.05 | C68: Corte Mecanizado de Pavimento 0.07 m | D68: ml | G68: =+ROUND(SUM(G69:G72),0) -> 1922
C69: EQUIPO BASICO ( HERRAMIENTA MENOR ) | D69: und | E69: 0.27 | F69: 3017 | G69: =ROUND((+PRODUCT(E69:F69)),0) -> 815
C70: CUADRILLA AA TIPO 1 (1 OFICIAL + 1 AYUDANTE) (Albañileria) | D70: hr | E70: 0.27 | F70: 18146
C71: CORTADORA DE CONCRETO | D71: hr | E71: 0.4 | F71: 2767 | G71: =ROUND((+PRODUCT(E71:F71)),0) -> 1107
C72: ACARREO INTERNO | D72: und | E72: 0.447 | F72: 1326
B74: 1.06 | C74: Demolición de Estructuras de Concreto Hidráulico | D74: m3 | G74: =+ROUND(SUM(G75:G79),0) -> 99226
...

Sheet PPTO_CANT._MATERIALES
B3: PAVIMENTACIÓN DE VIAS
B4: SECTOR SANTA ANA
B6: MUNICIPIO DE VILLAMARÍA, CALDAS
B8: PRESUPUESTO DE OBRA
F9: Fecha: | G9: 44347
B32: =+B4 -> SECTOR SANTA ANA
B34: INFORMACIÓN GENERAL DEL PROYECTO
C36: Plazo de Ejecución Obra: | D36: =+Presupuesto!#REF! -> #REF! | E36: =+Presupuesto!#REF! -> #REF!
C38: Longitud Total Vías a Pavimentar (m): | D38: =SUM(D39:E42) -> #REF!
C39: =Presupuesto!#REF! -> #REF! | D39: =+Presupuesto!#REF! -> #REF!
C40: =Presupuesto!#REF! -> #REF! | D40: =+Presupuesto!#REF! -> #REF!
C41: =Presupuesto!#REF! -> #REF! | D41: =+Presupuesto!#REF! -> #REF!
C42: =Presupuesto!#REF! -> #REF! | D42: =+Presupuesto!#REF! -> #REF!
C44: Ancho Promedio Vía (m): | D44: =+AVERAGE(D45:E48) -> #REF!
C45: =Presupuesto!#REF! -> #REF! | D45: =+Presupuesto!#REF! -> #REF!
C46: =Presupuesto!#REF! -> #REF! | D46: =+Presupuesto!#REF! -> #REF!
C47: =Presupuesto!#REF! -> #REF! | D47: =+Presupuesto!#REF! -> #REF!
C48: =Presupuesto!#REF! -> #REF! | D48: =+Presupuesto!#REF! -> #REF!
C50: Longitud Total de Andenes (m): | D50: =SUM(D51:E54) -> #REF!
C51: =Presupuesto!#REF! -> #REF! | D51: =+Presupuesto!#REF! -> #REF!
C52: =Presupuesto!#REF! -> #REF! | D52: 36
C53: =Presupuesto!#REF! -> #REF! | D53: 36
C54: =Presupuesto!#REF! -> #REF! | D54: 180
C56: Ancho Promedio de Andenes (m): | D56: =+AVERAGE(D57:E60) -> #REF!
C57: =Presupuesto!#REF! -> #REF! | D57: =+Presupuesto!#REF! -> #REF!
C58: =Presupuesto!#REF! -> #REF! | D58: =+Presupuesto!#REF! -> #REF!
C59: =Presupuesto!#REF! -> #REF! | D59: =+Presupuesto!#REF! -> #REF!
C60: =Presupuesto!#REF! -> #REF! | D60: =+Presupuesto!#REF! -> #REF!
C62: Longitud Total de Sardinel: | D62: =SUM(D63:E66) -> #REF!
C63: =Presupuesto!#REF! -> #REF! | D63: =+Presupuesto!#REF! -> #REF!
C64: =Presupuesto!#REF! -> #REF! | D64: =+Presupuesto!#REF! -> #REF!
C65: =Presupuesto!#REF! -> #REF! | D65: =+Presupuesto!#REF! -> #REF!
C66: =Presupuesto!#REF! -> #REF! | D66: =+Presupuesto!#REF! -> #REF!
C68: Altura de Anden (m): | D68: =Presupuesto!#REF! -> #REF!
C70: Altura de Sardinel (cm): | D70: =Presupuesto!#REF! -> #REF!
C72: Espesor acabado Pavimento (m): | D72: =Presupuesto!#REF! -> #REF!
C74: Estructura Granular Vía - Afirmado (m): | D74: =Presupuesto!#REF! -> #REF!
C76: Estructura Granular Adén - Afirmado (m): | D76: =Presupuesto!#REF! -> #REF!
C78: Sustitución con Afirmado Compactado (m): | D78: =Presupuesto!#REF! -> #REF!
C80: AIU (%): | D80: =+'Anális AIU'!$K$52 -> 0
...

Sheet AIU
A1: ALCALDIA DE VILLAMARIA
A3: ANÁLISIS DE A.U.
B5: OBJETO | C5: UN | D5: VLR UNITARIO | E5: Factor Prestacional o de Uso | F5: Hombre Mes o Cantidad | G5: Meses | H5: Valor Total | I5: %
B7: COSTO BASE | G7: 1 | H7: =+Presupuesto!G73 -> 240591137
A9: A | B9: ADMINISTRACIÓN | I9: =I11+I20+I27+I30+I38+I42 -> 0.31036111
A11: 1 | B11: PERSONAL PROFESIONAL Y TÉCNICO | H11: =SUM(H12:H18) -> 11548259 | I11: =SUM(I12:I18) -> 0.04799952
B12: Director (más prestaciones sociales y Fic) | C12: Mes | D12: 5190763 | E12: ='[21]Factor Prestacional'!C47 -> 1.61879 | F12: 0 | G12: 0 | H12: =G12*F12*E12*D12 -> 0 | I12: =H12/$H$7 -> 0
B13: Residente (más prestaciones sociales y Fic) | C13: Mes | D13: 3335571 | E13: ='[21]Factor Prestacional'!C47 -> 1.61879 | F13: 1 | G13: 1 | H13: =G13*F13*E13*D13 -> 5399589 | I13: =H13/$H$7 -> 0.022443009
B14: Profesional Social | C14: Mes | D14: 2582756 | E14: ='[21]Factor Prestacional'!C47 -> 1.61879 | F14: 0.5 | G14: 1 | H14: =G14*F14*E14*D14 -> 2090469.8 | I14: =H14/$H$7 -> 0.0086888895
B15: Residente Social- Syso | C15: Mes | D15: 2582756 | E15: ='[21]Factor Prestacional'!C47 -> 1.61879 | F15: 0.5 | G15: 0 | H15: =G15*F15*E15*D15 -> 0 | I15: =H15/$H$7 -> 0
B16: Topográfo | C16: Mes | D16: 2582756 | E16: ='[21]Factor Prestacional'!C47 -> 1.61879 | F16: 1 | G16: 0 | H16: =G16*F16*E16*D16 -> 0 | I16: =H16/$H$7 -> 0
B17: Cadeneros | C17: Mes | D17: 1000000 | E17: ='[21]Factor Prestacional'!C72 -> 1.69698 | F17: 2 | G17: 0 | H17: =G17*F17*E17*D17 -> 0 | I17: =H17/$H$7 -> 0
B18: Maestro (más prestaciones sociales y Fic) | C18: Mes | D18: 2391425 | E18: ='[21]Factor Prestacional'!C72 -> 1.69698 | F18: 1 | G18: =G7 -> 1 | H18: =G18*F18*E18*D18 -> 4058200.4 | I18: =H18/$H$7 -> 0.016867622
A20: 2 | B20: PERSONAL ADMINISTRATIVO | H20: =SUM(H21:H25) -> 0 | I20: =SUM(I21:I25) -> 0
B21: Contador (más prestaciones sociales) | C21: Mes | D21: 2582756 | E21: ='[21]Factor Prestacional'!C72 -> 1.69698 | F21: 0 | G21: =G7 -> 1 | H21: =G21*F21*E21*D21 -> 0 | I21: =H21/$H$7 -> 0
B22: Almacenista (más prestaciones sociales y Fic) | C22: Mes | D22: 1560000 | E22: ='[21]Factor Prestacional'!C72 -> 1.69698 | F22: 1 | G22: =G7 -> 1 | H22: 0 | I22: =H22/$H$7 -> 0
B23: Mensajero | C23: Mes | D23: 1000000 | E23: ='[21]Factor Prestacional'!C72 -> 1.69698 | F23: 0 | G23: =G7 -> 1 | H23: =G23*F23*E23*D23 -> 0 | I23: =H23/$H$7 -> 0
B24: Secretaria | C24: Mes | D24: 1000000 | E24: ='[21]Factor Prestacional'!C72 -> 1.69698 | F24: 0 | G24: =G7 -> 1 | H24: =G24*F24*E24*D24 -> 0 | I24: =H24/$H$7 -> 0
B25: Celador (más prestaciones sociales y Fic) | C25: Mes | D25: 1186500 | E25: ='[21]Factor Prestacional'!C72 -> 1.69698 | F25: 0 | G25: =G7 -> 1 | H25: =G25*F25*E25*D25 -> 0 | I25: =H25/$H$7 -> 0
A27: 3 | B27: EQUIPO Y GASTOS DE OBRA NO INCLUIDOS EN COSTOS DIRECTOS | H27: =SUM(H28) -> 100000 | I27: =SUM(I28) -> 0.00041564291
B28: Equipo de computo y comunicaciones | C28: Mes | D28: 100000 | E28: 1 | F28: 1 | G28: =+$G$7 -> 1 | H28: =G28*F28*E28*D28 -> 100000 | I28: =H28/$H$7 -> 0.00041564291
A30: 4 | B30: GASTOS DE LEGALIZACIÓN | H30: =SUM(H31:H36) -> 47167893 | I30: =SUM(I31:I36) -> 0.24
B31: Garantía Cumplimiento | C31: Un | D31: =ROUND(H7*10%*0.5%,0) -> 120296 | E31: 0.1 | F31: 1 | G31: 1 | H31: =G31*F31*D31 -> 120296 | I31: =ROUNDUP(H31/$H$7,2) -> 0.01
B32: Garantía Anticipo | C32: Un | D32: =ROUND(H7*20%*100%*0.4%,0) -> 192473 | E32: 1 | F32: 1 | G32: 1 | H32: =G32*F32*D32 -> 192473 | I32: =ROUNDUP(H32/$H$7,2) -> 0.01
B33: Garantía Salarios | C33: Un | D33: =ROUND(H7*20%*1%,0) -> 481182 | E33: 0.2 | F33: 1 | G33: 1 | H33: =G33*F33*D33 -> 481182 | I33: =ROUNDUP(H33/$H$7,2) -> 0.01
B34: Garantía Calidad | C34: Un | D34: =ROUND(H7*30%*0.5%,0) -> 360887 | E34: 0.3 | F34: 1 | G34: 1 | H34: =G34*F34*D34 -> 360887 | I34: =ROUNDUP(H34/$H$7,2) -> 0.01
B35: Amparo Resp.Civil Extracontractual | C35: Un | D35: =ROUND(H7*5%*2.5%,0) -> 300739 | E35: 0.05 | F35: 1 | G35: 1 | H35: =G35*F35*D35 -> 300739 | I35: =ROUNDUP(H35/$H$7,2) -> 0.01
B36: Gastos de legalización | C36: Un | D36: =H7*0.19 -> 45712316 | E36: 0.19 | F36: 1 | G36: 1 | H36: =G36*F36*D36 -> 45712316 | I36: =ROUNDUP(H36/$H$7,2) -> 0.19
A38: 5 | B38: GASTOS DE PAPELERIA | H38: =SUM(H39:H40) -> 280000 | I38: =SUM(I39:I40) -> 0.0011638001
B39: Papelería | C39: Mes | D39: 100000 | E39: 1 | F39: 1 | G39: =G7 -> 1 | H39: =G39*F39*E39*D39 -> 100000 | I39: =H39/$H$7 -> 0.00041564291
B40: Copias | C40: Mes | D40: 180000 | E40: 1 | F40: 1 | G40: =G7 -> 1 | H40: =G40*F40*E40*D40 -> 180000 | I40: =H40/$H$7 -> 0.00074815724
A42: 6 | B42: GASTOS GENERALES | H42: =SUM(H43:H47) -> 5000000 | I42: =SUM(I43:I47) -> 0.020782145
B43: Alquiler de equipo de Topografia | C43: Mes | D43: 2500000 | E43: 1 | F43: 1 | G43: 1 | H43: =G43*F43*E43*D43 -> 2500000 | I43: =H43/$H$7 -> 0.010391073
B44: Alquiler de oficina con servicios | C44: Mes | D44: 1000000 | E44: 1 | F44: 1 | G44: 0 | H44: =G44*F44*E44*D44 -> 0 | I44: =H44/$H$7 -> 0
B45: Ensayos de laboratorio | C45: Mes | D45: ='[22]Ensayos de Laboratorio'!$B$14 -> 1220800 | E45: 0.92452209 | F45: 1 | G45: 0 | H45: =G45*F45*E45*D45 -> 0 | I45: =H45/$H$7 -> 0
B46: Vehiculo con conductor, 4x4 con cilindraje mayor a 2,000 cc | C46: Mes | D46: 2000000 | E46: 1 | F46: 1 | G46: =G7 -> 1 | H46: =G46*F46*E46*D46 -> 2000000 | I46: =H46/$H$7 -> 0.0083128582
B47: Vallas informativas en lamina 12 m x 4 m con suministro de torres | C47: Un | D47: 500000 | E47: 1 | F47: 1 | G47: 1 | H47: =G47*F47*E47*D47 -> 500000 | I47: =H47/$H$7 -> 0.0020782145
A49: U | B49: UTILIDAD | H49: =ROUND(H7*I49,0) -> 12029557 | I49: 0.05
A50: I | B50: IMPREVISTOS | H50: =ROUND(H7*I50,0) -> 0 | I50: 0
B52: T O T A L A.I.U . | H52: =H11+H20+H27+H30+H38+H42+H49+H50 -> 76125709 | I52: =I9+I49+I50 -> 0.36036111

Sheet APU
B3: =+Presupuesto!B3:G3 -> CONSTRUCCIÓN DE PAVIMENTO EN CONCRETO
B5: =+Presupuesto!B5:G5 -> CRA 3 ENTRE CALLE 10A Y 12A VILLAMARÍA, CALDAS
B7: ANALISIS DE PRECIOS UNITARIOS
B10: 1 | C10: PAVIMENTACIÓN
B12: ITEM | C12: DESCRIPCIÓN | D12: UNIDAD | E12: CANTIDAD | F12: VALOR UNITARIO | G12: VALOR PARCIAL
B14: 1.1 | C14: PRELIMINARES
B17: 1.1.1 | C17: SEÑAL PREVENTIVA, REGLAMENTARIA E INFORMATIVA | D17: UND | G17: =+ROUND(SUM(G18:G24),0) -> 194600
C18: CONCRETO 2500 psi - 17.5 Mpa | D18: M3 | E18: 0.01 | F18: 456939 | G18: =ROUND(E18*F18,0) -> 4569
C19: CUADRILLA AA TIPO 1 (1 OFICIAL + 1 AYUDANTE) (Albañileria) | D19: HR | E19: 2 | F19: 21336 | G19: =ROUND(E19*F19,0) -> 42672
C20: FORMALETA PARA BASE DE CONCRETO | D20: UND | E20: 0.5 | F20: 4959 | G20: =ROUND(E20*F20,0) -> 2480
C21: EQUIPO DE TRANSPORTE | D21: DIA | E21: 0.228 | F21: 156760 | G21: =ROUND(E21*F21,0) -> 35741
C22: EQUIPO BASICO (HERRAMIENTA MENOR) | D22: UND | E22: 2 | F22: 3030 | G22: =ROUND(E22*F22,0) -> 6060
C23: ACARREO INTERNO | D23: UND | E23: 0.158 | F23: 1586 | G23: =ROUND(E23*F23,0) -> 251
C24: SEÑAL PREVENTIVA, REGLAMENTARIA E INFORMATIVA (2 USOS) | D24: UND | E24: 0.6 | F24: 171379 | G24: =ROUND(E24*F24,0) -> 102827
B26: 1.1.2 | C26: SUMINISTRO, TRANSPORTE E INSTALACION BARRERA CON BOMBONES EN GUADUA Y CINTA DE SEGURIDAD | D26: ML | G26: =+ROUND(SUM(G27:G35),0) -> 6868 | H26: 9136
C27: CONCRETO 2500 psi - 17.5 Mpa | D27: M3 | E27: 0.004 | F27: 456939 | G27: =ROUND(E27*F27,0) -> 1828 | H27: 920
C28: CUADRILLA AA TIPO 1 (1 OFICIAL + 1 AYUDANTE) (Albañileria) | D28: HR | E28: 0.1 | F28: 21336 | G28: =ROUND(E28*F28,0) -> 2134 | H28: 157
C29: FORMALETA PARA BASE DE CONCRETO | D29: UND | E29: 0.03 | F29: 4959 | G29: =ROUND(E29*F29,0) -> 149 | H29: 134
C30: EQUIPO DE TRANSPORTE | D30: DIA | E30: 0.00031 | F30: 156760 | G30: =ROUND(E30*F30,0) -> 49
C31: EQUIPO BASICO (HERRAMIENTA MENOR) | D31: UND | E31: 0.1 | F31: 3030 | G31: =ROUND(E31*F31,0) -> 303
C32: ESMALTE SINTETICO PINTULUX - TIPO PINTUCO REF. SEGÚN COLOR DISEÑO O SIMILAR | D32: GAL | E32: 0.015 | F32: 106083 | G32: =ROUND(E32*F32,0) -> 1591 | H32: 74
C33: ACARREO INTERNO | D33: UND | E33: 0.106 | F33: 1586 | G33: =ROUND(E33*F33,0) -> 168 | H33: 1666
C34: CINTA REFLECTIVA DE SEGURIDAD (2 HILERAS) | D34: M | E34: 2.3 | F34: 136 | G34: =ROUND(E34*F34,0) -> 313 | H34: 5909
C35: GUADUA SOBREBASA L= 1.50 MT. 3 USOS | D35: UND | E35: 0.06 | F35: 5546 | G35: =ROUND(E35*F35,0) -> 333 | H35: 276
B38: 1.1.3 | C38: DEMOLICION DE PAVIMENTO CONCRETO HIDRAULICO CON EQUIPO MECANICO | D38: M3 | G38: =+SUM(G39:G42) -> 84597
C39: CUADRILLA AA TIPO 4 (1 OFICIAL + 4 AYUDANTE) (Albañileria) | D39: HR | E39: 0.4 | F39: 45954 | G39: =ROUND(E39*F39,0) -> 18382
C40: COMPRESOR 2 MARTILLOS (INCLUYE ACPM Y TRANSPORTE) | D40: HR | E40: 0.7 | F40: 90929 | G40: =ROUND(E40*F40,0) -> 63650
C41: EQUIPO BASICO (HERRAMIENTA MENOR) | D41: UND | E41: 0.4 | F41: 3030 | G41: =ROUND(E41*F41,0) -> 1212
C42: ACARREO INTERNO | D42: UND | E42: 0.853 | F42: 1586 | G42: =ROUND(E42*F42,0) -> 1353
B44: 1.1.4 | C44: DEMOLICIÓN DE ANDENES Y SARDINELES EN CONCRETO HIDRÁULICO | D44: M3 | G44: =+SUM(G45:G48) -> 84122
C45: CUADRILLA AA TIPO 1 (1 OFICIAL + 1 AYUDANTE) (Albañileria) | D45: HR | E45: 0.78 | F45: 21336 | G45: =ROUND(E45*F45,0) -> 16642
C46: COMPRESOR 2 MARTILLOS (INCLUYE ACPM Y TRANSPORTE) | D46: HR | E46: 0.7 | F46: 90929 | G46: =ROUND(E46*F46,0) -> 63650
C47: EQUIPO BASICO (HERRAMIENTA MENOR) | D47: UND | E47: 0.78 | F47: 3030 | G47: =ROUND(E47*F47,0) -> 2363
C48: ACARREO INTERNO | D48: UND | E48: 0.925 | F48: 1586 | G48: =ROUND(E48*F48,0) -> 1467
B50: 1.2 | C50: LOCALIZACIÓN Y REPLANTEO
B52: 1.2.1 | C52: LOCALIZACION Y REPLANTEO DE VIAS incluye eje de via y laterales con andenes | D52: ML | G52: =SUM(G53:G57) -> 3953
C53: EQUIPO BASICO (HERRAMIENTA MENOR) | D53: UND | E53: 0.05 | F53: 3030 | G53: =ROUND(E53*F53,0) -> 152
C54: PINTURA ACRILICA PARA TRAFICO TIPO PINTUCO (PINTUTRÁFICO) O SIMILAR - COLORES: BLANCO, AMARILLO O NEGRO SEGÚN DISEÑO. | D54: GAL | E54: 0.008 | F54: 109512 | G54: =ROUND(E54*F54,0) -> 876
C55: COMISION TOPOGRAFICA (INCLUYE TOPOGRAFO, CADENERO Y EQUIPO TOPOGRAFÍA (ESTACIÓN Y NIVEL)). | D55: DIA | E55: 0.004 | F55: 601935 | G55: =ROUND(E55*F55,0) -> 2408
C56: PUNTILLA CON CABEZA 2" | D56: LB | E56: 0.01 | F56: 4283 | G56: =ROUND(E56*F56,0) -> 43
...

Sheet Anális AIU
B2: ANALISIS DEL AIU
C4: Valor estimado de la Obra (Costo Directo) | F4: =+Presupuesto!G73 -> 240591137
C5: Plazo estimado de ejecución (Meses): | F5: 1
E6: Contratista Persona Natural (SI o NO): | F6: SI
B8: CAPITULO | C8: TIPO DE GASTO | D8: UN | E8: CANT. | F8: DEDICACION | G8: VR. UNITARIO (mes) | H8: FACTOR PRESTACIONAL O FACTOR AIU (PARA INDIRECTOS) | I8: VALOR TOTAL | J8: SUMA | K8: PORCENTAJE
B9: 1 | C9: GASTOS GENERALES | K9: =J10/F4 -> 0.032443797
B10: 1.1 | C10: MANO DE OBRA Y GASTOS DE OFICINA | J10: =SUM(I11:I26) -> 7805690 | K10: =SUM(K11:K26) -> 0.032443797
C11: Contratista (solo aplica para personas naturales) | D11: Un | E11: 0 | F11: 0.25 | G11: 15400000 | H11: =+IF(G11>2*'[23]Análisis Factor Prestacional'!$D$6,'[23]Análisis Factor Prestacional'!$E$29,'[23]Análisis Factor Prestacional'!$D$29) -> 0.6556 | I11: =+E11*F11*$F$5*G11*(1+H11) -> 0 | K11: =+I11/$F$4 -> 0
C12: Ingeniero Director | D12: Un | E12: 0 | F12: 0.25 | G12: 4300000 | H12: =+IF(G12>2*'[23]Análisis Factor Prestacional'!$D$6,'[23]Análisis Factor Prestacional'!$E$29,'[23]Análisis Factor Prestacional'!$D$29) -> 0.6556 | I12: =+E12*F12*$F$5*G12*(1+H12) -> 0 | K12: =+I12/$F$4 -> 0
C13: Ingeniero Residente | D13: Un | E13: 1 | F13: 0.55 | G13: 3500000 | H13: =+IF(G13>2*'[23]Análisis Factor Prestacional'!$D$6,'[23]Análisis Factor Prestacional'!$E$29,'[23]Análisis Factor Prestacional'!$D$29) -> 0.6556 | I13: =+E13*F13*$F$5*G13*(1+H13) -> 3187030 | K13: =+I13/$F$4 -> 0.013246664
C14: Maestro de Obra | D14: Un | E14: 1 | F14: 1 | G14: 1800000 | H14: =+IF(G14>2*'[23]Análisis Factor Prestacional'!$D$6,'[23]Análisis Factor Prestacional'!$E$29,'[23]Análisis Factor Prestacional'!$D$29) -> 0.84370002 | I14: =+E14*F14*$F$5*G14*(1+H14) -> 3318660 | K14: =+I14/$F$4 -> 0.013793775
C15: Residente de Salud Ocupacional | D15: Un | E15: 0 | F15: 0.2 | G15: 2500000 | H15: =+IF(G15>2*'[23]Análisis Factor Prestacional'!$D$6,'[23]Análisis Factor Prestacional'!$E$29,'[23]Análisis Factor Prestacional'!$D$29) -> 0.6556 | I15: =+E15*F15*$F$5*G15*(1+H15) -> 0 | K15: =+I15/$F$4 -> 0
C16: Trabajador social | D16: Un | E16: 0 | F16: 0.2 | G16: 2500000 | H16: =+IF(G16>2*'[23]Análisis Factor Prestacional'!$D$6,'[23]Análisis Factor Prestacional'!$E$29,'[23]Análisis Factor Prestacional'!$D$29) -> 0.6556 | I16: =+E16*F16*$F$5*G16*(1+H16) -> 0 | K16: =+I16/$F$4 -> 0
C17: Almacenista | D17: Un | E17: 0 | F17: 1 | G17: 616000 | H17: =+IF(G17>2*'[23]Análisis Factor Prestacional'!$D$6,'[23]Análisis Factor Prestacional'!$E$29,'[23]Análisis Factor Prestacional'!$D$29) -> 0.84370002 | I17: =+E17*F17*$F$5*G17*(1+H17) -> 0 | K17: =+I17/$F$4 -> 0
C18: Celador con prestaciones | D18: Un | E18: 0 | F18: 1 | G18: 800000 | H18: =+IF(G18>2*'[23]Análisis Factor Prestacional'!$D$6,'[23]Análisis Factor Prestacional'!$E$29,'[23]Análisis Factor Prestacional'!$D$29) -> 0.84370002 | I18: =+E18*F18*$F$5*G18*(1+H18) -> 0 | K18: =+I18/$F$4 -> 0
C19: Secretaria con prestaciones | D19: Un | E19: 0 | F19: 0.3 | G19: 700000 | H19: =+'[23]Análisis Factor Prestacional'!G29 -> 0.82340002 | I19: =+E19*F19*$F$5*G19*(1+H19) -> 0 | K19: =+I19/$F$4 -> 0
C20: Contador | D20: Un | E20: 0 | F20: 0.15 | G20: 1500000 | H20: =+IF(G20>2*'[23]Análisis Factor Prestacional'!$D$6,'[23]Análisis Factor Prestacional'!$E$29,'[23]Análisis Factor Prestacional'!$D$29) -> 0.84370002 | I20: =+E20*F20*$F$5*G20*(1+H20) -> 0 | K20: =+I20/$F$4 -> 0
C21: Equipo de Oficina (Escritorio, pc, impresora, sillas, papeleria) | D21: Mes | E21: 0 | F21: 1 | G21: 350000 | I21: =+E21*F21*$F$5*G21*(1+H21) -> 0 | K21: =+I21/$F$4 -> 0
C22: Seguridad industrial personal | D22: Mes | E22: 1 | F22: 1 | G22: 1000000 | I22: =+E22*F22*$F$5*G22*(1+H22) -> 1000000 | K22: =+I22/$F$4 -> 0.0041564291
C23: Plan de Salud ocupacional y seguridad industrial | D23: Mes | E23: 1 | F23: 1 | G23: 300000 | I23: =+E23*F23*$F$5*G23*(1+H23) -> 300000 | K23: =+I23/$F$4 -> 0.0012469287
C24: Sistema de gestion ambiental | D24: Mes | E24: 0 | F24: 1 | G24: 300000 | I24: =+E24*F24*$F$5*G24*(1+H24) -> 0 | K24: =+I24/$F$4 -> 0
C25: Sistema de gestion de calidad | D25: Mes | E25: 0 | F25: 1 | G25: 600000 | I25: =+E25*F25*$F$5*G25*(1+H25) -> 0 | K25: =+I25/$F$4 -> 0
C26: Costos financiero | D26: Mes | E26: 0 | F26: 1 | G26: 300000 | I26: =+E26*F26*$F$5*G26*(1+H26) -> 0 | K26: =+I26/$F$4 -> 0
B28: 2 | C28: GASTOS INDIRECTOS. | K28: =K29+K33+K42 -> 0.26767
B29: 2.1 | C29: LEGALIZACION. | J29: =SUM(I30:I32) -> 0 | K29: =SUM(K30:K32) -> 0
C30: Impuesto de Timbre | D30: % | E30: 0 | G30: 0 | H30: 1.45 | I30: =+G30*E30*H30 -> 0 | K30: =+I30/$F$4 -> 0
C31: Publicación diario oficial | D31: % | E31: 0 | G31: 0 | H31: =+$H$30 -> 1.45 | I31: =+G31*E31*H31 -> 0 | K31: =+I31/$F$4 -> 0
C32: Licencia de Construccion | D32: % | E32: 0 | G32: 0 | H32: =+$H$30 -> 1.45 | I32: =+G32*E32*H32 -> 0 | K32: =+I32/$F$4 -> 0
B33: 2.2 | C33: POLIZAS | J33: =SUM(I34:I41) -> 5093314.4 | K33: =SUM(K34:K41) -> 0.02117
C34: Seriedad de la Propuesta. | D34: % | E34: 0.0002 | F34: Pre-contractual | G34: =+$F$4 -> 240591137 | H34: =+$H$30 -> 1.45 | I34: =+G34*E34*H34 -> 69771.43 | K34: =+I34/$F$4 -> 0.00029
C35: Anticipo | D35: % | E35: 0.0009 | F35: Pre-contractual | G35: =+$F$4 -> 240591137 | H35: =+$H$30 -> 1.45 | I35: =+G35*E35*H35 -> 313971.43 | K35: =+I35/$F$4 -> 0.001305
C36: Cumplimiento del contrato | D36: % | E36: 0.0007 | F36: Post contractual | G36: =+$F$4 -> 240591137 | H36: =+$H$30 -> 1.45 | I36: =+G36*E36*H36 -> 244200 | K36: =+I36/$F$4 -> 0.001015
C37: Estabilidad | D37: % | E37: 0.0058 | G37: =+$F$4 -> 240591137 | H37: =+$H$30 -> 1.45 | I37: =+G37*E37*H37 -> 2023371.5 | K37: =+I37/$F$4 -> 0.00841
C38: Calidad del Servicio | D38: % | E38: 0 | F38: contractual | G38: =+$F$4 -> 240591137 | H38: =+$H$30 -> 1.45 | I38: =+G38*E38*H38 -> 0 | K38: =+I38/$F$4 -> 0
C39: Prestaciones Sociales | D39: % | E39: 0.0024 | F39: contractual | G39: =+$F$4 -> 240591137 | H39: =+$H$30 -> 1.45 | I39: =+G39*E39*H39 -> 837257.16 | K39: =+I39/$F$4 -> 0.00348
C40: Responsabilidad Civil | D40: % | E40: 0.0019 | F40: contractual | G40: =+$F$4 -> 240591137 | H40: =+$H$30 -> 1.45 | I40: =+G40*E40*H40 -> 662828.58 | K40: =+I40/$F$4 -> 0.002755
C41: Todo riesgo | D41: % | E41: 0.0027 | G41: =+$F$4 -> 240591137 | H41: =+$H$30 -> 1.45 | I41: =+G41*E41*H41 -> 941914.3 | K41: =+I41/$F$4 -> 0.003915
B42: 2.3 | C42: IMPUESTOS Y CONTRIBUCIONES | J42: =SUM(I43:I52) -> 59305715 | K42: =SUM(K43:K52) -> 0.2465
C43: Contribuación Especial | D43: % | E43: 0.05 | G43: =+$F$4 -> 240591137 | H43: =+$H$30 -> 1.45 | I43: =+G43*E43*H43 -> 17442857 | K43: =+I43/$F$4 -> 0.0725
C44: Retencion contrato de obra | D44: % | E44: 0.04 | G44: =+$F$4 -> 240591137 | H44: =+$H$30 -> 1.45 | I44: =+G44*E44*H44 -> 13954286 | K44: =+I44/$F$4 -> 0.058
...

Sheet Memorias
B3: =+Presupuesto!B3 -> CONSTRUCCIÓN DE PAVIMENTO EN CONCRETO
B5: =+Presupuesto!B5 -> CRA 3 ENTRE CALLE 10A Y 12A VILLAMARÍA, CALDAS
B7: CANTIDADES DE OBRA
S8: Fecha: | T8: =+Presupuesto!G8 -> 45120
B10: =+APU!$B$10 -> 1 | C10: =+APU!$C$10 -> PAVIMENTACIÓN
B13: Item | C13: Descripción | U13: Und | V13: Cantidad
B14: 1.1 | C14: =IF(B14=0,"",VLOOKUP(B14,APU!$B$12:$G$1048576,2,FALSE)) -> PRELIMINARES
B15: 1.1.1 | C15: =IF(B15=0,"",VLOOKUP(B15,APU!B13:$G$1048576,2,FALSE)) -> SEÑAL PREVENTIVA, REGLAMENTARIA E INFORMATIVA | U15: =IF(B15=0,"",VLOOKUP(B15,APU!B13:$G$1048576,3,FALSE)) -> UND | V15: =+T81 -> 2
B16: 1.1.2 | C16: =IF(B16=0,"",VLOOKUP(B16,APU!B14:$G$1048576,2,FALSE)) -> SUMINISTRO, TRANSPORTE E INSTALACION BARRERA CON BOMBONES EN GUADUA Y CINTA DE SEGURIDAD | U16: =IF(B16=0,"",VLOOKUP(B16,APU!B14:$G$1048576,3,FALSE)) -> ML | V16: =+T104 -> 134.8
B17: 1.1.3 | C17: =IF(B17=0,"",VLOOKUP(B17,APU!B16:$G$1048576,2,FALSE)) -> DEMOLICION DE PAVIMENTO CONCRETO HIDRAULICO CON EQUIPO MECANICO | U17: =IF(B17=0,"",VLOOKUP(B17,APU!B16:$G$1048576,3,FALSE)) -> M3 | V17: =+T179 -> 131
B18: 1.1.4 | C18: =IF(B18=0,"",VLOOKUP(B18,APU!B16:$G$1048576,2,FALSE)) -> DEMOLICIÓN DE ANDENES Y SARDINELES EN CONCRETO HIDRÁULICO | U18: =IF(B18=0,"",VLOOKUP(B18,APU!B16:$G$1048576,3,FALSE)) -> M3 | V18: =+T202 -> 7
B20: 1.2 | C20: =IF(B20=0,"",VLOOKUP(B20,APU!$B$12:$G$1048576,2,FALSE)) -> LOCALIZACIÓN Y REPLANTEO
B21: 1.2.1 | C21: =IF(B21=0,"",VLOOKUP(B21,APU!B21:$G$1048576,2,FALSE)) -> LOCALIZACION Y REPLANTEO DE VIAS incluye eje de via y laterales con andenes | U21: =IF(B21=0,"",VLOOKUP(B21,APU!B21:$G$1048576,3,FALSE)) -> ML | V21: =+T218 -> 129
B23: 1.3 | C23: =IF(B23=0,"",VLOOKUP(B23,APU!$B$12:$G$1048576,2,FALSE)) -> EXCAVACIONES Y LLENOS
B24: 1.3.1 | C24: =IF(B24=0,"",VLOOKUP(B24,APU!B29:$G$1048576,2,FALSE)) -> EXCAVACIÓN A CIELO ABIERTO - MATERIAL COMÚN - 0.0 A 2.0 M | U24: =IF(B24=0,"",VLOOKUP(B24,APU!B29:$G$1048576,3,FALSE)) -> M3 | V24: =+T252 -> 116.883
B25: 1.3.2 | C25: =IF(B25=0,"",VLOOKUP(B25,APU!B30:$G$1048576,2,FALSE)) -> EXCAVACIÓN A CIELO ABIERTO - CONGLOMERADO - 0.0 A 2.0 M | U25: =IF(B25=0,"",VLOOKUP(B25,APU!B30:$G$1048576,3,FALSE)) -> M3 | V25: =+T284 -> 174.632
B27: 1.4 | C27: =IF(B27=0,"",VLOOKUP(B27,APU!$B$12:$G$1048576,2,FALSE)) -> RETIRO DE MATERIAL SOBRANTE
B28: 1.4.1 | C28: =IF(B28=0,"",VLOOKUP(B28,APU!B36:$G$1048576,2,FALSE)) -> RETIRO DE MATERIAL SOBRANTE Y ESCOMBROS MEDIDO EN BANCO | U28: =IF(B28=0,"",VLOOKUP(B28,APU!B36:$G$1048576,3,FALSE)) -> M3 | V28: =+T294 -> 429.515
B30: 1.5 | C30: =IF(B30=0,"",VLOOKUP(B30,APU!$B$12:$G$1048576,2,FALSE)) -> CIMIENTOS
B31: 1.5.1 | C31: =IF(B31=0,"",VLOOKUP(B31,APU!B37:$G$1048576,2,FALSE)) -> RELLENO EN BASE GRANULAR B-400 COMPACTADO AL 95% DEL PROCTOR | U31: =IF(B31=0,"",VLOOKUP(B31,APU!B37:$G$1048576,3,FALSE)) -> M3 | V31: =+T328 -> 145
B32: 1.5.2 | C32: =IF(B32=0,"",VLOOKUP(B32,APU!B37:$G$1048576,2,FALSE)) -> SUMINISTRO, TRANSPORTE E INSTALACION AFIRMADO PARA ANDENES | U32: =IF(B32=0,"",VLOOKUP(B32,APU!B37:$G$1048576,3,FALSE)) -> M3 | V32: =+T351 -> 0
B34: 1.6 | C34: =IF(B34=0,"",VLOOKUP(B34,APU!$B$12:$G$1048576,2,FALSE)) -> PAVIMENTO EN CONCRETO
B35: 1.6.1 | C35: =IF(B35=0,"",VLOOKUP(B35,APU!B37:$G$1048576,2,FALSE)) -> SUMINISTRO, TRANSPORTE E INSTALACION PAVIMENTO EN CONCRETO MR 42 HECHO EN OBRA | U35: =IF(B35=0,"",VLOOKUP(B35,APU!B37:$G$1048576,3,FALSE)) -> M3 | V35: =+T385 -> 131
B36: 1.6.2 | C36: =IF(B36=0,"",VLOOKUP(B36,APU!B37:$G$1048576,2,FALSE)) -> SUMINISTRO, TRANSPORTE E INSTALACION SARDINEL ANCHO = 20 CM H = ENTRE 17 Y 24 CM EN CONCRETO 3000 PSI | U36: =IF(B36=0,"",VLOOKUP(B36,APU!B37:$G$1048576,3,FALSE)) -> ML | V36: =+T400 -> 218
B37: 1.6.3 | C37: =IF(B37=0,"",VLOOKUP(B37,APU!B37:$G$1048576,2,FALSE)) -> CORTE MECANIZADO DE PAVIMENTO 6 mm | U37: =IF(B37=0,"",VLOOKUP(B37,APU!B37:$G$1048576,3,FALSE)) -> ML | V37: =+T432 -> 374
B38: 1.6.4 | C38: =IF(B38=0,"",VLOOKUP(B38,APU!B37:$G$1048576,2,FALSE)) -> SUMINISTRO, TRANSPORTE E INSTALACION SELLO DE JUNTA ELASTOMERICO EN PAVIMENTO RIGIDO 6mm | U38: =IF(B38=0,"",VLOOKUP(B38,APU!B37:$G$1048576,3,FALSE)) -> ML | V38: =+T465 -> 374
B39: 1.6.5 | C39: =IF(B39=0,"",VLOOKUP(B39,APU!B37:$G$1048576,2,FALSE)) -> SUMINISTRO, TRANSPORTE E INSTALACIÓN DE ANTISOL PARA LOSA DE CONCRETO. | U39: =IF(B39=0,"",VLOOKUP(B39,APU!B37:$G$1048576,3,FALSE)) -> M2 | V39: =+T488 -> 725
B40: 1.6.6 | C40: =IF(B40=0,"",VLOOKUP(B40,APU!B37:$G$1048576,2,FALSE)) -> SUMINISTRO, TRANSPORTE E INSTALACIÓN DE ACELERANTE A 7 DIAS PARA CONCRETO MR 42 | U40: =IF(B40=0,"",VLOOKUP(B40,APU!B37:$G$1048576,3,FALSE)) -> M3 | V40: =+T511 -> 131
B41: 1.6.7 | C41: =IF(B41=0,"",VLOOKUP(B41,APU!B37:$G$1048576,2,FALSE)) -> SUMINISTRO TRANSPORTE E INSTALACION DE ICOPOR PARA DILATACION EN ESTRUCTURAS - (PAV ANTIGUO CON NUEVO) | U41: =IF(B41=0,"",VLOOKUP(B41,APU!B37:$G$1048576,3,FALSE)) -> ML | V41: =+T525 -> 79
B42: 1.6.8 | C42: =IF(B42=0,"",VLOOKUP(B42,APU!B38:$G$1048576,2,FALSE)) -> SUMINISTRO, TRANSPORTE E INSTALACION ANCLAJE EPOXICO 1/2" L=15 cm (Incluye perforación y adhesivo epóxico) | U42: =IF(B42=0,"",VLOOKUP(B42,APU!B38:$G$1048576,3,FALSE)) -> UND | V42: =+T539 -> 40
B44: 1.7 | C44: =IF(B44=0,"",VLOOKUP(B44,APU!$B$12:$G$1048576,2,FALSE)) -> ACERO DE REFUERZO
B45: 1.7.1 | C45: =IF(B45=0,"",VLOOKUP(B45,APU!B37:$G$1048576,2,FALSE)) -> SUMINISTRO, TRANSPORTE E INSTALACIÓN DE ACERO DE REFUERZO FY = 60.000 PSI = 420 MPA (INCLUYE ALAMBRE NEGRO Y FIGURACIÓN) | U45: =IF(B45=0,"",VLOOKUP(B45,APU!B37:$G$1048576,3,FALSE)) -> KG | V45: =+T593 -> 953
B46: 1.7.2 | C46: =IF(B46=0,"",VLOOKUP(B46,APU!B37:$G$1048576,2,FALSE)) -> CANASTILLA DE SOPORTE DE DOVELAS EN HIERRO 3/8" Y 1/4" | U46: =IF(B46=0,"",VLOOKUP(B46,APU!B37:$G$1048576,3,FALSE)) -> ML | V46: =+T609 -> 161
B47: 1.7.3 | C47: =IF(B47=0,"",VLOOKUP(B47,APU!B49:$G$1048576,2,FALSE)) -> DOVELAS DE ACERO LISO 60000 PSI PARA PAVIMENTOS | U47: =IF(B47=0,"",VLOOKUP(B47,APU!B49:$G$1048576,3,FALSE)) -> KG | V47: =+T624 -> 556
B49: 1.8 | C49: =IF(B49=0,"",VLOOKUP(B49,APU!$B$12:$G$1048576,2,FALSE)) -> OBRAS EXTERIORES
B50: 1.8.1 | C50: =IF(B50=0,"",VLOOKUP(B50,APU!B49:$G$1048576,2,FALSE)) -> ARO TAPA HF D=0.68 M. P/CÁMARA DE INSPECCIÓN | U50: =IF(B50=0,"",VLOOKUP(B50,APU!B49:$G$1048576,3,FALSE)) -> UND | V50: =+T633 -> 1
B51: 1.8.2 | C51: =IF(B51=0,"",VLOOKUP(B51,APU!B49:$G$1048576,2,FALSE)) -> PLAN DE MANEJO DE TRÁNSITO | U51: =IF(B51=0,"",VLOOKUP(B51,APU!B49:$G$1048576,3,FALSE)) -> GLB | V51: =+T639 -> 1
B52: 1.8.3 | C52: =IF(B52=0,"",VLOOKUP(B52,APU!B49:$G$1048576,2,FALSE)) -> REALCE DE CÁMARA CIRCULAR DE INSPECCIÓN/CAÍDA D=1.20 M. EN CONCRETO CLASE II | U52: =IF(B52=0,"",VLOOKUP(B52,APU!B49:$G$1048576,3,FALSE)) -> M3 | V52: =+T646 -> 1
G54: REFERENCIA
G55: Longitud Total Pavimentar (m):
...

Sheet Memorias_tramos
A2: TRAMO 1.1 | C2: TRAMO 1.2
A3: Longitud a pavimentar | B3: =3.7+3.7 -> 7.4 | C3: Longitud a pavimentar | D3: =3.45+3.45+2.65+2.65 -> 12.2
A4: Ancho a pavimentar | B4: 3.3 | C4: Ancho a pavimentar | D4: 6.52
A5: Longitud de Sardinel | B5: =+B3 -> 7.4 | C5: Longitud de Sardinel | D5: =+D3*2 -> 24.4
A6: Longitud de Andén | C6: Longitud de Andén
A7: Numero de placas | B7: 2 | C7: Numero de placas | D7: 8
A8: Longitud de juntas transversal | B8: =+B4*3 -> 9.9 | C8: Longitud de juntas transversal | D8: =5*D4 -> 32.6
A9: Longitud de juntas Longitudinal | B9: =+B3 -> 7.4 | C9: Longitud de juntas Longitudinal | D9: =+D3 -> 12.2
A10: Acero en Placas | C10: Acero en Placas
A12: TRAMO 2
A13: Longitud a pavimentar | B13: =4.2+4.2+3.2+3.2+4.9+2 -> 21.7
A14: Ancho a pavimentar | B14: 6.52
A15: Longitud de Sardinel | B15: =+B13*2 -> 43.4
A16: Longitud de Andén
A17: Numero de placas | B17: 12
A18: Longitud de juntas transversal | B18: =7*B14 -> 45.64
A19: Longitud de juntas Longitudinal | B19: =+B13 -> 21.7
A20: Acero en Placas
A22: TRAMO 3
A23: Longitud a pavimentar | B23: =3.25+3.25 -> 6.5
A24: Ancho a pavimentar | B24: 6.4
A25: Longitud de Sardinel | B25: 0
A26: Longitud de Andén | B26: 0
A27: Numero de placas | B27: 4
A28: Longitud de juntas transversal | B28: =+B24*3 -> 19.2
A29: Longitud de juntas Longitudinal | B29: =+B23*3 -> 19.5
A30: Acero en Placas
A32: TRAMO 4 | C32: TRAMO 4
A33: Longitud a pavimentar | B33: 27.7 | C33: Longitud a pavimentar | D33: 21.7
A34: Ancho a pavimentar | B34: =3.36+3.38 -> 6.74 | C34: Ancho a pavimentar | D34: =3.36+3.38 -> 6.74
A35: Longitud de Sardinel | B35: =+B33*2 -> 55.4 | C35: Longitud de Sardinel | D35: =+D33*2 -> 43.4
A36: Longitud de Andén | C36: Longitud de Andén
A37: Numero de placas | B37: 16 | C37: Numero de placas | D37: 12
A38: Longitud de juntas transversal | B38: =+B34*9 -> 60.66 | C38: Longitud de juntas transversal | D38: =+D34*7 -> 47.18
A39: Longitud de juntas Longitudinal | B39: =+B33 -> 27.7 | C39: Longitud de juntas Longitudinal | D39: =+D33 -> 21.7
A40: Acero en Placas | C40: Acero en Placas
A42: TRAMO 5
A43: Longitud a pavimentar
A44: Ancho a pavimentar
A45: Longitud de Sardinel
...

Sheet Analisis Factor Prestacional
B2: ANALISIS FACTOR PRESTACIONAL | I2: RIESGOS PROFESIONALES
B4: Datos Basicos año 2022 | C4: Días del año | D4: 365
C5: Subsidio Transporte 2022 | D5: 117172
C6: Salario mínimo 2022 | D6: 1000000
D9: Riesgo Alto | G9: Riesgo Bajo
B10: Datos Básicos | C10: Número días trabajados | D10: =D4 -> 365 | E10: 365 | G10: 365 | H10: 365
C11: Salario Básico | D11: 1-2 SMMLV | E11: >2 SMMLV | G11: 1-2 SMMLV | H11: >2 SMMLV
B12: Prestaciones Sociales | C12: Subsidio de Transporte | D12: 0.1053 | E12: 0 | G12: =+D12 -> 0.1053 | H12: =+E12 -> 0
C13: Cesantías | D13: 0.0833 | E13: =+$D$13 -> 0.0833 | G13: =+D13 -> 0.0833 | H13: =+E13 -> 0.0833
C14: Intereses sobre las Cesantías (Mensual) | D14: 0.01 | E14: =+D14 -> 0.01 | G14: =+D14 -> 0.01 | H14: =+E14 -> 0.01
C15: Prima de servicios | D15: 0.0833 | E15: 0.0833 | G15: =+D15 -> 0.0833 | H15: =+E15 -> 0.0833
C16: Vacaciones | D16: 0.0417 | E16: 0.0417 | G16: =+D16 -> 0.0417 | H16: =+E16 -> 0.0417
C17: Dotaciones | D17: 0.0747 | E17: 0.0267 | G17: =+D17 -> 0.0747 | H17: =+E17 -> 0.0267
C18: Servicio Medico Primer Mes | D18: 0.0016 | E18: 0.0016 | G18: =+D18 -> 0.0016 | H18: =+E18 -> 0.0016
B19: Examenes medicos | C19: Examenes de ingreso y egreso | D19: 0.0339 | E19: 0.0121 | G19: =+D19 -> 0.0339 | H19: =+E19 -> 0.0121
B20: Certificados para trabajos | C20: Certificado en trabajo de alturas | D20: 0.0203 | E20: 0.0073
B21: Salud. Pension y ARP | C21: Salud | D21: 0.085 | E21: 0.085 | G21: =+D21 -> 0.085 | H21: =+E21 -> 0.085
C22: Pensión | D22: 0.12 | E22: 0.12 | G22: =+D22 -> 0.12 | H22: =+E22 -> 0.12
C23: ARL | D23: 0.0696 | E23: 0.0696 | G23: =+D23 -> 0.0696 | H23: =+E23 -> 0.0696
C24: SENA | D24: 0.02 | E24: 0.02 | G24: =+D24 -> 0.02 | H24: =+E24 -> 0.02
C25: ICBF | D25: 0.03 | E25: 0.03 | G25: =+D25 -> 0.03 | H25: =+E25 -> 0.03
B26: Parafiscales | C26: FIC | D26: 0.025000018 | E26: 0.025 | G26: =+D26 -> 0.025000018 | H26: =+E26 -> 0.025
C27: Caja de compensacion | D27: 0.04 | E27: 0.04 | G27: =+D27 -> 0.04 | H27: =+E27 -> 0.04
C29: TOTAL: | D29: =SUM(D12:D28) -> 0.84370002 | E29: =SUM(E12:E28) -> 0.6556 | G29: =SUM(G12:G28) -> 0.82340002 | H29: =SUM(H12:H28) -> 0.6483
B32: ANALISIS INGRESO BASE DE COTIIZACION - IBC (Solo aplica para contratistas personas naturales)
B34: Descripcion | D34: Valor
B35: Costo directo del contrato | D35: =+[23]Presupuesto!$G$73 -> 34443430
B36: AIU en porcentaje | D36: =+'[23]Análisis AIU'!$K$59 -> 0.34413103
B37: AIU en pesos | D37: =+D36*D35 -> 11853053
B38: Costo total del contrato antes de iva | D38: =D37+D35 -> 46296483
B39: Plazo (meses) | D39: =+'[23]Análisis AIU'!F5 -> 1
B40: Valor del salario minimo | D40: =+$D$6 -> 1000000
B41: Valor del IBC según el Decreto 510 de 2003 (smmlv<=IBC<=25 smmlv) | D41: =25*D40 -> 25000000
B42: IBC | D42: =ROUND(IF((D38*40%/D39)<D41,(D38*40%/D39),D41),) -> 18518593
B43: =+C21 -> Salud | C43: 0.125 | D43: =ROUND($D$42*C43,0) -> 2314824
B44: =+C22 -> Pensión | C44: 0.16 | D44: =ROUND($D$42*C44,0) -> 2962975
B45: =+C23 -> ARL | C45: =+D23 -> 0.0696 | D45: =ROUND($D$42*C45,0) -> 1288894
B46: Valor total de aportes mensual | D46: =D43+D44+D45 -> 6566693
B47: Valor total de aporte durante el contrato | D47: =D46*D39 -> 6566693
B49: Nota: La ARL la debe pagar la entidad contratante al contratista de acuerdo a lo estipulado en la ley 723 de 2013 y el art 2 de la ley 1562 de 2012.

Sheet Análisis Herramienta Menor
B2: ESTIMATIVO GENERAL DE HERRAMIENTAS MENORES DE UN PROYECTO
H3: 2016 | I3: 2017 | J3: 2018 | K3: 2019 | L3: 2020 | M3: 2021 | N3: 2022
B4: Descripción | C4: Unidad | D4: IVA | E4: Valor unitario Antes de IVA | F4: Valor Total | H4: 0.0677 | I4: 0.0575 | J4: 0.0409 | K4: 0.0318 | L4: 0.038 | M4: 0.035 | N4: 0.1007
B5: PALA CON CABO | C5: und | D5: 0.19 | E5: =+N5 -> 15420.94 | F5: =+ROUNDUP(E5*(1+D5),0) -> 18351 | H5: 11482.046 | I5: =+H5*(1+$I$4) -> 12142.263 | J5: =+I5*(1+$J$4) -> 12638.882 | K5: =+J5*(1+$K$4) -> 13040.798 | L5: =+K5*(1+$L$4) -> 13536.349 | M5: =+L5*(1+$M$4) -> 14010.121 | N5: =+M5*(1+$N$4) -> 15420.94
B6: PICA CON CABO | C6: und | D6: 0.19 | E6: =+N6 -> 23548.696 | F6: =+ROUNDUP(E6*(1+D6),0) -> 28023 | H6: 17533.769 | I6: =+H6*(1+$I$4) -> 18541.961 | J6: =+I6*(1+$J$4) -> 19300.327 | K6: =+J6*(1+$K$4) -> 19914.078 | L6: =+K6*(1+$L$4) -> 20670.813 | M6: =+L6*(1+$M$4) -> 21394.291 | N6: =+M6*(1+$N$4) -> 23548.696
B7: PALÍN CON CABO | C7: und | D7: 0.19 | E7: =+N7 -> 16193.851 | F7: =+ROUNDUP(E7*(1+D7),0) -> 19271 | H7: 12057.536 | I7: =+H7*(1+$I$4) -> 12750.844 | J7: =+I7*(1+$J$4) -> 13272.354 | K7: =+J7*(1+$K$4) -> 13694.415 | L7: =+K7*(1+$L$4) -> 14214.803 | M7: =+L7*(1+$M$4) -> 14712.321 | N7: =+M7*(1+$N$4) -> 16193.851
B8: ALMADANA CON CABO | C8: und | D8: 0.19 | E8: =+N8 -> 52536.45 | F8: =+ROUNDUP(E8*(1+D8),0) -> 62519 | H8: 39117.325 | I8: =+H8*(1+$I$4) -> 41366.571 | J8: =+I8*(1+$J$4) -> 43058.464 | K8: =+J8*(1+$K$4) -> 44427.723 | L8: =+K8*(1+$L$4) -> 46115.976 | M8: =+L8*(1+$M$4) -> 47730.036 | N8: =+M8*(1+$N$4) -> 52536.45
B9: BARRA METÁLICA | C9: und | D9: 0.19 | E9: =+N9 -> 59336.348 | F9: =+ROUNDUP(E9*(1+D9),0) -> 70611 | H9: 44180.358 | I9: =+H9*(1+$I$4) -> 46720.729 | J9: =+I9*(1+$J$4) -> 48631.607 | K9: =+J9*(1+$K$4) -> 50178.092 | L9: =+K9*(1+$L$4) -> 52084.859 | M9: =+L9*(1+$M$4) -> 53907.829 | N9: =+M9*(1+$N$4) -> 59336.348
B10: BALDE PLÁSTICO | C10: und | D10: 0.19 | E10: =+N10 -> 2657.151 | F10: =+ROUNDUP(E10*(1+D10),0) -> 3163 | H10: 1978.4481 | I10: =+H10*(1+$I$4) -> 2092.2089 | J10: =+I10*(1+$J$4) -> 2177.7802 | K10: =+J10*(1+$K$4) -> 2247.0336 | L10: =+K10*(1+$L$4) -> 2332.4209 | M10: =+L10*(1+$M$4) -> 2414.0556 | N10: =+M10*(1+$N$4) -> 2657.151
B11: CARRETA BUGGY | C11: und | D11: 0.19 | E11: =+N11 -> 121824.57 | F11: =+ROUNDUP(E11*(1+D11),0) -> 144972 | H11: 90707.521 | I11: =+H11*(1+$I$4) -> 95923.204 | J11: =+I11*(1+$J$4) -> 99846.463 | K11: =+J11*(1+$K$4) -> 103021.58 | L11: =+K11*(1+$L$4) -> 106936.4 | M11: =+L11*(1+$M$4) -> 110679.17 | N11: =+M11*(1+$N$4) -> 121824.57
B12: MANILA DE 1/2" | C12: ml | D12: 0.19 | E12: =+N12 -> 1359.4059 | F12: =+ROUNDUP(E12*(1+D12),0) -> 1618 | H12: 1012.1796 | I12: =+H12*(1+$I$4) -> 1070.3799 | J12: =+I12*(1+$J$4) -> 1114.1585 | K12: =+J12*(1+$K$4) -> 1149.5887 | L12: =+K12*(1+$L$4) -> 1193.2731 | M12: =+L12*(1+$M$4) -> 1235.0376 | N12: =+M12*(1+$N$4) -> 1359.4059
B13: PLÁSTICO PARA COBERTORES | C13: m2 | D13: 0.19 | E13: =+N13 -> 2183.9401 | F13: =+ROUNDUP(E13*(1+D13),0) -> 2599 | H13: 1626.1071 | I13: =+H13*(1+$I$4) -> 1719.6083 | J13: =+I13*(1+$J$4) -> 1789.9402 | K13: =+J13*(1+$K$4) -> 1846.8603 | L13: =+K13*(1+$L$4) -> 1917.041 | M13: =+L13*(1+$M$4) -> 1984.1375 | N13: =+M13*(1+$N$4) -> 2183.9401
B14: SEGUETA | C14: und | D14: 0.19 | E14: =+N14 -> 3213.5324 | F14: =+ROUNDUP(E14*(1+D14),0) -> 3825 | H14: 2392.7157 | I14: =+H14*(1+$I$4) -> 2530.2969 | J14: =+I14*(1+$J$4) -> 2633.786 | K14: =+J14*(1+$K$4) -> 2717.5404 | L14: =+K14*(1+$L$4) -> 2820.8069 | M14: =+L14*(1+$M$4) -> 2919.5352 | N14: =+M14*(1+$N$4) -> 3213.5324
B15: ESCOBA | C15: und | D15: 0.19 | E15: =+N15 -> 4015.123 | F15: =+ROUNDUP(E15*(1+D15),0) -> 4778 | H15: 2989.56 | I15: =+H15*(1+$I$4) -> 3161.4597 | J15: =+I15*(1+$J$4) -> 3290.7634 | K15: =+J15*(1+$K$4) -> 3395.4097 | L15: =+K15*(1+$L$4) -> 3524.4352 | M15: =+L15*(1+$M$4) -> 3647.7905 | N15: =+M15*(1+$N$4) -> 4015.123
B16: PALUSTRE | C16: und | D16: 0.19 | E16: =+N16 -> 9888.6743 | F16: =+ROUNDUP(E16*(1+D16),0) -> 11768 | H16: 7362.8592 | I16: =+H16*(1+$I$4) -> 7786.2236 | J16: =+I16*(1+$J$4) -> 8104.6801 | K16: =+J16*(1+$K$4) -> 8362.409 | L16: =+K16*(1+$L$4) -> 8680.1805 | M16: =+L16*(1+$M$4) -> 8983.9868 | N16: =+M16*(1+$N$4) -> 9888.6743
... B18: FLEXOMETRO | C18: und | D18: 0.19 | E18: =+N18 -> 12360.843 | F18: =+ROUNDUP(E18*(1+D18),0) -> 14710 | H18: 9203.574 | I18: =+H18*(1+$I$4) -> 9732.7795 | J18: =+I18*(1+$J$4) -> 10130.85 | K18: =+J18*(1+$K$4) -> 10453.011 | L18: =+K18*(1+$L$4) -> 10850.226 | M18: =+L18*(1+$M$4) -> 11229.984 | N18: =+M18*(1+$N$4) -> 12360.843
B19: COSTO TOTAL | E19: =SUM(E5:E18) -> 334428.2 | F19: =SUM(F5:F18) -> 397976
B20: NO. ESTIMADO DE USOS | D20: 10
B21: COSTO TOTAL POR USO | E21: =+E19/D20 -> 33442.82 | F21: =+F19/D20 -> 39797.6
B22: NO. DE HERRAMIENTAS | D22: =+COUNT(D5:D18) -> 14
B23: COSTO UNITARIO HERRAMIENTA MENOR | E23: =+ROUND(E21/D22,0) -> 2389 | F23: =+ROUND(F21/D22,0) -> 2843
B25: EQUIPO BASICO (CONSTRUCCIÓN) | E25: =+E23 -> 2389 | F25: =+F23 -> 2843
B26: EQUIPO BASICO ( HERRAMIENTA MENOR ) | E26: =+E25 -> 2389 | F26: =+F25 -> 2843
E27: Sin Iva | F27: Con Iva

Sheet Análisis Mano de Obra
B2: ANALISIS DE MANO DE OBRA
B4: =+'[23]Análisis Factor Prestacional'!B4 -> Datos Basicos año 2022 | C4: =+'[24]Analisis Factor Prestacional'!B3 -> Días del año | D4: =+'[24]Analisis Factor Prestacional'!C3 -> 365
C5: =+'[23]Análisis Factor Prestacional'!C5 -> Subsidio Transporte 2022 | D5: =+'[23]Análisis Factor Prestacional'!$D$5 -> 117172
C6: =+'[23]Análisis Factor Prestacional'!C6 -> Salario mínimo 2022 | D6: =+'[23]Análisis Factor Prestacional'!$D$6 -> 1000000
B8: Mano de Obra AA - Albañileria (1OF Y 1 AY)
B9: Trabajador | C9: Valor Base Mes | D9: Valor Base Dia | E9: Valor Base Hora | F9: Factor Prestacional | G9: Valor Total Hora
B10: Oficial | C10: =+$D$6*1.6 -> 1600000 | D10: =+C10/30 -> 53333.333 | E10: =+D10/8 -> 6666.6667 | F10: =+IF(C10>2*$D$6,'[23]Análisis Factor Prestacional'!$E$29+1,'[23]Análisis Factor Prestacional'!$D$29+1) -> 1.8437 | G10: =+F10*E10 -> 12291.333
B11: Ayudante | C11: =+$D$6 -> 1000000 | D11: =+C11/30 -> 33333.333 | E11: =+D11/8 -> 4166.6667 | F11: =+IF(C11>2*$D$6,'[23]Análisis Factor Prestacional'!$E$29+1,'[23]Análisis Factor Prestacional'!$D$29+1) -> 1.8437 | G11: =+F11*E11 -> 7682.0834
B12: Cuadrilla 1 Oficial + 1 Ayudante | C12: =SUM(C10:C11) -> 2600000 | D12: =SUM(D10:D11) -> 86666.667 | E12: =SUM(E10:E11) -> 10833.333 | G12: =ROUND(SUM(G10:G11),0) -> 19973
B14: Mano de Obra BB - Instalaciones
B15: Trabajador | C15: Valor Base Mes | D15: Valor Base Dia | E15: Valor Base Hora | F15: Factor Prestacional | G15: Valor Total Hora
B16: Oficial | C16: =+$D$6*1.6*1.1 -> 1760000 | D16: =+C16/30 -> 58666.667 | E16: =+D16/8 -> 7333.3333 | F16: =+IF(C16>2*$D$6,'[23]Análisis Factor Prestacional'!$E$29+1,'[23]Análisis Factor Prestacional'!$D$29+1) -> 1.8437 | G16: =+F16*E16 -> 13520.467
B17: Ayudante | C17: =+$D$6*1.1 -> 1100000 | D17: =+C17/30 -> 36666.667 | E17: =+D17/8 -> 4583.3333 | F17: =+IF(C17>2*$D$6,'[23]Análisis Factor Prestacional'!$E$29+1,'[23]Análisis Factor Prestacional'!$D$29+1) -> 1.8437 | G17: =+F17*E17 -> 8450.2918
B18: Cuadrilla 1 Oficial + 1 Ayudante | C18: =SUM(C16:C17) -> 2860000 | D18: =SUM(D16:D17) -> 95333.333 | E18: =SUM(E16:E17) -> 11916.667 | G18: =ROUND(SUM(G16:G17),0) -> 21971
B20: Mano de Obra CC - Pintura
B21: Trabajador | C21: Valor Base Mes | D21: Valor Base Dia | E21: Valor Base Hora | F21: Factor Prestacional | G21: Valor Total Hora
B22: Oficial | C22: =+$D$6*1.6*1.15 -> 1840000 | D22: =+C22/30 -> 61333.333 | E22: =+D22/8 -> 7666.6667 | F22: =+IF(C22>2*$D$6,'[23]Análisis Factor Prestacional'!$E$29+1,'[23]Análisis Factor Prestacional'!$D$29+1) -> 1.8437 | G22: =+F22*E22 -> 14135.033
B23: Ayudante | C23: =+$D$6*1.15 -> 1150000 | D23: =+C23/30 -> 38333.333 | E23: =+D23/8 -> 4791.6667 | F23: =+IF(C23>2*$D$6,'[23]Análisis Factor Prestacional'!$E$29+1,'[23]Análisis Factor Prestacional'!$D$29+1) -> 1.8437 | G23: =+F23*E23 -> 8834.3959
