Workbook
Name \0: #REF!
Name \00: #REF!
Name \a: #REF!
Name \AA: [1]LIQUIDACION!#REF!
Name \b: [2]STRSUMM0!#REF!
Name \bb: [2]STRSUMM0!#REF!
Name \E: #REF!
Name \EE: #REF!
Name \G: #REF!
Name \i: [3]INSUMOS!#REF!
Name \k: '[4]7422CW00'!#REF!
Name \l: [5]STRSUMM0!#REF!
Name \M: #REF!
Name \ñ: '[6]7422CW00'!#REF!
Name \P: #REF!
Name \R: #REF!
Name \s: #REF!
Name \t: [3]INSUMOS!#REF!
Name \V: #REF!
Name \X: [0]!ERR
Name \Z: [0]!ERR
Name _________AFC1: [7]INV!$A$25:$D$28
Name _________AFC3: [7]INV!$F$25:$I$28
Name _________AFC5: [7]INV!$K$25:$N$28
Name _________BGC1: [7]INV!$A$5:$D$8
Name _________BGC3: [7]INV!$F$5:$I$8
Name _________BGC5: [7]INV!$K$5:$N$8
Name _________CAC1: [7]INV!$A$19:$D$22
Name _________CAC3: [7]INV!$F$19:$I$22
Name _________CAC5: [7]INV!$K$19:$N$22
Name _________PJ50: #REF!
Name _________SBC1: [7]INV!$A$12:$D$15
Name _________SBC3: [7]INV!$F$12:$I$15
Name _________SBC5: [7]INV!$K$12:$N$15
Name ________AFC1: [7]INV!$A$25:$D$28
Name ________AFC3: [7]INV!$F$25:$I$28
Name ________AFC5: [7]INV!$K$25:$N$28
Name ________BGC1: [7]INV!$A$5:$D$8
Name ________BGC3: [7]INV!$F$5:$I$8
Name ________BGC5: [7]INV!$K$5:$N$8
Name ________CAC1: [7]INV!$A$19:$D$22
Name ________CAC3: [7]INV!$F$19:$I$22
Name ________CAC5: [7]INV!$K$19:$N$22
Name ________MA2: #REF!
Name ________PJ50: #REF!
Name ________SBC1: [7]INV!$A$12:$D$15
Name ________SBC3: [7]INV!$F$12:$I$15
Name ________SBC5: [7]INV!$K$12:$N$15
Name _______AFC1: [7]INV!$A$25:$D$28
Name _______AFC3: [7]INV!$F$25:$I$28
Name _______AFC5: [7]INV!$K$25:$N$28
Name _______BGC1: [7]INV!$A$5:$D$8
Name _______BGC3: [7]INV!$F$5:$I$8
Name _______BGC5: [7]INV!$K$5:$N$8
Name _______CAC1: [7]INV!$A$19:$D$22
Name _______CAC3: [7]INV!$F$19:$I$22
Name _______CAC5: [7]INV!$K$19:$N$22
Name _______MA2: #REF!
Name _______PJ50: #REF!
Name _______SBC1: [7]INV!$A$12:$D$15

Sheet PRESUPUESTO OFICIAL (Entidad)
C6: FORMULARIO 1
C7: PRESUPUESTO OFICIAL
C8: [La entidad puede utilizar este formulario de detalle del presupuesto oficial para determinar las condiciones bajo las cuales los proponentes analizarán y presentarán su propuesta económica de forma detallada, sin perjuicio que la entidad pueda modificarlo o establecer la presentación de la oferta económica con un formulario distinto al indicado.]
C10: Adicionalmente, cuando el proceso de contratación es estructurado por precios unitarios, la Entidad debe aplicar las notas 1, 2 y 3 del presente formulario y las casillas de "Descripción", "Porcentaje" de la Administración, Imprevisto, Utilidad y total A.I.U. resaltadas en colo amarillo. Tratándose de otras modalidades de precio, la Entidad puede o no configurar los mismos aspectos.
C12: Nº | D12: ITEM DE PAGO | E12: ESPECIFICACIONES GENERALES | F12: DESCRIPCION | G12: UND. | H12: CANTIDAD | I12: VALOR UNITARIO | J12: VALOR TOTAL
C14: 1 | E14: ASTM D2113; ASTM D5876 ASTM D1586-11 | F14: Perforación mecánica en suelo (m) Percucion con ejecución de SPT ensayo ASTM D1586-11 | G14: m | H14: =35-12 -> 23 | I14: 276000 | J14: =+H14*I14 -> 6348000
C15: 2 | E15: ASTM D2113; ASTM D5876 ASTM D1586-11 | F15: Perforación mecánica en roca (m) Rotación | G15: m | H15: =25-12 -> 13 | I15: 407000 | J15: =+H15*I15 -> 5291000
C16: 3 | E16: ASTM D 6286 ASTM D 6169 | F16: Perforación manual (m) | G16: m | H16: =54-12 -> 42 | I16: 77000 | J16: =+H16*I16 -> 3234000
C17: 4 | E17: ASTM D422-63/D6913 | F17: Granulometría con lavado de finos | G17: u | H17: 33 | I17: 36000 | J17: =+H17*I17 -> 1188000
C18: 5 | E18: ASTMD22116-10 | F18: Humedades | G18: u | H18: 33 | I18: 7000 | J18: =+H18*I18 -> 231000
C19: 6 | E19: ASTM D4318-10 | F19: Límites de consistencia | G19: u | H19: 33 | I19: 28000 | J19: =+H19*I19 -> 924000
C20: 7 | E20: ASTM D2166-06 | F20: Compresión inconfinada en suelos | G20: u | H20: 14 | I20: 33000 | J20: =+H20*I20 -> 462000
C21: 8 | E21: ASTM D2938 | F21: Compresión inconfinada en roca | G21: u | H21: 5 | I21: 73000 | J21: =+H21*I21 -> 365000
C22: 12 | E22: ASTM D3080/D3080M-11 | F22: Corte Directo (u) | G22: u | H22: 19 | I22: 172000 | J22: =+H22*I22 -> 3268000
C23: SUBTOTAL ENSAYOS DE LABORATORIO | J23: =+SUM(J14:J22) -> 21311000
F25: FACTOR MULTIPLICADOR | I25: =+'Anáisis FM'!I33 -> 0.508 | J25: =ROUND(J23*I25,0) -> 10825988
F26: IVA | I26: 0.19 | J26: =ROUND((J23+J25)*0.19,0) -> 6106028
F27: VALOR TOTAL | J27: =+J23+J25+J26 -> 38243016
C28: NOTA: Cuando el valor consignado en la Plataforma SECOP II y el del presente formulario no coincidan, se tomará como válido el valor del SECOP II

Sheet Anáisis FM
A1: GOBERNACIÓN DE CALDAS
A2: SECRETARÍA DE INFRAESTRUCTURA
A4: ANÁLISIS DEL FACTOR MULTIPLICADOR
B6: OBJETO | C6: UN | D6: VLR UNITARIO | E6: Factor Prestacional o de Uso | F6: Hombre Mes o Cantidad | G6: Meses | H6: Valor Total | I6: %
B8: COSTO BASE | G8: 1 | H8: =+'PRESUPUESTO OFICIAL (Entidad)'!J23 -> 21311000
A10: A | B10: ADMINISTRACIÓN | I10: =ROUND(I12+I17+I18+I25+I28,3) -> 0.458
A12: 1 | B12: PERSONAL PROFESIONAL Y TÉCNICO | H12: =SUM(H13:H15) -> 2084269.4 | I12: =SUM(I13:I15) -> 0.097802514
B13: Ingeniero Especialista en Geotecnia | C13: Mes | D13: 5150000 | E13: ='Factor Prestacional'!C47 -> 1.61885 | F13: 0.25 | G13: =G8 -> 1 | H13: =G13*F13*E13*D13 -> 2084269.4 | I13: =H13/$H$8 -> 0.097802514
B14: Laboratorista | C14: Mes | D14: 2080000 | E14: ='Factor Prestacional'!C47 -> 1.61885 | F14: 0 | G14: =G8 -> 1 | H14: =G14*F14*E14*D14 -> 0 | I14: =H14/$H$8 -> 0
B15: Ayudante de Laboratorio | C15: Mes | D15: 1000000 | E15: ='Factor Prestacional'!C23 -> 1.80083 | F15: 0 | G15: =G8 -> 1 | H15: =G15*F15*E15*D15 -> 0 | I15: =H15/$H$8 -> 0
A18: 2 | B18: GASTOS DE LEGALIZACIÓN | H18: =SUM(H19:H23) -> 2679859 | I18: =SUM(I19:I23) -> 0.12575004
B19: Garantía Cumplimiento | C19: Un | D19: =ROUND(H8*10%*10%,0) -> 213110 | E19: 0.1 | F19: 1 | G19: 1 | H19: =G19*E19*F19*D19 -> 21311 | I19: =H19/$H$8 -> 0.001
B20: Garantía Salarios | C20: Un | D20: =ROUND(H8*20%*1%,0) -> 42622 | E20: 0.2 | F20: 1 | G20: 1 | H20: =G20*F20*D20 -> 42622 | I20: =H20/$H$8 -> 0.002
B21: Garantía Calidad | C21: Un | D21: =ROUND(H8*30%*0.5%,0) -> 31967 | E21: 0.3 | F21: 1 | G21: 1 | H21: =G21*F21*D21 -> 31967 | I21: =H21/$H$8 -> 0.0015000235
B22: Amparo Resp.Civil Extracontractual | C22: Un | D22: =ROUND(H8*5%*2.5%,0) -> 26639 | E22: 0.05 | F22: 1 | G22: 1 | H22: =G22*F22*D22 -> 26639 | I22: =H22/$H$8 -> 0.0012500117
B23: Estampillas y contribución especial | C23: Un | D23: =H8 -> 21311000 | E23: 0.12 | F23: 1 | G23: 1 | H23: =(G23*F23*E23*D23) -> 2557320 | I23: =H23/$H$8 -> 0.12
A25: 3 | B25: GASTOS DE VIAJE PERSONAL | H25: 1000000 | I25: =H25/$H$8 -> 0.046924124
B26: Viaticos, gastos de viaje | C26: Mes | D26: 1000000 | E26: 1 | F26: 1 | G26: =G8 -> 1 | H26: =(G26*F26*E26*D26) -> 1000000 | I26: =H26/$H$8 -> 0.046924124
A28: 4 | B28: GASTOS GENERALES | H28: =SUM(H29:H29) -> 4000000 | I28: =SUM(I29:I29) -> 0.18769649
B29: Vehiculo con conductor, 4x4 con cilindraje mayor a 2000 cc | C29: Mes | D29: 4000000 | E29: 1 | F29: 1 | G29: =G8 -> 1 | H29: =G29*F29*E29*D29 -> 4000000 | I29: =H29/$H$8 -> 0.18769649
A31: U | B31: UTILIDAD | H31: =ROUND(H8*I31,0) -> 1065550 | I31: 0.05
B33: T O T A L A.U | I33: =I10+I31 -> 0.508

Sheet Factor Prestacional
A1: CALCULO DEL FACTOR PRESTACIONAL PARA MAXIMO 2 SMMLV
B3: MENSUAL | C3: DIARIO
A4: SALARIO | B4: 828116 | C4: =B4/30 -> 27603.867
A5: SUBSIDIO DE TRANSPORTE | B5: 97032 | C5: =B5/30 -> 3234.4
A7: TEM | B7: Valor | C7: Porcentaje | D7: Formula
A8: Jornales | B8: =ROUND(C4,0) -> 27604 | C8: =ROUND(B8/$C$4,5) -> 1 | D8: $ 828,117/30
A9: Subsidio de Transporte | B9: =ROUND(C5,0) -> 3234 | C9: =ROUND(B9/$C$4,5) -> 0.11716 | D9: $ 93,504/30
A10: Cesantías | B10: =ROUND((C4+C5)*(30/360),0) -> 2570 | C10: =ROUND(B10/$C$4,5) -> 0.0931 | D10: (Jornales + Subsidio Transporte)x30/360
A11: Intereses sobre Cesantías | B11: =ROUND(B10*1%,0) -> 26 | C11: =ROUND(B11/$C$4,5) -> 0.00094 | D11: Cesantias *1%
A12: Prima de Servicio | B12: =ROUND((C4+C5)*(30/360),0) -> 2570 | C12: =ROUND(B12/$C$4,5) -> 0.0931 | D12: (Jornales + Subsidio Transporte)x30/360
A13: Vacaciones | B13: =ROUND(C4*0.0417,0) -> 1151 | C13: =ROUND(B13/$C$4,5) -> 0.0417 | D13: Jornal x 30/720
A14: Aportes Salud | B14: =ROUND(C4*8.5%,0) -> 2346 | C14: =ROUND(B14/$C$4,5) -> 0.08499 | D14: 8,5% de los jornales
A15: Aportes Pensión | B15: =ROUND(C4*12%,0) -> 3312 | C15: =ROUND(B15/$C$4,5) -> 0.11998 | D15: 12% de los jornales
A16: Riesgos Laborales | B16: =ROUND(C4*6.96%,0) -> 1921 | C16: =ROUND(B16/$C$4,5) -> 0.06959 | D16: 6.96% de los jornales
A17: Caja de compensación | B17: =ROUND(C4*4%,0) -> 1104 | C17: =ROUND(B17/$C$4,5) -> 0.03999 | D17: 4% de los Jornales
A18: Aporte SENA | B18: =ROUND(C4*2%,0) -> 552 | C18: =ROUND(B18/$C$4,5) -> 0.02 | D18: 2% de los Jornales
A19: Aporte ICBF | B19: =ROUND(C4*3%,0) -> 828 | C19: =ROUND(B19/$C$4,5) -> 0.03 | D19: 3% de los Jornales
A20: Examenes de ingreso y egreso | B20: =ROUND(C4*2%,0) -> 552 | C20: =ROUND(B20/$C$4,5) -> 0.02 | D20: 2% de los Jornales
A21: Fondo Nacional de Formación Profesional de Industria de la construcción | B21: =((B4*12)/40)/360 -> 690.09667 | C21: =ROUND(B21/$C$4,5) -> 0.025 | D21: 1 SMMLV por cada 40 trabajadores ((1 SMML*12)/40)/salario anual
A22: Dotación | B22: =ROUND(450000/360,0) -> 1250 | C22: =ROUND(B22/$C$4,5) -> 0.04528 | D22: Tres dotaciones al año de $150,000 cada una
B23: =SUM(B8:B22) -> 49710.097 | C23: =SUM(C8:C22) -> 1.80083
A26: CALCULO DEL FACTOR PRESTACIONAL PARA MAYOR A 2 SMMLV
B28: MENSUAL | C28: DIARIO
A29: SALARIO | B29: 2000000 | C29: =B29/30 -> 66666.667
A30: SUBSIDIO DE TRANSPORTE | B30: 0 | C30: =B30/30 -> 0
A32: TEM | B32: Valor | C32: Porcentaje | D32: Formula
A33: Jornales | B33: =ROUND(C29,0) -> 66667 | C33: =ROUND(B33/$C$29,5) -> 1.00001 | D33: $ 737,717/30
A34: Subsidio de Transporte | B34: =ROUND(C30,0) -> 0 | C34: =ROUND(B34/$C$29,5) -> 0 | D34: $ 83,140/30
A35: Cesantías | B35: =ROUND((C29+C30)*(30/360),0) -> 5556 | C35: =ROUND(B35/$C$29,5) -> 0.08334 | D35: (Jornales + Subsidio Transporte)x30/360
A36: Intereses sobre Cesantías | B36: =ROUND(B35*1%,0) -> 56 | C36: =ROUND(B36/$C$29,5) -> 0.00084 | D36: Cesantias *1%
A37: Prima de Servicio | B37: =ROUND((C29+C30)*(30/360),0) -> 5556 | C37: =ROUND(B37/$C$29,5) -> 0.08334 | D37: (Jornales + Subsidio Transporte)x30/360
A38: Vacaciones | B38: =ROUND(C29*0.0417,0) -> 2780 | C38: =ROUND(B38/$C$29,5) -> 0.0417 | D38: Jornal x 30/720
A39: Aportes Salud | B39: =ROUND(C29*8.5%,0) -> 5667 | C39: =ROUND(B39/$C$29,5) -> 0.08501 | D39: 8,5% de los jornales
A40: Aportes Pensión | B40: =ROUND(C29*12%,0) -> 8000 | C40: =ROUND(B40/$C$29,5) -> 0.12 | D40: 12% de los jornales
A41: Riesgos Laborales | B41: =ROUND(C29*6.96%,0) -> 4640 | C41: =ROUND(B41/$C$29,5) -> 0.0696 | D41: 6.96% de los jornales
A42: Caja de compensación | B42: =ROUND(C29*4%,0) -> 2667 | C42: =ROUND(B42/$C$29,5) -> 0.04001 | D42: 4% de los Jornales
A43: Aporte SENA | B43: =ROUND(C29*2%,0) -> 1333 | C43: =ROUND(B43/$C$29,5) -> 0.02 | D43: 2% de los Jornales
A44: Aporte ICBF | B44: =ROUND(C29*3%,0) -> 2000 | C44: =ROUND(B44/$C$29,5) -> 0.03 | D44: 3% de los Jornales
A45: Examenes de ingreso y egreso | B45: =ROUND(C29*2%,0) -> 1333 | C45: =ROUND(B45/$C$29,5) -> 0.02 | D45: 2% de los Jornales
A46: Fondo Nacional de Formación Profesional de Industria de la construcción | B46: =((B29*12)/40)/360 -> 1666.6667 | C46: =ROUND(B46/$C$29,5) -> 0.025 | D46: 1 SMMLV por cada 40 trabajadores ((1 SMML*12)/40)/salario anual
...
